Back to Multiple platform build/check report for BioC 3.21: simplified long |
|
This page was generated on 2025-02-15 11:40 -0500 (Sat, 15 Feb 2025).
Hostname | OS | Arch (*) | R version | Installed pkgs |
---|---|---|---|---|
nebbiolo1 | Linux (Ubuntu 24.04.1 LTS) | x86_64 | R Under development (unstable) (2025-01-20 r87609) -- "Unsuffered Consequences" | 4720 |
palomino7 | Windows Server 2022 Datacenter | x64 | R Under development (unstable) (2025-01-21 r87610 ucrt) -- "Unsuffered Consequences" | 4482 |
lconway | macOS 12.7.1 Monterey | x86_64 | R Under development (unstable) (2025-01-22 r87618) -- "Unsuffered Consequences" | 4493 |
kjohnson3 | macOS 13.7.1 Ventura | arm64 | R Under development (unstable) (2025-01-20 r87609) -- "Unsuffered Consequences" | 4446 |
Click on any hostname to see more info about the system (e.g. compilers) (*) as reported by 'uname -p', except on Windows and Mac OS X |
Package 1239/2295 | Hostname | OS / Arch | INSTALL | BUILD | CHECK | BUILD BIN | ||||||||
MethylSeekR 1.47.0 (landing page) Lukas Burger
| nebbiolo1 | Linux (Ubuntu 24.04.1 LTS) / x86_64 | OK | OK | OK | ![]() | ||||||||
palomino7 | Windows Server 2022 Datacenter / x64 | OK | OK | OK | OK | ![]() | ||||||||
lconway | macOS 12.7.1 Monterey / x86_64 | OK | OK | OK | OK | ![]() | ||||||||
kjohnson3 | macOS 13.7.1 Ventura / arm64 | OK | OK | OK | OK | ![]() | ||||||||
To the developers/maintainers of the MethylSeekR package: - Allow up to 24 hours (and sometimes 48 hours) for your latest push to git@git.bioconductor.org:packages/MethylSeekR.git to reflect on this report. See Troubleshooting Build Report for more information. - Use the following Renviron settings to reproduce errors and warnings. - If 'R CMD check' started to fail recently on the Linux builder(s) over a missing dependency, add the missing dependency to 'Suggests:' in your DESCRIPTION file. See Renviron.bioc for more information. |
Package: MethylSeekR |
Version: 1.47.0 |
Command: /home/biocbuild/bbs-3.21-bioc/R/bin/R CMD check --install=check:MethylSeekR.install-out.txt --library=/home/biocbuild/bbs-3.21-bioc/R/site-library --timings MethylSeekR_1.47.0.tar.gz |
StartedAt: 2025-02-14 23:46:30 -0500 (Fri, 14 Feb 2025) |
EndedAt: 2025-02-14 23:53:48 -0500 (Fri, 14 Feb 2025) |
EllapsedTime: 438.5 seconds |
RetCode: 0 |
Status: OK |
CheckDir: MethylSeekR.Rcheck |
Warnings: 0 |
############################################################################## ############################################################################## ### ### Running command: ### ### /home/biocbuild/bbs-3.21-bioc/R/bin/R CMD check --install=check:MethylSeekR.install-out.txt --library=/home/biocbuild/bbs-3.21-bioc/R/site-library --timings MethylSeekR_1.47.0.tar.gz ### ############################################################################## ############################################################################## * using log directory ‘/home/biocbuild/bbs-3.21-bioc/meat/MethylSeekR.Rcheck’ * using R Under development (unstable) (2025-01-20 r87609) * using platform: x86_64-pc-linux-gnu * R was compiled by gcc (Ubuntu 13.3.0-6ubuntu2~24.04) 13.3.0 GNU Fortran (Ubuntu 13.3.0-6ubuntu2~24.04) 13.3.0 * running under: Ubuntu 24.04.2 LTS * using session charset: UTF-8 * checking for file ‘MethylSeekR/DESCRIPTION’ ... OK * checking extension type ... Package * this is package ‘MethylSeekR’ version ‘1.47.0’ * checking package namespace information ... OK * checking package dependencies ... OK * checking if this is a source package ... OK * checking if there is a namespace ... OK * checking for hidden files and directories ... OK * checking for portable file names ... OK * checking for sufficient/correct file permissions ... OK * checking whether package ‘MethylSeekR’ can be installed ... OK * checking installed package size ... OK * checking package directory ... OK * checking ‘build’ directory ... OK * checking DESCRIPTION meta-information ... NOTE Malformed Description field: should contain one or more complete sentences. Package listed in more than one of Depends, Imports, Suggests, Enhances: ‘parallel’ A package should be listed in only one of these fields. * checking top-level files ... OK * checking for left-over files ... OK * checking index information ... OK * checking package subdirectories ... OK * checking code files for non-ASCII characters ... OK * checking R files for syntax errors ... OK * checking whether the package can be loaded ... OK * checking whether the package can be loaded with stated dependencies ... OK * checking whether the package can be unloaded cleanly ... OK * checking whether the namespace can be loaded with stated dependencies ... OK * checking whether the namespace can be unloaded cleanly ... OK * checking loading without being on the library search path ... OK * checking dependencies in R code ... NOTE Namespace in Imports field not imported from: ‘geneplotter’ All declared Imports should be used. Package in Depends field not imported from: ‘rtracklayer’ These packages need to be imported from (in the NAMESPACE file) for when this namespace is loaded but not attached. * checking S3 generic/method consistency ... OK * checking replacement functions ... OK * checking foreign function calls ... OK * checking R code for possible problems ... NOTE PMDviterbiSegmentation : <anonymous>: no visible global function definition for ‘values’ PMDviterbiSegmentation : <anonymous>: no visible global function definition for ‘predict’ PMDviterbiSegmentation : <anonymous>: no visible global function definition for ‘Rle’ PMDviterbiSegmentation : <anonymous>: no visible global function definition for ‘runValue’ calculateAlphaDistr : <anonymous>: no visible global function definition for ‘Rle’ calculateFDRs: no visible global function definition for ‘values’ calculateFDRs: no visible global function definition for ‘queryHits’ calculateFDRs: no visible global function definition for ‘values<-’ calculateFDRs : <anonymous>: no visible global function definition for ‘Rle’ calculateFDRs : <anonymous>: no visible global function definition for ‘values’ calculateFDRs : <anonymous>: no visible global function definition for ‘runValue’ createGRangesObjectPMDSegmentation : <anonymous>: no visible global function definition for ‘Rle’ createGRangesObjectPMDSegmentation : <anonymous>: no visible global function definition for ‘nrun’ createGRangesObjectPMDSegmentation : <anonymous>: no visible global function definition for ‘runValue’ plotAlphaDistributionOneChr: no visible global function definition for ‘values’ plotFinalSegmentation: no visible global function definition for ‘values’ plotFinalSegmentation: no visible global function definition for ‘Rle’ plotPMDSegmentation: no visible global function definition for ‘values’ readMethylome: no visible global function definition for ‘values’ removeSNPs: no visible global function definition for ‘queryHits’ savePMDSegments: no visible global function definition for ‘values’ saveUMRLMRSegments: no visible global function definition for ‘values’ segmentUMRsLMRs: no visible global function definition for ‘values’ segmentUMRsLMRs : <anonymous>: no visible global function definition for ‘Rle’ segmentUMRsLMRs : <anonymous>: no visible global function definition for ‘values’ segmentUMRsLMRs : <anonymous>: no visible global function definition for ‘runValue’ segmentUMRsLMRs: no visible global function definition for ‘queryHits’ segmentUMRsLMRs: no visible global function definition for ‘subjectHits’ segmentUMRsLMRs: no visible global function definition for ‘Rle’ segmentUMRsLMRs: no visible global function definition for ‘values<-’ segmentUMRsLMRs: no visible global function definition for ‘DataFrame’ segmentUMRsLMRs: no visible global function definition for ‘colorRampPalette’ trainPMDHMM: no visible global function definition for ‘values’ Undefined global functions or variables: DataFrame Rle colorRampPalette nrun predict queryHits runValue subjectHits values values<- Consider adding importFrom("grDevices", "colorRampPalette") importFrom("stats", "predict") to your NAMESPACE file. * checking Rd files ... OK * checking Rd metadata ... OK * checking Rd cross-references ... OK * checking for missing documentation entries ... OK * checking for code/documentation mismatches ... OK * checking Rd \usage sections ... OK * checking Rd contents ... OK * checking for unstated dependencies in examples ... OK * checking files in ‘vignettes’ ... OK * checking examples ... OK Examples with CPU (user + system) or elapsed time > 5s user system elapsed MethylSeekR-package 42.508 1.170 52.844 plotPMDSegmentation 29.051 0.193 29.245 savePMDSegments 26.050 0.210 26.261 segmentPMDs 25.958 0.087 26.052 calculateFDRs 7.668 1.183 17.154 plotAlphaDistributionOneChr 5.395 0.098 5.493 * checking for unstated dependencies in vignettes ... OK * checking package vignettes ... OK * checking re-building of vignette outputs ... OK * checking PDF version of manual ... OK * DONE Status: 3 NOTEs See ‘/home/biocbuild/bbs-3.21-bioc/meat/MethylSeekR.Rcheck/00check.log’ for details.
MethylSeekR.Rcheck/00install.out
############################################################################## ############################################################################## ### ### Running command: ### ### /home/biocbuild/bbs-3.21-bioc/R/bin/R CMD INSTALL MethylSeekR ### ############################################################################## ############################################################################## * installing to library ‘/home/biocbuild/bbs-3.21-bioc/R/site-library’ * installing *source* package ‘MethylSeekR’ ... ** this is package ‘MethylSeekR’ version ‘1.47.0’ ** using staged installation ** R ** inst ** byte-compile and prepare package for lazy loading ** help *** installing help indices ** building package indices ** installing vignettes ** testing if installed package can be loaded from temporary location ** testing if installed package can be loaded from final location ** testing if installed package keeps a record of temporary installation path * DONE (MethylSeekR)
MethylSeekR.Rcheck/MethylSeekR-Ex.timings
name | user | system | elapsed | |
MethylSeekR-package | 42.508 | 1.170 | 52.844 | |
calculateFDRs | 7.668 | 1.183 | 17.154 | |
plotAlphaDistributionOneChr | 5.395 | 0.098 | 5.493 | |
plotFinalSegmentation | 1.421 | 0.030 | 1.451 | |
plotPMDSegmentation | 29.051 | 0.193 | 29.245 | |
readMethylome | 0.279 | 0.004 | 0.283 | |
readSNPTable | 0.082 | 0.000 | 0.082 | |
removeSNPs | 0.390 | 0.004 | 0.394 | |
savePMDSegments | 26.050 | 0.210 | 26.261 | |
saveUMRLMRSegments | 1.175 | 0.045 | 1.220 | |
segmentPMDs | 25.958 | 0.087 | 26.052 | |
segmentUMRsLMRs | 1.076 | 0.036 | 1.112 | |