| Back to Multiple platform build/check report for BioC 3.22: simplified long |
|
This page was generated on 2025-10-24 12:06 -0400 (Fri, 24 Oct 2025).
| Hostname | OS | Arch (*) | R version | Installed pkgs |
|---|---|---|---|---|
| nebbiolo2 | Linux (Ubuntu 24.04.3 LTS) | x86_64 | 4.5.1 Patched (2025-08-23 r88802) -- "Great Square Root" | 4898 |
| lconway | macOS 12.7.6 Monterey | x86_64 | 4.5.1 Patched (2025-09-10 r88807) -- "Great Square Root" | 4688 |
| kjohnson3 | macOS 13.7.7 Ventura | arm64 | 4.5.1 Patched (2025-09-10 r88807) -- "Great Square Root" | 4634 |
| taishan | Linux (openEuler 24.03 LTS) | aarch64 | 4.5.0 (2025-04-11) -- "How About a Twenty-Six" | 4658 |
| Click on any hostname to see more info about the system (e.g. compilers) (*) as reported by 'uname -p', except on Windows and Mac OS X | ||||
| Package 568/2359 | Hostname | OS / Arch | INSTALL | BUILD | CHECK | BUILD BIN | ||||||||
| derfinder 1.43.1 (landing page) Leonardo Collado-Torres
| nebbiolo2 | Linux (Ubuntu 24.04.3 LTS) / x86_64 | OK | OK | OK | |||||||||
| lconway | macOS 12.7.6 Monterey / x86_64 | OK | OK | OK | OK | |||||||||
| kjohnson3 | macOS 13.7.7 Ventura / arm64 | OK | OK | OK | OK | |||||||||
| taishan | Linux (openEuler 24.03 LTS) / aarch64 | OK | OK | OK | ||||||||||
|
To the developers/maintainers of the derfinder package: - Allow up to 24 hours (and sometimes 48 hours) for your latest push to git@git.bioconductor.org:packages/derfinder.git to reflect on this report. See Troubleshooting Build Report for more information. - Use the following Renviron settings to reproduce errors and warnings. - If 'R CMD check' started to fail recently on the Linux builder(s) over a missing dependency, add the missing dependency to 'Suggests:' in your DESCRIPTION file. See Renviron.bioc for more information. |
| Package: derfinder |
| Version: 1.43.1 |
| Command: /Library/Frameworks/R.framework/Resources/bin/R CMD check --install=check:derfinder.install-out.txt --library=/Library/Frameworks/R.framework/Resources/library --no-vignettes --timings derfinder_1.43.1.tar.gz |
| StartedAt: 2025-10-23 19:30:39 -0400 (Thu, 23 Oct 2025) |
| EndedAt: 2025-10-23 19:35:18 -0400 (Thu, 23 Oct 2025) |
| EllapsedTime: 279.4 seconds |
| RetCode: 0 |
| Status: OK |
| CheckDir: derfinder.Rcheck |
| Warnings: 0 |
##############################################################################
##############################################################################
###
### Running command:
###
### /Library/Frameworks/R.framework/Resources/bin/R CMD check --install=check:derfinder.install-out.txt --library=/Library/Frameworks/R.framework/Resources/library --no-vignettes --timings derfinder_1.43.1.tar.gz
###
##############################################################################
##############################################################################
* using log directory ‘/Users/biocbuild/bbs-3.22-bioc/meat/derfinder.Rcheck’
* using R version 4.5.1 Patched (2025-09-10 r88807)
* using platform: aarch64-apple-darwin20
* R was compiled by
Apple clang version 16.0.0 (clang-1600.0.26.6)
GNU Fortran (GCC) 14.2.0
* running under: macOS Ventura 13.7.7
* using session charset: UTF-8
* using option ‘--no-vignettes’
* checking for file ‘derfinder/DESCRIPTION’ ... OK
* checking extension type ... Package
* this is package ‘derfinder’ version ‘1.43.1’
* package encoding: UTF-8
* checking package namespace information ... OK
* checking package dependencies ... OK
* checking if this is a source package ... OK
* checking if there is a namespace ... OK
* checking for hidden files and directories ... OK
* checking for portable file names ... OK
* checking for sufficient/correct file permissions ... OK
* checking whether package ‘derfinder’ can be installed ... OK
* checking installed package size ... OK
* checking package directory ... OK
* checking ‘build’ directory ... OK
* checking DESCRIPTION meta-information ... OK
* checking top-level files ... OK
* checking for left-over files ... OK
* checking index information ... OK
* checking package subdirectories ... OK
* checking code files for non-ASCII characters ... OK
* checking R files for syntax errors ... OK
* checking whether the package can be loaded ... OK
* checking whether the package can be loaded with stated dependencies ... OK
* checking whether the package can be unloaded cleanly ... OK
* checking whether the namespace can be loaded with stated dependencies ... OK
* checking whether the namespace can be unloaded cleanly ... OK
* checking dependencies in R code ... NOTE
Unexported objects imported by ':::' calls:
‘GenomeInfoDb:::.guessSpeciesStyle’
‘GenomeInfoDb:::.supportedSeqnameMappings’
See the note in ?`:::` about the use of this operator.
There are ::: calls to the package's namespace in its code. A package
almost never needs to use ::: for its own objects:
‘.smootherFstats’
* checking S3 generic/method consistency ... OK
* checking replacement functions ... OK
* checking foreign function calls ... OK
* checking R code for possible problems ... OK
* checking Rd files ... NOTE
checkRd: (-1) createBwSample.Rd:59: Lost braces
59 | link{coerceGR}
| ^
checkRd: (-1) derfinder-deprecated.Rd:30-31: Lost braces in \itemize; meant \describe ?
checkRd: (-1) sampleDepth.Rd:41-47: Lost braces
41 | equal to quantiles of interest. The resulting values are transformed {log2(x
| ^
* checking Rd metadata ... OK
* checking Rd cross-references ... NOTE
Non-topic package-anchored link(s) in Rd file 'analyzeChr.Rd':
‘[TxDb.Hsapiens.UCSC.hg19.knownGene:package]{TxDb.Hsapiens.UCSC.hg19.knownGene}’
See section 'Cross-references' in the 'Writing R Extensions' manual.
* checking for missing documentation entries ... OK
* checking for code/documentation mismatches ... OK
* checking Rd \usage sections ... OK
* checking Rd contents ... OK
* checking for unstated dependencies in examples ... OK
* checking contents of ‘data’ directory ... OK
* checking data for non-ASCII characters ... OK
* checking LazyData ... OK
* checking data for ASCII and uncompressed saves ... OK
* checking files in ‘vignettes’ ... OK
* checking examples ... OK
* checking for unstated dependencies in ‘tests’ ... OK
* checking tests ...
Running ‘test-all.R’
OK
* checking for unstated dependencies in vignettes ... OK
* checking package vignettes ... OK
* checking running R code from vignettes ... SKIPPED
* checking re-building of vignette outputs ... SKIPPED
* checking PDF version of manual ... OK
* DONE
Status: 3 NOTEs
See
‘/Users/biocbuild/bbs-3.22-bioc/meat/derfinder.Rcheck/00check.log’
for details.
derfinder.Rcheck/00install.out
############################################################################## ############################################################################## ### ### Running command: ### ### /Library/Frameworks/R.framework/Resources/bin/R CMD INSTALL derfinder ### ############################################################################## ############################################################################## * installing to library ‘/Library/Frameworks/R.framework/Versions/4.5-arm64/Resources/library’ * installing *source* package ‘derfinder’ ... ** this is package ‘derfinder’ version ‘1.43.1’ ** using staged installation ** R ** data *** moving datasets to lazyload DB ** inst ** byte-compile and prepare package for lazy loading ** help *** installing help indices ** building package indices ** installing vignettes ** testing if installed package can be loaded from temporary location ** testing if installed package can be loaded from final location ** testing if installed package keeps a record of temporary installation path * DONE (derfinder)
derfinder.Rcheck/tests/test-all.Rout
R version 4.5.1 Patched (2025-09-10 r88807) -- "Great Square Root"
Copyright (C) 2025 The R Foundation for Statistical Computing
Platform: aarch64-apple-darwin20
R is free software and comes with ABSOLUTELY NO WARRANTY.
You are welcome to redistribute it under certain conditions.
Type 'license()' or 'licence()' for distribution details.
R is a collaborative project with many contributors.
Type 'contributors()' for more information and
'citation()' on how to cite R or R packages in publications.
Type 'demo()' for some demos, 'help()' for on-line help, or
'help.start()' for an HTML browser interface to help.
Type 'q()' to quit R.
> ## Disable the tests if the system variable 'R_DISABLE_TESTS' is set to TRUE
>
> flag <- as.logical(Sys.getenv("R_DISABLE_TESTS"))
> if (is.na(flag) | flag == FALSE) {
+ library("testthat")
+ test_check("derfinder")
+ }
Loading required package: derfinder
class: SerialParam
bpisup: FALSE; bpnworkers: 1; bptasks: 0; bpjobname: BPJOB
bplog: FALSE; bpthreshold: INFO; bpstopOnError: TRUE
bpRNGseed: ; bptimeout: NA; bpprogressbar: FALSE
bpexportglobals: FALSE; bpexportvariables: FALSE; bpforceGC: FALSE
bpfallback: FALSE
bplogdir: NA
bpresultdir: NA
Error in x$.self$finalize() : attempt to apply non-function
class: SerialParam
bpisup: FALSE; bpnworkers: 1; bptasks: 0; bpjobname: BPJOB
bplog: FALSE; bpthreshold: INFO; bpstopOnError: TRUE
bpRNGseed: ; bptimeout: NA; bpprogressbar: FALSE
bpexportglobals: FALSE; bpexportvariables: FALSE; bpforceGC: FALSE
bpfallback: FALSE
bplogdir: NA
bpresultdir: NA
class: SerialParam
bpisup: FALSE; bpnworkers: 1; bptasks: 0; bpjobname: BPJOB
bplog: FALSE; bpthreshold: INFO; bpstopOnError: TRUE
bpRNGseed: ; bptimeout: NA; bpprogressbar: FALSE
bpexportglobals: FALSE; bpexportvariables: FALSE; bpforceGC: FALSE
bpfallback: FALSE
bplogdir: NA
bpresultdir: NA
class: SerialParam
bpisup: FALSE; bpnworkers: 1; bptasks: 0; bpjobname: BPJOB
bplog: FALSE; bpthreshold: INFO; bpstopOnError: TRUE
bpRNGseed: ; bptimeout: NA; bpprogressbar: FALSE
bpexportglobals: FALSE; bpexportvariables: FALSE; bpforceGC: FALSE
bpfallback: FALSE
bplogdir: NA
bpresultdir: NA
class: SerialParam
bpisup: FALSE; bpnworkers: 1; bptasks: 0; bpjobname: BPJOB
bplog: FALSE; bpthreshold: INFO; bpstopOnError: TRUE
bpRNGseed: ; bptimeout: NA; bpprogressbar: FALSE
bpexportglobals: FALSE; bpexportvariables: FALSE; bpforceGC: FALSE
bpfallback: FALSE
bplogdir: NA
bpresultdir: NA
class: SerialParam
bpisup: FALSE; bpnworkers: 1; bptasks: 0; bpjobname: BPJOB
bplog: FALSE; bpthreshold: INFO; bpstopOnError: TRUE
bpRNGseed: ; bptimeout: NA; bpprogressbar: FALSE
bpexportglobals: FALSE; bpexportvariables: FALSE; bpforceGC: FALSE
bpfallback: FALSE
bplogdir: NA
bpresultdir: NA
class: SerialParam
bpisup: FALSE; bpnworkers: 1; bptasks: 0; bpjobname: BPJOB
bplog: FALSE; bpthreshold: INFO; bpstopOnError: TRUE
bpRNGseed: ; bptimeout: NA; bpprogressbar: FALSE
bpexportglobals: FALSE; bpexportvariables: FALSE; bpforceGC: FALSE
bpfallback: FALSE
bplogdir: NA
bpresultdir: NA
class: SerialParam
bpisup: FALSE; bpnworkers: 1; bptasks: 0; bpjobname: BPJOB
bplog: FALSE; bpthreshold: INFO; bpstopOnError: TRUE
bpRNGseed: ; bptimeout: NA; bpprogressbar: FALSE
bpexportglobals: FALSE; bpexportvariables: FALSE; bpforceGC: FALSE
bpfallback: FALSE
bplogdir: NA
bpresultdir: NA
[ FAIL 0 | WARN 6 | SKIP 0 | PASS 137 ]
[ FAIL 0 | WARN 6 | SKIP 0 | PASS 137 ]
Warning message:
call dbDisconnect() when finished working with a connection
>
> proc.time()
user system elapsed
140.060 3.485 145.798
derfinder.Rcheck/derfinder-Ex.timings
| name | user | system | elapsed | |
| analyzeChr | 0.364 | 0.031 | 0.395 | |
| annotateRegions | 0.099 | 0.004 | 0.104 | |
| calculatePvalues | 0.263 | 0.014 | 0.278 | |
| calculateStats | 0.127 | 0.000 | 0.127 | |
| coerceGR | 0.023 | 0.001 | 0.024 | |
| collapseFullCoverage | 0.001 | 0.001 | 0.003 | |
| coverageToExon | 2.126 | 0.061 | 2.202 | |
| createBw | 0.053 | 0.001 | 0.056 | |
| createBwSample | 0.019 | 0.001 | 0.019 | |
| define_cluster | 0.001 | 0.000 | 0.002 | |
| derfinder-deprecated | 0.000 | 0.000 | 0.001 | |
| extendedMapSeqlevels | 0.021 | 0.004 | 0.024 | |
| filterData | 0.054 | 0.003 | 0.059 | |
| findRegions | 0.153 | 0.008 | 0.161 | |
| fullCoverage | 0.082 | 0.008 | 0.091 | |
| getRegionCoverage | 0.099 | 0.013 | 0.114 | |
| getTotalMapped | 0.003 | 0.001 | 0.004 | |
| loadCoverage | 0.046 | 0.005 | 0.052 | |
| makeGenomicState | 1.124 | 0.021 | 1.169 | |
| makeModels | 0.004 | 0.000 | 0.004 | |
| mergeResults | 0.101 | 0.006 | 0.107 | |
| preprocessCoverage | 0.093 | 0.000 | 0.096 | |
| railMatrix | 3.55 | 0.26 | 3.89 | |
| rawFiles | 0.001 | 0.000 | 0.002 | |
| regionMatrix | 0.291 | 0.034 | 0.361 | |
| sampleDepth | 0.004 | 0.001 | 0.011 | |