Back to Multiple platform build/check report for BioC 3.23:   simplified   long
ABCDEFGHIJKLMNOPQR[S]TUVWXYZ

This page was generated on 2025-11-19 10:14 -0500 (Wed, 19 Nov 2025).

HostnameOSArch (*)R versionInstalled pkgs
nebbiolo1Linux (Ubuntu 24.04.3 LTS)x86_64R Under development (unstable) (2025-10-20 r88955) -- "Unsuffered Consequences" 4827
lconwaymacOS 12.7.6 Montereyx86_64R Under development (unstable) (2025-10-21 r88958) -- "Unsuffered Consequences" 4600
kjohnson3macOS 13.7.7 Venturaarm64R Under development (unstable) (2025-11-04 r88984) -- "Unsuffered Consequences" 4564
Click on any hostname to see more info about the system (e.g. compilers)      (*) as reported by 'uname -p', except on Windows and Mac OS X

Package 1956/2325HostnameOS / ArchINSTALLBUILDCHECKBUILD BIN
seqsetvis 1.31.0  (landing page)
Joseph R Boyd
Snapshot Date: 2025-11-18 13:40 -0500 (Tue, 18 Nov 2025)
git_url: https://git.bioconductor.org/packages/seqsetvis
git_branch: devel
git_last_commit: 1aad17d
git_last_commit_date: 2025-10-29 10:44:19 -0500 (Wed, 29 Oct 2025)
nebbiolo1Linux (Ubuntu 24.04.3 LTS) / x86_64  OK    OK    OK  UNNEEDED, same version is already published
lconwaymacOS 12.7.6 Monterey / x86_64  OK    OK    OK    OK  NO, package depends on 'GenomicAlignments' which is only available as a source package that needs compilation
kjohnson3macOS 13.7.7 Ventura / arm64  OK    OK    OK    OK  NO, package depends on 'GenomicAlignments' which is only available as a source package that needs compilation


CHECK results for seqsetvis on kjohnson3

To the developers/maintainers of the seqsetvis package:
- Allow up to 24 hours (and sometimes 48 hours) for your latest push to git@git.bioconductor.org:packages/seqsetvis.git to reflect on this report. See Troubleshooting Build Report for more information.
- Use the following Renviron settings to reproduce errors and warnings.
- If 'R CMD check' started to fail recently on the Linux builder(s) over a missing dependency, add the missing dependency to 'Suggests:' in your DESCRIPTION file. See Renviron.bioc for more information.

raw results


Summary

Package: seqsetvis
Version: 1.31.0
Command: /Library/Frameworks/R.framework/Resources/bin/R CMD check --install=check:seqsetvis.install-out.txt --library=/Library/Frameworks/R.framework/Resources/library --no-vignettes --timings seqsetvis_1.31.0.tar.gz
StartedAt: 2025-11-18 22:35:51 -0500 (Tue, 18 Nov 2025)
EndedAt: 2025-11-18 22:39:55 -0500 (Tue, 18 Nov 2025)
EllapsedTime: 243.2 seconds
RetCode: 0
Status:   OK  
CheckDir: seqsetvis.Rcheck
Warnings: 0

Command output

##############################################################################
##############################################################################
###
### Running command:
###
###   /Library/Frameworks/R.framework/Resources/bin/R CMD check --install=check:seqsetvis.install-out.txt --library=/Library/Frameworks/R.framework/Resources/library --no-vignettes --timings seqsetvis_1.31.0.tar.gz
###
##############################################################################
##############################################################################


* using log directory ‘/Users/biocbuild/bbs-3.23-bioc/meat/seqsetvis.Rcheck’
* using R Under development (unstable) (2025-11-04 r88984)
* using platform: aarch64-apple-darwin20
* R was compiled by
    Apple clang version 16.0.0 (clang-1600.0.26.6)
    GNU Fortran (GCC) 14.2.0
* running under: macOS Ventura 13.7.8
* using session charset: UTF-8
* using option ‘--no-vignettes’
* checking for file ‘seqsetvis/DESCRIPTION’ ... OK
* checking extension type ... Package
* this is package ‘seqsetvis’ version ‘1.31.0’
* package encoding: UTF-8
* checking package namespace information ... OK
* checking package dependencies ... OK
* checking if this is a source package ... OK
* checking if there is a namespace ... OK
* checking for hidden files and directories ... OK
* checking for portable file names ... OK
* checking for sufficient/correct file permissions ... OK
* checking whether package ‘seqsetvis’ can be installed ... OK
* checking installed package size ... OK
* checking package directory ... OK
* checking ‘build’ directory ... OK
* checking DESCRIPTION meta-information ... OK
* checking top-level files ... OK
* checking for left-over files ... OK
* checking index information ... OK
* checking package subdirectories ... OK
* checking code files for non-ASCII characters ... OK
* checking R files for syntax errors ... OK
* checking whether the package can be loaded ... OK
* checking whether the package can be loaded with stated dependencies ... OK
* checking whether the package can be unloaded cleanly ... OK
* checking whether the namespace can be loaded with stated dependencies ... OK
* checking whether the namespace can be unloaded cleanly ... OK
* checking dependencies in R code ... OK
* checking S3 generic/method consistency ... OK
* checking replacement functions ... OK
* checking foreign function calls ... OK
* checking R code for possible problems ... OK
* checking Rd files ... OK
* checking Rd metadata ... OK
* checking Rd cross-references ... OK
* checking for missing documentation entries ... OK
* checking for code/documentation mismatches ... OK
* checking Rd \usage sections ... OK
* checking Rd contents ... OK
* checking for unstated dependencies in examples ... OK
* checking contents of ‘data’ directory ... OK
* checking data for non-ASCII characters ... OK
* checking data for ASCII and uncompressed saves ... OK
* checking files in ‘vignettes’ ... OK
* checking examples ... OK
* checking for unstated dependencies in ‘tests’ ... OK
* checking tests ...
  Running ‘testthat.R’
 OK
* checking for unstated dependencies in vignettes ... OK
* checking package vignettes ... OK
* checking running R code from vignettes ... SKIPPED
* checking re-building of vignette outputs ... SKIPPED
* checking PDF version of manual ... OK
* DONE

Status: OK


Installation output

seqsetvis.Rcheck/00install.out

##############################################################################
##############################################################################
###
### Running command:
###
###   /Library/Frameworks/R.framework/Resources/bin/R CMD INSTALL seqsetvis
###
##############################################################################
##############################################################################


* installing to library ‘/Library/Frameworks/R.framework/Versions/4.6-arm64/Resources/library’
* installing *source* package ‘seqsetvis’ ...
** this is package ‘seqsetvis’ version ‘1.31.0’
** using staged installation
** R
** data
** inst
** byte-compile and prepare package for lazy loading
** help
*** installing help indices
** building package indices
** installing vignettes
** testing if installed package can be loaded from temporary location
** testing if installed package can be loaded from final location
** testing if installed package keeps a record of temporary installation path
* DONE (seqsetvis)

Tests output

seqsetvis.Rcheck/tests/testthat.Rout


R Under development (unstable) (2025-11-04 r88984) -- "Unsuffered Consequences"
Copyright (C) 2025 The R Foundation for Statistical Computing
Platform: aarch64-apple-darwin20

R is free software and comes with ABSOLUTELY NO WARRANTY.
You are welcome to redistribute it under certain conditions.
Type 'license()' or 'licence()' for distribution details.

R is a collaborative project with many contributors.
Type 'contributors()' for more information and
'citation()' on how to cite R or R packages in publications.

Type 'demo()' for some demos, 'help()' for on-line help, or
'help.start()' for an HTML browser interface to help.
Type 'q()' to quit R.

> 
> ## load dependencies
> library(testthat)
> library(seqsetvis)
Loading required package: ggplot2
> library(data.table)
> 
> ## test package
> test_check(package = "seqsetvis")
[ FAIL 0 | WARN 3 | SKIP 0 | PASS 1291 ]

[ FAIL 0 | WARN 3 | SKIP 0 | PASS 1291 ]
> 
> proc.time()
   user  system elapsed 
 85.914   2.016  97.032 

Example timings

seqsetvis.Rcheck/seqsetvis-Ex.timings

nameusersystemelapsed
add_cluster_annotation1.2570.0311.363
append_ynorm0.0200.0040.081
applyMovingAverage0.3000.0050.318
applySpline0.1470.0060.177
assemble_heatmap_cluster_bars0.3010.0050.332
calc_norm_factors0.0120.0010.015
centerAtMax0.0810.0040.087
centerFixedSizeGRanges0.0470.0030.050
centerGRangesAtMax0.1570.0070.244
clusteringKmeans0.0350.0040.047
clusteringKmeansNestedHclust0.0140.0020.025
col2hex0.0010.0000.001
collapse_gr0.2180.0050.244
convert_collapsed_coord0.0700.0040.080
copy_clust_info0.5680.0070.622
crossCorrByRle0.1480.0050.161
easyLoad_FUN0.0170.0010.018
easyLoad_IDRmerged0.0120.0000.014
easyLoad_bed0.0400.0000.042
easyLoad_broadPeak0.0120.0000.015
easyLoad_narrowPeak0.0120.0010.013
easyLoad_seacr0.0110.0000.013
expandCigar0.0470.0030.053
findMaxPos0.0130.0050.019
fragLen_calcStranded0.5170.0080.543
fragLen_fromMacs2Xls0.0010.0000.001
getReadLength0.0190.0020.021
get_mapped_reads0.0030.0010.003
ggellipse0.2800.0020.296
harmonize_seqlengths0.0380.0040.046
make_clustering_matrix0.0290.0020.071
merge_clusters1.3430.0251.643
prepare_fetch_GRanges0.0100.0010.011
prepare_fetch_GRanges_names0.0250.0020.035
prepare_fetch_GRanges_width0.0080.0010.009
quantileGRangesWidth0.0010.0000.001
reorder_clusters_hclust0.7540.0080.876
reorder_clusters_manual0.4270.0080.481
reorder_clusters_stepdown1.1470.0241.294
reverse_clusters0.8130.0161.133
safeBrew0.0090.0010.010
split_cluster0.7300.0140.834
ssvAnnotateSubjectGRanges0.3110.0110.338
ssvConsensusIntervalSets0.1190.0040.130
ssvFactorizeMembTable0.0040.0020.006
ssvFeatureBars0.2800.0030.295
ssvFeatureBinaryHeatmap3.4080.2503.896
ssvFeatureEuler0.2750.0100.307
ssvFeaturePie0.2080.0030.239
ssvFeatureUpset1.0660.0091.172
ssvFeatureVenn0.4740.0040.542
ssvFetchBam1.8570.0612.039
ssvFetchBamPE0.6140.0410.722
ssvFetchBamPE.RNA0.4910.0290.689
ssvFetchBigwig0.4500.0060.508
ssvFetchGRanges0.2350.0020.268
ssvFetchSignal0.4550.0180.501
ssvMakeMembTable-methods0.1640.0030.181
ssvOverlapIntervalSets0.0790.0040.088
ssvSignalBandedQuantiles1.6900.0461.881
ssvSignalClustering1.0160.0211.281
ssvSignalHeatmap.ClusterBars1.3250.0251.737
ssvSignalHeatmap1.4980.0431.874
ssvSignalLineplot0.9110.0061.011
ssvSignalLineplotAgg0.3810.0080.458
ssvSignalScatterplot0.3750.0060.467
viewGRangesWinSample_dt0.3930.0080.453
viewGRangesWinSummary_dt0.3530.0090.454
within_clust_sort0.6070.0100.756