Back to Multiple platform build/check report for BioC 3.22:   simplified   long
AB[C]DEFGHIJKLMNOPQRSTUVWXYZ

This page was generated on 2025-10-14 12:05 -0400 (Tue, 14 Oct 2025).

HostnameOSArch (*)R versionInstalled pkgs
nebbiolo2Linux (Ubuntu 24.04.3 LTS)x86_644.5.1 Patched (2025-08-23 r88802) -- "Great Square Root" 4864
lconwaymacOS 12.7.1 Montereyx86_644.5.1 Patched (2025-09-10 r88807) -- "Great Square Root" 4652
kjohnson3macOS 13.7.7 Venturaarm644.5.1 Patched (2025-09-10 r88807) -- "Great Square Root" 4597
taishanLinux (openEuler 24.03 LTS)aarch644.5.0 (2025-04-11) -- "How About a Twenty-Six" 4610
Click on any hostname to see more info about the system (e.g. compilers)      (*) as reported by 'uname -p', except on Windows and Mac OS X

Package 271/2346HostnameOS / ArchINSTALLBUILDCHECKBUILD BIN
CAGEr 2.15.1  (landing page)
Charles Plessy
Snapshot Date: 2025-10-13 13:45 -0400 (Mon, 13 Oct 2025)
git_url: https://git.bioconductor.org/packages/CAGEr
git_branch: devel
git_last_commit: b05b175
git_last_commit_date: 2025-06-22 03:10:05 -0400 (Sun, 22 Jun 2025)
nebbiolo2Linux (Ubuntu 24.04.3 LTS) / x86_64  OK    OK    OK  UNNEEDED, same version is already published
lconwaymacOS 12.7.1 Monterey / x86_64  OK    OK    OK    OK  UNNEEDED, same version is already published
kjohnson3macOS 13.7.7 Ventura / arm64  OK    OK    OK    OK  UNNEEDED, same version is already published
taishanLinux (openEuler 24.03 LTS) / aarch64  OK    OK    ERROR  


CHECK results for CAGEr on kjohnson3

To the developers/maintainers of the CAGEr package:
- Allow up to 24 hours (and sometimes 48 hours) for your latest push to git@git.bioconductor.org:packages/CAGEr.git to reflect on this report. See Troubleshooting Build Report for more information.
- Use the following Renviron settings to reproduce errors and warnings.
- If 'R CMD check' started to fail recently on the Linux builder(s) over a missing dependency, add the missing dependency to 'Suggests:' in your DESCRIPTION file. See Renviron.bioc for more information.

raw results


Summary

Package: CAGEr
Version: 2.15.1
Command: /Library/Frameworks/R.framework/Resources/bin/R CMD check --install=check:CAGEr.install-out.txt --library=/Library/Frameworks/R.framework/Resources/library --no-vignettes --timings CAGEr_2.15.1.tar.gz
StartedAt: 2025-10-13 18:33:41 -0400 (Mon, 13 Oct 2025)
EndedAt: 2025-10-13 18:37:20 -0400 (Mon, 13 Oct 2025)
EllapsedTime: 218.7 seconds
RetCode: 0
Status:   OK  
CheckDir: CAGEr.Rcheck
Warnings: 0

Command output

##############################################################################
##############################################################################
###
### Running command:
###
###   /Library/Frameworks/R.framework/Resources/bin/R CMD check --install=check:CAGEr.install-out.txt --library=/Library/Frameworks/R.framework/Resources/library --no-vignettes --timings CAGEr_2.15.1.tar.gz
###
##############################################################################
##############################################################################


* using log directory ‘/Users/biocbuild/bbs-3.22-bioc/meat/CAGEr.Rcheck’
* using R version 4.5.1 Patched (2025-09-10 r88807)
* using platform: aarch64-apple-darwin20
* R was compiled by
    Apple clang version 16.0.0 (clang-1600.0.26.6)
    GNU Fortran (GCC) 14.2.0
* running under: macOS Ventura 13.7.7
* using session charset: UTF-8
* using option ‘--no-vignettes’
* checking for file ‘CAGEr/DESCRIPTION’ ... OK
* this is package ‘CAGEr’ version ‘2.15.1’
* package encoding: UTF-8
* checking package namespace information ... OK
* checking package dependencies ... INFO
Imports includes 29 non-default packages.
Importing from so many packages makes the package vulnerable to any of
them becoming unavailable.  Move as many as possible to Suggests and
use conditionally.
* checking if this is a source package ... OK
* checking if there is a namespace ... OK
* checking for hidden files and directories ... OK
* checking for portable file names ... OK
* checking for sufficient/correct file permissions ... OK
* checking whether package ‘CAGEr’ can be installed ... OK
* checking installed package size ... OK
* checking package directory ... OK
* checking ‘build’ directory ... OK
* checking DESCRIPTION meta-information ... OK
* checking top-level files ... OK
* checking for left-over files ... OK
* checking index information ... OK
* checking package subdirectories ... OK
* checking code files for non-ASCII characters ... OK
* checking R files for syntax errors ... OK
* checking whether the package can be loaded ... OK
* checking whether the package can be loaded with stated dependencies ... OK
* checking whether the package can be unloaded cleanly ... OK
* checking whether the namespace can be loaded with stated dependencies ... OK
* checking whether the namespace can be unloaded cleanly ... OK
* checking dependencies in R code ... OK
* checking S3 generic/method consistency ... OK
* checking replacement functions ... OK
* checking foreign function calls ... OK
* checking R code for possible problems ... OK
* checking Rd files ... OK
* checking Rd metadata ... OK
* checking Rd cross-references ... NOTE
Found the following Rd file(s) with Rd \link{} targets missing package
anchors:
  CAGEexp-class.Rd: MultiAssayExperiment, DataFrame, Rle
  CAGEr-class.Rd: MultiAssayExperiment
  CTSStagCount.Rd: DataFrame, Rle, RangedSummarizedExperiment
  CTSStoGenes.Rd: SummarizedExperiment
  CustomConsensusClusters.Rd: GRanges, RangedSummarizedExperiment
  TSSlogo.Rd: BSgenome
  aggregateTagClusters.Rd: RangedSummarizedExperiment
  annotateCTSS.Rd: GRanges, TxDb
  bam2CTSS.Rd: GRanges
  byCtss.Rd: data.table
  consensusClusters.Rd: GRanges, SummarizedExperiment
  distclu.Rd: GRangesList
  dot-ctss_summary_for_clusters.Rd: GRanges
  expressionClasses.Rd: Rle
  flagLowExpCTSS.Rd: Rle
  getCTSS.Rd: RangedSummarizedExperiment
  import.CAGEscanMolecule.Rd: GRanges
  import.CTSS.Rd: GPos
  loadFileIntoGPos.Rd: GPos
  moleculesGR2CTSS.Rd: GRanges
  paraclu.Rd: RangedSummarizedExperiment, GRangesList
  plotCorrelation.Rd: SummarizedExperiment, DataFrame
  quantilePositions.Rd: RangedSummarizedExperiment
  ranges2annot.Rd: rowRanges, Rle
  ranges2names.Rd: Rle
  strandInvaders.Rd: Rle
Please provide package anchors for all Rd \link{} targets not in the
package itself and the base packages.
* checking for missing documentation entries ... OK
* checking for code/documentation mismatches ... OK
* checking Rd \usage sections ... OK
* checking Rd contents ... OK
* checking for unstated dependencies in examples ... OK
* checking contents of ‘data’ directory ... OK
* checking data for non-ASCII characters ... OK
* checking LazyData ... OK
* checking data for ASCII and uncompressed saves ... OK
* checking files in ‘vignettes’ ... OK
* checking examples ... OK
Examples with CPU (user + system) or elapsed time > 5s
                       user system elapsed
paraclu              12.234  0.027  12.294
exportToTrack        10.320  0.054  10.387
scoreShift            7.062  0.076   7.148
aggregateTagClusters  6.080  0.078   6.167
* checking for unstated dependencies in vignettes ... OK
* checking package vignettes ... OK
* checking running R code from vignettes ... SKIPPED
* checking re-building of vignette outputs ... SKIPPED
* checking PDF version of manual ... OK
* DONE

Status: 1 NOTE
See
  ‘/Users/biocbuild/bbs-3.22-bioc/meat/CAGEr.Rcheck/00check.log’
for details.


Installation output

CAGEr.Rcheck/00install.out

##############################################################################
##############################################################################
###
### Running command:
###
###   /Library/Frameworks/R.framework/Resources/bin/R CMD INSTALL CAGEr
###
##############################################################################
##############################################################################


* installing to library ‘/Library/Frameworks/R.framework/Versions/4.5-arm64/Resources/library’
* installing *source* package ‘CAGEr’ ...
** this is package ‘CAGEr’ version ‘2.15.1’
** using staged installation
** R
** data
*** moving datasets to lazyload DB
** inst
** byte-compile and prepare package for lazy loading
** help
*** installing help indices
** building package indices
** installing vignettes
** testing if installed package can be loaded from temporary location
** testing if installed package can be loaded from final location
** testing if installed package keeps a record of temporary installation path
* DONE (CAGEr)

Tests output


Example timings

CAGEr.Rcheck/CAGEr-Ex.timings

nameusersystemelapsed
CAGEexp-class1.6890.2301.935
CAGEr_Multicore1.7080.0041.713
CTSS-class0.0790.0010.079
CTSScoordinates0.0260.0010.026
CTSSnormalizedTpm0.2290.0060.234
CTSStagCount0.2020.0160.219
CTSStoGenes0.1620.0150.181
CustomConsensusClusters1.3630.0041.366
GeneExpDESeq20.1640.0040.168
GeneExpSE0.0010.0000.002
QuantileWidthFunctions0.0440.0010.044
TSSlogo0.8170.0140.836
aggregateTagClusters6.0800.0786.167
annotateCTSS3.5170.0133.537
byCtss0.0060.0010.006
consensusClusters0.0450.0010.046
consensusClustersDESeq20.5440.0010.545
consensusClustersTpm0.0020.0000.002
cumulativeCTSSdistribution1.1860.0231.210
distclu2.6640.0072.671
dot-ctss_summary_for_clusters0.2660.0010.267
exampleCAGEexp000
exportToTrack10.320 0.05410.387
expressionClasses0.5240.0010.524
filteredCTSSidx0.0020.0000.003
flagLowExpCTSS0.0090.0000.010
genomeName0.0010.0000.000
getCTSS0.3350.0060.345
getExpressionProfiles1.6240.0091.653
getShiftingPromoters0.5360.0010.539
hanabi0.0780.0020.081
hanabiPlot0.1070.0070.115
import.CAGEscanMolecule000
import.CTSS0.0250.0000.026
import.bam0.0000.0010.000
import.bedCTSS000
import.bedScore000
import.bedmolecule000
importPublicData000
inputFiles0.0000.0000.001
inputFilesType0.0010.0000.000
librarySizes000
mapStats0.0160.0010.017
mergeCAGEsets0.7580.0110.769
mergeSamples0.2140.0020.215
moleculesGR2CTSS0.0380.0000.038
normalizeTagCount0.1870.0030.190
paraclu12.234 0.02712.294
parseCAGEscanBlocksToGrangeTSS0.0060.0000.006
plotAnnot1.0060.0061.013
plotCorrelation0.0720.0010.072
plotExpressionProfiles2.6400.0872.734
plotInterquantileWidth0.7570.0030.770
plotReverseCumulatives0.8690.0080.894
quantilePositions3.6890.0173.707
quickEnhancers000
ranges2annot0.10.00.1
ranges2genes0.0180.0000.018
ranges2names0.0170.0010.018
resetCAGEexp0.0930.0000.093
rowSums.RleDataFrame0.0070.0000.007
rowsum.RleDataFrame0.0080.0000.008
sampleLabels0.0010.0000.001
scoreShift7.0620.0767.148
seqNameTotalsSE0.0010.0000.001
setColors0.1380.0020.148
strandInvaders0.2540.0340.302
summariseChrExpr0.1800.0120.194
tagClusters0.1250.0080.133