Back to Build/check report for BioC 3.23:   simplified   long
ABCDEFGHIJKLMNOPQ[R]STUVWXYZ

This page was generated on 2025-11-05 11:32 -0500 (Wed, 05 Nov 2025).

HostnameOSArch (*)R versionInstalled pkgs
nebbiolo1Linux (Ubuntu 24.04.3 LTS)x86_64R Under development (unstable) (2025-10-20 r88955) -- "Unsuffered Consequences" 4818
Click on any hostname to see more info about the system (e.g. compilers)      (*) as reported by 'uname -p', except on Windows and Mac OS X

Package 1701/2323HostnameOS / ArchINSTALLBUILDCHECKBUILD BIN
RCAS 1.37.0  (landing page)
Bora Uyar
Snapshot Date: 2025-11-04 13:40 -0500 (Tue, 04 Nov 2025)
git_url: https://git.bioconductor.org/packages/RCAS
git_branch: devel
git_last_commit: 1a77884
git_last_commit_date: 2025-10-29 10:33:22 -0500 (Wed, 29 Oct 2025)
nebbiolo1Linux (Ubuntu 24.04.3 LTS) / x86_64  OK    OK    OK  YES


CHECK results for RCAS on nebbiolo1

To the developers/maintainers of the RCAS package:
- Allow up to 24 hours (and sometimes 48 hours) for your latest push to git@git.bioconductor.org:packages/RCAS.git to reflect on this report. See Troubleshooting Build Report for more information.
- Use the following Renviron settings to reproduce errors and warnings.
- If 'R CMD check' started to fail recently on the Linux builder(s) over a missing dependency, add the missing dependency to 'Suggests:' in your DESCRIPTION file. See Renviron.bioc for more information.

raw results


Summary

Package: RCAS
Version: 1.37.0
Command: /home/biocbuild/bbs-3.23-bioc/R/bin/R CMD check --install=check:RCAS.install-out.txt --library=/home/biocbuild/bbs-3.23-bioc/R/site-library --timings RCAS_1.37.0.tar.gz
StartedAt: 2025-11-05 02:51:02 -0500 (Wed, 05 Nov 2025)
EndedAt: 2025-11-05 03:03:27 -0500 (Wed, 05 Nov 2025)
EllapsedTime: 745.5 seconds
RetCode: 0
Status:   OK  
CheckDir: RCAS.Rcheck
Warnings: 0

Command output

##############################################################################
##############################################################################
###
### Running command:
###
###   /home/biocbuild/bbs-3.23-bioc/R/bin/R CMD check --install=check:RCAS.install-out.txt --library=/home/biocbuild/bbs-3.23-bioc/R/site-library --timings RCAS_1.37.0.tar.gz
###
##############################################################################
##############################################################################


* using log directory ‘/home/biocbuild/bbs-3.23-bioc/meat/RCAS.Rcheck’
* using R Under development (unstable) (2025-10-20 r88955)
* using platform: x86_64-pc-linux-gnu
* R was compiled by
    gcc (Ubuntu 13.3.0-6ubuntu2~24.04) 13.3.0
    GNU Fortran (Ubuntu 13.3.0-6ubuntu2~24.04) 13.3.0
* running under: Ubuntu 24.04.3 LTS
* using session charset: UTF-8
* checking for file ‘RCAS/DESCRIPTION’ ... OK
* checking extension type ... Package
* this is package ‘RCAS’ version ‘1.37.0’
* checking package namespace information ... OK
* checking package dependencies ... INFO
Imports includes 24 non-default packages.
Importing from so many packages makes the package vulnerable to any of
them becoming unavailable.  Move as many as possible to Suggests and
use conditionally.
* checking if this is a source package ... OK
* checking if there is a namespace ... OK
* checking for hidden files and directories ... OK
* checking for portable file names ... OK
* checking for sufficient/correct file permissions ... OK
* checking whether package ‘RCAS’ can be installed ... OK
* checking installed package size ... OK
* checking package directory ... OK
* checking ‘build’ directory ... OK
* checking DESCRIPTION meta-information ... OK
* checking top-level files ... OK
* checking for left-over files ... OK
* checking index information ... OK
* checking package subdirectories ... OK
* checking code files for non-ASCII characters ... OK
* checking R files for syntax errors ... OK
* checking whether the package can be loaded ... OK
* checking whether the package can be loaded with stated dependencies ... OK
* checking whether the package can be unloaded cleanly ... OK
* checking whether the namespace can be loaded with stated dependencies ... OK
* checking whether the namespace can be unloaded cleanly ... OK
* checking loading without being on the library search path ... OK
* checking dependencies in R code ... OK
* checking S3 generic/method consistency ... OK
* checking replacement functions ... OK
* checking foreign function calls ... OK
* checking R code for possible problems ... OK
* checking Rd files ... OK
* checking Rd metadata ... OK
* checking Rd cross-references ... OK
* checking for missing documentation entries ... OK
* checking for code/documentation mismatches ... OK
* checking Rd \usage sections ... OK
* checking Rd contents ... OK
* checking for unstated dependencies in examples ... OK
* checking contents of ‘data’ directory ... OK
* checking data for non-ASCII characters ... OK
* checking LazyData ... OK
* checking data for ASCII and uncompressed saves ... OK
* checking files in ‘vignettes’ ... OK
* checking examples ... OK
Examples with CPU (user + system) or elapsed time > 5s
                                  user system elapsed
runMotifDiscovery               48.884  1.280  43.767
getMotifSummaryTable            14.659  0.620  56.452
getFeatureBoundaryCoverageMulti 12.395  1.492  13.890
calculateCoverageProfileList    11.645  0.425  12.073
calculateCoverageProfile         9.427  0.481   9.911
findDifferentialMotifs           7.536  0.759   7.714
getTxdbFeaturesFromGRanges       7.390  0.558   7.945
getTargetedGenesTable            6.600  0.508   7.060
summarizeQueryRegionsMulti       6.805  0.290  22.007
summarizeQueryRegions            6.421  0.242   6.664
getFeatureBoundaryCoverage       4.791  0.685   5.477
createDB                         3.247  0.123  17.992
findEnrichedFunctions            0.618  0.122   5.061
* checking for unstated dependencies in ‘tests’ ... OK
* checking tests ...
  Running ‘testthat.R’
 OK
* checking for unstated dependencies in vignettes ... OK
* checking package vignettes ... OK
* checking re-building of vignette outputs ... OK
* checking PDF version of manual ... OK
* DONE

Status: OK


Installation output

RCAS.Rcheck/00install.out

##############################################################################
##############################################################################
###
### Running command:
###
###   /home/biocbuild/bbs-3.23-bioc/R/bin/R CMD INSTALL RCAS
###
##############################################################################
##############################################################################


* installing to library ‘/home/biocbuild/bbs-3.23-bioc/R/site-library’
* installing *source* package ‘RCAS’ ...
** this is package ‘RCAS’ version ‘1.37.0’
** using staged installation
** R
** data
*** moving datasets to lazyload DB
** inst
** byte-compile and prepare package for lazy loading
** help
*** installing help indices
** building package indices
** installing vignettes
** testing if installed package can be loaded from temporary location
** testing if installed package can be loaded from final location
** testing if installed package keeps a record of temporary installation path
* DONE (RCAS)

Tests output

RCAS.Rcheck/tests/testthat.Rout


R Under development (unstable) (2025-10-20 r88955) -- "Unsuffered Consequences"
Copyright (C) 2025 The R Foundation for Statistical Computing
Platform: x86_64-pc-linux-gnu

R is free software and comes with ABSOLUTELY NO WARRANTY.
You are welcome to redistribute it under certain conditions.
Type 'license()' or 'licence()' for distribution details.

R is a collaborative project with many contributors.
Type 'contributors()' for more information and
'citation()' on how to cite R or R packages in publications.

Type 'demo()' for some demos, 'help()' for on-line help, or
'help.start()' for an HTML browser interface to help.
Type 'q()' to quit R.

> library(testthat)
> library(RCAS)
Loading required package: plotly
Loading required package: ggplot2

Attaching package: 'plotly'

The following object is masked from 'package:ggplot2':

    last_plot

The following object is masked from 'package:stats':

    filter

The following object is masked from 'package:graphics':

    layout

Loading required package: DT
Loading required package: data.table
> 
> test_check("RCAS")
[ FAIL 0 | WARN 9944 | SKIP 0 | PASS 48 ]

[ FAIL 0 | WARN 9944 | SKIP 0 | PASS 48 ]
> 
> proc.time()
   user  system elapsed 
 88.903   4.016  92.645 

Example timings

RCAS.Rcheck/RCAS-Ex.timings

nameusersystemelapsed
calculateCoverageProfile9.4270.4819.911
calculateCoverageProfileList11.645 0.42512.073
checkSeqDb0.3780.0160.513
createControlRegions0.2560.0010.257
createDB 3.247 0.12317.992
discoverFeatureSpecificMotifs0.0000.0000.001
extractSequences1.3860.3861.776
findDifferentialMotifs7.5360.7597.714
findEnrichedFunctions0.6180.1225.061
generateKmers0.0010.0000.001
getFeatureBoundaryCoverage4.7910.6855.477
getFeatureBoundaryCoverageBin3.7650.3974.163
getFeatureBoundaryCoverageMulti12.395 1.49213.890
getIntervalOverlapMatrix0.8780.1081.239
getMotifSummaryTable14.659 0.62056.452
getPWM0.0010.0010.001
getTargetedGenesTable6.6000.5087.060
getTxdbFeaturesFromGRanges7.3900.5587.945
importBed0.2180.0070.224
importBedFiles0.8530.0770.931
importGtf000
plotFeatureBoundaryCoverage3.7130.2533.967
queryGff0.4830.0650.548
runMotifDiscovery48.884 1.28043.767
runReport000
runReportMetaAnalysis0.9170.1281.070
summarizeQueryRegions6.4210.2426.664
summarizeQueryRegionsMulti 6.805 0.29022.007