| Back to Multiple platform build/check report for BioC 3.23: simplified long |
|
This page was generated on 2025-11-27 11:40 -0500 (Thu, 27 Nov 2025).
| Hostname | OS | Arch (*) | R version | Installed pkgs |
|---|---|---|---|---|
| nebbiolo1 | Linux (Ubuntu 24.04.3 LTS) | x86_64 | R Under development (unstable) (2025-10-20 r88955) -- "Unsuffered Consequences" | 4865 |
| lconway | macOS 12.7.6 Monterey | x86_64 | R Under development (unstable) (2025-10-21 r88958) -- "Unsuffered Consequences" | 4614 |
| kjohnson3 | macOS 13.7.7 Ventura | arm64 | R Under development (unstable) (2025-11-04 r88984) -- "Unsuffered Consequences" | 4571 |
| Click on any hostname to see more info about the system (e.g. compilers) (*) as reported by 'uname -p', except on Windows and Mac OS X | ||||
| Package 1740/2328 | Hostname | OS / Arch | INSTALL | BUILD | CHECK | BUILD BIN | ||||||||
| regioneR 1.43.0 (landing page) Bernat Gel
| nebbiolo1 | Linux (Ubuntu 24.04.3 LTS) / x86_64 | OK | OK | OK | |||||||||
| lconway | macOS 12.7.6 Monterey / x86_64 | OK | OK | OK | OK | |||||||||
| kjohnson3 | macOS 13.7.7 Ventura / arm64 | OK | OK | OK | OK | |||||||||
|
To the developers/maintainers of the regioneR package: - Allow up to 24 hours (and sometimes 48 hours) for your latest push to git@git.bioconductor.org:packages/regioneR.git to reflect on this report. See Troubleshooting Build Report for more information. - Use the following Renviron settings to reproduce errors and warnings. - If 'R CMD check' started to fail recently on the Linux builder(s) over a missing dependency, add the missing dependency to 'Suggests:' in your DESCRIPTION file. See Renviron.bioc for more information. |
| Package: regioneR |
| Version: 1.43.0 |
| Command: /Library/Frameworks/R.framework/Resources/bin/R CMD check --install=check:regioneR.install-out.txt --library=/Library/Frameworks/R.framework/Resources/library --no-vignettes --timings regioneR_1.43.0.tar.gz |
| StartedAt: 2025-11-26 21:59:40 -0500 (Wed, 26 Nov 2025) |
| EndedAt: 2025-11-26 22:03:13 -0500 (Wed, 26 Nov 2025) |
| EllapsedTime: 212.6 seconds |
| RetCode: 0 |
| Status: OK |
| CheckDir: regioneR.Rcheck |
| Warnings: 0 |
##############################################################################
##############################################################################
###
### Running command:
###
### /Library/Frameworks/R.framework/Resources/bin/R CMD check --install=check:regioneR.install-out.txt --library=/Library/Frameworks/R.framework/Resources/library --no-vignettes --timings regioneR_1.43.0.tar.gz
###
##############################################################################
##############################################################################
* using log directory ‘/Users/biocbuild/bbs-3.23-bioc/meat/regioneR.Rcheck’
* using R Under development (unstable) (2025-11-04 r88984)
* using platform: aarch64-apple-darwin20
* R was compiled by
Apple clang version 16.0.0 (clang-1600.0.26.6)
GNU Fortran (GCC) 14.2.0
* running under: macOS Ventura 13.7.8
* using session charset: UTF-8
* using option ‘--no-vignettes’
* checking for file ‘regioneR/DESCRIPTION’ ... OK
* checking extension type ... Package
* this is package ‘regioneR’ version ‘1.43.0’
* package encoding: UTF-8
* checking package namespace information ... OK
* checking package dependencies ... OK
* checking if this is a source package ... OK
* checking if there is a namespace ... OK
* checking for hidden files and directories ... OK
* checking for portable file names ... OK
* checking for sufficient/correct file permissions ... OK
* checking whether package ‘regioneR’ can be installed ... OK
* checking installed package size ... OK
* checking package directory ... OK
* checking ‘build’ directory ... OK
* checking DESCRIPTION meta-information ... NOTE
Package listed in more than one of Depends, Imports, Suggests, Enhances:
‘GenomicRanges’
A package should be listed in only one of these fields.
* checking top-level files ... OK
* checking for left-over files ... OK
* checking index information ... OK
* checking package subdirectories ... OK
* checking code files for non-ASCII characters ... OK
* checking R files for syntax errors ... OK
* checking whether the package can be loaded ... OK
* checking whether the package can be loaded with stated dependencies ... OK
* checking whether the package can be unloaded cleanly ... OK
* checking whether the namespace can be loaded with stated dependencies ... OK
* checking whether the namespace can be unloaded cleanly ... OK
* checking dependencies in R code ... OK
* checking S3 generic/method consistency ... OK
* checking replacement functions ... OK
* checking foreign function calls ... OK
* checking R code for possible problems ... OK
* checking Rd files ... OK
* checking Rd metadata ... OK
* checking Rd cross-references ... NOTE
Found the following Rd file(s) with Rd \link{} targets missing package
anchors:
characterToBSGenome.Rd: BSgenome
circularRandomizeRegions.Rd: GenomicRanges, BSgenome
commonRegions.Rd: GenomicRanges
createRandomRegions.Rd: GenomicRanges, BSgenome
extendRegions.Rd: GenomicRanges
filterChromosomes.Rd: GenomicRanges, BSgenome, GRanges
getGenome.Rd: BSgenome, GRanges, memoise, forget
getGenomeAndMask.Rd: BSgenome, memoise, forget
getMask.Rd: BSgenome, GRanges, memoise, forget
joinRegions.Rd: GenomicRanges, reduce
localZScore.Rd: GenomicRanges
maskFromBSGenome.Rd: BSgenome, GRanges, memoise, forget
meanDistance.Rd: GenomicRanges
meanInRegions.Rd: GenomicRanges
mergeRegions.Rd: GenomicRanges, reduce
numOverlaps.Rd: GenomicRanges
overlapGraphicalSummary.Rd: GenomicRanges
overlapPermTest.Rd: GenomicRanges
overlapRegions.Rd: GenomicRanges, countOverlaps
permTest.Rd: GenomicRanges
randomizeRegions.Rd: GenomicRanges, BSgenome
resampleGenome.Rd: GenomicRanges
resampleRegions.Rd: GenomicRanges
splitRegions.Rd: GenomicRanges
subtractRegions.Rd: GenomicRanges
toDataframe.Rd: GRanges
toGRanges.Rd: GRanges, BSgenome
uniqueRegions.Rd: GenomicRanges
Please provide package anchors for all Rd \link{} targets not in the
package itself and the base packages.
* checking for missing documentation entries ... OK
* checking for code/documentation mismatches ... OK
* checking Rd \usage sections ... OK
* checking Rd contents ... OK
* checking for unstated dependencies in examples ... OK
* checking files in ‘vignettes’ ... OK
* checking examples ... OK
Examples with CPU (user + system) or elapsed time > 5s
user system elapsed
maskFromBSGenome 16.473 2.505 18.827
circularRandomizeRegions 17.103 1.323 19.496
filterChromosomes 16.028 1.563 18.235
getMask 15.390 1.502 17.696
* checking for unstated dependencies in ‘tests’ ... OK
* checking tests ...
Running ‘testthat.R’
OK
* checking for unstated dependencies in vignettes ... OK
* checking package vignettes ... OK
* checking running R code from vignettes ... SKIPPED
* checking re-building of vignette outputs ... SKIPPED
* checking PDF version of manual ... OK
* DONE
Status: 2 NOTEs
See
‘/Users/biocbuild/bbs-3.23-bioc/meat/regioneR.Rcheck/00check.log’
for details.
regioneR.Rcheck/00install.out
############################################################################## ############################################################################## ### ### Running command: ### ### /Library/Frameworks/R.framework/Resources/bin/R CMD INSTALL regioneR ### ############################################################################## ############################################################################## * installing to library ‘/Library/Frameworks/R.framework/Versions/4.6-arm64/Resources/library’ * installing *source* package ‘regioneR’ ... ** this is package ‘regioneR’ version ‘1.43.0’ ** using staged installation ** R ** inst ** byte-compile and prepare package for lazy loading ** help *** installing help indices ** building package indices ** installing vignettes ** testing if installed package can be loaded from temporary location ** testing if installed package can be loaded from final location ** testing if installed package keeps a record of temporary installation path * DONE (regioneR)
regioneR.Rcheck/tests/testthat.Rout
R Under development (unstable) (2025-11-04 r88984) -- "Unsuffered Consequences"
Copyright (C) 2025 The R Foundation for Statistical Computing
Platform: aarch64-apple-darwin20
R is free software and comes with ABSOLUTELY NO WARRANTY.
You are welcome to redistribute it under certain conditions.
Type 'license()' or 'licence()' for distribution details.
R is a collaborative project with many contributors.
Type 'contributors()' for more information and
'citation()' on how to cite R or R packages in publications.
Type 'demo()' for some demos, 'help()' for on-line help, or
'help.start()' for an HTML browser interface to help.
Type 'q()' to quit R.
> library(testthat)
> library(regioneR)
Loading required package: GenomicRanges
Loading required package: stats4
Loading required package: BiocGenerics
Loading required package: generics
Attaching package: 'generics'
The following objects are masked from 'package:base':
as.difftime, as.factor, as.ordered, intersect, is.element, setdiff,
setequal, union
Attaching package: 'BiocGenerics'
The following objects are masked from 'package:stats':
IQR, mad, sd, var, xtabs
The following objects are masked from 'package:base':
Filter, Find, Map, Position, Reduce, anyDuplicated, aperm, append,
as.data.frame, basename, cbind, colnames, dirname, do.call,
duplicated, eval, evalq, get, grep, grepl, is.unsorted, lapply,
mapply, match, mget, order, paste, pmax, pmax.int, pmin, pmin.int,
rank, rbind, rownames, sapply, saveRDS, table, tapply, unique,
unsplit, which.max, which.min
Loading required package: S4Vectors
Attaching package: 'S4Vectors'
The following object is masked from 'package:utils':
findMatches
The following objects are masked from 'package:base':
I, expand.grid, unname
Loading required package: IRanges
Loading required package: Seqinfo
>
> test_check("regioneR")
[ FAIL 0 | WARN 0 | SKIP 2 | PASS 89 ]
══ Skipped tests (2) ═══════════════════════════════════════════════════════════
• empty test (2): ,
[ FAIL 0 | WARN 0 | SKIP 2 | PASS 89 ]
>
> proc.time()
user system elapsed
23.583 1.702 26.266
regioneR.Rcheck/regioneR-Ex.timings
| name | user | system | elapsed | |
| characterToBSGenome | 0.854 | 0.250 | 1.211 | |
| circularRandomizeRegions | 17.103 | 1.323 | 19.496 | |
| commonRegions | 0.089 | 0.000 | 0.092 | |
| createFunctionsList | 0.153 | 0.005 | 0.162 | |
| createRandomRegions | 0.065 | 0.001 | 0.066 | |
| emptyCacheRegioneR | 0.001 | 0.000 | 0.001 | |
| extendRegions | 0.045 | 0.001 | 0.054 | |
| filterChromosomes | 16.028 | 1.563 | 18.235 | |
| getChromosomesByOrganism | 0.001 | 0.000 | 0.001 | |
| getGenome | 0.069 | 0.006 | 0.078 | |
| getGenomeAndMask | 0.017 | 0.001 | 0.020 | |
| getMask | 15.390 | 1.502 | 17.696 | |
| joinRegions | 0.036 | 0.001 | 0.037 | |
| listChrTypes | 0.003 | 0.001 | 0.003 | |
| localZScore | 1.018 | 0.160 | 1.758 | |
| maskFromBSGenome | 16.473 | 2.505 | 18.827 | |
| meanDistance | 0.026 | 0.002 | 0.040 | |
| meanInRegions | 0.041 | 0.005 | 0.048 | |
| mergeRegions | 0.027 | 0.001 | 0.028 | |
| numOverlaps | 0.053 | 0.000 | 0.058 | |
| overlapGraphicalSummary | 0.026 | 0.001 | 0.025 | |
| overlapPermTest | 0.509 | 0.004 | 0.527 | |
| overlapRegions | 0.014 | 0.000 | 0.014 | |
| permTest | 0.367 | 0.001 | 0.377 | |
| plot.localZScoreResults | 0.409 | 0.001 | 0.421 | |
| plot.localZScoreResultsList | 0.811 | 0.002 | 0.859 | |
| plot.permTestResults | 0.584 | 0.003 | 0.626 | |
| plot.permTestResultsList | 0.646 | 0.003 | 0.711 | |
| plotRegions | 0.012 | 0.001 | 0.013 | |
| print.permTestResults | 0.360 | 0.001 | 0.373 | |
| randomizeRegions | 0.073 | 0.000 | 0.073 | |
| recomputePermTest | 0.254 | 0.004 | 0.264 | |
| resampleGenome | 3.127 | 0.283 | 3.496 | |
| resampleRegions | 0.012 | 0.000 | 0.013 | |
| splitRegions | 0.030 | 0.002 | 0.033 | |
| subtractRegions | 0.049 | 0.001 | 0.050 | |
| toDataframe | 0.006 | 0.000 | 0.006 | |
| toGRanges | 0.222 | 0.018 | 0.257 | |
| uniqueRegions | 0.099 | 0.001 | 0.102 | |