| Back to Multiple platform build/check report for BioC 3.22: simplified long |
|
This page was generated on 2025-10-24 12:06 -0400 (Fri, 24 Oct 2025).
| Hostname | OS | Arch (*) | R version | Installed pkgs |
|---|---|---|---|---|
| nebbiolo2 | Linux (Ubuntu 24.04.3 LTS) | x86_64 | 4.5.1 Patched (2025-08-23 r88802) -- "Great Square Root" | 4898 |
| lconway | macOS 12.7.6 Monterey | x86_64 | 4.5.1 Patched (2025-09-10 r88807) -- "Great Square Root" | 4688 |
| kjohnson3 | macOS 13.7.7 Ventura | arm64 | 4.5.1 Patched (2025-09-10 r88807) -- "Great Square Root" | 4634 |
| taishan | Linux (openEuler 24.03 LTS) | aarch64 | 4.5.0 (2025-04-11) -- "How About a Twenty-Six" | 4658 |
| Click on any hostname to see more info about the system (e.g. compilers) (*) as reported by 'uname -p', except on Windows and Mac OS X | ||||
| Package 571/2359 | Hostname | OS / Arch | INSTALL | BUILD | CHECK | BUILD BIN | ||||||||
| DEScan2 1.29.2 (landing page) Dario Righelli
| nebbiolo2 | Linux (Ubuntu 24.04.3 LTS) / x86_64 | OK | OK | OK | |||||||||
| lconway | macOS 12.7.6 Monterey / x86_64 | OK | OK | OK | OK | |||||||||
| kjohnson3 | macOS 13.7.7 Ventura / arm64 | OK | OK | OK | OK | |||||||||
| taishan | Linux (openEuler 24.03 LTS) / aarch64 | OK | OK | OK | ||||||||||
|
To the developers/maintainers of the DEScan2 package: - Allow up to 24 hours (and sometimes 48 hours) for your latest push to git@git.bioconductor.org:packages/DEScan2.git to reflect on this report. See Troubleshooting Build Report for more information. - Use the following Renviron settings to reproduce errors and warnings. - If 'R CMD check' started to fail recently on the Linux builder(s) over a missing dependency, add the missing dependency to 'Suggests:' in your DESCRIPTION file. See Renviron.bioc for more information. |
| Package: DEScan2 |
| Version: 1.29.2 |
| Command: rm -rf DEScan2.buildbin-libdir && mkdir DEScan2.buildbin-libdir && /Users/biocbuild/BBS/utils/build-universal.sh DEScan2_1.29.2.tar.gz /Library/Frameworks/R.framework/Resources/bin/R DEScan2.buildbin-libdir |
| StartedAt: 2025-10-23 23:07:15 -0400 (Thu, 23 Oct 2025) |
| EndedAt: 2025-10-23 23:07:39 -0400 (Thu, 23 Oct 2025) |
| EllapsedTime: 24.5 seconds |
| RetCode: 0 |
| Status: OK |
| PackageFile: DEScan2_1.29.2.tgz |
| PackageFileSize: 2.602 MiB |
##############################################################################
##############################################################################
###
### Running command:
###
### rm -rf DEScan2.buildbin-libdir && mkdir DEScan2.buildbin-libdir && /Users/biocbuild/BBS/utils/build-universal.sh DEScan2_1.29.2.tar.gz /Library/Frameworks/R.framework/Resources/bin/R DEScan2.buildbin-libdir
###
##############################################################################
##############################################################################
>>>>>>>
>>>>>>> INSTALLATION WITH 'R CMD INSTALL --preclean --no-multiarch --library=DEScan2.buildbin-libdir DEScan2_1.29.2.tar.gz'
>>>>>>>
* installing *source* package ‘DEScan2’ ...
** this is package ‘DEScan2’ version ‘1.29.2’
** using staged installation
** libs
using C++ compiler: ‘Apple clang version 15.0.0 (clang-1500.1.0.2.5)’
using C++11
using SDK: ‘MacOSX11.3.1.sdk’
clang++ -arch arm64 -std=gnu++11 -I"/Library/Frameworks/R.framework/Resources/include" -DNDEBUG -I'/Library/Frameworks/R.framework/Versions/4.5-arm64/Resources/library/Rcpp/include' -I'/Library/Frameworks/R.framework/Versions/4.5-arm64/Resources/library/RcppArmadillo/include' -I/opt/R/arm64/include -fPIC -falign-functions=64 -Wall -g -O2 -c RcppExports.cpp -o RcppExports.o
In file included from RcppExports.cpp:4:
In file included from /Library/Frameworks/R.framework/Versions/4.5-arm64/Resources/library/RcppArmadillo/include/RcppArmadillo.h:29:
/Library/Frameworks/R.framework/Versions/4.5-arm64/Resources/library/RcppArmadillo/include/RcppArmadillo/version/arma.h:66:17: warning: Using fallback compilation with Armadillo 14.6.3. Please consider defining -DARMA_USE_CURRENT and also removing C++11 compilation directive. See GitHub issue #475 for more. [-W#pragma-messages]
#pragma message("Using fallback compilation with Armadillo 14.6.3. Please consider defining -DARMA_USE_CURRENT and also removing C++11 compilation directive. See GitHub issue #475 for more.")
^
1 warning generated.
clang++ -arch arm64 -std=gnu++11 -I"/Library/Frameworks/R.framework/Resources/include" -DNDEBUG -I'/Library/Frameworks/R.framework/Versions/4.5-arm64/Resources/library/Rcpp/include' -I'/Library/Frameworks/R.framework/Versions/4.5-arm64/Resources/library/RcppArmadillo/include' -I/opt/R/arm64/include -fPIC -falign-functions=64 -Wall -g -O2 -c rcpparma_max_win.cpp -o rcpparma_max_win.o
In file included from rcpparma_max_win.cpp:4:
In file included from /Library/Frameworks/R.framework/Versions/4.5-arm64/Resources/library/RcppArmadillo/include/RcppArmadillo.h:29:
/Library/Frameworks/R.framework/Versions/4.5-arm64/Resources/library/RcppArmadillo/include/RcppArmadillo/version/arma.h:66:17: warning: Using fallback compilation with Armadillo 14.6.3. Please consider defining -DARMA_USE_CURRENT and also removing C++11 compilation directive. See GitHub issue #475 for more. [-W#pragma-messages]
#pragma message("Using fallback compilation with Armadillo 14.6.3. Please consider defining -DARMA_USE_CURRENT and also removing C++11 compilation directive. See GitHub issue #475 for more.")
^
1 warning generated.
clang++ -arch arm64 -std=gnu++11 -dynamiclib -Wl,-headerpad_max_install_names -undefined dynamic_lookup -L/Library/Frameworks/R.framework/Resources/lib -L/opt/R/arm64/lib -o DEScan2.so RcppExports.o rcpparma_max_win.o -L/Library/Frameworks/R.framework/Resources/lib -lRlapack -L/Library/Frameworks/R.framework/Resources/lib -lRblas -L/opt/gfortran/lib/gcc/aarch64-apple-darwin20.0/14.2.0 -L/opt/gfortran/lib -lemutls_w -lheapt_w -lgfortran -lquadmath -F/Library/Frameworks/R.framework/.. -framework R
installing to /Users/biocbuild/bbs-3.22-bioc/meat/DEScan2.buildbin-libdir/00LOCK-DEScan2/00new/DEScan2/libs
** R
** inst
** byte-compile and prepare package for lazy loading
** help
*** installing help indices
** building package indices
** installing vignettes
** testing if installed package can be loaded from temporary location
** checking absolute paths in shared objects and dynamic libraries
** testing if installed package can be loaded from final location
** testing if installed package keeps a record of temporary installation path
* DONE (DEScan2)
>>>>>>>
>>>>>>> FIXING PATHS TO DYNAMIC LIBRARIES FOR DEScan2.buildbin-libdir/DEScan2/libs/DEScan2.so
>>>>>>>
>>>>>>> Paths before fix:
DEScan2.buildbin-libdir/DEScan2/libs/DEScan2.so:
DEScan2.so (compatibility version 0.0.0, current version 0.0.0)
/Library/Frameworks/R.framework/Versions/4.5-arm64/Resources/lib/libRlapack.dylib (compatibility version 4.5.0, current version 4.5.1)
/Library/Frameworks/R.framework/Versions/4.5-arm64/Resources/lib/libRblas.dylib (compatibility version 0.0.0, current version 0.0.0)
/opt/gfortran/lib/gcc/aarch64-apple-darwin20.0/14.2.0/libgfortran.5.dylib (compatibility version 6.0.0, current version 6.0.0)
/opt/gfortran/lib/gcc/aarch64-apple-darwin20.0/14.2.0/libquadmath.0.dylib (compatibility version 1.0.0, current version 1.0.0)
/Library/Frameworks/R.framework/Versions/4.5-arm64/Resources/lib/libR.dylib (compatibility version 4.5.0, current version 4.5.1)
/usr/lib/libc++.1.dylib (compatibility version 1.0.0, current version 905.6.0)
/usr/lib/libSystem.B.dylib (compatibility version 1.0.0, current version 1292.100.5)
>>>>>>> Fix with install_name_tool:
install_name_tool -change "/usr/local/lib/libgcc_s.1.1.dylib" "/Library/Frameworks/R.framework/Versions/4.5-arm64/Resources/lib/libgcc_s.1.1.dylib" "DEScan2.buildbin-libdir/DEScan2/libs/DEScan2.so"
install_name_tool -change "/usr/local/lib/libgfortran.5.dylib" "/Library/Frameworks/R.framework/Versions/4.5-arm64/Resources/lib/libgfortran.5.dylib" "DEScan2.buildbin-libdir/DEScan2/libs/DEScan2.so"
install_name_tool -change "/usr/local/lib/libquadmath.0.dylib" "/Library/Frameworks/R.framework/Versions/4.5-arm64/Resources/lib/libquadmath.0.dylib" "DEScan2.buildbin-libdir/DEScan2/libs/DEScan2.so"
install_name_tool -change "/opt/gfortran/lib/gcc/aarch64-apple-darwin20.0/14.2.0/libgfortran.5.dylib" "/Library/Frameworks/R.framework/Versions/4.5-arm64/Resources/lib/libgfortran.5.dylib" "DEScan2.buildbin-libdir/DEScan2/libs/DEScan2.so"
install_name_tool -change "/opt/gfortran/lib/gcc/aarch64-apple-darwin20.0/14.2.0/libquadmath.0.dylib" "/Library/Frameworks/R.framework/Versions/4.5-arm64/Resources/lib/libquadmath.0.dylib" "DEScan2.buildbin-libdir/DEScan2/libs/DEScan2.so"
>>>>>>> Paths after fix:
DEScan2.buildbin-libdir/DEScan2/libs/DEScan2.so:
DEScan2.so (compatibility version 0.0.0, current version 0.0.0)
/Library/Frameworks/R.framework/Versions/4.5-arm64/Resources/lib/libRlapack.dylib (compatibility version 4.5.0, current version 4.5.1)
/Library/Frameworks/R.framework/Versions/4.5-arm64/Resources/lib/libRblas.dylib (compatibility version 0.0.0, current version 0.0.0)
/Library/Frameworks/R.framework/Versions/4.5-arm64/Resources/lib/libgfortran.5.dylib (compatibility version 6.0.0, current version 6.0.0)
/Library/Frameworks/R.framework/Versions/4.5-arm64/Resources/lib/libquadmath.0.dylib (compatibility version 1.0.0, current version 1.0.0)
/Library/Frameworks/R.framework/Versions/4.5-arm64/Resources/lib/libR.dylib (compatibility version 4.5.0, current version 4.5.1)
/usr/lib/libc++.1.dylib (compatibility version 1.0.0, current version 905.6.0)
/usr/lib/libSystem.B.dylib (compatibility version 1.0.0, current version 1292.100.5)