| Back to Multiple platform build/check report for BioC 3.23: simplified long |
|
This page was generated on 2025-11-19 10:13 -0500 (Wed, 19 Nov 2025).
| Hostname | OS | Arch (*) | R version | Installed pkgs |
|---|---|---|---|---|
| nebbiolo1 | Linux (Ubuntu 24.04.3 LTS) | x86_64 | R Under development (unstable) (2025-10-20 r88955) -- "Unsuffered Consequences" | 4827 |
| lconway | macOS 12.7.6 Monterey | x86_64 | R Under development (unstable) (2025-10-21 r88958) -- "Unsuffered Consequences" | 4600 |
| kjohnson3 | macOS 13.7.7 Ventura | arm64 | R Under development (unstable) (2025-11-04 r88984) -- "Unsuffered Consequences" | 4564 |
| Click on any hostname to see more info about the system (e.g. compilers) (*) as reported by 'uname -p', except on Windows and Mac OS X | ||||
| Package 1956/2325 | Hostname | OS / Arch | INSTALL | BUILD | CHECK | BUILD BIN | ||||||||
| seqsetvis 1.31.0 (landing page) Joseph R Boyd
| nebbiolo1 | Linux (Ubuntu 24.04.3 LTS) / x86_64 | OK | OK | OK | |||||||||
| lconway | macOS 12.7.6 Monterey / x86_64 | OK | OK | OK | OK | |||||||||
| kjohnson3 | macOS 13.7.7 Ventura / arm64 | OK | OK | OK | OK | |||||||||
|
To the developers/maintainers of the seqsetvis package: - Allow up to 24 hours (and sometimes 48 hours) for your latest push to git@git.bioconductor.org:packages/seqsetvis.git to reflect on this report. See Troubleshooting Build Report for more information. - Use the following Renviron settings to reproduce errors and warnings. - If 'R CMD check' started to fail recently on the Linux builder(s) over a missing dependency, add the missing dependency to 'Suggests:' in your DESCRIPTION file. See Renviron.bioc for more information. |
| Package: seqsetvis |
| Version: 1.31.0 |
| Command: /home/biocbuild/bbs-3.23-bioc/R/bin/R CMD check --install=check:seqsetvis.install-out.txt --library=/home/biocbuild/bbs-3.23-bioc/R/site-library --timings seqsetvis_1.31.0.tar.gz |
| StartedAt: 2025-11-19 04:45:08 -0500 (Wed, 19 Nov 2025) |
| EndedAt: 2025-11-19 04:55:54 -0500 (Wed, 19 Nov 2025) |
| EllapsedTime: 645.9 seconds |
| RetCode: 0 |
| Status: OK |
| CheckDir: seqsetvis.Rcheck |
| Warnings: 0 |
##############################################################################
##############################################################################
###
### Running command:
###
### /home/biocbuild/bbs-3.23-bioc/R/bin/R CMD check --install=check:seqsetvis.install-out.txt --library=/home/biocbuild/bbs-3.23-bioc/R/site-library --timings seqsetvis_1.31.0.tar.gz
###
##############################################################################
##############################################################################
* using log directory ‘/home/biocbuild/bbs-3.23-bioc/meat/seqsetvis.Rcheck’
* using R Under development (unstable) (2025-10-20 r88955)
* using platform: x86_64-pc-linux-gnu
* R was compiled by
gcc (Ubuntu 13.3.0-6ubuntu2~24.04) 13.3.0
GNU Fortran (Ubuntu 13.3.0-6ubuntu2~24.04) 13.3.0
* running under: Ubuntu 24.04.3 LTS
* using session charset: UTF-8
* checking for file ‘seqsetvis/DESCRIPTION’ ... OK
* checking extension type ... Package
* this is package ‘seqsetvis’ version ‘1.31.0’
* package encoding: UTF-8
* checking package namespace information ... OK
* checking package dependencies ... OK
* checking if this is a source package ... OK
* checking if there is a namespace ... OK
* checking for hidden files and directories ... OK
* checking for portable file names ... OK
* checking for sufficient/correct file permissions ... OK
* checking whether package ‘seqsetvis’ can be installed ... OK
* checking installed package size ... OK
* checking package directory ... OK
* checking ‘build’ directory ... OK
* checking DESCRIPTION meta-information ... OK
* checking top-level files ... OK
* checking for left-over files ... OK
* checking index information ... OK
* checking package subdirectories ... OK
* checking code files for non-ASCII characters ... OK
* checking R files for syntax errors ... OK
* checking whether the package can be loaded ... OK
* checking whether the package can be loaded with stated dependencies ... OK
* checking whether the package can be unloaded cleanly ... OK
* checking whether the namespace can be loaded with stated dependencies ... OK
* checking whether the namespace can be unloaded cleanly ... OK
* checking loading without being on the library search path ... OK
* checking dependencies in R code ... OK
* checking S3 generic/method consistency ... OK
* checking replacement functions ... OK
* checking foreign function calls ... OK
* checking R code for possible problems ... OK
* checking Rd files ... OK
* checking Rd metadata ... OK
* checking Rd cross-references ... OK
* checking for missing documentation entries ... OK
* checking for code/documentation mismatches ... OK
* checking Rd \usage sections ... OK
* checking Rd contents ... OK
* checking for unstated dependencies in examples ... OK
* checking contents of ‘data’ directory ... OK
* checking data for non-ASCII characters ... OK
* checking data for ASCII and uncompressed saves ... OK
* checking files in ‘vignettes’ ... OK
* checking examples ... OK
Examples with CPU (user + system) or elapsed time > 5s
user system elapsed
ssvFeatureBinaryHeatmap 7.303 0.273 7.580
ssvFetchBam 5.903 0.031 5.883
ssvSignalBandedQuantiles 4.952 0.120 4.954
* checking for unstated dependencies in ‘tests’ ... OK
* checking tests ...
Running ‘testthat.R’
OK
* checking for unstated dependencies in vignettes ... OK
* checking package vignettes ... OK
* checking re-building of vignette outputs ... OK
* checking PDF version of manual ... OK
* DONE
Status: OK
seqsetvis.Rcheck/00install.out
############################################################################## ############################################################################## ### ### Running command: ### ### /home/biocbuild/bbs-3.23-bioc/R/bin/R CMD INSTALL seqsetvis ### ############################################################################## ############################################################################## * installing to library ‘/home/biocbuild/bbs-3.23-bioc/R/site-library’ * installing *source* package ‘seqsetvis’ ... ** this is package ‘seqsetvis’ version ‘1.31.0’ ** using staged installation ** R ** data ** inst ** byte-compile and prepare package for lazy loading ** help *** installing help indices ** building package indices ** installing vignettes ** testing if installed package can be loaded from temporary location ** testing if installed package can be loaded from final location ** testing if installed package keeps a record of temporary installation path * DONE (seqsetvis)
seqsetvis.Rcheck/tests/testthat.Rout
R Under development (unstable) (2025-10-20 r88955) -- "Unsuffered Consequences" Copyright (C) 2025 The R Foundation for Statistical Computing Platform: x86_64-pc-linux-gnu R is free software and comes with ABSOLUTELY NO WARRANTY. You are welcome to redistribute it under certain conditions. Type 'license()' or 'licence()' for distribution details. R is a collaborative project with many contributors. Type 'contributors()' for more information and 'citation()' on how to cite R or R packages in publications. Type 'demo()' for some demos, 'help()' for on-line help, or 'help.start()' for an HTML browser interface to help. Type 'q()' to quit R. > > ## load dependencies > library(testthat) > library(seqsetvis) Loading required package: ggplot2 > library(data.table) > > ## test package > test_check(package = "seqsetvis") [ FAIL 0 | WARN 3 | SKIP 0 | PASS 1291 ] [ FAIL 0 | WARN 3 | SKIP 0 | PASS 1291 ] > > proc.time() user system elapsed 270.090 4.472 269.926
seqsetvis.Rcheck/seqsetvis-Ex.timings
| name | user | system | elapsed | |
| add_cluster_annotation | 3.373 | 0.211 | 3.549 | |
| append_ynorm | 0.075 | 0.003 | 0.048 | |
| applyMovingAverage | 0.935 | 0.003 | 0.930 | |
| applySpline | 0.487 | 0.003 | 0.452 | |
| assemble_heatmap_cluster_bars | 1.021 | 0.017 | 1.003 | |
| calc_norm_factors | 0.037 | 0.001 | 0.026 | |
| centerAtMax | 0.295 | 0.005 | 0.253 | |
| centerFixedSizeGRanges | 0.122 | 0.004 | 0.126 | |
| centerGRangesAtMax | 0.572 | 0.040 | 0.546 | |
| clusteringKmeans | 0.093 | 0.008 | 0.077 | |
| clusteringKmeansNestedHclust | 0.039 | 0.004 | 0.036 | |
| col2hex | 0.001 | 0.000 | 0.002 | |
| collapse_gr | 0.685 | 0.002 | 0.688 | |
| convert_collapsed_coord | 0.176 | 0.002 | 0.178 | |
| copy_clust_info | 1.794 | 0.003 | 1.710 | |
| crossCorrByRle | 0.409 | 0.005 | 0.414 | |
| easyLoad_FUN | 0.048 | 0.000 | 0.048 | |
| easyLoad_IDRmerged | 0.037 | 0.001 | 0.039 | |
| easyLoad_bed | 0.114 | 0.001 | 0.114 | |
| easyLoad_broadPeak | 0.033 | 0.002 | 0.034 | |
| easyLoad_narrowPeak | 0.036 | 0.001 | 0.036 | |
| easyLoad_seacr | 0.04 | 0.00 | 0.04 | |
| expandCigar | 0.163 | 0.002 | 0.147 | |
| findMaxPos | 0.040 | 0.005 | 0.036 | |
| fragLen_calcStranded | 1.629 | 0.003 | 1.625 | |
| fragLen_fromMacs2Xls | 0.001 | 0.001 | 0.002 | |
| getReadLength | 0.055 | 0.000 | 0.054 | |
| get_mapped_reads | 0.009 | 0.000 | 0.009 | |
| ggellipse | 0.861 | 0.001 | 0.862 | |
| harmonize_seqlengths | 0.122 | 0.000 | 0.122 | |
| make_clustering_matrix | 0.085 | 0.001 | 0.073 | |
| merge_clusters | 4.076 | 0.008 | 3.988 | |
| prepare_fetch_GRanges | 0.029 | 0.001 | 0.031 | |
| prepare_fetch_GRanges_names | 0.080 | 0.000 | 0.079 | |
| prepare_fetch_GRanges_width | 0.029 | 0.000 | 0.029 | |
| quantileGRangesWidth | 0.003 | 0.000 | 0.002 | |
| reorder_clusters_hclust | 2.280 | 0.002 | 2.232 | |
| reorder_clusters_manual | 1.234 | 0.002 | 1.193 | |
| reorder_clusters_stepdown | 3.096 | 0.011 | 3.059 | |
| reverse_clusters | 2.512 | 0.006 | 2.420 | |
| safeBrew | 0.022 | 0.000 | 0.022 | |
| split_cluster | 2.205 | 0.003 | 2.109 | |
| ssvAnnotateSubjectGRanges | 0.995 | 0.012 | 1.007 | |
| ssvConsensusIntervalSets | 0.341 | 0.004 | 0.345 | |
| ssvFactorizeMembTable | 0.015 | 0.001 | 0.016 | |
| ssvFeatureBars | 1.097 | 0.004 | 1.109 | |
| ssvFeatureBinaryHeatmap | 7.303 | 0.273 | 7.580 | |
| ssvFeatureEuler | 0.788 | 0.001 | 0.790 | |
| ssvFeaturePie | 0.605 | 0.002 | 0.608 | |
| ssvFeatureUpset | 3.056 | 0.003 | 3.059 | |
| ssvFeatureVenn | 1.408 | 0.006 | 1.415 | |
| ssvFetchBam | 5.903 | 0.031 | 5.883 | |
| ssvFetchBamPE | 1.798 | 0.028 | 1.828 | |
| ssvFetchBamPE.RNA | 1.489 | 0.012 | 1.409 | |
| ssvFetchBigwig | 1.316 | 0.009 | 1.320 | |
| ssvFetchGRanges | 0.687 | 0.003 | 0.691 | |
| ssvFetchSignal | 1.349 | 0.006 | 1.356 | |
| ssvMakeMembTable-methods | 0.514 | 0.024 | 0.538 | |
| ssvOverlapIntervalSets | 0.235 | 0.021 | 0.257 | |
| ssvSignalBandedQuantiles | 4.952 | 0.120 | 4.954 | |
| ssvSignalClustering | 3.145 | 0.007 | 2.957 | |
| ssvSignalHeatmap.ClusterBars | 4.093 | 0.005 | 3.920 | |
| ssvSignalHeatmap | 4.723 | 0.059 | 4.540 | |
| ssvSignalLineplot | 2.793 | 0.022 | 2.809 | |
| ssvSignalLineplotAgg | 1.053 | 0.000 | 1.009 | |
| ssvSignalScatterplot | 1.124 | 0.002 | 1.064 | |
| viewGRangesWinSample_dt | 1.212 | 0.004 | 1.211 | |
| viewGRangesWinSummary_dt | 1.164 | 0.001 | 1.124 | |
| within_clust_sort | 1.843 | 0.012 | 1.744 | |