Back to Build/check report for BioC 3.23:   simplified   long
A[B]CDEFGHIJKLMNOPQRSTUVWXYZ

This page was generated on 2025-11-06 11:32 -0500 (Thu, 06 Nov 2025).

HostnameOSArch (*)R versionInstalled pkgs
nebbiolo1Linux (Ubuntu 24.04.3 LTS)x86_64R Under development (unstable) (2025-10-20 r88955) -- "Unsuffered Consequences" 4818
Click on any hostname to see more info about the system (e.g. compilers)      (*) as reported by 'uname -p', except on Windows and Mac OS X

Package 175/2323HostnameOS / ArchINSTALLBUILDCHECKBUILD BIN
BindingSiteFinder 2.9.0  (landing page)
Mirko Brüggemann
Snapshot Date: 2025-11-05 13:40 -0500 (Wed, 05 Nov 2025)
git_url: https://git.bioconductor.org/packages/BindingSiteFinder
git_branch: devel
git_last_commit: 885c4f6
git_last_commit_date: 2025-10-29 11:10:55 -0500 (Wed, 29 Oct 2025)
nebbiolo1Linux (Ubuntu 24.04.3 LTS) / x86_64  OK    OK    OK  UNNEEDED, same version is already published


CHECK results for BindingSiteFinder on nebbiolo1

To the developers/maintainers of the BindingSiteFinder package:
- Allow up to 24 hours (and sometimes 48 hours) for your latest push to git@git.bioconductor.org:packages/BindingSiteFinder.git to reflect on this report. See Troubleshooting Build Report for more information.
- Use the following Renviron settings to reproduce errors and warnings.
- If 'R CMD check' started to fail recently on the Linux builder(s) over a missing dependency, add the missing dependency to 'Suggests:' in your DESCRIPTION file. See Renviron.bioc for more information.

raw results


Summary

Package: BindingSiteFinder
Version: 2.9.0
Command: /home/biocbuild/bbs-3.23-bioc/R/bin/R CMD check --install=check:BindingSiteFinder.install-out.txt --library=/home/biocbuild/bbs-3.23-bioc/R/site-library --timings BindingSiteFinder_2.9.0.tar.gz
StartedAt: 2025-11-05 21:23:59 -0500 (Wed, 05 Nov 2025)
EndedAt: 2025-11-05 21:40:21 -0500 (Wed, 05 Nov 2025)
EllapsedTime: 981.5 seconds
RetCode: 0
Status:   OK  
CheckDir: BindingSiteFinder.Rcheck
Warnings: 0

Command output

##############################################################################
##############################################################################
###
### Running command:
###
###   /home/biocbuild/bbs-3.23-bioc/R/bin/R CMD check --install=check:BindingSiteFinder.install-out.txt --library=/home/biocbuild/bbs-3.23-bioc/R/site-library --timings BindingSiteFinder_2.9.0.tar.gz
###
##############################################################################
##############################################################################


* using log directory ‘/home/biocbuild/bbs-3.23-bioc/meat/BindingSiteFinder.Rcheck’
* using R Under development (unstable) (2025-10-20 r88955)
* using platform: x86_64-pc-linux-gnu
* R was compiled by
    gcc (Ubuntu 13.3.0-6ubuntu2~24.04) 13.3.0
    GNU Fortran (Ubuntu 13.3.0-6ubuntu2~24.04) 13.3.0
* running under: Ubuntu 24.04.3 LTS
* using session charset: UTF-8
* checking for file ‘BindingSiteFinder/DESCRIPTION’ ... OK
* checking extension type ... Package
* this is package ‘BindingSiteFinder’ version ‘2.9.0’
* package encoding: UTF-8
* checking package namespace information ... OK
* checking package dependencies ... OK
* checking if this is a source package ... OK
* checking if there is a namespace ... OK
* checking for hidden files and directories ... OK
* checking for portable file names ... OK
* checking for sufficient/correct file permissions ... OK
* checking whether package ‘BindingSiteFinder’ can be installed ... OK
* checking installed package size ... OK
* checking package directory ... OK
* checking ‘build’ directory ... OK
* checking DESCRIPTION meta-information ... OK
* checking top-level files ... OK
* checking for left-over files ... OK
* checking index information ... OK
* checking package subdirectories ... OK
* checking code files for non-ASCII characters ... OK
* checking R files for syntax errors ... OK
* checking whether the package can be loaded ... OK
* checking whether the package can be loaded with stated dependencies ... OK
* checking whether the package can be unloaded cleanly ... OK
* checking whether the namespace can be loaded with stated dependencies ... OK
* checking whether the namespace can be unloaded cleanly ... OK
* checking loading without being on the library search path ... OK
* checking dependencies in R code ... OK
* checking S3 generic/method consistency ... OK
* checking replacement functions ... OK
* checking foreign function calls ... OK
* checking R code for possible problems ... OK
* checking Rd files ... OK
* checking Rd metadata ... OK
* checking Rd cross-references ... NOTE
Found the following Rd file(s) with Rd \link{} targets missing package
anchors:
  BSFind.Rd: GenomicRanges, CompressedGRangesList
  annotateWithScore.Rd: GenomicRanges
  assignToGenes.Rd: GenomicRanges, overlaps
  assignToTranscriptRegions.Rd: CompressedGRangesList, overlaps
  bindingSiteDefinednessPlot.Rd: ggplot
  calculateBsBackground.Rd: GenomicRanges
  duplicatedSitesPlot.Rd: ggplot
  estimateBsWidth.Rd: GenomicRanges
  estimateBsWidthPlot.Rd: ggplot
  geneOverlapsPlot.Rd: ggplot
  geneRegulationPlot.Rd: GenomicRanges
  globalScorePlot.Rd: ggplot
  makeBsSummaryPlot.Rd: ggplot
  mergeCrosslinkDiagnosticsPlot.Rd: ggplot
  plotBsBackgroundFilter.Rd: ggplot
  plotBsMA.Rd: ggplot
  plotBsVolcano.Rd: ggplot
  processingStepsFlowChart.Rd: ggplot
  pureClipGeneWiseFilter.Rd: GenomicRanges, overlaps
  pureClipGlobalFilter.Rd: GenomicRanges
  pureClipGlobalFilterPlot.Rd: ggplot
  reproducibilityFilterPlot.Rd: ggplot
  reproducibilitySamplesPlot.Rd: ggplot
  targetGeneSpectrumPlot.Rd: ggplot
  transcriptRegionOverlapsPlot.Rd: ggplot
  transcriptRegionSpectrumPlot.Rd: ggplot
Please provide package anchors for all Rd \link{} targets not in the
package itself and the base packages.
* checking for missing documentation entries ... OK
* checking for code/documentation mismatches ... OK
* checking Rd \usage sections ... OK
* checking Rd contents ... OK
* checking for unstated dependencies in examples ... OK
* checking files in ‘vignettes’ ... OK
* checking examples ... OK
Examples with CPU (user + system) or elapsed time > 5s
                             user system elapsed
bindingSiteDefinednessPlot 34.958  0.634  39.472
quickFigure                32.533  0.233  32.804
BSFind                     27.491  0.543  28.047
processingStepsFlowChart   26.417  0.104  26.525
calculateBsFoldChange      18.125  0.081  18.206
bindingSiteCoveragePlot    13.005  0.194  15.065
plotBsMA                   11.486  0.039  11.525
plotBsVolcano              10.808  0.054  10.863
geneRegulationPlot         10.655  0.026  10.682
estimateBsWidthPlot         9.358  0.030   9.389
estimateBsWidth             8.641  0.040   8.682
rangeCoveragePlot           5.813  0.034   5.848
plotBsBackgroundFilter      4.974  0.058   5.032
* checking for unstated dependencies in ‘tests’ ... OK
* checking tests ...
  Running ‘testthat.R’
 OK
* checking for unstated dependencies in vignettes ... OK
* checking package vignettes ... OK
* checking re-building of vignette outputs ... OK
* checking PDF version of manual ... OK
* DONE

Status: 1 NOTE
See
  ‘/home/biocbuild/bbs-3.23-bioc/meat/BindingSiteFinder.Rcheck/00check.log’
for details.


Installation output

BindingSiteFinder.Rcheck/00install.out

##############################################################################
##############################################################################
###
### Running command:
###
###   /home/biocbuild/bbs-3.23-bioc/R/bin/R CMD INSTALL BindingSiteFinder
###
##############################################################################
##############################################################################


* installing to library ‘/home/biocbuild/bbs-3.23-bioc/R/site-library’
* installing *source* package ‘BindingSiteFinder’ ...
** this is package ‘BindingSiteFinder’ version ‘2.9.0’
** using staged installation
** R
** inst
** byte-compile and prepare package for lazy loading
** help
*** installing help indices
** building package indices
** installing vignettes
** testing if installed package can be loaded from temporary location
** testing if installed package can be loaded from final location
** testing if installed package keeps a record of temporary installation path
* DONE (BindingSiteFinder)

Tests output

BindingSiteFinder.Rcheck/tests/testthat.Rout


R Under development (unstable) (2025-10-20 r88955) -- "Unsuffered Consequences"
Copyright (C) 2025 The R Foundation for Statistical Computing
Platform: x86_64-pc-linux-gnu

R is free software and comes with ABSOLUTELY NO WARRANTY.
You are welcome to redistribute it under certain conditions.
Type 'license()' or 'licence()' for distribution details.

R is a collaborative project with many contributors.
Type 'contributors()' for more information and
'citation()' on how to cite R or R packages in publications.

Type 'demo()' for some demos, 'help()' for on-line help, or
'help.start()' for an HTML browser interface to help.
Type 'q()' to quit R.

> library("testthat")
> library("BindingSiteFinder")
Loading required package: GenomicRanges
Loading required package: stats4
Loading required package: BiocGenerics
Loading required package: generics

Attaching package: 'generics'

The following objects are masked from 'package:base':

    as.difftime, as.factor, as.ordered, intersect, is.element, setdiff,
    setequal, union


Attaching package: 'BiocGenerics'

The following objects are masked from 'package:stats':

    IQR, mad, sd, var, xtabs

The following objects are masked from 'package:base':

    Filter, Find, Map, Position, Reduce, anyDuplicated, aperm, append,
    as.data.frame, basename, cbind, colnames, dirname, do.call,
    duplicated, eval, evalq, get, grep, grepl, is.unsorted, lapply,
    mapply, match, mget, order, paste, pmax, pmax.int, pmin, pmin.int,
    rank, rbind, rownames, sapply, saveRDS, table, tapply, unique,
    unsplit, which.max, which.min

Loading required package: S4Vectors

Attaching package: 'S4Vectors'

The following object is masked from 'package:utils':

    findMatches

The following objects are masked from 'package:base':

    I, expand.grid, unname

Loading required package: IRanges
Loading required package: Seqinfo
> test_check("BindingSiteFinder")
[1] "make bs"
[1] "calc ratio"
[1] "make bs"
[1] "calc ratio"
[ FAIL 0 | WARN 0 | SKIP 0 | PASS 240 ]
> 
> proc.time()
   user  system elapsed 
267.771   2.711 270.475 

Example timings

BindingSiteFinder.Rcheck/BindingSiteFinder-Ex.timings

nameusersystemelapsed
BSFDataSet0.1870.0080.196
BSFind27.491 0.54328.047
add-BSFDataSet2.1400.0122.152
annotateWithScore1.4190.0081.430
assignToGenes2.0030.0082.010
assignToTranscriptRegions2.4290.0072.436
bindingSiteCoveragePlot13.005 0.19415.065
bindingSiteDefinednessPlot34.958 0.63439.472
calculateBsBackground4.7620.0214.784
calculateBsFoldChange18.125 0.08118.206
calculateSignalToFlankScore1.5020.0131.516
clipCoverage1.8330.0031.836
collapseReplicates0.2080.0080.216
combineBSF3.2200.0063.226
coverageOverRanges1.0240.0191.043
duplicatedSitesPlot0.7880.0080.797
estimateBsWidth8.6410.0408.682
estimateBsWidthPlot9.3580.0309.389
exportTargetGenes0.0490.0040.053
exportToBED0.0490.0040.053
filterBsBackground3.6760.0043.683
geneOverlapsPlot2.6480.0082.657
geneRegulationPlot10.655 0.02610.682
getMeta0.0490.0070.056
getName0.0490.0050.054
getRanges0.0690.0040.073
getSignal0.1180.0070.126
getSummary1.1810.0101.191
globalScorePlot1.6020.0011.602
imputeBsDifferencesForTestdata2.1380.0032.142
makeBindingSites2.5490.0012.550
makeBsSummaryPlot2.6930.1072.801
mergeCrosslinkDiagnosticsPlot1.4750.0031.478
mergeSummaryPlot4.1570.0054.161
plotBsBackgroundFilter4.9740.0585.032
plotBsMA11.486 0.03911.525
plotBsVolcano10.808 0.05410.863
processingStepsFlowChart26.417 0.10426.525
processingStepsTable0.1020.0030.105
pureClipGeneWiseFilter0.3780.0020.380
pureClipGlobalFilter0.0820.0030.085
pureClipGlobalFilterPlot0.4090.0040.412
quickFigure32.533 0.23332.804
rangeCoveragePlot5.8130.0345.848
reproducibilityCutoffPlot3.0110.0103.022
reproducibilityFilter1.5760.0051.580
reproducibilityFilterPlot2.1380.0252.163
reproducibilitySamplesPlot1.7090.0101.719
reproducibilityScatterPlot4.9860.0064.992
setMeta0.0540.0040.058
setName0.0500.0030.054
setRanges0.0700.0080.078
setSignal0.0760.0040.081
setSummary0.0500.0040.054
show0.0500.0040.054
subset-BSFDataSet0.0620.0040.066
summary0.0740.0020.075
supportRatio3.4570.0313.489
supportRatioPlot3.7150.0053.720
targetGeneSpectrumPlot2.3890.0052.394
transcriptRegionOverlapsPlot2.5840.0422.627
transcriptRegionSpectrumPlot2.6310.0072.638