Back to Multiple platform build/check report for BioC 3.21:   simplified   long
ABCDEF[G]HIJKLMNOPQRSTUVWXYZ

This page was generated on 2025-02-03 12:37 -0500 (Mon, 03 Feb 2025).

HostnameOSArch (*)R versionInstalled pkgs
nebbiolo1Linux (Ubuntu 24.04.1 LTS)x86_64R Under development (unstable) (2025-01-20 r87609) -- "Unsuffered Consequences" 4704
palomino7Windows Server 2022 Datacenterx64R Under development (unstable) (2025-01-21 r87610 ucrt) -- "Unsuffered Consequences" 4467
lconwaymacOS 12.7.1 Montereyx86_64R Under development (unstable) (2025-01-22 r87618) -- "Unsuffered Consequences" 4478
Click on any hostname to see more info about the system (e.g. compilers)      (*) as reported by 'uname -p', except on Windows and Mac OS X

Package 905/2289HostnameOS / ArchINSTALLBUILDCHECKBUILD BIN
groHMM 1.41.0  (landing page)
Tulip Nandu , W. Lee Kraus
Snapshot Date: 2025-02-02 13:40 -0500 (Sun, 02 Feb 2025)
git_url: https://git.bioconductor.org/packages/groHMM
git_branch: devel
git_last_commit: 8d0b05a
git_last_commit_date: 2024-12-03 18:09:10 -0500 (Tue, 03 Dec 2024)
nebbiolo1Linux (Ubuntu 24.04.1 LTS) / x86_64  ERROR    ERROR  skipped
palomino7Windows Server 2022 Datacenter / x64  ERROR    ERROR  skippedskipped
lconwaymacOS 12.7.1 Monterey / x86_64  ERROR    ERROR  skippedskipped


BUILD results for groHMM on nebbiolo1

To the developers/maintainers of the groHMM package:
- Allow up to 24 hours (and sometimes 48 hours) for your latest push to git@git.bioconductor.org:packages/groHMM.git to reflect on this report. See Troubleshooting Build Report for more information.
- Use the following Renviron settings to reproduce errors and warnings.
- If 'R CMD check' started to fail recently on the Linux builder(s) over a missing dependency, add the missing dependency to 'Suggests:' in your DESCRIPTION file. See Renviron.bioc for more information.

raw results


Summary

Package: groHMM
Version: 1.41.0
Command: /home/biocbuild/bbs-3.21-bioc/R/bin/R CMD build --keep-empty-dirs --no-resave-data groHMM
StartedAt: 2025-02-02 17:28:16 -0500 (Sun, 02 Feb 2025)
EndedAt: 2025-02-02 17:28:18 -0500 (Sun, 02 Feb 2025)
EllapsedTime: 2.0 seconds
RetCode: 1
Status:   ERROR  
PackageFile: None
PackageFileSize: NA

Command output

##############################################################################
##############################################################################
###
### Running command:
###
###   /home/biocbuild/bbs-3.21-bioc/R/bin/R CMD build --keep-empty-dirs --no-resave-data groHMM
###
##############################################################################
##############################################################################


* checking for file ‘groHMM/DESCRIPTION’ ... OK
* preparing ‘groHMM’:
* checking DESCRIPTION meta-information ... OK
* cleaning src
* installing the package to build vignettes
      -----------------------------------
* installing *source* package ‘groHMM’ ...
** this is package ‘groHMM’ version ‘1.41.0’
** using staged installation
** libs
using C compiler: ‘gcc (Ubuntu 13.3.0-6ubuntu2~24.04) 13.3.0’
gcc -I"/home/biocbuild/bbs-3.21-bioc/R/include" -DNDEBUG   -I/usr/local/include    -fpic  -g -O2  -c AnnotateProbes.c -o AnnotateProbes.o
gcc -I"/home/biocbuild/bbs-3.21-bioc/R/include" -DNDEBUG   -I/usr/local/include    -fpic  -g -O2  -c DecayAlgorithm.c -o DecayAlgorithm.o
gcc -I"/home/biocbuild/bbs-3.21-bioc/R/include" -DNDEBUG   -I/usr/local/include    -fpic  -g -O2  -c MLEfit.c -o MLEfit.o
gcc -I"/home/biocbuild/bbs-3.21-bioc/R/include" -DNDEBUG   -I/usr/local/include    -fpic  -g -O2  -c RegisterRRoutines.c -o RegisterRRoutines.o
gcc -I"/home/biocbuild/bbs-3.21-bioc/R/include" -DNDEBUG   -I/usr/local/include    -fpic  -g -O2  -c Windowing.c -o Windowing.o
gcc -I"/home/biocbuild/bbs-3.21-bioc/R/include" -DNDEBUG   -I/usr/local/include    -fpic  -g -O2  -c hmmEM.c -o hmmEM.o
gcc -I"/home/biocbuild/bbs-3.21-bioc/R/include" -DNDEBUG   -I/usr/local/include    -fpic  -g -O2  -c hmmFwBw.c -o hmmFwBw.o
gcc -I"/home/biocbuild/bbs-3.21-bioc/R/include" -DNDEBUG   -I/usr/local/include    -fpic  -g -O2  -c hmmMiscFunctions.c -o hmmMiscFunctions.o
hmmMiscFunctions.c: In function ‘SStatsGamma’:
hmmMiscFunctions.c:235:37: warning: format ‘%d’ expects argument of type ‘int’, but argument 2 has type ‘double’ [-Wformat=]
  235 |     if(!(logPP <= epsilon)) Rprintf("[SSallocGamma] -- \
      |                                     ^~~~~~~~~~~~~~~~~~~~
  236 |         Assertion about to fail!  logPP= %d\n", logPP);
      |         ~~~~~~~~~~~~~~~~~~~~~~~~~~~~~~~~~~~~~~  ~~~~~
      |                                                 |
      |                                                 double
hmmMiscFunctions.c: In function ‘UpdateGamma’:
hmmMiscFunctions.c:274:27: warning: implicit declaration of function ‘Calloc’; did you mean ‘calloc’? [-Wimplicit-function-declaration]
  274 |   double *shape= (double*)Calloc(1, double);
      |                           ^~~~~~
      |                           calloc
hmmMiscFunctions.c:274:37: error: expected expression before ‘double’
  274 |   double *shape= (double*)Calloc(1, double);
      |                                     ^~~~~~
hmmMiscFunctions.c:275:37: error: expected expression before ‘double’
  275 |   double *scale= (double*)Calloc(1, double);
      |                                     ^~~~~~
hmmMiscFunctions.c:287:3: warning: implicit declaration of function ‘Free’; did you mean ‘free’? [-Wimplicit-function-declaration]
  287 |   Free(shape);
      |   ^~~~
      |   free
make: *** [/home/biocbuild/bbs-3.21-bioc/R/etc/Makeconf:195: hmmMiscFunctions.o] Error 1
ERROR: compilation failed for package ‘groHMM’
* removing ‘/tmp/RtmpmwnEFh/Rinst3621e22b4927a/groHMM’
      -----------------------------------
ERROR: package installation failed