| Back to Multiple platform build/check report for BioC 3.22: simplified long |
|
This page was generated on 2025-10-23 12:06 -0400 (Thu, 23 Oct 2025).
| Hostname | OS | Arch (*) | R version | Installed pkgs |
|---|---|---|---|---|
| nebbiolo2 | Linux (Ubuntu 24.04.3 LTS) | x86_64 | 4.5.1 Patched (2025-08-23 r88802) -- "Great Square Root" | 4894 |
| lconway | macOS 12.7.6 Monterey | x86_64 | 4.5.1 Patched (2025-09-10 r88807) -- "Great Square Root" | 4684 |
| kjohnson3 | macOS 13.7.7 Ventura | arm64 | 4.5.1 Patched (2025-09-10 r88807) -- "Great Square Root" | 4629 |
| taishan | Linux (openEuler 24.03 LTS) | aarch64 | 4.5.0 (2025-04-11) -- "How About a Twenty-Six" | 4642 |
| Click on any hostname to see more info about the system (e.g. compilers) (*) as reported by 'uname -p', except on Windows and Mac OS X | ||||
| Package 253/2355 | Hostname | OS / Arch | INSTALL | BUILD | CHECK | BUILD BIN | ||||||||
| BSgenomeForge 1.9.2 (landing page) Hervé Pagès
| nebbiolo2 | Linux (Ubuntu 24.04.3 LTS) / x86_64 | OK | OK | OK | |||||||||
| lconway | macOS 12.7.6 Monterey / x86_64 | OK | OK | OK | OK | |||||||||
| kjohnson3 | macOS 13.7.7 Ventura / arm64 | OK | OK | OK | OK | |||||||||
| taishan | Linux (openEuler 24.03 LTS) / aarch64 | OK | OK | OK | ||||||||||
|
To the developers/maintainers of the BSgenomeForge package: - Allow up to 24 hours (and sometimes 48 hours) for your latest push to git@git.bioconductor.org:packages/BSgenomeForge.git to reflect on this report. See Troubleshooting Build Report for more information. - Use the following Renviron settings to reproduce errors and warnings. - If 'R CMD check' started to fail recently on the Linux builder(s) over a missing dependency, add the missing dependency to 'Suggests:' in your DESCRIPTION file. See Renviron.bioc for more information. |
| Package: BSgenomeForge |
| Version: 1.9.2 |
| Command: /Library/Frameworks/R.framework/Resources/bin/R CMD check --install=check:BSgenomeForge.install-out.txt --library=/Library/Frameworks/R.framework/Resources/library --no-vignettes --timings BSgenomeForge_1.9.2.tar.gz |
| StartedAt: 2025-10-22 18:48:04 -0400 (Wed, 22 Oct 2025) |
| EndedAt: 2025-10-22 18:49:56 -0400 (Wed, 22 Oct 2025) |
| EllapsedTime: 111.3 seconds |
| RetCode: 0 |
| Status: OK |
| CheckDir: BSgenomeForge.Rcheck |
| Warnings: 0 |
##############################################################################
##############################################################################
###
### Running command:
###
### /Library/Frameworks/R.framework/Resources/bin/R CMD check --install=check:BSgenomeForge.install-out.txt --library=/Library/Frameworks/R.framework/Resources/library --no-vignettes --timings BSgenomeForge_1.9.2.tar.gz
###
##############################################################################
##############################################################################
* using log directory ‘/Users/biocbuild/bbs-3.22-bioc/meat/BSgenomeForge.Rcheck’
* using R version 4.5.1 Patched (2025-09-10 r88807)
* using platform: aarch64-apple-darwin20
* R was compiled by
Apple clang version 16.0.0 (clang-1600.0.26.6)
GNU Fortran (GCC) 14.2.0
* running under: macOS Ventura 13.7.7
* using session charset: UTF-8
* using option ‘--no-vignettes’
* checking for file ‘BSgenomeForge/DESCRIPTION’ ... OK
* this is package ‘BSgenomeForge’ version ‘1.9.2’
* package encoding: UTF-8
* checking package namespace information ... OK
* checking package dependencies ... INFO
Depends: includes the non-default packages:
'BiocGenerics', 'IRanges', 'Seqinfo', 'GenomeInfoDb', 'Biostrings',
'BSgenome'
Adding so many packages to the search path is excessive and importing
selectively is preferable.
* checking if this is a source package ... OK
* checking if there is a namespace ... OK
* checking for hidden files and directories ... OK
* checking for portable file names ... OK
* checking for sufficient/correct file permissions ... OK
* checking whether package ‘BSgenomeForge’ can be installed ... OK
* checking installed package size ... OK
* checking package directory ... OK
* checking ‘build’ directory ... OK
* checking DESCRIPTION meta-information ... OK
* checking top-level files ... OK
* checking for left-over files ... OK
* checking index information ... OK
* checking package subdirectories ... NOTE
Found the following CITATION file in a non-standard place:
inst/extdata/seeds/BSgenome.Creinhardtii.JGI.v5.6-tools/CITATION
Most likely ‘inst/CITATION’ should be used instead.
* checking code files for non-ASCII characters ... OK
* checking R files for syntax errors ... OK
* checking whether the package can be loaded ... OK
* checking whether the package can be loaded with stated dependencies ... OK
* checking whether the package can be unloaded cleanly ... OK
* checking whether the namespace can be loaded with stated dependencies ... OK
* checking whether the namespace can be unloaded cleanly ... OK
* checking dependencies in R code ... OK
* checking S3 generic/method consistency ... OK
* checking replacement functions ... OK
* checking foreign function calls ... OK
* checking R code for possible problems ... OK
* checking Rd files ... OK
* checking Rd metadata ... OK
* checking Rd cross-references ... OK
* checking for missing documentation entries ... OK
* checking for code/documentation mismatches ... OK
* checking Rd \usage sections ... OK
* checking Rd contents ... OK
* checking for unstated dependencies in examples ... OK
* checking sizes of PDF files under ‘inst/doc’ ... OK
* checking files in ‘vignettes’ ... OK
* checking examples ... OK
Examples with CPU (user + system) or elapsed time > 5s
user system elapsed
downloadGenomicSequencesFromUCSC 0.132 0.037 8.213
* checking for unstated dependencies in ‘tests’ ... OK
* checking tests ...
Running ‘testthat.R’
OK
* checking for unstated dependencies in vignettes ... OK
* checking package vignettes ... OK
* checking running R code from vignettes ... SKIPPED
* checking re-building of vignette outputs ... SKIPPED
* checking PDF version of manual ... OK
* DONE
Status: 1 NOTE
See
‘/Users/biocbuild/bbs-3.22-bioc/meat/BSgenomeForge.Rcheck/00check.log’
for details.
BSgenomeForge.Rcheck/00install.out
############################################################################## ############################################################################## ### ### Running command: ### ### /Library/Frameworks/R.framework/Resources/bin/R CMD INSTALL BSgenomeForge ### ############################################################################## ############################################################################## * installing to library ‘/Library/Frameworks/R.framework/Versions/4.5-arm64/Resources/library’ * installing *source* package ‘BSgenomeForge’ ... ** this is package ‘BSgenomeForge’ version ‘1.9.2’ ** using staged installation ** R ** inst ** byte-compile and prepare package for lazy loading Creating a new generic function for ‘forgeBSgenomeDataPkg’ in package ‘BSgenomeForge’ Creating a new generic function for ‘forgeMaskedBSgenomeDataPkg’ in package ‘BSgenomeForge’ ** help *** installing help indices ** building package indices ** installing vignettes ** testing if installed package can be loaded from temporary location ** testing if installed package can be loaded from final location ** testing if installed package keeps a record of temporary installation path * DONE (BSgenomeForge)
BSgenomeForge.Rcheck/tests/testthat.Rout
R version 4.5.1 Patched (2025-09-10 r88807) -- "Great Square Root"
Copyright (C) 2025 The R Foundation for Statistical Computing
Platform: aarch64-apple-darwin20
R is free software and comes with ABSOLUTELY NO WARRANTY.
You are welcome to redistribute it under certain conditions.
Type 'license()' or 'licence()' for distribution details.
R is a collaborative project with many contributors.
Type 'contributors()' for more information and
'citation()' on how to cite R or R packages in publications.
Type 'demo()' for some demos, 'help()' for on-line help, or
'help.start()' for an HTML browser interface to help.
Type 'q()' to quit R.
> library(testthat)
> library(BSgenomeForge)
Loading required package: BiocGenerics
Loading required package: generics
Attaching package: 'generics'
The following objects are masked from 'package:base':
as.difftime, as.factor, as.ordered, intersect, is.element, setdiff,
setequal, union
Attaching package: 'BiocGenerics'
The following objects are masked from 'package:stats':
IQR, mad, sd, var, xtabs
The following objects are masked from 'package:base':
Filter, Find, Map, Position, Reduce, anyDuplicated, aperm, append,
as.data.frame, basename, cbind, colnames, dirname, do.call,
duplicated, eval, evalq, get, grep, grepl, is.unsorted, lapply,
mapply, match, mget, order, paste, pmax, pmax.int, pmin, pmin.int,
rank, rbind, rownames, sapply, saveRDS, table, tapply, unique,
unsplit, which.max, which.min
Loading required package: IRanges
Loading required package: S4Vectors
Loading required package: stats4
Attaching package: 'S4Vectors'
The following object is masked from 'package:utils':
findMatches
The following objects are masked from 'package:base':
I, expand.grid, unname
Loading required package: Seqinfo
Loading required package: GenomeInfoDb
Loading required package: Biostrings
Loading required package: XVector
Attaching package: 'Biostrings'
The following object is masked from 'package:base':
strsplit
Loading required package: BSgenome
Loading required package: GenomicRanges
Loading required package: BiocIO
Loading required package: rtracklayer
Attaching package: 'BSgenomeForge'
The following objects are masked from 'package:BSgenome':
forgeBSgenomeDataPkg, forgeMaskedBSgenomeDataPkg, forgeMasksFiles,
forgeSeqFiles, forgeSeqlengthsRdaFile, forgeSeqlengthsRdsFile
>
> test_check("BSgenomeForge")
Creating package in /var/folders/r0/l4fjk6cj5xj0j3brt4bplpl40000gt/T//Rtmp7QWVun/BSgenome.Tvirus1.NCBI.ViralProj15247
Creating package in /var/folders/r0/l4fjk6cj5xj0j3brt4bplpl40000gt/T//Rtmp7QWVun/BSgenome.Evirus.UCSC.eboVir3
[ FAIL 0 | WARN 0 | SKIP 2 | PASS 42 ]
══ Skipped tests (2) ═══════════════════════════════════════════════════════════
• empty test (2): 'test-utils.R:1:1', 'test-utils.R:5:1'
[ FAIL 0 | WARN 0 | SKIP 2 | PASS 42 ]
>
> proc.time()
user system elapsed
4.511 0.209 8.220
BSgenomeForge.Rcheck/BSgenomeForge-Ex.timings
| name | user | system | elapsed | |
| AdvancedBSgenomeForge | 3.901 | 0.025 | 3.939 | |
| BSgenomeForge-package | 0.106 | 0.019 | 1.310 | |
| downloadGenomicSequencesFromNCBI | 0.050 | 0.017 | 1.138 | |
| downloadGenomicSequencesFromUCSC | 0.132 | 0.037 | 8.213 | |
| fastaTo2bit | 0.353 | 0.038 | 2.195 | |
| forgeBSgenomeDataPkgFromNCBI | 0.054 | 0.010 | 0.315 | |
| forgeBSgenomeDataPkgFromTwobitFile | 0.099 | 0.011 | 0.466 | |
| forgeBSgenomeDataPkgFromUCSC | 0.042 | 0.005 | 0.048 | |