Back to Multiple platform build/check report for BioC 3.21:   simplified   long
AB[C]DEFGHIJKLMNOPQRSTUVWXYZ

This page was generated on 2025-02-19 11:44 -0500 (Wed, 19 Feb 2025).

HostnameOSArch (*)R versionInstalled pkgs
nebbiolo1Linux (Ubuntu 24.04.1 LTS)x86_64R Under development (unstable) (2025-01-20 r87609) -- "Unsuffered Consequences" 4720
palomino7Windows Server 2022 Datacenterx64R Under development (unstable) (2025-01-21 r87610 ucrt) -- "Unsuffered Consequences" 4482
lconwaymacOS 12.7.1 Montereyx86_64R Under development (unstable) (2025-01-22 r87618) -- "Unsuffered Consequences" 4493
kjohnson3macOS 13.7.1 Venturaarm64R Under development (unstable) (2025-01-20 r87609) -- "Unsuffered Consequences" 4446
Click on any hostname to see more info about the system (e.g. compilers)      (*) as reported by 'uname -p', except on Windows and Mac OS X

Package 261/2295HostnameOS / ArchINSTALLBUILDCHECKBUILD BIN
CAGEfightR 1.27.0  (landing page)
Malte Thodberg
Snapshot Date: 2025-02-18 13:40 -0500 (Tue, 18 Feb 2025)
git_url: https://git.bioconductor.org/packages/CAGEfightR
git_branch: devel
git_last_commit: 5e8f35b
git_last_commit_date: 2024-10-29 10:28:27 -0500 (Tue, 29 Oct 2024)
nebbiolo1Linux (Ubuntu 24.04.1 LTS) / x86_64  OK    OK    OK  UNNEEDED, same version is already published
palomino7Windows Server 2022 Datacenter / x64  OK    OK    OK    OK  UNNEEDED, same version is already published
lconwaymacOS 12.7.1 Monterey / x86_64  OK    OK    OK    OK  UNNEEDED, same version is already published
kjohnson3macOS 13.7.1 Ventura / arm64  OK    OK    OK    OK  UNNEEDED, same version is already published


CHECK results for CAGEfightR on kjohnson3

To the developers/maintainers of the CAGEfightR package:
- Allow up to 24 hours (and sometimes 48 hours) for your latest push to git@git.bioconductor.org:packages/CAGEfightR.git to reflect on this report. See Troubleshooting Build Report for more information.
- Use the following Renviron settings to reproduce errors and warnings.
- If 'R CMD check' started to fail recently on the Linux builder(s) over a missing dependency, add the missing dependency to 'Suggests:' in your DESCRIPTION file. See Renviron.bioc for more information.

raw results


Summary

Package: CAGEfightR
Version: 1.27.0
Command: /Library/Frameworks/R.framework/Resources/bin/R CMD check --install=check:CAGEfightR.install-out.txt --library=/Library/Frameworks/R.framework/Resources/library --no-vignettes --timings CAGEfightR_1.27.0.tar.gz
StartedAt: 2025-02-18 18:24:52 -0500 (Tue, 18 Feb 2025)
EndedAt: 2025-02-18 18:27:23 -0500 (Tue, 18 Feb 2025)
EllapsedTime: 151.8 seconds
RetCode: 0
Status:   OK  
CheckDir: CAGEfightR.Rcheck
Warnings: 0

Command output

##############################################################################
##############################################################################
###
### Running command:
###
###   /Library/Frameworks/R.framework/Resources/bin/R CMD check --install=check:CAGEfightR.install-out.txt --library=/Library/Frameworks/R.framework/Resources/library --no-vignettes --timings CAGEfightR_1.27.0.tar.gz
###
##############################################################################
##############################################################################


* using log directory ‘/Users/biocbuild/bbs-3.21-bioc/meat/CAGEfightR.Rcheck’
* using R Under development (unstable) (2025-01-20 r87609)
* using platform: aarch64-apple-darwin20
* R was compiled by
    Apple clang version 14.0.0 (clang-1400.0.29.202)
    GNU Fortran (GCC) 14.2.0
* running under: macOS Ventura 13.7.1
* using session charset: UTF-8
* using option ‘--no-vignettes’
* checking for file ‘CAGEfightR/DESCRIPTION’ ... OK
* checking extension type ... Package
* this is package ‘CAGEfightR’ version ‘1.27.0’
* package encoding: UTF-8
* checking package namespace information ... OK
* checking package dependencies ... OK
* checking if this is a source package ... OK
* checking if there is a namespace ... OK
* checking for hidden files and directories ... OK
* checking for portable file names ... OK
* checking for sufficient/correct file permissions ... OK
* checking whether package ‘CAGEfightR’ can be installed ... OK
* checking installed package size ... OK
* checking package directory ... OK
* checking ‘build’ directory ... OK
* checking DESCRIPTION meta-information ... OK
* checking top-level files ... OK
* checking for left-over files ... OK
* checking index information ... OK
* checking package subdirectories ... OK
* checking code files for non-ASCII characters ... OK
* checking R files for syntax errors ... OK
* checking whether the package can be loaded ... OK
* checking whether the package can be loaded with stated dependencies ... OK
* checking whether the package can be unloaded cleanly ... OK
* checking whether the namespace can be loaded with stated dependencies ... OK
* checking whether the namespace can be unloaded cleanly ... OK
* checking whether startup messages can be suppressed ... OK
* checking dependencies in R code ... OK
* checking S3 generic/method consistency ... OK
* checking replacement functions ... OK
* checking foreign function calls ... OK
* checking R code for possible problems ... OK
* checking Rd files ... OK
* checking Rd metadata ... OK
* checking Rd cross-references ... OK
* checking for missing documentation entries ... OK
* checking for code/documentation mismatches ... OK
* checking Rd \usage sections ... OK
* checking Rd contents ... OK
* checking for unstated dependencies in examples ... OK
* checking contents of ‘data’ directory ... OK
* checking data for non-ASCII characters ... OK
* checking LazyData ... OK
* checking data for ASCII and uncompressed saves ... OK
* checking files in ‘vignettes’ ... OK
* checking examples ... OK
* checking for unstated dependencies in vignettes ... OK
* checking package vignettes ... OK
* checking running R code from vignettes ... SKIPPED
* checking re-building of vignette outputs ... SKIPPED
* checking PDF version of manual ... OK
* DONE

Status: OK


Installation output

CAGEfightR.Rcheck/00install.out

##############################################################################
##############################################################################
###
### Running command:
###
###   /Library/Frameworks/R.framework/Resources/bin/R CMD INSTALL CAGEfightR
###
##############################################################################
##############################################################################


* installing to library ‘/Library/Frameworks/R.framework/Versions/4.5-arm64/Resources/library’
* installing *source* package ‘CAGEfightR’ ...
** this is package ‘CAGEfightR’ version ‘1.27.0’
** using staged installation
** R
** data
*** moving datasets to lazyload DB
** inst
** byte-compile and prepare package for lazy loading
** help
*** installing help indices
** building package indices
** installing vignettes
** testing if installed package can be loaded from temporary location
** testing if installed package can be loaded from final location
** testing if installed package keeps a record of temporary installation path
* DONE (CAGEfightR)

Tests output


Example timings

CAGEfightR.Rcheck/CAGEfightR-Ex.timings

nameusersystemelapsed
assignGeneID1.4570.0521.530
assignMissingID0.3670.0170.386
assignTxID0.3110.0140.325
assignTxType000
balanceBC0.0010.0000.000
balanceD0.0000.0000.001
bwCommonGenome0.0120.0020.015
bwGenomeCompatibility0.0050.0020.007
bwValid0.0030.0010.004
calcBidirectionality0.1730.0140.190
calcComposition0.9350.0200.970
calcPooled0.0280.0040.031
calcShape0.740.060.80
calcSupport0.0370.0030.038
calcTPM0.0430.0030.045
calcTotalTags0.0220.0020.024
checkCTSSs0.0800.0040.086
checkPeaked0.0220.0020.024
checkPooled0.0180.0040.021
clusterBidirectionally000
clusterUnidirectionally0.4440.0120.484
combineClusters0.2590.0070.273
convertBAM2BigWig000
convertBED2BigWig0.0000.0010.000
convertGRanges2GPos0.0230.0000.024
exampleDesign0.0010.0090.010
findLinks2.7060.4162.988
findStretches0.1140.0470.161
quantifyCTSSs0.0000.0010.001
quantifyCTSSs2000
quantifyClusters0.1370.0420.179
quantifyGenes0.4350.0870.539
quickEnhancers000
quickGenes0.0000.0000.001
quickTSSs000
shapeEntropy000
shapeIQR000
shapeMean0.0000.0010.000
shapeMultimodality000
subsetByBidirectionality0.1310.0170.156
subsetByComposition0.4020.0250.449
subsetBySupport0.0190.0030.022
swapRanges0.0620.0030.073
swapScores0.0270.0030.030
trackBalance000
trackCTSS1.2010.1131.356
trackClusters0.8100.0130.863
trackLinks0.2960.2050.424
trimToPeak0.2430.0590.302
trimToPercentiles0.5550.0220.577
tuneTagClustering000
utilsAggregateRows0.1220.1130.242
utilsDeStrand0.0330.0020.034
utilsScoreOverlaps0.0190.0000.020
utilsSimplifyTxDb000