Back to Multiple platform build/check report for BioC 3.21: simplified long |
|
This page was generated on 2025-02-15 11:39 -0500 (Sat, 15 Feb 2025).
Hostname | OS | Arch (*) | R version | Installed pkgs |
---|---|---|---|---|
nebbiolo1 | Linux (Ubuntu 24.04.1 LTS) | x86_64 | R Under development (unstable) (2025-01-20 r87609) -- "Unsuffered Consequences" | 4720 |
palomino7 | Windows Server 2022 Datacenter | x64 | R Under development (unstable) (2025-01-21 r87610 ucrt) -- "Unsuffered Consequences" | 4482 |
lconway | macOS 12.7.1 Monterey | x86_64 | R Under development (unstable) (2025-01-22 r87618) -- "Unsuffered Consequences" | 4493 |
kjohnson3 | macOS 13.7.1 Ventura | arm64 | R Under development (unstable) (2025-01-20 r87609) -- "Unsuffered Consequences" | 4446 |
Click on any hostname to see more info about the system (e.g. compilers) (*) as reported by 'uname -p', except on Windows and Mac OS X |
Package 652/2295 | Hostname | OS / Arch | INSTALL | BUILD | CHECK | BUILD BIN | ||||||||
EpiCompare 1.11.3 (landing page) Hiranyamaya Dash
| nebbiolo1 | Linux (Ubuntu 24.04.1 LTS) / x86_64 | OK | OK | OK | ![]() | ||||||||
palomino7 | Windows Server 2022 Datacenter / x64 | OK | OK | OK | OK | ![]() | ||||||||
lconway | macOS 12.7.1 Monterey / x86_64 | OK | OK | OK | OK | ![]() | ||||||||
kjohnson3 | macOS 13.7.1 Ventura / arm64 | OK | OK | OK | OK | ![]() | ||||||||
To the developers/maintainers of the EpiCompare package: - Allow up to 24 hours (and sometimes 48 hours) for your latest push to git@git.bioconductor.org:packages/EpiCompare.git to reflect on this report. See Troubleshooting Build Report for more information. - Use the following Renviron settings to reproduce errors and warnings. - If 'R CMD check' started to fail recently on the Linux builder(s) over a missing dependency, add the missing dependency to 'Suggests:' in your DESCRIPTION file. See Renviron.bioc for more information. |
Package: EpiCompare |
Version: 1.11.3 |
Command: /home/biocbuild/bbs-3.21-bioc/R/bin/R CMD check --install=check:EpiCompare.install-out.txt --library=/home/biocbuild/bbs-3.21-bioc/R/site-library --timings EpiCompare_1.11.3.tar.gz |
StartedAt: 2025-02-14 21:48:53 -0500 (Fri, 14 Feb 2025) |
EndedAt: 2025-02-14 22:02:18 -0500 (Fri, 14 Feb 2025) |
EllapsedTime: 805.0 seconds |
RetCode: 0 |
Status: OK |
CheckDir: EpiCompare.Rcheck |
Warnings: 0 |
############################################################################## ############################################################################## ### ### Running command: ### ### /home/biocbuild/bbs-3.21-bioc/R/bin/R CMD check --install=check:EpiCompare.install-out.txt --library=/home/biocbuild/bbs-3.21-bioc/R/site-library --timings EpiCompare_1.11.3.tar.gz ### ############################################################################## ############################################################################## * using log directory ‘/home/biocbuild/bbs-3.21-bioc/meat/EpiCompare.Rcheck’ * using R Under development (unstable) (2025-01-20 r87609) * using platform: x86_64-pc-linux-gnu * R was compiled by gcc (Ubuntu 13.3.0-6ubuntu2~24.04) 13.3.0 GNU Fortran (Ubuntu 13.3.0-6ubuntu2~24.04) 13.3.0 * running under: Ubuntu 24.04.2 LTS * using session charset: UTF-8 * checking for file ‘EpiCompare/DESCRIPTION’ ... OK * checking extension type ... Package * this is package ‘EpiCompare’ version ‘1.11.3’ * package encoding: UTF-8 * checking package namespace information ... OK * checking package dependencies ... OK * checking if this is a source package ... OK * checking if there is a namespace ... OK * checking for hidden files and directories ... OK * checking for portable file names ... OK * checking for sufficient/correct file permissions ... OK * checking whether package ‘EpiCompare’ can be installed ... OK * checking installed package size ... OK * checking package directory ... OK * checking ‘build’ directory ... OK * checking DESCRIPTION meta-information ... OK * checking top-level files ... OK * checking for left-over files ... OK * checking index information ... OK * checking package subdirectories ... OK * checking code files for non-ASCII characters ... OK * checking R files for syntax errors ... OK * checking whether the package can be loaded ... OK * checking whether the package can be loaded with stated dependencies ... OK * checking whether the package can be unloaded cleanly ... OK * checking whether the namespace can be loaded with stated dependencies ... OK * checking whether the namespace can be unloaded cleanly ... OK * checking loading without being on the library search path ... OK * checking dependencies in R code ... OK * checking S3 generic/method consistency ... OK * checking replacement functions ... OK * checking foreign function calls ... OK * checking R code for possible problems ... OK * checking Rd files ... NOTE checkRd: (-1) EpiCompare.Rd:51-53: Lost braces in \itemize; meant \describe ? checkRd: (-1) EpiCompare.Rd:54: Lost braces in \itemize; meant \describe ? checkRd: (-1) EpiCompare.Rd:55: Lost braces in \itemize; meant \describe ? checkRd: (-1) EpiCompare.Rd:76-77: Lost braces in \itemize; meant \describe ? checkRd: (-1) EpiCompare.Rd:78-79: Lost braces in \itemize; meant \describe ? checkRd: (-1) EpiCompare.Rd:80-81: Lost braces in \itemize; meant \describe ? checkRd: (-1) EpiCompare.Rd:82-83: Lost braces in \itemize; meant \describe ? checkRd: (-1) EpiCompare.Rd:84-86: Lost braces in \itemize; meant \describe ? checkRd: (-1) EpiCompare.Rd:87-88: Lost braces in \itemize; meant \describe ? checkRd: (-1) EpiCompare.Rd:181: Lost braces in \itemize; meant \describe ? checkRd: (-1) EpiCompare.Rd:182: Lost braces in \itemize; meant \describe ? checkRd: (-1) EpiCompare.Rd:183: Lost braces in \itemize; meant \describe ? checkRd: (-1) compute_consensus_peaks.Rd:45-47: Lost braces in \itemize; meant \describe ? checkRd: (-1) compute_consensus_peaks.Rd:48-51: Lost braces in \itemize; meant \describe ? checkRd: (-1) compute_corr.Rd:62-65: Lost braces in \itemize; meant \describe ? checkRd: (-1) compute_corr.Rd:66-69: Lost braces in \itemize; meant \describe ? checkRd: (-1) compute_corr.Rd:70-72: Lost braces in \itemize; meant \describe ? checkRd: (-1) gather_files.Rd:22-23: Lost braces in \itemize; meant \describe ? checkRd: (-1) gather_files.Rd:24: Lost braces in \itemize; meant \describe ? checkRd: (-1) gather_files.Rd:25: Lost braces in \itemize; meant \describe ? checkRd: (-1) gather_files.Rd:26-27: Lost braces in \itemize; meant \describe ? checkRd: (-1) gather_files.Rd:28-29: Lost braces in \itemize; meant \describe ? checkRd: (-1) gather_files.Rd:60: Lost braces in \itemize; meant \describe ? checkRd: (-1) gather_files.Rd:61-62: Lost braces in \itemize; meant \describe ? checkRd: (-1) gather_files.Rd:63-65: Lost braces in \itemize; meant \describe ? checkRd: (-1) gather_files_names.Rd:14-15: Lost braces in \itemize; meant \describe ? checkRd: (-1) gather_files_names.Rd:16: Lost braces in \itemize; meant \describe ? checkRd: (-1) gather_files_names.Rd:17: Lost braces in \itemize; meant \describe ? checkRd: (-1) gather_files_names.Rd:18-19: Lost braces in \itemize; meant \describe ? checkRd: (-1) gather_files_names.Rd:20-21: Lost braces in \itemize; meant \describe ? checkRd: (-1) liftover_grlist.Rd:31: Lost braces in \itemize; meant \describe ? checkRd: (-1) liftover_grlist.Rd:32: Lost braces in \itemize; meant \describe ? checkRd: (-1) overlap_stat_plot.Rd:42-43: Lost braces in \itemize; \value handles \item{}{} directly checkRd: (-1) overlap_stat_plot.Rd:44: Lost braces in \itemize; \value handles \item{}{} directly checkRd: (-1) plot_corr.Rd:64-67: Lost braces in \itemize; meant \describe ? checkRd: (-1) plot_corr.Rd:68-71: Lost braces in \itemize; meant \describe ? checkRd: (-1) plot_corr.Rd:72-74: Lost braces in \itemize; meant \describe ? checkRd: (-1) plot_precision_recall.Rd:47-50: Lost braces in \itemize; meant \describe ? checkRd: (-1) plot_precision_recall.Rd:51-54: Lost braces in \itemize; meant \describe ? checkRd: (-1) plot_precision_recall.Rd:55-57: Lost braces in \itemize; meant \describe ? checkRd: (-1) precision_recall.Rd:42-45: Lost braces in \itemize; meant \describe ? checkRd: (-1) precision_recall.Rd:46-49: Lost braces in \itemize; meant \describe ? checkRd: (-1) precision_recall.Rd:50-52: Lost braces in \itemize; meant \describe ? checkRd: (-1) prepare_genome_builds.Rd:13-15: Lost braces in \itemize; meant \describe ? checkRd: (-1) prepare_genome_builds.Rd:16: Lost braces in \itemize; meant \describe ? checkRd: (-1) prepare_genome_builds.Rd:17: Lost braces in \itemize; meant \describe ? checkRd: (-1) prepare_genome_builds.Rd:33-34: Lost braces in \itemize; meant \describe ? checkRd: (-1) prepare_genome_builds.Rd:35-36: Lost braces in \itemize; meant \describe ? checkRd: (-1) prepare_genome_builds.Rd:37-38: Lost braces in \itemize; meant \describe ? checkRd: (-1) prepare_genome_builds.Rd:39-40: Lost braces in \itemize; meant \describe ? checkRd: (-1) prepare_genome_builds.Rd:41-43: Lost braces in \itemize; meant \describe ? checkRd: (-1) prepare_genome_builds.Rd:44-45: Lost braces in \itemize; meant \describe ? checkRd: (-1) read_peaks.Rd:14-15: Lost braces in \itemize; meant \describe ? checkRd: (-1) read_peaks.Rd:16: Lost braces in \itemize; meant \describe ? checkRd: (-1) read_peaks.Rd:17: Lost braces in \itemize; meant \describe ? checkRd: (-1) read_peaks.Rd:18-19: Lost braces in \itemize; meant \describe ? checkRd: (-1) read_peaks.Rd:20-21: Lost braces in \itemize; meant \describe ? checkRd: (-1) rebin_peaks.Rd:39-42: Lost braces in \itemize; meant \describe ? checkRd: (-1) rebin_peaks.Rd:43-46: Lost braces in \itemize; meant \describe ? checkRd: (-1) rebin_peaks.Rd:47-49: Lost braces in \itemize; meant \describe ? * checking Rd metadata ... OK * checking Rd cross-references ... OK * checking for missing documentation entries ... OK * checking for code/documentation mismatches ... OK * checking Rd \usage sections ... OK * checking Rd contents ... OK * checking for unstated dependencies in examples ... OK * checking contents of ‘data’ directory ... OK * checking data for non-ASCII characters ... OK * checking data for ASCII and uncompressed saves ... OK * checking files in ‘vignettes’ ... OK * checking examples ... OK Examples with CPU (user + system) or elapsed time > 5s user system elapsed plot_enrichment 51.972 2.484 70.898 plot_ChIPseeker_annotation 20.195 0.723 20.918 EpiCompare 13.935 2.406 20.265 predict_precision_recall 9.366 1.836 3.843 liftover_grlist 6.906 1.702 10.101 compute_corr 6.057 2.515 7.211 plot_corr 6.852 1.668 7.036 plot_precision_recall 6.446 1.244 4.256 plot_chromHMM 4.999 0.754 11.383 rebin_peaks 3.661 1.638 3.653 * checking for unstated dependencies in ‘tests’ ... OK * checking tests ... Running ‘testthat.R’ OK * checking for unstated dependencies in vignettes ... OK * checking package vignettes ... OK * checking re-building of vignette outputs ... OK * checking PDF version of manual ... OK * DONE Status: 1 NOTE See ‘/home/biocbuild/bbs-3.21-bioc/meat/EpiCompare.Rcheck/00check.log’ for details.
EpiCompare.Rcheck/00install.out
############################################################################## ############################################################################## ### ### Running command: ### ### /home/biocbuild/bbs-3.21-bioc/R/bin/R CMD INSTALL EpiCompare ### ############################################################################## ############################################################################## * installing to library ‘/home/biocbuild/bbs-3.21-bioc/R/site-library’ * installing *source* package ‘EpiCompare’ ... ** this is package ‘EpiCompare’ version ‘1.11.3’ ** using staged installation ** R ** data ** inst ** byte-compile and prepare package for lazy loading Warning: replacing previous import ‘Biostrings::pattern’ by ‘grid::pattern’ when loading ‘genomation’ ** help *** installing help indices ** building package indices ** installing vignettes ** testing if installed package can be loaded from temporary location Warning: replacing previous import ‘Biostrings::pattern’ by ‘grid::pattern’ when loading ‘genomation’ ** testing if installed package can be loaded from final location Warning: replacing previous import ‘Biostrings::pattern’ by ‘grid::pattern’ when loading ‘genomation’ ** testing if installed package keeps a record of temporary installation path * DONE (EpiCompare)
EpiCompare.Rcheck/tests/testthat.Rout
R Under development (unstable) (2025-01-20 r87609) -- "Unsuffered Consequences" Copyright (C) 2025 The R Foundation for Statistical Computing Platform: x86_64-pc-linux-gnu R is free software and comes with ABSOLUTELY NO WARRANTY. You are welcome to redistribute it under certain conditions. Type 'license()' or 'licence()' for distribution details. R is a collaborative project with many contributors. Type 'contributors()' for more information and 'citation()' on how to cite R or R packages in publications. Type 'demo()' for some demos, 'help()' for on-line help, or 'help.start()' for an HTML browser interface to help. Type 'q()' to quit R. > library(testthat) > library(EpiCompare) Warning message: replacing previous import 'Biostrings::pattern' by 'grid::pattern' when loading 'genomation' > > test_check("EpiCompare") All EpiCompare features are being used. WARNING: precision-recall curves cannot be generated when reference=NULL. processing file: EpiCompare.Rmd output file: EpiCompare.knit.md /usr/bin/pandoc +RTS -K512m -RTS EpiCompare.knit.md --to html4 --from markdown+autolink_bare_uris+tex_math_single_backslash --output /tmp/RtmpPB9yoc/t1/EpiCompare.html --lua-filter /home/biocbuild/bbs-3.21-bioc/R/site-library/rmarkdown/rmarkdown/lua/pagebreak.lua --lua-filter /home/biocbuild/bbs-3.21-bioc/R/site-library/rmarkdown/rmarkdown/lua/latex-div.lua --self-contained --variable bs3=TRUE --section-divs --table-of-contents --toc-depth 3 --variable toc_float=1 --variable toc_selectors=h1,h2,h3 --variable toc_collapsed=1 --variable toc_smooth_scroll=1 --variable toc_print=1 --template /home/biocbuild/bbs-3.21-bioc/R/site-library/rmarkdown/rmd/h/default.html --no-highlight --variable highlightjs=1 --number-sections --variable theme=bootstrap --css custom.css --mathjax --variable 'mathjax-url=https://mathjax.rstudio.com/latest/MathJax.js?config=TeX-AMS-MML_HTMLorMML' --include-in-header /tmp/RtmpPB9yoc/rmarkdown-str1a9892b63cbda.html --variable code_folding=hide --variable code_menu=1 [WARNING] This document format requires a nonempty <title> element. Please specify either 'title' or 'pagetitle' in the metadata, e.g. by using --metadata pagetitle="..." on the command line. Falling back to 'EpiCompare.knit' Output created: /tmp/RtmpPB9yoc/t1/EpiCompare.html [1] "Done in 2.41 min." All outputs saved to: /tmp/RtmpPB9yoc/t1 [1] 1 [1] 3 [1] 5 [1] 7 [1] 9 [1] 11 [1] 13 [1] 15 [1] 17 [1] 19 [1] 21 [1] 23 [1] 25 [1] 2 [1] 4 [1] 6 [1] 8 [1] 10 [1] 12 [1] 14 [1] 16 [1] 18 [1] 20 [1] 22 [1] 24 [1] 26 [1] 1 [1] 2 [1] 3 [1] 4 [1] 5 [1] 6 [1] 7 [1] 8 [1] 9 [1] 10 [1] 11 [1] 12 [1] 13 [1] 14 [1] 15 [1] 16 [1] 17 [1] 18 [1] 19 [1] 20 [1] 21 [1] 22 [1] 23 [1] 24 [1] 25 [1] 26 [1] 1 [1] 2 [1] 3 [1] 4 [1] 5 [1] 6 [1] 7 [1] 8 [1] 9 [1] 10 [1] 11 [1] 12 [1] 13 [1] 14 [1] 15 [1] 16 [1] 17 [1] 18 [1] 19 [1] 20 [1] 21 [1] 22 [1] 23 [1] 24 [1] 25 [1] 26 Removing non-standard chromosomes. Computing consensus peaks for group: Imperial - 2 files - 1,670-2,707 peaks each Identified 1,325 consensus peaks from 2 peak files Computing consensus peaks for group: ENCODE - 1 files - 5,142-5,142 peaks each WARNING: Cannot compute consensus peaks when group has <2 peak files. Returning original GRanges object instead. Done computing consensus peaks in 0 min. Removing non-standard chromosomes. Computing consensus peaks for group: Imperial - 2 files - 1,670-2,707 peaks each Identified 2,982 consensus peaks from 2 peak files Computing consensus peaks for group: ENCODE - 1 files - 5,142-5,142 peaks each WARNING: Cannot compute consensus peaks when group has <2 peak files. Returning original GRanges object instead. Done computing consensus peaks in 0.36 min. Standardising peak files in 6,659 bins of 5e+05 bp. Merging data into matrix. Binned matrix size: 6,659 x 3 Matrix sparsity: 0.9526 Calculating correlation matrix. Done computing correlations in 2 seconds. Saving correlation results ==> /tmp/RtmpPB9yoc/file1a9899cebd9d.corr.csv.gz Standardising peak files in 32,488 bins of 1e+05 bp. Merging data into matrix. Binned matrix size: 32,488 x 3 Matrix sparsity: 0.974 Calculating correlation matrix. Done computing correlations in 2 seconds. Saving correlation results ==> /tmp/RtmpPB9yoc/file1a9893a54c146.corr.csv.gz Standardising peak files in 323,636 bins of 1e+04 bp. Merging data into matrix. Binned matrix size: 323,636 x 3 Matrix sparsity: 0.9936 Calculating correlation matrix. Done computing correlations in 4 seconds. Saving correlation results ==> /tmp/RtmpPB9yoc/file1a9897375fd56.corr.csv.gz Standardising peak files in 647,114 bins of 5,000 bp. Merging data into matrix. Binned matrix size: 647,114 x 3 Matrix sparsity: 0.996 Calculating correlation matrix. Done computing correlations in 6 seconds. Saving correlation results ==> /tmp/RtmpPB9yoc/file1a9897fd79ef9.corr.csv.gz --- Running fragment_info() --- Done. Writing ==> /tmp/RtmpPB9yoc/processed_results/encode_H3K27ac.narrowPeaks.bed Writing ==> /tmp/RtmpPB9yoc/processed_results/CnT_H3K27ac.narrowPeaks.bed Writing ==> /tmp/RtmpPB9yoc/processed_results/CnR_H3K27ac.narrowPeaks.bed Searching for *.narrowPeaks.bed$ files... 3 matching files identified. Constructing file names. Importing files. Reading narrowPeaks Reading narrowPeaks Reading narrowPeaks 3 files retrieved. Searching for peaks.narrow files... 3 matching files identified. Constructing file names. Returning paths. Searching for peaks.narrow files... 0 matching files identified. Returning NULL. Writing ==> /tmp/RtmpPB9yoc/processed_results/encode_H3K27ac.narrowPeaks.bed Preparing chain file. loading from cache require("rtracklayer") Performing liftover: hg19 --> hg38 Removing non-standard chromosomes. Preparing chain file. Preparing chain file. loading from cache Performing liftover: hg38 --> hg19 Removing non-standard chromosomes. loading from cache Performing liftover: hg19 --> mm9 Removing non-standard chromosomes. NOTE: The following EpiCompare features are NOT being used: - upset_plot= - stat_plot= - chromHMM_plot= - chipseeker_plot= - enrichment_plot= - tss_plot= - precision_recall_plot= - corr_plot= - add_download_button= processing file: EpiCompare.Rmd output file: EpiCompare.knit.md /usr/bin/pandoc +RTS -K512m -RTS EpiCompare.knit.md --to html4 --from markdown+autolink_bare_uris+tex_math_single_backslash --output /tmp/RtmpPB9yoc/t1/EpiCompare.html --lua-filter /home/biocbuild/bbs-3.21-bioc/R/site-library/rmarkdown/rmarkdown/lua/pagebreak.lua --lua-filter /home/biocbuild/bbs-3.21-bioc/R/site-library/rmarkdown/rmarkdown/lua/latex-div.lua --self-contained --variable bs3=TRUE --section-divs --table-of-contents --toc-depth 3 --variable toc_float=1 --variable toc_selectors=h1,h2,h3 --variable toc_collapsed=1 --variable toc_smooth_scroll=1 --variable toc_print=1 --template /home/biocbuild/bbs-3.21-bioc/R/site-library/rmarkdown/rmd/h/default.html --no-highlight --variable highlightjs=1 --number-sections --variable theme=bootstrap --css custom.css --mathjax --variable 'mathjax-url=https://mathjax.rstudio.com/latest/MathJax.js?config=TeX-AMS-MML_HTMLorMML' --include-in-header /tmp/RtmpPB9yoc/rmarkdown-str1a9893dadbd11.html --variable code_folding=hide --variable code_menu=1 [WARNING] This document format requires a nonempty <title> element. Please specify either 'title' or 'pagetitle' in the metadata, e.g. by using --metadata pagetitle="..." on the command line. Falling back to 'EpiCompare.knit' Output created: /tmp/RtmpPB9yoc/t1/EpiCompare.html [1] "Done in 0.11 min." All outputs saved to: /tmp/RtmpPB9yoc/t1 NOTE: The following EpiCompare features are NOT being used: - upset_plot= - stat_plot= - chromHMM_plot= - chipseeker_plot= - enrichment_plot= - tss_plot= - precision_recall_plot= - corr_plot= - add_download_button= processing file: EpiCompare.Rmd output file: EpiCompare.knit.md /usr/bin/pandoc +RTS -K512m -RTS EpiCompare.knit.md --to html4 --from markdown+autolink_bare_uris+tex_math_single_backslash --output /tmp/RtmpPB9yoc/t2/EpiCompare.html --lua-filter /home/biocbuild/bbs-3.21-bioc/R/site-library/rmarkdown/rmarkdown/lua/pagebreak.lua --lua-filter /home/biocbuild/bbs-3.21-bioc/R/site-library/rmarkdown/rmarkdown/lua/latex-div.lua --self-contained --variable bs3=TRUE --section-divs --table-of-contents --toc-depth 3 --variable toc_float=1 --variable toc_selectors=h1,h2,h3 --variable toc_collapsed=1 --variable toc_smooth_scroll=1 --variable toc_print=1 --template /home/biocbuild/bbs-3.21-bioc/R/site-library/rmarkdown/rmd/h/default.html --no-highlight --variable highlightjs=1 --number-sections --variable theme=bootstrap --css custom.css --mathjax --variable 'mathjax-url=https://mathjax.rstudio.com/latest/MathJax.js?config=TeX-AMS-MML_HTMLorMML' --include-in-header /tmp/RtmpPB9yoc/rmarkdown-str1a9892d75fc65.html --variable code_folding=hide --variable code_menu=1 [WARNING] This document format requires a nonempty <title> element. Please specify either 'title' or 'pagetitle' in the metadata, e.g. by using --metadata pagetitle="..." on the command line. Falling back to 'EpiCompare.knit' Output created: /tmp/RtmpPB9yoc/t2/EpiCompare.html [1] "Done in 0.12 min." All outputs saved to: /tmp/RtmpPB9yoc/t2 NOTE: The following EpiCompare features are NOT being used: - upset_plot= - stat_plot= - chromHMM_plot= - chipseeker_plot= - enrichment_plot= - tss_plot= - precision_recall_plot= - corr_plot= - add_download_button= processing file: EpiCompare.Rmd output file: EpiCompare.knit.md /usr/bin/pandoc +RTS -K512m -RTS EpiCompare.knit.md --to html4 --from markdown+autolink_bare_uris+tex_math_single_backslash --output /tmp/RtmpPB9yoc/t3/testthat_example_Feb_14_2025.html --lua-filter /home/biocbuild/bbs-3.21-bioc/R/site-library/rmarkdown/rmarkdown/lua/pagebreak.lua --lua-filter /home/biocbuild/bbs-3.21-bioc/R/site-library/rmarkdown/rmarkdown/lua/latex-div.lua --self-contained --variable bs3=TRUE --section-divs --table-of-contents --toc-depth 3 --variable toc_float=1 --variable toc_selectors=h1,h2,h3 --variable toc_collapsed=1 --variable toc_smooth_scroll=1 --variable toc_print=1 --template /home/biocbuild/bbs-3.21-bioc/R/site-library/rmarkdown/rmd/h/default.html --no-highlight --variable highlightjs=1 --number-sections --variable theme=bootstrap --css custom.css --mathjax --variable 'mathjax-url=https://mathjax.rstudio.com/latest/MathJax.js?config=TeX-AMS-MML_HTMLorMML' --include-in-header /tmp/RtmpPB9yoc/rmarkdown-str1a98956a1cfaf.html --variable code_folding=hide --variable code_menu=1 [WARNING] This document format requires a nonempty <title> element. Please specify either 'title' or 'pagetitle' in the metadata, e.g. by using --metadata pagetitle="..." on the command line. Falling back to 'EpiCompare.knit' Output created: /tmp/RtmpPB9yoc/t3/testthat_example_Feb_14_2025.html [1] "Done in 0.11 min." All outputs saved to: /tmp/RtmpPB9yoc/t3 --- Running overlap_heatmap() --- Warning: fill_diag must =NULL due to a known bug in the package 'heatmaply'. Genreating precision-recall matrix. overlap_heatmap(): Done in 2.9s. --- Running overlap_heatmap() --- Genreating precision-recall matrix. overlap_heatmap(): Done in 0.1s. --- Running overlap_stat_plot() --- Preparing reference. Extracting only the first GRanges object from list. Done. --- Running overlap_stat_plot() --- Preparing reference. Extracting only the first GRanges object from list. Done. --- Running peak_info() --- Done. Standardising peak files in 647,114 bins of 5,000 bp. Merging data into matrix. Binned matrix size: 647,114 x 3 Matrix sparsity: 0.996 Calculating correlation matrix. Done computing correlations in 5 seconds. Saving correlation results ==> /tmp/RtmpPB9yoc/file1a9897b48a5c4.corr.csv.gz Threshold=0: Filtering peaks Threshold=0.05: Filtering peaks Computing precision-recall results. Computing precision-recall results. Threshold=0.1: Filtering peaks Threshold=0.15: Filtering peaks Computing precision-recall results. Computing precision-recall results. Threshold=0.2: Filtering peaks Threshold=0.25: Filtering peaks Computing precision-recall results. Computing precision-recall results. Threshold=0.3: Filtering peaks Threshold=0.35: Filtering peaks Computing precision-recall results. Computing precision-recall results. Threshold=0.4: Filtering peaks Threshold=0.45: Filtering peaks Computing precision-recall results. Computing precision-recall results. Threshold=0.5: Filtering peaks Threshold=0.55: Filtering peaks Computing precision-recall results. Computing precision-recall results. Threshold=0.6: Filtering peaks Threshold=0.65: Filtering peaks Computing precision-recall results. Computing precision-recall results. Threshold=0.7: Filtering peaks Threshold=0.75: Filtering peaks Computing precision-recall results. Computing precision-recall results. Threshold=0.8: Filtering peaks Threshold=0.85: Filtering peaks Computing precision-recall results. Computing precision-recall results. Threshold=0.9: Filtering peaks Threshold=0.95: Filtering peaks Computing precision-recall results. Computing precision-recall results. Reformatting precision-recall data. Saving precision-recall results ==> /tmp/RtmpPB9yoc/file1a989eab98c2precision_recall.csv Plotting precision-recall curve. Plotting F1. Making predictions for peaklist1: CnR_H3K27ac Making predictions for peaklist2: encode_H3K27ac + Predicting recall from 10 precision values. + Predicting precision from 10 recall values. Making predictions for peaklist1: CnT_H3K27ac Making predictions for peaklist2: encode_H3K27ac + Predicting recall from 10 precision values. + Predicting precision from 10 recall values. WARNING: 'CnT_missing' missing threshold col, will be excluded from precision-recall calculations. Standardising peak files in 647,114 bins of 5,000 bp. Merging data into matrix. Converting to sparse matrix. Binned matrix size: 647,114 x 2 Matrix sparsity: 0.9968 WARNING: 'CnT_missing' missing threshold col, will be excluded from precision-recall calculations. Standardising peak files in 416,959 bins of 5,000 bp. Merging data into matrix. Converting to sparse matrix. Binned matrix size: 416,959 x 2 Matrix sparsity: 0.995 --- Running tss_plot() --- >> Running bootstrapping for tag matrix... 2025-02-14 22:01:29 >> Running bootstrapping for tag matrix... 2025-02-14 22:01:29 Done. --- Running width_boxplot() --- Done. [ FAIL 0 | WARN 7 | SKIP 0 | PASS 102 ] [ FAIL 0 | WARN 7 | SKIP 0 | PASS 102 ] > > proc.time() user system elapsed 244.750 35.675 282.289
EpiCompare.Rcheck/EpiCompare-Ex.timings
name | user | system | elapsed | |
EpiCompare | 13.935 | 2.406 | 20.265 | |
bpplapply | 0.009 | 0.185 | 0.383 | |
check_workers | 0.003 | 0.009 | 0.019 | |
compute_consensus_peaks | 1.111 | 0.372 | 2.096 | |
compute_corr | 6.057 | 2.515 | 7.211 | |
download_button | 0.010 | 0.001 | 0.011 | |
fragment_info | 0.006 | 0.001 | 0.006 | |
gather_files | 0.809 | 0.417 | 1.560 | |
group_files | 0.469 | 0.268 | 0.219 | |
liftover_grlist | 6.906 | 1.702 | 10.101 | |
overlap_heatmap | 2.925 | 1.013 | 4.151 | |
overlap_percent | 0.286 | 0.017 | 0.302 | |
overlap_stat_plot | 0.169 | 0.004 | 0.168 | |
overlap_upset_plot | 0.346 | 0.028 | 0.375 | |
peak_info | 0.710 | 0.072 | 0.782 | |
plot_ChIPseeker_annotation | 20.195 | 0.723 | 20.918 | |
plot_chromHMM | 4.999 | 0.754 | 11.383 | |
plot_corr | 6.852 | 1.668 | 7.036 | |
plot_enrichment | 51.972 | 2.484 | 70.898 | |
plot_precision_recall | 6.446 | 1.244 | 4.256 | |
precision_recall | 2.996 | 0.541 | 3.732 | |
predict_precision_recall | 9.366 | 1.836 | 3.843 | |
rebin_peaks | 3.661 | 1.638 | 3.653 | |
report_command | 0 | 0 | 0 | |
report_header | 0.001 | 0.001 | 0.002 | |
tidy_chromosomes | 0.652 | 0.133 | 0.785 | |
tidy_peakfile | 0.654 | 0.182 | 0.836 | |
translate_genome | 0.010 | 0.006 | 0.017 | |
tss_plot | 1.977 | 0.220 | 2.197 | |
width_boxplot | 0.052 | 0.002 | 0.054 | |
write_example_peaks | 0.172 | 0.002 | 0.173 | |