| Back to Build/check report for BioC 3.23: simplified long |
|
This page was generated on 2025-11-05 11:32 -0500 (Wed, 05 Nov 2025).
| Hostname | OS | Arch (*) | R version | Installed pkgs |
|---|---|---|---|---|
| nebbiolo1 | Linux (Ubuntu 24.04.3 LTS) | x86_64 | R Under development (unstable) (2025-10-20 r88955) -- "Unsuffered Consequences" | 4818 |
| Click on any hostname to see more info about the system (e.g. compilers) (*) as reported by 'uname -p', except on Windows and Mac OS X | ||||
| Package 835/2323 | Hostname | OS / Arch | INSTALL | BUILD | CHECK | BUILD BIN | ||||||||
| GenomicFeatures 1.63.1 (landing page) H. Pagès
| nebbiolo1 | Linux (Ubuntu 24.04.3 LTS) / x86_64 | OK | OK | OK | |||||||||
|
To the developers/maintainers of the GenomicFeatures package: - Allow up to 24 hours (and sometimes 48 hours) for your latest push to git@git.bioconductor.org:packages/GenomicFeatures.git to reflect on this report. See Troubleshooting Build Report for more information. - Use the following Renviron settings to reproduce errors and warnings. - If 'R CMD check' started to fail recently on the Linux builder(s) over a missing dependency, add the missing dependency to 'Suggests:' in your DESCRIPTION file. See Renviron.bioc for more information. |
| Package: GenomicFeatures |
| Version: 1.63.1 |
| Command: /home/biocbuild/bbs-3.23-bioc/R/bin/R CMD check --install=check:GenomicFeatures.install-out.txt --library=/home/biocbuild/bbs-3.23-bioc/R/site-library --timings GenomicFeatures_1.63.1.tar.gz |
| StartedAt: 2025-11-04 23:41:01 -0500 (Tue, 04 Nov 2025) |
| EndedAt: 2025-11-04 23:52:39 -0500 (Tue, 04 Nov 2025) |
| EllapsedTime: 697.9 seconds |
| RetCode: 0 |
| Status: OK |
| CheckDir: GenomicFeatures.Rcheck |
| Warnings: 0 |
##############################################################################
##############################################################################
###
### Running command:
###
### /home/biocbuild/bbs-3.23-bioc/R/bin/R CMD check --install=check:GenomicFeatures.install-out.txt --library=/home/biocbuild/bbs-3.23-bioc/R/site-library --timings GenomicFeatures_1.63.1.tar.gz
###
##############################################################################
##############################################################################
* using log directory ‘/home/biocbuild/bbs-3.23-bioc/meat/GenomicFeatures.Rcheck’
* using R Under development (unstable) (2025-10-20 r88955)
* using platform: x86_64-pc-linux-gnu
* R was compiled by
gcc (Ubuntu 13.3.0-6ubuntu2~24.04) 13.3.0
GNU Fortran (Ubuntu 13.3.0-6ubuntu2~24.04) 13.3.0
* running under: Ubuntu 24.04.3 LTS
* using session charset: UTF-8
* checking for file ‘GenomicFeatures/DESCRIPTION’ ... OK
* this is package ‘GenomicFeatures’ version ‘1.63.1’
* package encoding: UTF-8
* checking package namespace information ... OK
* checking package dependencies ... INFO
Depends: includes the non-default packages:
'BiocGenerics', 'S4Vectors', 'IRanges', 'Seqinfo', 'GenomicRanges',
'AnnotationDbi'
Adding so many packages to the search path is excessive and importing
selectively is preferable.
* checking if this is a source package ... OK
* checking if there is a namespace ... OK
* checking for hidden files and directories ... OK
* checking for portable file names ... OK
* checking for sufficient/correct file permissions ... OK
* checking whether package ‘GenomicFeatures’ can be installed ... OK
* checking installed package size ... OK
* checking package directory ... OK
* checking ‘build’ directory ... OK
* checking DESCRIPTION meta-information ... OK
* checking top-level files ... OK
* checking for left-over files ... OK
* checking index information ... OK
* checking package subdirectories ... OK
* checking code files for non-ASCII characters ... OK
* checking R files for syntax errors ... OK
* checking whether the package can be loaded ... OK
* checking whether the package can be loaded with stated dependencies ... OK
* checking whether the package can be unloaded cleanly ... OK
* checking whether the namespace can be loaded with stated dependencies ... OK
* checking whether the namespace can be unloaded cleanly ... OK
* checking loading without being on the library search path ... OK
* checking dependencies in R code ... NOTE
Unexported objects imported by ':::' calls:
‘AnnotationDbi:::.getMetaValue’ ‘AnnotationDbi:::.valid.colnames’
‘AnnotationDbi:::.valid.metadata.table’
‘AnnotationDbi:::.valid.table.colnames’ ‘AnnotationDbi:::dbEasyQuery’
‘AnnotationDbi:::dbQuery’ ‘AnnotationDbi:::smartKeys’
‘BiocGenerics:::testPackage’
‘GenomicRanges:::unsafe.transcriptLocs2refLocs’
‘GenomicRanges:::unsafe.transcriptWidths’
‘IRanges:::regroupBySupergroup’ ‘S4Vectors:::V_recycle’
‘S4Vectors:::decodeRle’ ‘S4Vectors:::extract_data_frame_rows’
‘S4Vectors:::load_package_gracefully’
‘Seqinfo:::getSeqlevelsReplacementMode’ ‘Seqinfo:::normarg_new2old’
See the note in ?`:::` about the use of this operator.
* checking S3 generic/method consistency ... OK
* checking replacement functions ... OK
* checking foreign function calls ... OK
* checking R code for possible problems ... OK
* checking Rd files ... OK
* checking Rd metadata ... OK
* checking Rd cross-references ... OK
* checking for missing documentation entries ... OK
* checking for code/documentation mismatches ... OK
* checking Rd \usage sections ... OK
* checking Rd contents ... OK
* checking for unstated dependencies in examples ... OK
* checking files in ‘vignettes’ ... OK
* checking examples ... OK
Examples with CPU (user + system) or elapsed time > 5s
user system elapsed
exonicParts 95.633 2.007 97.678
coverageByTranscript 68.468 2.170 70.648
coordinate-mapping-methods 55.836 4.057 60.087
extractTranscriptSeqs 13.709 1.874 15.613
getPromoterSeq-methods 3.612 3.602 9.219
transcriptLocs2refLocs 5.846 0.355 6.209
* checking for unstated dependencies in ‘tests’ ... OK
* checking tests ...
Running ‘run_unitTests.R’
OK
* checking for unstated dependencies in vignettes ... OK
* checking package vignettes ... OK
* checking re-building of vignette outputs ... OK
* checking PDF version of manual ... OK
* DONE
Status: 1 NOTE
See
‘/home/biocbuild/bbs-3.23-bioc/meat/GenomicFeatures.Rcheck/00check.log’
for details.
GenomicFeatures.Rcheck/00install.out
############################################################################## ############################################################################## ### ### Running command: ### ### /home/biocbuild/bbs-3.23-bioc/R/bin/R CMD INSTALL GenomicFeatures ### ############################################################################## ############################################################################## * installing to library ‘/home/biocbuild/bbs-3.23-bioc/R/site-library’ * installing *source* package ‘GenomicFeatures’ ... ** this is package ‘GenomicFeatures’ version ‘1.63.1’ ** using staged installation ** R ** inst ** byte-compile and prepare package for lazy loading ** help *** installing help indices ** building package indices ** installing vignettes ** testing if installed package can be loaded from temporary location ** testing if installed package can be loaded from final location ** testing if installed package keeps a record of temporary installation path * DONE (GenomicFeatures)
GenomicFeatures.Rcheck/tests/run_unitTests.Rout
R Under development (unstable) (2025-10-20 r88955) -- "Unsuffered Consequences"
Copyright (C) 2025 The R Foundation for Statistical Computing
Platform: x86_64-pc-linux-gnu
R is free software and comes with ABSOLUTELY NO WARRANTY.
You are welcome to redistribute it under certain conditions.
Type 'license()' or 'licence()' for distribution details.
R is a collaborative project with many contributors.
Type 'contributors()' for more information and
'citation()' on how to cite R or R packages in publications.
Type 'demo()' for some demos, 'help()' for on-line help, or
'help.start()' for an HTML browser interface to help.
Type 'q()' to quit R.
> require("GenomicFeatures") || stop("unable to load GenomicFeatures package")
Loading required package: GenomicFeatures
Loading required package: BiocGenerics
Loading required package: generics
Attaching package: 'generics'
The following objects are masked from 'package:base':
as.difftime, as.factor, as.ordered, intersect, is.element, setdiff,
setequal, union
Attaching package: 'BiocGenerics'
The following objects are masked from 'package:stats':
IQR, mad, sd, var, xtabs
The following objects are masked from 'package:base':
Filter, Find, Map, Position, Reduce, anyDuplicated, aperm, append,
as.data.frame, basename, cbind, colnames, dirname, do.call,
duplicated, eval, evalq, get, grep, grepl, is.unsorted, lapply,
mapply, match, mget, order, paste, pmax, pmax.int, pmin, pmin.int,
rank, rbind, rownames, sapply, saveRDS, table, tapply, unique,
unsplit, which.max, which.min
Loading required package: S4Vectors
Loading required package: stats4
Attaching package: 'S4Vectors'
The following object is masked from 'package:utils':
findMatches
The following objects are masked from 'package:base':
I, expand.grid, unname
Loading required package: IRanges
Loading required package: Seqinfo
Loading required package: GenomicRanges
Loading required package: AnnotationDbi
Loading required package: Biobase
Welcome to Bioconductor
Vignettes contain introductory material; view with
'browseVignettes()'. To cite Bioconductor, see
'citation("Biobase")', and for packages 'citation("pkgname")'.
[1] TRUE
> GenomicFeatures:::.test()
Loading required package: BSgenome
Loading required package: Biostrings
Loading required package: XVector
Attaching package: 'Biostrings'
The following object is masked from 'package:base':
strsplit
Loading required package: BiocIO
Loading required package: rtracklayer
Error in x$.self$finalize() : attempt to apply non-function
In addition: Warning messages:
1: In valid.GenomicRanges.seqinfo(x, suggest.trim = TRUE) :
GRanges object contains 3 out-of-bound ranges located on sequences a, b, and
c. Note that ranges located on a sequence whose length is unknown (NA) or on
a circular sequence are not considered out-of-bound (use seqlengths() and
isCircular() to get the lengths and circularity flags of the underlying
sequences). You can use trim() to trim these ranges. See
?`trim,GenomicRanges-method` for more information.
2: In valid.GenomicRanges.seqinfo(x, suggest.trim = TRUE) :
GRanges object contains 1 out-of-bound range located on sequence c. Note that
ranges located on a sequence whose length is unknown (NA) or on a circular
sequence are not considered out-of-bound (use seqlengths() and isCircular()
to get the lengths and circularity flags of the underlying sequences). You
can use trim() to trim these ranges. See ?`trim,GenomicRanges-method` for
more information.
3: In valid.GenomicRanges.seqinfo(x, suggest.trim = TRUE) :
GRanges object contains 1 out-of-bound range located on sequence c. Note that
ranges located on a sequence whose length is unknown (NA) or on a circular
sequence are not considered out-of-bound (use seqlengths() and isCircular()
to get the lengths and circularity flags of the underlying sequences). You
can use trim() to trim these ranges. See ?`trim,GenomicRanges-method` for
more information.
4: In valid.GenomicRanges.seqinfo(x, suggest.trim = TRUE) :
GRanges object contains 4 out-of-bound ranges located on sequences 1, 2, 3,
and 4. Note that ranges located on a sequence whose length is unknown (NA) or
on a circular sequence are not considered out-of-bound (use seqlengths() and
isCircular() to get the lengths and circularity flags of the underlying
sequences). You can use trim() to trim these ranges. See
?`trim,GenomicRanges-method` for more information.
5: In .get_cds_IDX(mcols0$type, mcols0$phase) :
The "phase" metadata column contains non-NA values for features of type
stop_codon. This information was ignored.
6: In .makeTxDb_normarg_chrominfo(chrominfo) :
genome version information is not available for this TxDb object
Error in x$.self$finalize() : attempt to apply non-function
In addition: Warning message:
call dbDisconnect() when finished working with a connection
'select()' returned 1:1 mapping between keys and columns
'select()' returned 1:many mapping between keys and columns
'select()' returned 1:many mapping between keys and columns
'select()' returned 1:1 mapping between keys and columns
'select()' returned 1:1 mapping between keys and columns
'select()' returned 1:many mapping between keys and columns
'select()' returned 1:many mapping between keys and columns
'select()' returned 1:many mapping between keys and columns
'select()' returned 1:many mapping between keys and columns
'select()' returned 1:many mapping between keys and columns
'select()' returned 1:many mapping between keys and columns
'select()' returned 1:1 mapping between keys and columns
'select()' returned 1:many mapping between keys and columns
'select()' returned 1:many mapping between keys and columns
'select()' returned 1:1 mapping between keys and columns
'select()' returned 1:1 mapping between keys and columns
'select()' returned 1:many mapping between keys and columns
'select()' returned 1:many mapping between keys and columns
'select()' returned 1:many mapping between keys and columns
'select()' returned 1:1 mapping between keys and columns
Import genomic features from the file as a GRanges object ... OK
Prepare the 'metadata' data frame ... OK
Make the TxDb object ... OK
Import genomic features from the file as a GRanges object ... OK
Prepare the 'metadata' data frame ... OK
Make the TxDb object ... OK
RUNIT TEST PROTOCOL -- Tue Nov 4 23:51:10 2025
***********************************************
Number of test functions: 67
Number of errors: 0
Number of failures: 0
1 Test Suite :
GenomicFeatures RUnit Tests - 67 test functions, 0 errors, 0 failures
Number of test functions: 67
Number of errors: 0
Number of failures: 0
Warning messages:
1: In .makeTxDb_normarg_chrominfo(chrominfo) :
genome version information is not available for this TxDb object
2: In (function (seqlevels, genome, new_style) :
cannot switch some hg19's seqlevels from UCSC to NCBI style
3: In .makeTxDb_normarg_chrominfo(chrominfo) :
genome version information is not available for this TxDb object
4: In (function (seqlevels, genome, new_style) :
cannot switch some hg19's seqlevels from UCSC to NCBI style
>
> proc.time()
user system elapsed
100.514 5.410 105.948
GenomicFeatures.Rcheck/GenomicFeatures-Ex.timings
| name | user | system | elapsed | |
| FeatureDb-class | 0.065 | 0.002 | 0.068 | |
| TxDb-class | 1.396 | 0.086 | 1.483 | |
| as-format-methods | 2.152 | 0.066 | 2.219 | |
| coordinate-mapping-methods | 55.836 | 4.057 | 60.087 | |
| coverageByTranscript | 68.468 | 2.170 | 70.648 | |
| exonicParts | 95.633 | 2.007 | 97.678 | |
| extendExonsIntoIntrons | 2.559 | 0.085 | 2.665 | |
| extractTranscriptSeqs | 13.709 | 1.874 | 15.613 | |
| extractUpstreamSeqs | 1.350 | 0.293 | 1.643 | |
| features | 0.059 | 0.003 | 0.062 | |
| getPromoterSeq-methods | 3.612 | 3.602 | 9.219 | |
| id2name | 0.210 | 0.053 | 0.262 | |
| mapIdsToRanges | 0.880 | 0.450 | 1.333 | |
| mapRangesToIds | 0.773 | 0.055 | 0.828 | |
| nearest-methods | 0.687 | 0.035 | 0.722 | |
| proteinToGenome | 1.622 | 0.074 | 1.696 | |
| select-methods | 0.178 | 0.007 | 0.185 | |
| transcriptLengths | 3.531 | 0.179 | 3.710 | |
| transcriptLocs2refLocs | 5.846 | 0.355 | 6.209 | |
| transcripts | 2.470 | 0.045 | 2.516 | |
| transcriptsBy | 0.894 | 0.010 | 0.904 | |
| transcriptsByOverlaps | 0.173 | 0.003 | 0.176 | |