| Back to Multiple platform build/check report for BioC 3.23: simplified long |
|
This page was generated on 2025-11-22 11:37 -0500 (Sat, 22 Nov 2025).
| Hostname | OS | Arch (*) | R version | Installed pkgs |
|---|---|---|---|---|
| nebbiolo1 | Linux (Ubuntu 24.04.3 LTS) | x86_64 | R Under development (unstable) (2025-10-20 r88955) -- "Unsuffered Consequences" | 4829 |
| lconway | macOS 12.7.6 Monterey | x86_64 | R Under development (unstable) (2025-10-21 r88958) -- "Unsuffered Consequences" | 4603 |
| kjohnson3 | macOS 13.7.7 Ventura | arm64 | R Under development (unstable) (2025-11-04 r88984) -- "Unsuffered Consequences" | 4567 |
| Click on any hostname to see more info about the system (e.g. compilers) (*) as reported by 'uname -p', except on Windows and Mac OS X | ||||
| Package 1324/2327 | Hostname | OS / Arch | INSTALL | BUILD | CHECK | BUILD BIN | ||||||||
| mobileRNA 1.7.1 (landing page) Katie Jeynes-Cupper
| nebbiolo1 | Linux (Ubuntu 24.04.3 LTS) / x86_64 | OK | OK | OK | |||||||||
| lconway | macOS 12.7.6 Monterey / x86_64 | OK | OK | OK | OK | |||||||||
| kjohnson3 | macOS 13.7.7 Ventura / arm64 | OK | OK | OK | OK | |||||||||
|
To the developers/maintainers of the mobileRNA package: - Allow up to 24 hours (and sometimes 48 hours) for your latest push to git@git.bioconductor.org:packages/mobileRNA.git to reflect on this report. See Troubleshooting Build Report for more information. - Use the following Renviron settings to reproduce errors and warnings. - If 'R CMD check' started to fail recently on the Linux builder(s) over a missing dependency, add the missing dependency to 'Suggests:' in your DESCRIPTION file. See Renviron.bioc for more information. |
| Package: mobileRNA |
| Version: 1.7.1 |
| Command: /home/biocbuild/bbs-3.23-bioc/R/bin/R CMD check --install=check:mobileRNA.install-out.txt --library=/home/biocbuild/bbs-3.23-bioc/R/site-library --timings mobileRNA_1.7.1.tar.gz |
| StartedAt: 2025-11-22 01:33:15 -0500 (Sat, 22 Nov 2025) |
| EndedAt: 2025-11-22 01:39:23 -0500 (Sat, 22 Nov 2025) |
| EllapsedTime: 368.4 seconds |
| RetCode: 0 |
| Status: OK |
| CheckDir: mobileRNA.Rcheck |
| Warnings: 0 |
##############################################################################
##############################################################################
###
### Running command:
###
### /home/biocbuild/bbs-3.23-bioc/R/bin/R CMD check --install=check:mobileRNA.install-out.txt --library=/home/biocbuild/bbs-3.23-bioc/R/site-library --timings mobileRNA_1.7.1.tar.gz
###
##############################################################################
##############################################################################
* using log directory ‘/home/biocbuild/bbs-3.23-bioc/meat/mobileRNA.Rcheck’
* using R Under development (unstable) (2025-10-20 r88955)
* using platform: x86_64-pc-linux-gnu
* R was compiled by
gcc (Ubuntu 13.3.0-6ubuntu2~24.04) 13.3.0
GNU Fortran (Ubuntu 13.3.0-6ubuntu2~24.04) 13.3.0
* running under: Ubuntu 24.04.3 LTS
* using session charset: UTF-8
* checking for file ‘mobileRNA/DESCRIPTION’ ... OK
* checking extension type ... Package
* this is package ‘mobileRNA’ version ‘1.7.1’
* package encoding: UTF-8
* checking package namespace information ... OK
* checking package dependencies ... INFO
Imports includes 24 non-default packages.
Importing from so many packages makes the package vulnerable to any of
them becoming unavailable. Move as many as possible to Suggests and
use conditionally.
* checking if this is a source package ... OK
* checking if there is a namespace ... OK
* checking for hidden files and directories ... OK
* checking for portable file names ... OK
* checking for sufficient/correct file permissions ... OK
* checking whether package ‘mobileRNA’ can be installed ... OK
* checking installed package size ... OK
* checking package directory ... OK
* checking ‘build’ directory ... OK
* checking DESCRIPTION meta-information ... OK
* checking top-level files ... OK
* checking for left-over files ... OK
* checking index information ... OK
* checking package subdirectories ... OK
* checking code files for non-ASCII characters ... OK
* checking R files for syntax errors ... OK
* checking whether the package can be loaded ... OK
* checking whether the package can be loaded with stated dependencies ... OK
* checking whether the package can be unloaded cleanly ... OK
* checking whether the namespace can be loaded with stated dependencies ... OK
* checking whether the namespace can be unloaded cleanly ... OK
* checking loading without being on the library search path ... OK
* checking dependencies in R code ... OK
* checking S3 generic/method consistency ... OK
* checking replacement functions ... OK
* checking foreign function calls ... OK
* checking R code for possible problems ... NOTE
RNAfeatures: no visible binding for global variable ‘Freq’
RNAfeatures: no visible binding for global variable ‘Genomic feature’
RNAfeatures: no visible binding for global variable ‘Var1’
RNAimport: no visible binding for global variable ‘start’
RNAimport: no visible binding for global variable ‘end’
RNAimport: no visible binding for global variable ‘strand’
bcftools_exists: no visible binding for global variable ‘envname’
snpEFF_exists: no visible binding for global variable ‘envname’
Undefined global functions or variables:
Freq Genomic feature Var1 end envname start strand
Consider adding
importFrom("stats", "end", "start")
to your NAMESPACE file.
* checking Rd files ... OK
* checking Rd metadata ... OK
* checking Rd cross-references ... OK
* checking for missing documentation entries ... OK
* checking for code/documentation mismatches ... OK
* checking Rd \usage sections ... OK
* checking Rd contents ... OK
* checking for unstated dependencies in examples ... OK
* checking contents of ‘data’ directory ... OK
* checking data for non-ASCII characters ... OK
* checking data for ASCII and uncompressed saves ... OK
* checking files in ‘vignettes’ ... OK
* checking examples ... OK
Examples with CPU (user + system) or elapsed time > 5s
user system elapsed
RNAdistribution 17.126 0.180 20.226
RNAdicercall 14.242 0.330 15.093
RNAsubset 10.165 0.069 10.243
RNAdifferentialAnalysis 7.961 0.207 8.174
* checking for unstated dependencies in vignettes ... OK
* checking package vignettes ... OK
* checking re-building of vignette outputs ... OK
* checking PDF version of manual ... OK
* DONE
Status: 1 NOTE
See
‘/home/biocbuild/bbs-3.23-bioc/meat/mobileRNA.Rcheck/00check.log’
for details.
mobileRNA.Rcheck/00install.out
############################################################################## ############################################################################## ### ### Running command: ### ### /home/biocbuild/bbs-3.23-bioc/R/bin/R CMD INSTALL mobileRNA ### ############################################################################## ############################################################################## * installing to library ‘/home/biocbuild/bbs-3.23-bioc/R/site-library’ * installing *source* package ‘mobileRNA’ ... ** this is package ‘mobileRNA’ version ‘1.7.1’ ** using staged installation ** R ** data ** inst ** byte-compile and prepare package for lazy loading ** help *** installing help indices *** copying figures ** building package indices ** installing vignettes ** testing if installed package can be loaded from temporary location ** testing if installed package can be loaded from final location ** testing if installed package keeps a record of temporary installation path * DONE (mobileRNA)
mobileRNA.Rcheck/mobileRNA-Ex.timings
| name | user | system | elapsed | |
| RNAattributes | 0.502 | 0.061 | 0.623 | |
| RNAdf2se | 0.323 | 0.007 | 0.330 | |
| RNAdicercall | 14.242 | 0.330 | 15.093 | |
| RNAdifferentialAnalysis | 7.961 | 0.207 | 8.174 | |
| RNAdistribution | 17.126 | 0.180 | 20.226 | |
| RNAfeatures | 0.450 | 0.017 | 0.466 | |
| RNAimport | 0.001 | 0.000 | 0.000 | |
| RNAmergeAnnotations | 0.272 | 0.003 | 0.275 | |
| RNAmergeGenomes | 0.044 | 0.003 | 0.048 | |
| RNAmobile | 0.580 | 0.012 | 0.591 | |
| RNApopulation | 1.876 | 0.008 | 1.884 | |
| RNAreorder | 0.161 | 0.003 | 0.164 | |
| RNAsequences | 1.342 | 0.014 | 1.355 | |
| RNAsubset | 10.165 | 0.069 | 10.243 | |
| RNAsummary | 4.875 | 0.088 | 4.963 | |
| mRNA_data | 0.081 | 0.000 | 0.081 | |
| mapRNA | 0.000 | 0.001 | 0.000 | |
| plotHeatmap | 0.581 | 0.005 | 0.586 | |
| plotRNAfeatures | 0.467 | 0.009 | 0.476 | |
| plotSampleDistance | 2.383 | 0.012 | 2.394 | |
| plotSamplePCA | 2.888 | 0.019 | 2.907 | |
| sRNA_data | 0.138 | 0.000 | 0.138 | |