Back to Multiple platform build/check report for BioC 3.21:   simplified   long
AB[C]DEFGHIJKLMNOPQRSTUVWXYZ

This page was generated on 2025-02-03 12:37 -0500 (Mon, 03 Feb 2025).

HostnameOSArch (*)R versionInstalled pkgs
nebbiolo1Linux (Ubuntu 24.04.1 LTS)x86_64R Under development (unstable) (2025-01-20 r87609) -- "Unsuffered Consequences" 4704
palomino7Windows Server 2022 Datacenterx64R Under development (unstable) (2025-01-21 r87610 ucrt) -- "Unsuffered Consequences" 4467
lconwaymacOS 12.7.1 Montereyx86_64R Under development (unstable) (2025-01-22 r87618) -- "Unsuffered Consequences" 4478
Click on any hostname to see more info about the system (e.g. compilers)      (*) as reported by 'uname -p', except on Windows and Mac OS X

Package 262/2289HostnameOS / ArchINSTALLBUILDCHECKBUILD BIN
CAGEr 2.13.0  (landing page)
Charles Plessy
Snapshot Date: 2025-02-02 13:40 -0500 (Sun, 02 Feb 2025)
git_url: https://git.bioconductor.org/packages/CAGEr
git_branch: devel
git_last_commit: cdfe2b1
git_last_commit_date: 2024-10-29 09:44:43 -0500 (Tue, 29 Oct 2024)
nebbiolo1Linux (Ubuntu 24.04.1 LTS) / x86_64  OK    OK    OK  UNNEEDED, same version is already published
palomino7Windows Server 2022 Datacenter / x64  OK    OK    OK    OK  UNNEEDED, same version is already published
lconwaymacOS 12.7.1 Monterey / x86_64  OK    OK    OK    OK  NO, package depends on 'rtracklayer' which is only available as a source package that needs compilation


CHECK results for CAGEr on nebbiolo1

To the developers/maintainers of the CAGEr package:
- Allow up to 24 hours (and sometimes 48 hours) for your latest push to git@git.bioconductor.org:packages/CAGEr.git to reflect on this report. See Troubleshooting Build Report for more information.
- Use the following Renviron settings to reproduce errors and warnings.
- If 'R CMD check' started to fail recently on the Linux builder(s) over a missing dependency, add the missing dependency to 'Suggests:' in your DESCRIPTION file. See Renviron.bioc for more information.

raw results


Summary

Package: CAGEr
Version: 2.13.0
Command: /home/biocbuild/bbs-3.21-bioc/R/bin/R CMD check --install=check:CAGEr.install-out.txt --library=/home/biocbuild/bbs-3.21-bioc/R/site-library --timings CAGEr_2.13.0.tar.gz
StartedAt: 2025-02-02 20:32:34 -0500 (Sun, 02 Feb 2025)
EndedAt: 2025-02-02 20:44:57 -0500 (Sun, 02 Feb 2025)
EllapsedTime: 742.9 seconds
RetCode: 0
Status:   OK  
CheckDir: CAGEr.Rcheck
Warnings: 0

Command output

##############################################################################
##############################################################################
###
### Running command:
###
###   /home/biocbuild/bbs-3.21-bioc/R/bin/R CMD check --install=check:CAGEr.install-out.txt --library=/home/biocbuild/bbs-3.21-bioc/R/site-library --timings CAGEr_2.13.0.tar.gz
###
##############################################################################
##############################################################################


* using log directory ‘/home/biocbuild/bbs-3.21-bioc/meat/CAGEr.Rcheck’
* using R Under development (unstable) (2025-01-20 r87609)
* using platform: x86_64-pc-linux-gnu
* R was compiled by
    gcc (Ubuntu 13.3.0-6ubuntu2~24.04) 13.3.0
    GNU Fortran (Ubuntu 13.3.0-6ubuntu2~24.04) 13.3.0
* running under: Ubuntu 24.04.1 LTS
* using session charset: UTF-8
* checking for file ‘CAGEr/DESCRIPTION’ ... OK
* this is package ‘CAGEr’ version ‘2.13.0’
* package encoding: UTF-8
* checking package namespace information ... OK
* checking package dependencies ... INFO
Imports includes 29 non-default packages.
Importing from so many packages makes the package vulnerable to any of
them becoming unavailable.  Move as many as possible to Suggests and
use conditionally.
* checking if this is a source package ... OK
* checking if there is a namespace ... OK
* checking for hidden files and directories ... OK
* checking for portable file names ... OK
* checking for sufficient/correct file permissions ... OK
* checking whether package ‘CAGEr’ can be installed ... OK
* checking installed package size ... OK
* checking package directory ... OK
* checking ‘build’ directory ... OK
* checking DESCRIPTION meta-information ... OK
* checking top-level files ... OK
* checking for left-over files ... OK
* checking index information ... OK
* checking package subdirectories ... OK
* checking code files for non-ASCII characters ... OK
* checking R files for syntax errors ... OK
* checking whether the package can be loaded ... OK
* checking whether the package can be loaded with stated dependencies ... OK
* checking whether the package can be unloaded cleanly ... OK
* checking whether the namespace can be loaded with stated dependencies ... OK
* checking whether the namespace can be unloaded cleanly ... OK
* checking loading without being on the library search path ... OK
* checking dependencies in R code ... OK
* checking S3 generic/method consistency ... OK
* checking replacement functions ... OK
* checking foreign function calls ... OK
* checking R code for possible problems ... OK
* checking Rd files ... OK
* checking Rd metadata ... OK
* checking Rd cross-references ... NOTE
Found the following Rd file(s) with Rd \link{} targets missing package
anchors:
  CAGEexp-class.Rd: MultiAssayExperiment, DataFrame, Rle
  CAGEr-class.Rd: MultiAssayExperiment
  CTSStagCount.Rd: DataFrame, Rle, RangedSummarizedExperiment
  CTSStoGenes.Rd: SummarizedExperiment
  CustomConsensusClusters.Rd: GRanges, RangedSummarizedExperiment
  TSSlogo.Rd: BSgenome
  aggregateTagClusters.Rd: RangedSummarizedExperiment
  annotateCTSS.Rd: GRanges, TxDb
  bam2CTSS.Rd: GRanges
  byCtss.Rd: data.table
  consensusClusters.Rd: GRanges, SummarizedExperiment
  distclu.Rd: GRangesList
  dot-ctss_summary_for_clusters.Rd: GRanges
  expressionClasses.Rd: Rle
  flagLowExpCTSS.Rd: Rle
  getCTSS.Rd: RangedSummarizedExperiment
  import.CAGEscanMolecule.Rd: GRanges
  import.CTSS.Rd: GPos
  loadFileIntoGPos.Rd: GPos
  moleculesGR2CTSS.Rd: GRanges
  paraclu.Rd: RangedSummarizedExperiment, GRangesList
  plotCorrelation.Rd: SummarizedExperiment, DataFrame
  quantilePositions.Rd: RangedSummarizedExperiment
  ranges2annot.Rd: rowRanges, Rle
  ranges2names.Rd: Rle
  strandInvaders.Rd: Rle
Please provide package anchors for all Rd \link{} targets not in the
package itself and the base packages.
* checking for missing documentation entries ... OK
* checking for code/documentation mismatches ... OK
* checking Rd \usage sections ... OK
* checking Rd contents ... OK
* checking for unstated dependencies in examples ... OK
* checking contents of ‘data’ directory ... OK
* checking data for non-ASCII characters ... OK
* checking LazyData ... OK
* checking data for ASCII and uncompressed saves ... OK
* checking files in ‘vignettes’ ... OK
* checking examples ... OK
Examples with CPU (user + system) or elapsed time > 5s
                         user system elapsed
paraclu                44.343  0.332  44.677
exportToTrack          36.716  0.034  36.749
aggregateTagClusters   20.759  0.321  21.082
scoreShift             18.486  0.184  18.670
quantilePositions      12.630  0.004  12.635
annotateCTSS           12.040  0.044  12.085
distclu                 9.624  0.007   9.631
plotExpressionProfiles  7.099  0.062   7.161
* checking for unstated dependencies in vignettes ... OK
* checking package vignettes ... OK
* checking re-building of vignette outputs ... OK
* checking PDF version of manual ... OK
* DONE

Status: 1 NOTE
See
  ‘/home/biocbuild/bbs-3.21-bioc/meat/CAGEr.Rcheck/00check.log’
for details.


Installation output

CAGEr.Rcheck/00install.out

##############################################################################
##############################################################################
###
### Running command:
###
###   /home/biocbuild/bbs-3.21-bioc/R/bin/R CMD INSTALL CAGEr
###
##############################################################################
##############################################################################


* installing to library ‘/home/biocbuild/bbs-3.21-bioc/R/site-library’
* installing *source* package ‘CAGEr’ ...
** this is package ‘CAGEr’ version ‘2.13.0’
** using staged installation
** R
** data
*** moving datasets to lazyload DB
** inst
** byte-compile and prepare package for lazy loading
** help
*** installing help indices
** building package indices
** installing vignettes
** testing if installed package can be loaded from temporary location
** testing if installed package can be loaded from final location
** testing if installed package keeps a record of temporary installation path
* DONE (CAGEr)

Tests output


Example timings

CAGEr.Rcheck/CAGEr-Ex.timings

nameusersystemelapsed
CAGEexp-class2.9340.1403.077
CAGEr_Multicore3.6740.0603.735
CTSS-class0.2370.0000.238
CTSScoordinates0.0740.0040.078
CTSSnormalizedTpm0.6640.0380.703
CTSStagCount0.6140.1090.723
CTSStoGenes0.3620.0540.415
CustomConsensusClusters4.6080.0574.666
GeneExpDESeq20.4690.0160.485
GeneExpSE0.0050.0000.004
QuantileWidthFunctions0.1360.0030.138
TSSlogo2.5170.0902.607
aggregateTagClusters20.759 0.32121.082
annotateCTSS12.040 0.04412.085
byCtss0.0150.0010.017
consensusClusters0.1470.0020.149
consensusClustersDESeq22.0090.0032.011
consensusClustersTpm0.0050.0010.006
cumulativeCTSSdistribution3.6780.0393.716
distclu9.6240.0079.631
dot-ctss_summary_for_clusters0.8880.0030.892
exampleCAGEexp0.0000.0000.001
exportToTrack36.716 0.03436.749
expressionClasses1.9720.0061.978
filteredCTSSidx0.0070.0020.009
flagLowExpCTSS0.0360.0010.037
genomeName0.0010.0000.001
getCTSS0.9210.0060.927
getExpressionProfiles4.8680.0324.900
getShiftingPromoters1.8970.0011.898
hanabi0.2190.0110.230
hanabiPlot0.2880.0180.306
import.CAGEscanMolecule000
import.CTSS0.0740.0030.076
import.bam000
import.bedCTSS0.0010.0010.001
import.bedScore000
import.bedmolecule000
importPublicData0.0010.0000.001
inputFiles0.0000.0010.001
inputFilesType0.0010.0010.002
librarySizes0.0010.0000.001
mapStats0.0500.0010.051
mergeCAGEsets2.0050.0242.029
mergeSamples0.4290.0020.431
moleculesGR2CTSS0.1270.0010.128
normalizeTagCount0.4830.0010.462
paraclu44.343 0.33244.677
parseCAGEscanBlocksToGrangeTSS0.0200.0010.022
plotAnnot2.3340.0382.373
plotCorrelation0.2380.0020.242
plotExpressionProfiles7.0990.0627.161
plotInterquantileWidth2.0660.0022.069
plotReverseCumulatives2.4020.0012.350
quantilePositions12.630 0.00412.635
quickEnhancers0.0000.0000.001
ranges2annot0.3230.0030.326
ranges2genes0.0550.0000.055
ranges2names0.0550.0000.054
resetCAGEexp0.3260.0000.325
rowSums.RleDataFrame0.0220.0010.023
rowsum.RleDataFrame0.0230.0030.026
sampleLabels0.0050.0000.004
scoreShift18.486 0.18418.670
seqNameTotalsSE0.0030.0000.004
setColors0.2800.0050.285
strandInvaders0.6070.1160.710
summariseChrExpr0.3910.0010.392
tagClusters0.3920.0070.399