| Back to Build/check report for BioC 3.23: simplified long | 
  | 
This page was generated on 2025-11-03 11:33 -0500 (Mon, 03 Nov 2025).
| Hostname | OS | Arch (*) | R version | Installed pkgs | 
|---|---|---|---|---|
| nebbiolo1 | Linux (Ubuntu 24.04.3 LTS) | x86_64 | R Under development (unstable) (2025-10-20 r88955) -- "Unsuffered Consequences" | 4775 | 
| Click on any hostname to see more info about the system (e.g. compilers) (*) as reported by 'uname -p', except on Windows and Mac OS X | ||||
| Package 820/2321 | Hostname | OS / Arch | INSTALL | BUILD | CHECK | BUILD BIN | ||||||||
| GeneStructureTools 1.31.0  (landing page) Beth Signal 
  | nebbiolo1 | Linux (Ubuntu 24.04.3 LTS) / x86_64 | OK | OK | OK | |||||||||
| 
To the developers/maintainers of the GeneStructureTools package: - Allow up to 24 hours (and sometimes 48 hours) for your latest push to git@git.bioconductor.org:packages/GeneStructureTools.git to reflect on this report. See Troubleshooting Build Report for more information. - Use the following Renviron settings to reproduce errors and warnings. - If 'R CMD check' started to fail recently on the Linux builder(s) over a missing dependency, add the missing dependency to 'Suggests:' in your DESCRIPTION file. See Renviron.bioc for more information.  | 
| Package: GeneStructureTools | 
| Version: 1.31.0 | 
| Command: /home/biocbuild/bbs-3.23-bioc/R/bin/R CMD check --install=check:GeneStructureTools.install-out.txt --library=/home/biocbuild/bbs-3.23-bioc/R/site-library --timings GeneStructureTools_1.31.0.tar.gz | 
| StartedAt: 2025-11-02 23:29:34 -0500 (Sun, 02 Nov 2025) | 
| EndedAt: 2025-11-02 23:37:49 -0500 (Sun, 02 Nov 2025) | 
| EllapsedTime: 494.6 seconds | 
| RetCode: 0 | 
| Status: OK | 
| CheckDir: GeneStructureTools.Rcheck | 
| Warnings: 0 | 
##############################################################################
##############################################################################
###
### Running command:
###
###   /home/biocbuild/bbs-3.23-bioc/R/bin/R CMD check --install=check:GeneStructureTools.install-out.txt --library=/home/biocbuild/bbs-3.23-bioc/R/site-library --timings GeneStructureTools_1.31.0.tar.gz
###
##############################################################################
##############################################################################
* using log directory ‘/home/biocbuild/bbs-3.23-bioc/meat/GeneStructureTools.Rcheck’
* using R Under development (unstable) (2025-10-20 r88955)
* using platform: x86_64-pc-linux-gnu
* R was compiled by
    gcc (Ubuntu 13.3.0-6ubuntu2~24.04) 13.3.0
    GNU Fortran (Ubuntu 13.3.0-6ubuntu2~24.04) 13.3.0
* running under: Ubuntu 24.04.3 LTS
* using session charset: UTF-8
* checking for file ‘GeneStructureTools/DESCRIPTION’ ... OK
* checking extension type ... Package
* this is package ‘GeneStructureTools’ version ‘1.31.0’
* package encoding: UTF-8
* checking package namespace information ... OK
* checking package dependencies ... OK
* checking if this is a source package ... OK
* checking if there is a namespace ... OK
* checking for hidden files and directories ... OK
* checking for portable file names ... OK
* checking for sufficient/correct file permissions ... OK
* checking whether package ‘GeneStructureTools’ can be installed ... OK
* checking installed package size ... OK
* checking package directory ... OK
* checking ‘build’ directory ... OK
* checking DESCRIPTION meta-information ... OK
* checking top-level files ... OK
* checking for left-over files ... OK
* checking index information ... OK
* checking package subdirectories ... OK
* checking code files for non-ASCII characters ... OK
* checking R files for syntax errors ... OK
* checking whether the package can be loaded ... OK
* checking whether the package can be loaded with stated dependencies ... OK
* checking whether the package can be unloaded cleanly ... OK
* checking whether the namespace can be loaded with stated dependencies ... OK
* checking whether the namespace can be unloaded cleanly ... OK
* checking loading without being on the library search path ... OK
* checking dependencies in R code ... OK
* checking S3 generic/method consistency ... OK
* checking replacement functions ... OK
* checking foreign function calls ... OK
* checking R code for possible problems ... OK
* checking Rd files ... OK
* checking Rd metadata ... OK
* checking Rd cross-references ... OK
* checking for missing documentation entries ... OK
* checking for code/documentation mismatches ... OK
* checking Rd \usage sections ... OK
* checking Rd contents ... OK
* checking for unstated dependencies in examples ... OK
* checking files in ‘vignettes’ ... OK
* checking examples ... OK
Examples with CPU (user + system) or elapsed time > 5s
                                    user system elapsed
leafcutterTranscriptChangeSummary 21.047  0.185  21.236
whippetTranscriptChangeSummary    11.315  0.153  11.468
* checking for unstated dependencies in vignettes ... OK
* checking package vignettes ... OK
* checking re-building of vignette outputs ... OK
* checking PDF version of manual ... OK
* DONE
Status: OK
GeneStructureTools.Rcheck/00install.out
############################################################################## ############################################################################## ### ### Running command: ### ### /home/biocbuild/bbs-3.23-bioc/R/bin/R CMD INSTALL GeneStructureTools ### ############################################################################## ############################################################################## * installing to library ‘/home/biocbuild/bbs-3.23-bioc/R/site-library’ * installing *source* package ‘GeneStructureTools’ ... ** this is package ‘GeneStructureTools’ version ‘1.31.0’ ** using staged installation ** R ** inst ** byte-compile and prepare package for lazy loading ** help *** installing help indices ** building package indices ** installing vignettes ** testing if installed package can be loaded from temporary location ** testing if installed package can be loaded from final location ** testing if installed package keeps a record of temporary installation path * DONE (GeneStructureTools)
GeneStructureTools.Rcheck/GeneStructureTools-Ex.timings
| name | user | system | elapsed | |
| DEXSeqIdsToGeneIds | 0.002 | 0.001 | 0.003 | |
| UTR2UTR53 | 2.363 | 0.190 | 2.554 | |
| addBroadTypes | 0.160 | 0.002 | 0.162 | |
| addIntronInTranscript | 2.868 | 0.240 | 3.110 | |
| alternativeIntronUsage | 4.075 | 0.052 | 4.128 | |
| annotateGeneModel | 0.791 | 0.017 | 0.808 | |
| attrChangeAltSpliced | 1.127 | 0.052 | 1.179 | |
| coordinates-methods | 0.049 | 0.022 | 0.069 | |
| diffSplicingResults-methods | 0.041 | 0.024 | 0.066 | |
| exonsToTranscripts | 0.240 | 0.005 | 0.244 | |
| filterGtfOverlap | 0.231 | 0.006 | 0.236 | |
| filterWhippetEvents | 0.054 | 0.029 | 0.140 | |
| findDEXexonType | 2.462 | 0.067 | 2.530 | |
| findExonContainingTranscripts | 0.394 | 0.019 | 0.413 | |
| findIntronContainingTranscripts | 0.581 | 0.049 | 0.629 | |
| findJunctionPairs | 1.280 | 0.075 | 1.354 | |
| formatWhippetEvents | 0.014 | 0.004 | 0.018 | |
| getOrfs | 0.675 | 0.033 | 0.709 | |
| getUOrfs | 0.542 | 0.017 | 0.559 | |
| junctions-methods | 0.042 | 0.018 | 0.059 | |
| leafcutterTranscriptChangeSummary | 21.047 | 0.185 | 21.236 | |
| makeGeneModel | 0.137 | 0.006 | 0.144 | |
| maxLocation | 0.003 | 0.000 | 0.002 | |
| orfDiff | 1.444 | 0.045 | 1.488 | |
| orfSimilarity | 0.001 | 0.000 | 0.001 | |
| overlapTypes | 2.097 | 0.005 | 2.101 | |
| readCounts-methods | 0.046 | 0.018 | 0.064 | |
| readWhippetDIFFfiles | 0.005 | 0.002 | 0.005 | |
| readWhippetDataSet | 0.046 | 0.015 | 0.062 | |
| readWhippetJNCfiles | 0.020 | 0.010 | 0.029 | |
| readWhippetPSIfiles | 0.007 | 0.008 | 0.014 | |
| removeDuplicateTranscripts | 0.225 | 0.006 | 0.231 | |
| removeSameExon | 0.203 | 0.004 | 0.207 | |
| removeVersion | 0 | 0 | 0 | |
| reorderExonNumbers | 0.146 | 0.010 | 0.156 | |
| replaceJunction | 4.698 | 0.162 | 4.861 | |
| skipExonInTranscript | 1.306 | 0.025 | 1.331 | |
| summariseExonTypes | 2.259 | 0.022 | 2.282 | |
| transcriptChangeSummary | 1.375 | 0.043 | 1.417 | |
| whippetTranscriptChangeSummary | 11.315 | 0.153 | 11.468 | |