| Back to Multiple platform build/check report for BioC 3.22: simplified long |
|
This page was generated on 2025-10-24 12:06 -0400 (Fri, 24 Oct 2025).
| Hostname | OS | Arch (*) | R version | Installed pkgs |
|---|---|---|---|---|
| nebbiolo2 | Linux (Ubuntu 24.04.3 LTS) | x86_64 | 4.5.1 Patched (2025-08-23 r88802) -- "Great Square Root" | 4898 |
| lconway | macOS 12.7.6 Monterey | x86_64 | 4.5.1 Patched (2025-09-10 r88807) -- "Great Square Root" | 4688 |
| kjohnson3 | macOS 13.7.7 Ventura | arm64 | 4.5.1 Patched (2025-09-10 r88807) -- "Great Square Root" | 4634 |
| taishan | Linux (openEuler 24.03 LTS) | aarch64 | 4.5.0 (2025-04-11) -- "How About a Twenty-Six" | 4658 |
| Click on any hostname to see more info about the system (e.g. compilers) (*) as reported by 'uname -p', except on Windows and Mac OS X | ||||
| Package 737/2359 | Hostname | OS / Arch | INSTALL | BUILD | CHECK | BUILD BIN | ||||||||
| FindIT2 1.15.1 (landing page) Guandong Shang
| nebbiolo2 | Linux (Ubuntu 24.04.3 LTS) / x86_64 | OK | OK | OK | |||||||||
| lconway | macOS 12.7.6 Monterey / x86_64 | OK | OK | OK | OK | |||||||||
| kjohnson3 | macOS 13.7.7 Ventura / arm64 | OK | OK | OK | OK | |||||||||
| taishan | Linux (openEuler 24.03 LTS) / aarch64 | OK | OK | NA | ||||||||||
|
To the developers/maintainers of the FindIT2 package: - Allow up to 24 hours (and sometimes 48 hours) for your latest push to git@git.bioconductor.org:packages/FindIT2.git to reflect on this report. See Troubleshooting Build Report for more information. - Use the following Renviron settings to reproduce errors and warnings. - If 'R CMD check' started to fail recently on the Linux builder(s) over a missing dependency, add the missing dependency to 'Suggests:' in your DESCRIPTION file. See Renviron.bioc for more information. |
| Package: FindIT2 |
| Version: 1.15.1 |
| Command: /Library/Frameworks/R.framework/Resources/bin/R CMD check --install=check:FindIT2.install-out.txt --library=/Library/Frameworks/R.framework/Resources/library --no-vignettes --timings FindIT2_1.15.1.tar.gz |
| StartedAt: 2025-10-23 19:51:23 -0400 (Thu, 23 Oct 2025) |
| EndedAt: 2025-10-23 19:53:39 -0400 (Thu, 23 Oct 2025) |
| EllapsedTime: 135.7 seconds |
| RetCode: 0 |
| Status: OK |
| CheckDir: FindIT2.Rcheck |
| Warnings: 0 |
##############################################################################
##############################################################################
###
### Running command:
###
### /Library/Frameworks/R.framework/Resources/bin/R CMD check --install=check:FindIT2.install-out.txt --library=/Library/Frameworks/R.framework/Resources/library --no-vignettes --timings FindIT2_1.15.1.tar.gz
###
##############################################################################
##############################################################################
* using log directory ‘/Users/biocbuild/bbs-3.22-bioc/meat/FindIT2.Rcheck’
* using R version 4.5.1 Patched (2025-09-10 r88807)
* using platform: aarch64-apple-darwin20
* R was compiled by
Apple clang version 16.0.0 (clang-1600.0.26.6)
GNU Fortran (GCC) 14.2.0
* running under: macOS Ventura 13.7.7
* using session charset: UTF-8
* using option ‘--no-vignettes’
* checking for file ‘FindIT2/DESCRIPTION’ ... OK
* this is package ‘FindIT2’ version ‘1.15.1’
* package encoding: UTF-8
* checking package namespace information ... OK
* checking package dependencies ... INFO
Imports includes 22 non-default packages.
Importing from so many packages makes the package vulnerable to any of
them becoming unavailable. Move as many as possible to Suggests and
use conditionally.
* checking if this is a source package ... OK
* checking if there is a namespace ... OK
* checking for hidden files and directories ... OK
* checking for portable file names ... OK
* checking for sufficient/correct file permissions ... OK
* checking whether package ‘FindIT2’ can be installed ... OK
* checking installed package size ... OK
* checking package directory ... OK
* checking ‘build’ directory ... OK
* checking DESCRIPTION meta-information ... OK
* checking top-level files ... OK
* checking for left-over files ... OK
* checking index information ... OK
* checking package subdirectories ... OK
* checking code files for non-ASCII characters ... OK
* checking R files for syntax errors ... OK
* checking whether the package can be loaded ... OK
* checking whether the package can be loaded with stated dependencies ... OK
* checking whether the package can be unloaded cleanly ... OK
* checking whether the namespace can be loaded with stated dependencies ... OK
* checking whether the namespace can be unloaded cleanly ... OK
* checking dependencies in R code ... OK
* checking S3 generic/method consistency ... OK
* checking replacement functions ... OK
* checking foreign function calls ... OK
* checking R code for possible problems ... OK
* checking Rd files ... OK
* checking Rd metadata ... OK
* checking Rd cross-references ... OK
* checking for missing documentation entries ... OK
* checking for code/documentation mismatches ... OK
* checking Rd \usage sections ... OK
* checking Rd contents ... OK
* checking for unstated dependencies in examples ... OK
* checking contents of ‘data’ directory ... OK
* checking data for non-ASCII characters ... OK
* checking data for ASCII and uncompressed saves ... OK
* checking files in ‘vignettes’ ... OK
* checking examples ... OK
* checking for unstated dependencies in ‘tests’ ... OK
* checking tests ...
Running ‘testthat.R’
OK
* checking for unstated dependencies in vignettes ... OK
* checking package vignettes ... OK
* checking running R code from vignettes ... SKIPPED
* checking re-building of vignette outputs ... SKIPPED
* checking PDF version of manual ... OK
* DONE
Status: OK
FindIT2.Rcheck/00install.out
############################################################################## ############################################################################## ### ### Running command: ### ### /Library/Frameworks/R.framework/Resources/bin/R CMD INSTALL FindIT2 ### ############################################################################## ############################################################################## * installing to library ‘/Library/Frameworks/R.framework/Versions/4.5-arm64/Resources/library’ * installing *source* package ‘FindIT2’ ... ** this is package ‘FindIT2’ version ‘1.15.1’ ** using staged installation ** R ** data ** inst ** byte-compile and prepare package for lazy loading ** help *** installing help indices ** building package indices ** installing vignettes ** testing if installed package can be loaded from temporary location ** testing if installed package can be loaded from final location ** testing if installed package keeps a record of temporary installation path * DONE (FindIT2)
FindIT2.Rcheck/tests/testthat.Rout
R version 4.5.1 Patched (2025-09-10 r88807) -- "Great Square Root"
Copyright (C) 2025 The R Foundation for Statistical Computing
Platform: aarch64-apple-darwin20
R is free software and comes with ABSOLUTELY NO WARRANTY.
You are welcome to redistribute it under certain conditions.
Type 'license()' or 'licence()' for distribution details.
R is a collaborative project with many contributors.
Type 'contributors()' for more information and
'citation()' on how to cite R or R packages in publications.
Type 'demo()' for some demos, 'help()' for on-line help, or
'help.start()' for an HTML browser interface to help.
Type 'q()' to quit R.
> library(testthat)
> library(FindIT2)
Loading required package: GenomicRanges
Loading required package: stats4
Loading required package: BiocGenerics
Loading required package: generics
Attaching package: 'generics'
The following objects are masked from 'package:base':
as.difftime, as.factor, as.ordered, intersect, is.element, setdiff,
setequal, union
Attaching package: 'BiocGenerics'
The following objects are masked from 'package:stats':
IQR, mad, sd, var, xtabs
The following objects are masked from 'package:base':
Filter, Find, Map, Position, Reduce, anyDuplicated, aperm, append,
as.data.frame, basename, cbind, colnames, dirname, do.call,
duplicated, eval, evalq, get, grep, grepl, is.unsorted, lapply,
mapply, match, mget, order, paste, pmax, pmax.int, pmin, pmin.int,
rank, rbind, rownames, sapply, saveRDS, table, tapply, unique,
unsplit, which.max, which.min
Loading required package: S4Vectors
Attaching package: 'S4Vectors'
The following object is masked from 'package:utils':
findMatches
The following objects are masked from 'package:base':
I, expand.grid, unname
Loading required package: IRanges
Loading required package: Seqinfo
> if (!requireNamespace("TxDb.Athaliana.BioMart.plantsmart28")) {
+ stop("unable to load TxDb.Athaliana.BioMart.plantsmart28")
+ }
Loading required namespace: TxDb.Athaliana.BioMart.plantsmart28
>
> test_check("FindIT2")
>> preparing gene features information... 2025-10-23 19:53:16
>> some scan range may cross Chr bound, trimming... 2025-10-23 19:53:17
>> preparing weight info... 2025-10-23 19:53:17
>> loading E50h_sampleChr5.bw info... 2025-10-23 19:53:17
------------
>> extracting and calcluating Chr5 signal... 2025-10-23 19:53:17
>> dealing with Chr5 left gene signal... 2025-10-23 19:53:18
>> norming Chr5RP accoring to the whole Chr RP... 2025-10-23 19:53:18
>> merging all Chr RP together... 2025-10-23 19:53:18
>> done 2025-10-23 19:53:18
>> checking seqlevels match... 2025-10-23 19:53:18
>> your peak_GR seqlevel:Chr5...
>> your Txdb seqlevel:Chr1 Chr2 Chr3 Chr4 Chr5 ChrM ChrC...
Good, your Chrs in peak_GR is all in Txdb
------------
annotatePeak using geneScan mode begins
>> preparing gene features information and scan region... 2025-10-23 19:53:18
>> some scan range may cross Chr bound, trimming... 2025-10-23 19:53:19
>> finding overlap peak in gene scan region... 2025-10-23 19:53:19
>> dealing with left peak not your gene scan region... 2025-10-23 19:53:19
>> merging two set peaks... 2025-10-23 19:53:19
>> calculating distance and dealing with gene strand... 2025-10-23 19:53:19
>> merging all info together ... 2025-10-23 19:53:19
>> done 2025-10-23 19:53:19
>> calculating peakCenter to TSS using peak-gene pair... 2025-10-23 19:53:19
>> pre-filling 1356 noAssoc peak gene's RP with 0... 2025-10-23 19:53:19
>> calculating RP using centerToTSS and peak score2025-10-23 19:53:19
>> merging all info together 2025-10-23 19:53:20
>> done 2025-10-23 19:53:20
>> calculating peakCenter to TSS using peak-gene pair... 2025-10-23 19:53:20
>> pre-filling 1356 noAssoc peak gene's RP with 0... 2025-10-23 19:53:20
>> calculating RP using centerToTSS and peak score2025-10-23 19:53:20
>> merging all info together 2025-10-23 19:53:21
>> done 2025-10-23 19:53:21
>> checking seqlevels match... 2025-10-23 19:53:21
>> your peak_GR seqlevel:Chr5...
>> your Txdb seqlevel:Chr1 Chr2 Chr3 Chr4 Chr5 ChrM ChrC...
Good, your Chrs in peak_GR is all in Txdb
------------
annotatePeak using geneScan mode begins
>> preparing gene features information and scan region... 2025-10-23 19:53:21
>> some scan range may cross Chr bound, trimming... 2025-10-23 19:53:22
>> finding overlap peak in gene scan region... 2025-10-23 19:53:22
>> dealing with left peak not your gene scan region... 2025-10-23 19:53:22
>> merging two set peaks... 2025-10-23 19:53:22
>> calculating distance and dealing with gene strand... 2025-10-23 19:53:22
>> merging all info together ... 2025-10-23 19:53:22
>> done 2025-10-23 19:53:22
>> calculating peakCenter to TSS using peak-gene pair... 2025-10-23 19:53:22
>> calculating RP using centerToTSS and TF hit 2025-10-23 19:53:22
>> merging all info together 2025-10-23 19:53:22
>> done 2025-10-23 19:53:22
>> calculating peakCenter to TSS using peak-gene pair... 2025-10-23 19:53:22
>> calculating RP using centerToTSS and TF hit 2025-10-23 19:53:23
>> merging all info together 2025-10-23 19:53:23
>> done 2025-10-23 19:53:23
>> checking seqlevels match... 2025-10-23 19:53:23
>> your peak_GR seqlevel:Chr5...
>> your Txdb seqlevel:Chr1 Chr2 Chr3 Chr4 Chr5 ChrM ChrC...
Good, your Chrs in peak_GR is all in Txdb
------------
annotatePeak using geneScan mode begins
>> preparing gene features information and scan region... 2025-10-23 19:53:23
>> some scan range may cross Chr bound, trimming... 2025-10-23 19:53:23
>> finding overlap peak in gene scan region... 2025-10-23 19:53:23
>> dealing with left peak not your gene scan region... 2025-10-23 19:53:23
>> merging two set peaks... 2025-10-23 19:53:23
>> calculating distance and dealing with gene strand... 2025-10-23 19:53:23
>> merging all info together ... 2025-10-23 19:53:23
>> done 2025-10-23 19:53:23
>> calculating peakCenter to TSS using peak-gene pair... 2025-10-23 19:53:23
>> pre-filling 1356 noAssoc peak gene's RP with 0... 2025-10-23 19:53:23
>> calculating RP using centerToTSS and peak score2025-10-23 19:53:23
>> merging all info together 2025-10-23 19:53:24
>> done 2025-10-23 19:53:24
>> extracting RP info from regionRP... 2025-10-23 19:53:24
>> dealing with TF_GR_databse... 2025-10-23 19:53:24
>> calculating percent and p-value... 2025-10-23 19:53:24
>> dealing withE5_0h_R1... 2025-10-23 19:53:24
>> dealing withE5_0h_R2... 2025-10-23 19:53:24
>> dealing withE5_4h_R1... 2025-10-23 19:53:24
>> dealing withE5_4h_R2... 2025-10-23 19:53:24
>> dealing withE5_8h_R1... 2025-10-23 19:53:24
>> dealing withE5_8h_R2... 2025-10-23 19:53:24
>> dealing withE5_16h_R1... 2025-10-23 19:53:25
>> dealing withE5_16h_R2... 2025-10-23 19:53:25
>> dealing withE5_24h_R1... 2025-10-23 19:53:25
>> dealing withE5_24h_R2... 2025-10-23 19:53:25
>> dealing withE5_48h_R1... 2025-10-23 19:53:25
>> dealing withE5_48h_R2... 2025-10-23 19:53:25
>> dealing withE5_48h_R3... 2025-10-23 19:53:25
>> dealing withE5_72h_R1... 2025-10-23 19:53:25
>> dealing withE5_72h_R2... 2025-10-23 19:53:25
>> dealing withE5_72h_R3... 2025-10-23 19:53:25
>> merging all info together... 2025-10-23 19:53:25
>> done 2025-10-23 19:53:25
>> preparing gene features information... 2025-10-23 19:53:25
>> some scan range may cross Chr bound, trimming... 2025-10-23 19:53:25
>> calculating p-value for each TF, which may be time consuming... 2025-10-23 19:53:25
>> merging all info together... 2025-10-23 19:53:25
>> done 2025-10-23 19:53:25
>> dealing with TF_GR_database... 2025-10-23 19:53:25
>> calculating coef and converting into z-score using INT... 2025-10-23 19:53:25
>> dealing with E5_0h_R1... 2025-10-23 19:53:25
>> dealing with E5_0h_R2... 2025-10-23 19:53:25
>> dealing with E5_4h_R1... 2025-10-23 19:53:25
>> dealing with E5_4h_R2... 2025-10-23 19:53:25
>> dealing with E5_8h_R1... 2025-10-23 19:53:25
>> dealing with E5_8h_R2... 2025-10-23 19:53:25
>> dealing with E5_16h_R1... 2025-10-23 19:53:25
>> dealing with E5_16h_R2... 2025-10-23 19:53:25
>> dealing with E5_24h_R1... 2025-10-23 19:53:25
>> dealing with E5_24h_R2... 2025-10-23 19:53:25
>> dealing with E5_48h_R1... 2025-10-23 19:53:25
>> dealing with E5_48h_R2... 2025-10-23 19:53:25
>> dealing with E5_48h_R3... 2025-10-23 19:53:25
>> dealing with E5_72h_R1... 2025-10-23 19:53:25
>> dealing with E5_72h_R2... 2025-10-23 19:53:25
>> dealing with E5_72h_R3... 2025-10-23 19:53:25
>> merging all info together... 2025-10-23 19:53:25
>> done 2025-10-23 19:53:26
>> checking seqlevels match... 2025-10-23 19:53:26
>> your peak_GR seqlevel:Chr5...
>> your Txdb seqlevel:Chr1 Chr2 Chr3 Chr4 Chr5 ChrM ChrC...
Good, your Chrs in peak_GR is all in Txdb
------------
annotatePeak using geneScan mode begins
>> preparing gene features information and scan region... 2025-10-23 19:53:26
>> some scan range may cross Chr bound, trimming... 2025-10-23 19:53:26
>> finding overlap peak in gene scan region... 2025-10-23 19:53:26
>> dealing with left peak not your gene scan region... 2025-10-23 19:53:26
>> merging two set peaks... 2025-10-23 19:53:26
>> calculating distance and dealing with gene strand... 2025-10-23 19:53:26
>> merging all info together ... 2025-10-23 19:53:26
>> done 2025-10-23 19:53:26
>> calculating peakCenter to TSS using peak-gene pair... 2025-10-23 19:53:26
>> calculating RP using centerToTSS and TF hit 2025-10-23 19:53:26
>> merging all info together 2025-10-23 19:53:26
>> done 2025-10-23 19:53:26
>> checking seqlevels match... 2025-10-23 19:53:26
>> your peak_GR seqlevel:5...
>> your Txdb seqlevel:Chr1 Chr2 Chr3 Chr4 Chr5 ChrM ChrC...
>> checking seqlevels match... 2025-10-23 19:53:26
>> your peak_GR seqlevel:Chr5 Chr6...
>> your Txdb seqlevel:Chr1 Chr2 Chr3 Chr4 Chr5 ChrM ChrC...
>> checking seqlevels match... 2025-10-23 19:53:27
>> your peak_GR seqlevel:Chr5...
>> your Txdb seqlevel:Chr1 Chr2 Chr3 Chr4 Chr5 ChrM ChrC...
Good, your Chrs in peak_GR is all in Txdb
>> checking seqlevels match... 2025-10-23 19:53:27
>> your peak_GR seqlevel:Chr5...
>> your Txdb seqlevel:Chr1 Chr2 Chr3 Chr4 Chr5 ChrM ChrC...
Good, your Chrs in peak_GR is all in Txdb
------------
annotating Peak using nearest gene mode begins
>> preparing gene features information... 2025-10-23 19:53:27
>> finding nearest gene and calculating distance... 2025-10-23 19:53:28
>> dealing with gene strand ... 2025-10-23 19:53:28
>> merging all info together ... 2025-10-23 19:53:28
>> done 2025-10-23 19:53:28
>> checking seqlevels match... 2025-10-23 19:53:28
>> your peak_GR seqlevel:Chr5...
>> your Txdb seqlevel:Chr1 Chr2 Chr3 Chr4 Chr5 ChrM ChrC...
Good, your Chrs in peak_GR is all in Txdb
>> checking seqlevels match... 2025-10-23 19:53:28
>> your peak_GR seqlevel:Chr5...
>> your Txdb seqlevel:Chr1 Chr2 Chr3 Chr4 Chr5 ChrM ChrC...
Good, your Chrs in peak_GR is all in Txdb
------------
annotating Peak using nearest gene mode begins
>> preparing gene features information... 2025-10-23 19:53:28
>> finding nearest gene and calculating distance... 2025-10-23 19:53:28
>> dealing with gene strand ... 2025-10-23 19:53:28
>> merging all info together ... 2025-10-23 19:53:28
>> done 2025-10-23 19:53:28
>> checking seqlevels match... 2025-10-23 19:53:28
>> your peak_GR seqlevel:Chr5...
>> your Txdb seqlevel:Chr1 Chr2 Chr3 Chr4 Chr5 ChrM ChrC...
Good, your Chrs in peak_GR is all in Txdb
>> checking seqlevels match... 2025-10-23 19:53:28
>> your peak_GR seqlevel:Chr5...
>> your Txdb seqlevel:Chr1 Chr2 Chr3 Chr4 Chr5 ChrM ChrC...
Good, your Chrs in peak_GR is all in Txdb
------------
annotating Peak using nearest gene mode begins
>> preparing gene features information... 2025-10-23 19:53:28
>> finding nearest gene and calculating distance... 2025-10-23 19:53:29
>> dealing with gene strand ... 2025-10-23 19:53:29
>> merging all info together ... 2025-10-23 19:53:29
>> done 2025-10-23 19:53:29
>> checking seqlevels match... 2025-10-23 19:53:29
>> your peak_GR seqlevel:Chr5...
>> your Txdb seqlevel:Chr1 Chr2 Chr3 Chr4 Chr5 ChrM ChrC...
Good, your Chrs in peak_GR is all in Txdb
>> checking seqlevels match... 2025-10-23 19:53:29
>> your peak_GR seqlevel:Chr5...
>> your Txdb seqlevel:Chr1 Chr2 Chr3 Chr4 Chr5 ChrM ChrC...
Good, your Chrs in peak_GR is all in Txdb
------------
annotating Peak using nearest gene mode begins
>> preparing gene features information... 2025-10-23 19:53:29
>> finding nearest gene and calculating distance... 2025-10-23 19:53:30
>> dealing with gene strand ... 2025-10-23 19:53:30
>> merging all info together ... 2025-10-23 19:53:30
>> done 2025-10-23 19:53:30
It seems that there 1 genes have not been annotated by nearestGene mode
>> checking seqlevels match... 2025-10-23 19:53:30
>> your peak_GR seqlevel:Chr5...
>> your Txdb seqlevel:Chr1 Chr2 Chr3 Chr4 Chr5 ChrM ChrC...
Good, your Chrs in peak_GR is all in Txdb
>> checking seqlevels match... 2025-10-23 19:53:30
>> your peak_GR seqlevel:Chr5...
>> your Txdb seqlevel:Chr1 Chr2 Chr3 Chr4 Chr5 ChrM ChrC...
Good, your Chrs in peak_GR is all in Txdb
------------
annotating Peak using nearest gene mode begins
>> preparing gene features information... 2025-10-23 19:53:30
>> finding nearest gene and calculating distance... 2025-10-23 19:53:30
>> dealing with gene strand ... 2025-10-23 19:53:30
>> merging all info together ... 2025-10-23 19:53:30
>> done 2025-10-23 19:53:30
It seems that there 1 genes have not been annotated by nearestGene mode
>> checking seqlevels match... 2025-10-23 19:53:31
>> your peak_GR seqlevel:Chr5...
>> your Txdb seqlevel:Chr1 Chr2 Chr3 Chr4 Chr5 ChrM ChrC...
Good, your Chrs in peak_GR is all in Txdb
>> checking seqlevels match... 2025-10-23 19:53:31
>> your peak_GR seqlevel:Chr5...
>> your Txdb seqlevel:Chr1 Chr2 Chr3 Chr4 Chr5 ChrM ChrC...
Good, your Chrs in peak_GR is all in Txdb
>> some scan range may cross Chr bound, trimming... 2025-10-23 19:53:31
>> checking seqlevels match... 2025-10-23 19:53:31
>> your peak_GR seqlevel:Chr5...
>> your Txdb seqlevel:Chr1 Chr2 Chr3 Chr4 Chr5 ChrM ChrC...
Good, your Chrs in peak_GR is all in Txdb
>> some scan range may cross Chr bound, trimming... 2025-10-23 19:53:32
Good, your two matrix colnames matchs
>> calculating cor and pvalue, which may be time consuming... 2025-10-23 19:53:32
>> merging all info together... 2025-10-23 19:53:32
>> done 2025-10-23 19:53:32
>> checking seqlevels match... 2025-10-23 19:53:32
>> your peak_GR seqlevel:Chr5...
>> your Txdb seqlevel:Chr1 Chr2 Chr3 Chr4 Chr5 ChrM ChrC...
Good, your Chrs in peak_GR is all in Txdb
>> using scanPromoter parameter to scan promoter for each gene... 2025-10-23 19:53:32
>> checking seqlevels match... 2025-10-23 19:53:32
>> your peak_GR seqlevel:Chr5...
>> your Txdb seqlevel:Chr1 Chr2 Chr3 Chr4 Chr5 ChrM ChrC...
Good, your Chrs in peak_GR is all in Txdb
>> some scan range may cross Chr bound, trimming... 2025-10-23 19:53:32
>> there are 85 gene have scaned promoter
>> using scanEnhancer parameter to scan Enhancer for each gene... 2025-10-23 19:53:32
>> checking seqlevels match... 2025-10-23 19:53:32
>> your peak_GR seqlevel:Chr5...
>> your Txdb seqlevel:Chr1 Chr2 Chr3 Chr4 Chr5 ChrM ChrC...
Good, your Chrs in peak_GR is all in Txdb
>> some scan range may cross Chr bound, trimming... 2025-10-23 19:53:33
>> calculating cor and pvalue, which may be time consuming... 2025-10-23 19:53:33
>> merging all info together... 2025-10-23 19:53:33
>> done 2025-10-23 19:53:33
Good, your two matrix colnames matchs
>> calculating cor and pvalue, which may be time consuming... 2025-10-23 19:53:33
>> merging all info together... 2025-10-23 19:53:33
>> done 2025-10-23 19:53:33
>> checking seqlevels match... 2025-10-23 19:53:33
>> your peak_GR seqlevel:Chr5...
>> your Txdb seqlevel:Chr1 Chr2 Chr3 Chr4 Chr5 ChrM ChrC...
Good, your Chrs in peak_GR is all in Txdb
------------
annotatePeak using geneScan mode begins
>> preparing gene features information and scan region... 2025-10-23 19:53:33
>> some scan range may cross Chr bound, trimming... 2025-10-23 19:53:33
>> finding overlap peak in gene scan region... 2025-10-23 19:53:33
>> dealing with left peak not your gene scan region... 2025-10-23 19:53:33
>> merging two set peaks... 2025-10-23 19:53:33
>> calculating distance and dealing with gene strand... 2025-10-23 19:53:33
>> merging all info together ... 2025-10-23 19:53:33
>> done 2025-10-23 19:53:33
Good, your two matrix colnames matchs
>> calculating cor and pvalue, which may be time consuming... 2025-10-23 19:53:34
>> merging all info together... 2025-10-23 19:53:34
>> done 2025-10-23 19:53:34
>> checking seqlevels match... 2025-10-23 19:53:34
>> your peak_GR seqlevel:Chr5...
>> your Txdb seqlevel:Chr1 Chr2 Chr3 Chr4 Chr5 ChrM ChrC...
Good, your Chrs in peak_GR is all in Txdb
>> using scanPromoter parameter to scan promoter for each gene... 2025-10-23 19:53:34
>> checking seqlevels match... 2025-10-23 19:53:34
>> your peak_GR seqlevel:Chr5...
>> your Txdb seqlevel:Chr1 Chr2 Chr3 Chr4 Chr5 ChrM ChrC...
Good, your Chrs in peak_GR is all in Txdb
>> some scan range may cross Chr bound, trimming... 2025-10-23 19:53:34
>> there are 85 gene have scaned promoter
>> using scanEnhancer parameter to scan Enhancer for each gene... 2025-10-23 19:53:34
>> checking seqlevels match... 2025-10-23 19:53:34
>> your peak_GR seqlevel:Chr5...
>> your Txdb seqlevel:Chr1 Chr2 Chr3 Chr4 Chr5 ChrM ChrC...
Good, your Chrs in peak_GR is all in Txdb
>> some scan range may cross Chr bound, trimming... 2025-10-23 19:53:34
>> calculating cor and pvalue, which may be time consuming... 2025-10-23 19:53:34
>> merging all info together... 2025-10-23 19:53:34
>> done 2025-10-23 19:53:34
Joining with `by = join_by(feature_id)`
Joining with `by = join_by(feature_id)`
`geom_smooth()` using formula = 'y ~ x'
Joining with `by = join_by(feature_id)`
Joining with `by = join_by(feature_id)`
`geom_smooth()` using formula = 'y ~ x'
[ FAIL 0 | WARN 0 | SKIP 0 | PASS 65 ]
>
> proc.time()
user system elapsed
21.973 1.099 23.352
FindIT2.Rcheck/FindIT2-Ex.timings
| name | user | system | elapsed | |
| TF_target_database | 0 | 0 | 0 | |
| calcRP_TFHit | 1.285 | 0.043 | 1.363 | |
| calcRP_coverage | 1.234 | 0.224 | 1.460 | |
| calcRP_region | 1.963 | 0.050 | 2.014 | |
| enhancerPromoterCor | 0.861 | 0.033 | 0.895 | |
| findIT_MARA | 0.140 | 0.006 | 0.147 | |
| findIT_TFHit | 0.292 | 0.009 | 0.302 | |
| findIT_TTPair | 0.025 | 0.002 | 0.027 | |
| findIT_enrichFisher | 0.050 | 0.001 | 0.051 | |
| findIT_enrichWilcox | 0.053 | 0.001 | 0.055 | |
| findIT_regionRP | 1.892 | 0.040 | 1.943 | |
| getAssocPairNumber | 0.374 | 0.010 | 0.385 | |
| integrate_ChIP_RNA | 0.692 | 0.024 | 0.717 | |
| integrate_replicates | 0.001 | 0.000 | 0.001 | |
| jaccard_findIT_TTpair | 0.035 | 0.002 | 0.037 | |
| jaccard_findIT_enrichFisher | 0.062 | 0.002 | 0.064 | |
| loadPeakFile | 0.019 | 0.001 | 0.018 | |
| mm_geneBound | 0.380 | 0.010 | 0.389 | |
| mm_geneScan | 0.381 | 0.016 | 0.398 | |
| mm_nearestGene | 0.367 | 0.011 | 0.379 | |
| peakGeneCor | 0.735 | 0.027 | 0.764 | |
| plot_annoDistance | 0.945 | 0.025 | 0.972 | |
| plot_peakGeneAlias_summary | 0.416 | 0.018 | 0.433 | |
| plot_peakGeneCor | 0.947 | 0.020 | 0.967 | |
| test_geneSet | 0 | 0 | 0 | |