Back to Multiple platform build/check report for BioC 3.22:   simplified   long
AB[C]DEFGHIJKLMNOPQRSTUVWXYZ

This page was generated on 2025-05-05 12:10 -0400 (Mon, 05 May 2025).

HostnameOSArch (*)R versionInstalled pkgs
nebbiolo2Linux (Ubuntu 24.04.1 LTS)x86_644.5.0 (2025-04-11) -- "How About a Twenty-Six" 4745
palomino8Windows Server 2022 Datacenterx644.5.0 (2025-04-11 ucrt) -- "How About a Twenty-Six" 4507
lconwaymacOS 12.7.1 Montereyx86_644.5.0 Patched (2025-04-21 r88169) -- "How About a Twenty-Six" 4546
kjohnson3macOS 13.7.1 Venturaarm644.5.0 Patched (2025-04-21 r88169) -- "How About a Twenty-Six" 4487
taishanLinux (openEuler 24.03 LTS)aarch644.5.0 (2025-04-11) -- "How About a Twenty-Six" 4434
Click on any hostname to see more info about the system (e.g. compilers)      (*) as reported by 'uname -p', except on Windows and Mac OS X

Package 434/2304HostnameOS / ArchINSTALLBUILDCHECKBUILD BIN
conumee 1.43.0  (landing page)
Volker Hovestadt
Snapshot Date: 2025-05-04 13:00 -0400 (Sun, 04 May 2025)
git_url: https://git.bioconductor.org/packages/conumee
git_branch: devel
git_last_commit: 748b185
git_last_commit_date: 2025-04-15 10:50:20 -0400 (Tue, 15 Apr 2025)
nebbiolo2Linux (Ubuntu 24.04.1 LTS) / x86_64  OK    OK    OK  UNNEEDED, same version is already published
palomino8Windows Server 2022 Datacenter / x64... NOT SUPPORTED ...
lconwaymacOS 12.7.1 Monterey / x86_64  OK    OK    OK    OK  UNNEEDED, same version is already published
kjohnson3macOS 13.7.1 Ventura / arm64  OK    OK    OK    OK  UNNEEDED, same version is already published
taishanLinux (openEuler 24.03 LTS) / aarch64  OK    OK    OK  


CHECK results for conumee on kjohnson3

To the developers/maintainers of the conumee package:
- Allow up to 24 hours (and sometimes 48 hours) for your latest push to git@git.bioconductor.org:packages/conumee.git to reflect on this report. See Troubleshooting Build Report for more information.
- Use the following Renviron settings to reproduce errors and warnings.
- If 'R CMD check' started to fail recently on the Linux builder(s) over a missing dependency, add the missing dependency to 'Suggests:' in your DESCRIPTION file. See Renviron.bioc for more information.

raw results


Summary

Package: conumee
Version: 1.43.0
Command: /Library/Frameworks/R.framework/Resources/bin/R CMD check --install=check:conumee.install-out.txt --library=/Library/Frameworks/R.framework/Resources/library --no-vignettes --timings conumee_1.43.0.tar.gz
StartedAt: 2025-05-04 18:46:02 -0400 (Sun, 04 May 2025)
EndedAt: 2025-05-04 18:56:13 -0400 (Sun, 04 May 2025)
EllapsedTime: 611.1 seconds
RetCode: 0
Status:   OK  
CheckDir: conumee.Rcheck
Warnings: 0

Command output

##############################################################################
##############################################################################
###
### Running command:
###
###   /Library/Frameworks/R.framework/Resources/bin/R CMD check --install=check:conumee.install-out.txt --library=/Library/Frameworks/R.framework/Resources/library --no-vignettes --timings conumee_1.43.0.tar.gz
###
##############################################################################
##############################################################################


* using log directory ‘/Users/biocbuild/bbs-3.22-bioc/meat/conumee.Rcheck’
* using R version 4.5.0 Patched (2025-04-21 r88169)
* using platform: aarch64-apple-darwin20
* R was compiled by
    Apple clang version 16.0.0 (clang-1600.0.26.6)
    GNU Fortran (GCC) 14.2.0
* running under: macOS Ventura 13.7.1
* using session charset: UTF-8
* using option ‘--no-vignettes’
* checking for file ‘conumee/DESCRIPTION’ ... OK
* this is package ‘conumee’ version ‘1.43.0’
* checking package namespace information ... OK
* checking package dependencies ... OK
* checking if this is a source package ... OK
* checking if there is a namespace ... OK
* checking for hidden files and directories ... NOTE
Found the following hidden files and directories:
  .BBSoptions
These were most likely included in error. See section ‘Package
structure’ in the ‘Writing R Extensions’ manual.
* checking for portable file names ... OK
* checking for sufficient/correct file permissions ... OK
* checking whether package ‘conumee’ can be installed ... OK
* checking installed package size ... OK
* checking package directory ... OK
* checking ‘build’ directory ... OK
* checking DESCRIPTION meta-information ... OK
* checking top-level files ... OK
* checking for left-over files ... OK
* checking index information ... OK
* checking package subdirectories ... OK
* checking code files for non-ASCII characters ... OK
* checking R files for syntax errors ... OK
* checking whether the package can be loaded ... OK
* checking whether the package can be loaded with stated dependencies ... OK
* checking whether the package can be unloaded cleanly ... OK
* checking whether the namespace can be loaded with stated dependencies ... OK
* checking whether the namespace can be unloaded cleanly ... OK
* checking dependencies in R code ... OK
* checking S3 generic/method consistency ... OK
* checking replacement functions ... OK
* checking foreign function calls ... OK
* checking R code for possible problems ... NOTE
CNV.load,GenomicRatioSet: no visible global function definition for
  ‘assays’
CNV.load,matrix: no visible binding for global variable ‘anno’
Undefined global functions or variables:
  anno assays
* checking Rd files ... OK
* checking Rd metadata ... OK
* checking Rd cross-references ... OK
* checking for missing documentation entries ... OK
* checking for code/documentation mismatches ... OK
* checking Rd \usage sections ... OK
* checking Rd contents ... OK
* checking for unstated dependencies in examples ... OK
* checking contents of ‘data’ directory ... OK
* checking data for non-ASCII characters ... OK
* checking data for ASCII and uncompressed saves ... OK
* checking R/sysdata.rda ... OK
* checking files in ‘vignettes’ ... OK
* checking examples ... OK
Examples with CPU (user + system) or elapsed time > 5s
                      user system elapsed
CNV.genomeplot      24.026  2.659  27.105
CNV.detailplot      22.011  2.456  24.698
CNV.write           21.778  2.212  24.066
CNV.analysis-class  21.601  2.105  23.980
CNV.detailplot_wrap 21.003  2.381  23.815
CNV.segment         20.600  2.131  22.950
CNV.fit             15.052  1.994  17.209
CNV.detail          11.745  1.768  13.628
CNV.bin             11.618  1.718  13.435
CNV.create_anno     10.584  1.812  12.515
CNV.anno-class       9.606  1.485  11.168
read.450k.url        2.947  0.298   6.132
* checking for unstated dependencies in vignettes ... OK
* checking package vignettes ... OK
* checking running R code from vignettes ... SKIPPED
* checking re-building of vignette outputs ... SKIPPED
* checking PDF version of manual ... OK
* DONE

Status: 2 NOTEs
See
  ‘/Users/biocbuild/bbs-3.22-bioc/meat/conumee.Rcheck/00check.log’
for details.


Installation output

conumee.Rcheck/00install.out

##############################################################################
##############################################################################
###
### Running command:
###
###   /Library/Frameworks/R.framework/Resources/bin/R CMD INSTALL conumee
###
##############################################################################
##############################################################################


* installing to library ‘/Library/Frameworks/R.framework/Versions/4.5-arm64/Resources/library’
* installing *source* package ‘conumee’ ...
** this is package ‘conumee’ version ‘1.43.0’
** using staged installation
** R
** data
** inst
** byte-compile and prepare package for lazy loading
** help
*** installing help indices
** building package indices
** installing vignettes
** testing if installed package can be loaded from temporary location
** testing if installed package can be loaded from final location
** testing if installed package keeps a record of temporary installation path
* DONE (conumee)

Tests output


Example timings

conumee.Rcheck/conumee-Ex.timings

nameusersystemelapsed
CNV.analysis-class21.601 2.10523.980
CNV.anno-class 9.606 1.48511.168
CNV.bin11.618 1.71813.435
CNV.create_anno10.584 1.81212.515
CNV.data-class0.7790.0860.866
CNV.detail11.745 1.76813.628
CNV.detailplot22.011 2.45624.698
CNV.detailplot_wrap21.003 2.38123.815
CNV.fit15.052 1.99417.209
CNV.genomeplot24.026 2.65927.105
CNV.load1.0340.0671.105
CNV.segment20.600 2.13122.950
CNV.write21.778 2.21224.066
read.450k.url2.9470.2986.132