| Back to Multiple platform build/check report for BioC 3.23: simplified long |
|
This page was generated on 2025-11-17 11:41 -0500 (Mon, 17 Nov 2025).
| Hostname | OS | Arch (*) | R version | Installed pkgs |
|---|---|---|---|---|
| nebbiolo1 | Linux (Ubuntu 24.04.3 LTS) | x86_64 | R Under development (unstable) (2025-10-20 r88955) -- "Unsuffered Consequences" | 4826 |
| lconway | macOS 12.7.6 Monterey | x86_64 | R Under development (unstable) (2025-10-21 r88958) -- "Unsuffered Consequences" | 4491 |
| kjohnson3 | macOS 13.7.7 Ventura | arm64 | R Under development (unstable) (2025-11-04 r88984) -- "Unsuffered Consequences" | 4562 |
| Click on any hostname to see more info about the system (e.g. compilers) (*) as reported by 'uname -p', except on Windows and Mac OS X | ||||
| Package 2031/2325 | Hostname | OS / Arch | INSTALL | BUILD | CHECK | BUILD BIN | ||||||||
| SOMNiBUS 1.19.0 (landing page) Kathleen Klein
| nebbiolo1 | Linux (Ubuntu 24.04.3 LTS) / x86_64 | OK | OK | OK | |||||||||
| lconway | macOS 12.7.6 Monterey / x86_64 | OK | OK | OK | OK | |||||||||
| kjohnson3 | macOS 13.7.7 Ventura / arm64 | OK | OK | OK | OK | |||||||||
|
To the developers/maintainers of the SOMNiBUS package: - Allow up to 24 hours (and sometimes 48 hours) for your latest push to git@git.bioconductor.org:packages/SOMNiBUS.git to reflect on this report. See Troubleshooting Build Report for more information. - Use the following Renviron settings to reproduce errors and warnings. - If 'R CMD check' started to fail recently on the Linux builder(s) over a missing dependency, add the missing dependency to 'Suggests:' in your DESCRIPTION file. See Renviron.bioc for more information. |
| Package: SOMNiBUS |
| Version: 1.19.0 |
| Command: /Library/Frameworks/R.framework/Resources/bin/R CMD check --install=check:SOMNiBUS.install-out.txt --library=/Library/Frameworks/R.framework/Resources/library --no-vignettes --timings SOMNiBUS_1.19.0.tar.gz |
| StartedAt: 2025-11-16 22:37:59 -0500 (Sun, 16 Nov 2025) |
| EndedAt: 2025-11-16 22:45:07 -0500 (Sun, 16 Nov 2025) |
| EllapsedTime: 428.1 seconds |
| RetCode: 0 |
| Status: OK |
| CheckDir: SOMNiBUS.Rcheck |
| Warnings: 0 |
##############################################################################
##############################################################################
###
### Running command:
###
### /Library/Frameworks/R.framework/Resources/bin/R CMD check --install=check:SOMNiBUS.install-out.txt --library=/Library/Frameworks/R.framework/Resources/library --no-vignettes --timings SOMNiBUS_1.19.0.tar.gz
###
##############################################################################
##############################################################################
* using log directory ‘/Users/biocbuild/bbs-3.23-bioc/meat/SOMNiBUS.Rcheck’
* using R Under development (unstable) (2025-11-04 r88984)
* using platform: aarch64-apple-darwin20
* R was compiled by
Apple clang version 16.0.0 (clang-1600.0.26.6)
GNU Fortran (GCC) 14.2.0
* running under: macOS Ventura 13.7.8
* using session charset: UTF-8
* using option ‘--no-vignettes’
* checking for file ‘SOMNiBUS/DESCRIPTION’ ... OK
* this is package ‘SOMNiBUS’ version ‘1.19.0’
* package encoding: UTF-8
* checking package namespace information ... OK
* checking package dependencies ... OK
* checking if this is a source package ... OK
* checking if there is a namespace ... OK
* checking for hidden files and directories ... OK
* checking for portable file names ... OK
* checking for sufficient/correct file permissions ... OK
* checking whether package ‘SOMNiBUS’ can be installed ... OK
* checking installed package size ... OK
* checking package directory ... OK
* checking ‘build’ directory ... OK
* checking DESCRIPTION meta-information ... OK
* checking top-level files ... OK
* checking for left-over files ... OK
* checking index information ... OK
* checking package subdirectories ... OK
* checking code files for non-ASCII characters ... OK
* checking R files for syntax errors ... OK
* checking whether the package can be loaded ... OK
* checking whether the package can be loaded with stated dependencies ... OK
* checking whether the package can be unloaded cleanly ... OK
* checking whether the namespace can be loaded with stated dependencies ... OK
* checking whether the namespace can be unloaded cleanly ... OK
* checking whether startup messages can be suppressed ... OK
* checking dependencies in R code ... OK
* checking S3 generic/method consistency ... OK
* checking replacement functions ... OK
* checking foreign function calls ... OK
* checking R code for possible problems ... OK
* checking Rd files ... OK
* checking Rd metadata ... OK
* checking Rd cross-references ... OK
* checking for missing documentation entries ... OK
* checking for code/documentation mismatches ... OK
* checking Rd \usage sections ... OK
* checking Rd contents ... OK
* checking for unstated dependencies in examples ... OK
* checking contents of ‘data’ directory ... OK
* checking data for non-ASCII characters ... OK
* checking data for ASCII and uncompressed saves ... OK
* checking files in ‘vignettes’ ... OK
* checking examples ... OK
Examples with CPU (user + system) or elapsed time > 5s
user system elapsed
binomRegMethModel 52.640 29.694 90.000
runSOMNiBUS 43.057 25.491 80.293
binomRegMethModelPlot 11.151 4.019 32.924
binomRegMethModelPred 10.818 3.551 32.350
binomRegMethPredPlot 10.833 3.473 25.570
splitDataByGene 7.641 0.678 8.637
* checking for unstated dependencies in vignettes ... OK
* checking package vignettes ... OK
* checking running R code from vignettes ... SKIPPED
* checking re-building of vignette outputs ... SKIPPED
* checking PDF version of manual ... OK
* DONE
Status: OK
SOMNiBUS.Rcheck/00install.out
############################################################################## ############################################################################## ### ### Running command: ### ### /Library/Frameworks/R.framework/Resources/bin/R CMD INSTALL SOMNiBUS ### ############################################################################## ############################################################################## * installing to library ‘/Library/Frameworks/R.framework/Versions/4.6-arm64/Resources/library’ * installing *source* package ‘SOMNiBUS’ ... ** this is package ‘SOMNiBUS’ version ‘1.19.0’ ** using staged installation ** R ** data ** inst ** byte-compile and prepare package for lazy loading ** help *** installing help indices ** building package indices ** installing vignettes ** testing if installed package can be loaded from temporary location ** testing if installed package can be loaded from final location ** testing if installed package keeps a record of temporary installation path * DONE (SOMNiBUS)
SOMNiBUS.Rcheck/SOMNiBUS-Ex.timings
| name | user | system | elapsed | |
| binomRegMethModel | 52.640 | 29.694 | 90.000 | |
| binomRegMethModelPlot | 11.151 | 4.019 | 32.924 | |
| binomRegMethModelPred | 10.818 | 3.551 | 32.350 | |
| binomRegMethModelSim | 0.574 | 0.258 | 1.380 | |
| binomRegMethPredPlot | 10.833 | 3.473 | 25.570 | |
| formatFromBSseq | 0.039 | 0.001 | 0.040 | |
| formatFromBismark | 2.277 | 0.150 | 2.560 | |
| runSOMNiBUS | 43.057 | 25.491 | 80.293 | |
| splitDataByChromatin | 3.654 | 0.166 | 4.440 | |
| splitDataByDensity | 0.691 | 0.007 | 0.732 | |
| splitDataByGRanges | 0.061 | 0.004 | 0.064 | |
| splitDataByGene | 7.641 | 0.678 | 8.637 | |
| splitDataByRegion | 0.006 | 0.004 | 0.009 | |