| Back to Mac ARM64 build report for BioC 3.17 |
|
This page was generated on 2023-10-20 09:37:55 -0400 (Fri, 20 Oct 2023).
| Hostname | OS | Arch (*) | R version | Installed pkgs |
|---|---|---|---|---|
| kjohnson2 | macOS 12.6.1 Monterey | arm64 | 4.3.1 (2023-06-16) -- "Beagle Scouts" | 4347 |
| Click on any hostname to see more info about the system (e.g. compilers) (*) as reported by 'uname -p', except on Windows and Mac OS X | ||||
|
To the developers/maintainers of the S4Vectors package: - Use the following Renviron settings to reproduce errors and warnings. - If 'R CMD check' started to fail recently on the Linux builder(s) over a missing dependency, add the missing dependency to 'Suggests:' in your DESCRIPTION file. See Renviron.bioc for more information. |
| Package 1797/2230 | Hostname | OS / Arch | INSTALL | BUILD | CHECK | BUILD BIN | ||||||||
| S4Vectors 0.38.2 (landing page) Hervé Pagès
| kjohnson2 | macOS 12.6.1 Monterey / arm64 | OK | OK | WARNINGS | OK | ||||||||
| QUICK STATS | OS / Arch | INSTALL | BUILD | CHECK | BUILD BIN | |||||||||||||||||
| kjohnson2 | macOS 12.6.1 Monterey / arm64 |
|
|
|
| |||||||||||||||||
| Package 1/664 | Hostname | OS / Arch | INSTALL | BUILD | CHECK | BUILD BIN | ||||||||||||||||
| ADImpute 1.10.0 (landing page) Ana Carolina Leote
| kjohnson2 | macOS 12.6.1 Monterey / arm64 | OK | OK | WARNINGS | OK | ||||||||||||||||
| Package 2/664 | Hostname | OS / Arch | INSTALL | BUILD | CHECK | BUILD BIN | ||||||||||||||||
| affycoretools 1.72.0 (landing page) James W. MacDonald
| kjohnson2 | macOS 12.6.1 Monterey / arm64 | OK | OK | OK | OK | ||||||||||||||||
| Package 3/664 | Hostname | OS / Arch | INSTALL | BUILD | CHECK | BUILD BIN | ||||||||||||||||
| aggregateBioVar 1.10.0 (landing page) Jason Ratcliff
| kjohnson2 | macOS 12.6.1 Monterey / arm64 | OK | OK | OK | OK | ||||||||||||||||
| Package 4/664 | Hostname | OS / Arch | INSTALL | BUILD | CHECK | BUILD BIN | ||||||||||||||||
| airpart 1.8.0 (landing page) Wancen Mu
| kjohnson2 | macOS 12.6.1 Monterey / arm64 | OK | OK | OK | OK | ||||||||||||||||
| Package 5/664 | Hostname | OS / Arch | INSTALL | BUILD | CHECK | BUILD BIN | ||||||||||||||||
| alabaster.base 1.0.0 (landing page) Aaron Lun
| kjohnson2 | macOS 12.6.1 Monterey / arm64 | OK | OK | WARNINGS | OK | ||||||||||||||||
| Package 6/664 | Hostname | OS / Arch | INSTALL | BUILD | CHECK | BUILD BIN | ||||||||||||||||
| alabaster.bumpy 1.0.0 (landing page) Aaron Lun
| kjohnson2 | macOS 12.6.1 Monterey / arm64 | OK | OK | OK | OK | ||||||||||||||||
| Package 7/664 | Hostname | OS / Arch | INSTALL | BUILD | CHECK | BUILD BIN | ||||||||||||||||
| alabaster.mae 1.0.0 (landing page) Aaron Lun
| kjohnson2 | macOS 12.6.1 Monterey / arm64 | OK | OK | OK | OK | ||||||||||||||||
| Package 8/664 | Hostname | OS / Arch | INSTALL | BUILD | CHECK | BUILD BIN | ||||||||||||||||
| alabaster.ranges 1.0.0 (landing page) Aaron Lun
| kjohnson2 | macOS 12.6.1 Monterey / arm64 | OK | OK | OK | OK | ||||||||||||||||
| Package 9/664 | Hostname | OS / Arch | INSTALL | BUILD | CHECK | BUILD BIN | ||||||||||||||||
| alabaster.se 1.0.0 (landing page) Aaron Lun
| kjohnson2 | macOS 12.6.1 Monterey / arm64 | OK | OK | OK | OK | ||||||||||||||||
| Package 10/664 | Hostname | OS / Arch | INSTALL | BUILD | CHECK | BUILD BIN | ||||||||||||||||
| alabaster.spatial 1.0.0 (landing page) Aaron Lun
| kjohnson2 | macOS 12.6.1 Monterey / arm64 | OK | OK | OK | OK | ||||||||||||||||
| Package 11/664 | Hostname | OS / Arch | INSTALL | BUILD | CHECK | BUILD BIN | ||||||||||||||||
| alabaster.vcf 1.0.0 (landing page) Aaron Lun
| kjohnson2 | macOS 12.6.1 Monterey / arm64 | OK | OK | OK | OK | ||||||||||||||||
| Package 12/664 | Hostname | OS / Arch | INSTALL | BUILD | CHECK | BUILD BIN | ||||||||||||||||
| ALDEx2 1.32.0 (landing page) Greg Gloor
| kjohnson2 | macOS 12.6.1 Monterey / arm64 | OK | OK | WARNINGS | OK | ||||||||||||||||
| Package 13/664 | Hostname | OS / Arch | INSTALL | BUILD | CHECK | BUILD BIN | ||||||||||||||||
| AllelicImbalance 1.38.0 (landing page) Jesper R Gadin
| kjohnson2 | macOS 12.6.1 Monterey / arm64 | OK | OK | OK | OK | ||||||||||||||||
| Package 14/664 | Hostname | OS / Arch | INSTALL | BUILD | CHECK | BUILD BIN | ||||||||||||||||
Michael Love
| kjohnson2 | macOS 12.6.1 Monterey / arm64 | OK | OK | WARNINGS | OK | ||||||||||||||||
| Package 15/664 | Hostname | OS / Arch | INSTALL | BUILD | CHECK | BUILD BIN | ||||||||||||||||
| altcdfenvs 2.62.0 (landing page) Laurent Gautier
| kjohnson2 | macOS 12.6.1 Monterey / arm64 | OK | OK | OK | OK | ||||||||||||||||
| Package 16/664 | Hostname | OS / Arch | INSTALL | BUILD | CHECK | BUILD BIN | ||||||||||||||||
| amplican 1.22.1 (landing page) Eivind Valen
| kjohnson2 | macOS 12.6.1 Monterey / arm64 | OK | OK | OK | OK | ||||||||||||||||
| Package 17/664 | Hostname | OS / Arch | INSTALL | BUILD | CHECK | BUILD BIN | ||||||||||||||||
| ANCOMBC 2.2.2 (landing page) Huang Lin
| kjohnson2 | macOS 12.6.1 Monterey / arm64 | OK | OK | OK | OK | ||||||||||||||||
| Package 18/664 | Hostname | OS / Arch | INSTALL | BUILD | CHECK | BUILD BIN | ||||||||||||||||
| AneuFinder 1.28.0 (landing page) Aaron Taudt
| kjohnson2 | macOS 12.6.1 Monterey / arm64 | OK | OK | OK | OK | ||||||||||||||||
| Package 19/664 | Hostname | OS / Arch | INSTALL | BUILD | CHECK | BUILD BIN | ||||||||||||||||
| animalcules 1.16.0 (landing page) Yue Zhao
| kjohnson2 | macOS 12.6.1 Monterey / arm64 | OK | OK | WARNINGS | OK | ||||||||||||||||
| Package 20/664 | Hostname | OS / Arch | INSTALL | BUILD | CHECK | BUILD BIN | ||||||||||||||||
| AnnotationDbi 1.62.2 (landing page) Bioconductor Package Maintainer
| kjohnson2 | macOS 12.6.1 Monterey / arm64 | OK | OK | WARNINGS | OK | ||||||||||||||||
| Package 21/664 | Hostname | OS / Arch | INSTALL | BUILD | CHECK | BUILD BIN | ||||||||||||||||
| AnnotationForge 1.42.2 (landing page) Bioconductor Package Maintainer
| kjohnson2 | macOS 12.6.1 Monterey / arm64 | OK | OK | OK | OK | ||||||||||||||||
| Package 22/664 | Hostname | OS / Arch | INSTALL | BUILD | CHECK | BUILD BIN | ||||||||||||||||
| AnnotationHub 3.8.0 (landing page) Bioconductor Package Maintainer
| kjohnson2 | macOS 12.6.1 Monterey / arm64 | OK | OK | WARNINGS | OK | ||||||||||||||||
| Package 23/664 | Hostname | OS / Arch | INSTALL | BUILD | CHECK | BUILD BIN | ||||||||||||||||
| AnnotationHubData 1.30.0 (landing page) Bioconductor Package Maintainer
| kjohnson2 | macOS 12.6.1 Monterey / arm64 | OK | OK | WARNINGS | OK | ||||||||||||||||
| Package 24/664 | Hostname | OS / Arch | INSTALL | BUILD | CHECK | BUILD BIN | ||||||||||||||||
| annotatr 1.26.0 (landing page) Raymond G. Cavalcante
| kjohnson2 | macOS 12.6.1 Monterey / arm64 | OK | OK | OK | OK | ||||||||||||||||
| Package 25/664 | Hostname | OS / Arch | INSTALL | BUILD | CHECK | BUILD BIN | ||||||||||||||||
| appreci8R 1.18.0 (landing page) Sarah Sandmann
| kjohnson2 | macOS 12.6.1 Monterey / arm64 | OK | OK | WARNINGS | OK | ||||||||||||||||
| Package 26/664 | Hostname | OS / Arch | INSTALL | BUILD | CHECK | BUILD BIN | ||||||||||||||||
Doyeong Yu
| kjohnson2 | macOS 12.6.1 Monterey / arm64 | ERROR | ERROR | skipped | skipped | ||||||||||||||||
| Package 27/664 | Hostname | OS / Arch | INSTALL | BUILD | CHECK | BUILD BIN | ||||||||||||||||
| ASpli 2.10.0 (landing page) Estefania Mancini
| kjohnson2 | macOS 12.6.1 Monterey / arm64 | OK | OK | WARNINGS | OK | ||||||||||||||||
| Package 28/664 | Hostname | OS / Arch | INSTALL | BUILD | CHECK | BUILD BIN | ||||||||||||||||
| ASURAT 1.4.0 (landing page) Keita Iida
| kjohnson2 | macOS 12.6.1 Monterey / arm64 | OK | OK | OK | OK | ||||||||||||||||
| Package 29/664 | Hostname | OS / Arch | INSTALL | BUILD | CHECK | BUILD BIN | ||||||||||||||||
| ATACseqQC 1.24.0 (landing page) Jianhong Ou
| kjohnson2 | macOS 12.6.1 Monterey / arm64 | OK | OK | OK | OK | ||||||||||||||||
| Package 30/664 | Hostname | OS / Arch | INSTALL | BUILD | CHECK | BUILD BIN | ||||||||||||||||
| ATACseqTFEA 1.2.0 (landing page) Jianhong Ou
| kjohnson2 | macOS 12.6.1 Monterey / arm64 | OK | OK | OK | OK | ||||||||||||||||
| Package 31/664 | Hostname | OS / Arch | INSTALL | BUILD | CHECK | BUILD BIN | ||||||||||||||||
| atena 1.6.0 (landing page) Beatriz Calvo-Serra
| kjohnson2 | macOS 12.6.1 Monterey / arm64 | OK | OK | OK | OK | ||||||||||||||||
| Package 32/664 | Hostname | OS / Arch | INSTALL | BUILD | CHECK | BUILD BIN | ||||||||||||||||
| autonomics 1.8.0 (landing page) Aditya Bhagwat
| kjohnson2 | macOS 12.6.1 Monterey / arm64 | OK | OK | WARNINGS | OK | ||||||||||||||||
| Package 33/664 | Hostname | OS / Arch | INSTALL | BUILD | CHECK | BUILD BIN | ||||||||||||||||
| BadRegionFinder 1.28.0 (landing page) Sarah Sandmann
| kjohnson2 | macOS 12.6.1 Monterey / arm64 | OK | OK | OK | OK | ||||||||||||||||
| Package 34/664 | Hostname | OS / Arch | INSTALL | BUILD | CHECK | BUILD BIN | ||||||||||||||||
| ballgown 2.32.0 (landing page) Jack Fu
| kjohnson2 | macOS 12.6.1 Monterey / arm64 | OK | OK | OK | OK | ||||||||||||||||
| Package 35/664 | Hostname | OS / Arch | INSTALL | BUILD | CHECK | BUILD BIN | ||||||||||||||||
| bambu 3.2.6 (landing page) Ying Chen
| kjohnson2 | macOS 12.6.1 Monterey / arm64 | OK | OK | OK | OK | ||||||||||||||||
| Package 36/664 | Hostname | OS / Arch | INSTALL | BUILD | CHECK | BUILD BIN | ||||||||||||||||
| bandle 1.4.1 (landing page) Oliver M. Crook
| kjohnson2 | macOS 12.6.1 Monterey / arm64 | OK | OK | OK | OK | ||||||||||||||||
| Package 37/664 | Hostname | OS / Arch | INSTALL | BUILD | CHECK | BUILD BIN | ||||||||||||||||
| barcodetrackR 1.8.0 (landing page) Diego Alexander Espinoza
| kjohnson2 | macOS 12.6.1 Monterey / arm64 | OK | OK | OK | OK | ||||||||||||||||
| Package 38/664 | Hostname | OS / Arch | INSTALL | BUILD | CHECK | BUILD BIN | ||||||||||||||||
| BASiCS 2.12.3 (landing page) Catalina Vallejos
| kjohnson2 | macOS 12.6.1 Monterey / arm64 | OK | OK | OK | OK | ||||||||||||||||
| Package 39/664 | Hostname | OS / Arch | INSTALL | BUILD | CHECK | BUILD BIN | ||||||||||||||||
| BasicSTARRseq 1.28.0 (landing page) Annika Buerger
| kjohnson2 | macOS 12.6.1 Monterey / arm64 | OK | OK | OK | OK | ||||||||||||||||
| Package 40/664 | Hostname | OS / Arch | INSTALL | BUILD | CHECK | BUILD BIN | ||||||||||||||||
| batchelor 1.16.0 (landing page) Aaron Lun
| kjohnson2 | macOS 12.6.1 Monterey / arm64 | OK | OK | ERROR | OK | ||||||||||||||||
| Package 41/664 | Hostname | OS / Arch | INSTALL | BUILD | CHECK | BUILD BIN | ||||||||||||||||
| BayesSpace 1.10.1 (landing page) Matt Stone
| kjohnson2 | macOS 12.6.1 Monterey / arm64 | OK | OK | OK | OK | ||||||||||||||||
| Package 42/664 | Hostname | OS / Arch | INSTALL | BUILD | CHECK | BUILD BIN | ||||||||||||||||
| BindingSiteFinder 1.6.0 (landing page) Mirko Brüggemann
| kjohnson2 | macOS 12.6.1 Monterey / arm64 | OK | OK | OK | OK | ||||||||||||||||
| Package 43/664 | Hostname | OS / Arch | INSTALL | BUILD | CHECK | BUILD BIN | ||||||||||||||||
| BiocHubsShiny 1.0.0 (landing page) Marcel Ramos
| kjohnson2 | macOS 12.6.1 Monterey / arm64 | OK | OK | OK | OK | ||||||||||||||||
| Package 44/664 | Hostname | OS / Arch | INSTALL | BUILD | CHECK | BUILD BIN | ||||||||||||||||
| BiocIO 1.10.0 (landing page) Marcel Ramos
| kjohnson2 | macOS 12.6.1 Monterey / arm64 | OK | OK | OK | OK | ||||||||||||||||
| Package 45/664 | Hostname | OS / Arch | INSTALL | BUILD | CHECK | BUILD BIN | ||||||||||||||||
| BiocNeighbors 1.18.0 (landing page) Aaron Lun
| kjohnson2 | macOS 12.6.1 Monterey / arm64 | OK | OK | WARNINGS | OK | ||||||||||||||||
| Package 46/664 | Hostname | OS / Arch | INSTALL | BUILD | CHECK | BUILD BIN | ||||||||||||||||
| BiocOncoTK 1.20.0 (landing page) VJ Carey
| kjohnson2 | macOS 12.6.1 Monterey / arm64 | OK | OK | OK | OK | ||||||||||||||||
| Package 47/664 | Hostname | OS / Arch | INSTALL | BUILD | CHECK | BUILD BIN | ||||||||||||||||
| BiocSet 1.14.0 (landing page) Kayla Morrell
| kjohnson2 | macOS 12.6.1 Monterey / arm64 | OK | OK | OK | OK | ||||||||||||||||
| Package 48/664 | Hostname | OS / Arch | INSTALL | BUILD | CHECK | BUILD BIN | ||||||||||||||||
| BiocSingular 1.16.0 (landing page) Aaron Lun
| kjohnson2 | macOS 12.6.1 Monterey / arm64 | OK | OK | WARNINGS | OK | ||||||||||||||||
| Package 49/664 | Hostname | OS / Arch | INSTALL | BUILD | CHECK | BUILD BIN | ||||||||||||||||
| Biostrings 2.68.1 (landing page) Hervé Pagès
| kjohnson2 | macOS 12.6.1 Monterey / arm64 | OK | OK | WARNINGS | OK | ||||||||||||||||
| Package 50/664 | Hostname | OS / Arch | INSTALL | BUILD | CHECK | BUILD BIN | ||||||||||||||||
| biotmle 1.24.0 (landing page) Nima Hejazi
| kjohnson2 | macOS 12.6.1 Monterey / arm64 | OK | OK | OK | OK | ||||||||||||||||
| Package 51/664 | Hostname | OS / Arch | INSTALL | BUILD | CHECK | BUILD BIN | ||||||||||||||||
| biovizBase 1.48.0 (landing page) Michael Lawrence
| kjohnson2 | macOS 12.6.1 Monterey / arm64 | OK | OK | WARNINGS | OK | ||||||||||||||||
| Package 52/664 | Hostname | OS / Arch | INSTALL | BUILD | CHECK | BUILD BIN | ||||||||||||||||
| biscuiteer 1.14.0 (landing page) Jacob Morrison
| kjohnson2 | macOS 12.6.1 Monterey / arm64 | OK | OK | WARNINGS | OK | ||||||||||||||||
| Package 53/664 | Hostname | OS / Arch | INSTALL | BUILD | CHECK | BUILD BIN | ||||||||||||||||
| BiSeq 1.40.0 (landing page) Katja Hebestreit
| kjohnson2 | macOS 12.6.1 Monterey / arm64 | OK | OK | OK | OK | ||||||||||||||||
| Package 54/664 | Hostname | OS / Arch | INSTALL | BUILD | CHECK | BUILD BIN | ||||||||||||||||
| bluster 1.10.0 (landing page) Aaron Lun
| kjohnson2 | macOS 12.6.1 Monterey / arm64 | OK | OK | OK | OK | ||||||||||||||||
| Package 55/664 | Hostname | OS / Arch | INSTALL | BUILD | CHECK | BUILD BIN | ||||||||||||||||
| bnbc 1.22.0 (landing page) Kipper Fletez-Brant
| kjohnson2 | macOS 12.6.1 Monterey / arm64 | OK | OK | WARNINGS | OK | ||||||||||||||||
| Package 56/664 | Hostname | OS / Arch | INSTALL | BUILD | CHECK | BUILD BIN | ||||||||||||||||
| BPRMeth 1.26.1 (landing page) Chantriolnt-Andreas Kapourani
| kjohnson2 | macOS 12.6.1 Monterey / arm64 | OK | OK | OK | OK | ||||||||||||||||
| Package 57/664 | Hostname | OS / Arch | INSTALL | BUILD | CHECK | BUILD BIN | ||||||||||||||||
| branchpointer 1.26.0 (landing page) Beth Signal
| kjohnson2 | macOS 12.6.1 Monterey / arm64 | OK | OK | OK | OK | ||||||||||||||||
| Package 58/664 | Hostname | OS / Arch | INSTALL | BUILD | CHECK | BUILD BIN | ||||||||||||||||
| breakpointR 1.18.0 (landing page) David Porubsky
| kjohnson2 | macOS 12.6.1 Monterey / arm64 | OK | OK | OK | OK | ||||||||||||||||
| Package 59/664 | Hostname | OS / Arch | INSTALL | BUILD | CHECK | BUILD BIN | ||||||||||||||||
| BRGenomics 1.12.0 (landing page) Mike DeBerardine
| kjohnson2 | macOS 12.6.1 Monterey / arm64 | OK | OK | ERROR | OK | ||||||||||||||||
| Package 60/664 | Hostname | OS / Arch | INSTALL | BUILD | CHECK | BUILD BIN | ||||||||||||||||
| BSgenome 1.68.0 (landing page) Hervé Pagès
| kjohnson2 | macOS 12.6.1 Monterey / arm64 | OK | OK | WARNINGS | OK | ||||||||||||||||
| Package 61/664 | Hostname | OS / Arch | INSTALL | BUILD | CHECK | BUILD BIN | ||||||||||||||||
| BSgenomeForge 1.0.1 (landing page) Hervé Pagès
| kjohnson2 | macOS 12.6.1 Monterey / arm64 | OK | OK | OK | OK | ||||||||||||||||
| Package 62/664 | Hostname | OS / Arch | INSTALL | BUILD | CHECK | BUILD BIN | ||||||||||||||||
| bsseq 1.36.0 (landing page) Kasper Daniel Hansen
| kjohnson2 | macOS 12.6.1 Monterey / arm64 | OK | OK | OK | OK | ||||||||||||||||
| Package 63/664 | Hostname | OS / Arch | INSTALL | BUILD | CHECK | BUILD BIN | ||||||||||||||||
| bumphunter 1.42.0 (landing page) Tamilselvi Guharaj
| kjohnson2 | macOS 12.6.1 Monterey / arm64 | OK | OK | OK | OK | ||||||||||||||||
| Package 64/664 | Hostname | OS / Arch | INSTALL | BUILD | CHECK | BUILD BIN | ||||||||||||||||
| BumpyMatrix 1.8.0 (landing page) Aaron Lun
| kjohnson2 | macOS 12.6.1 Monterey / arm64 | OK | OK | OK | OK | ||||||||||||||||
| Package 65/664 | Hostname | OS / Arch | INSTALL | BUILD | CHECK | BUILD BIN | ||||||||||||||||
| BUSpaRse 1.14.1 (landing page) Lambda Moses
| kjohnson2 | macOS 12.6.1 Monterey / arm64 | OK | OK | OK | OK | ||||||||||||||||
| Package 66/664 | Hostname | OS / Arch | INSTALL | BUILD | CHECK | BUILD BIN | ||||||||||||||||
| BUSseq 1.6.1 (landing page) Fangda Song
| kjohnson2 | macOS 12.6.1 Monterey / arm64 | OK | OK | OK | OK | ||||||||||||||||
| Package 67/664 | Hostname | OS / Arch | INSTALL | BUILD | CHECK | BUILD BIN | ||||||||||||||||
| CAGEfightR 1.20.0 (landing page) Malte Thodberg
| kjohnson2 | macOS 12.6.1 Monterey / arm64 | OK | OK | OK | OK | ||||||||||||||||
| Package 68/664 | Hostname | OS / Arch | INSTALL | BUILD | CHECK | BUILD BIN | ||||||||||||||||
| CAGEr 2.6.1 (landing page) Charles Plessy
| kjohnson2 | macOS 12.6.1 Monterey / arm64 | OK | OK | OK | OK | ||||||||||||||||
| Package 69/664 | Hostname | OS / Arch | INSTALL | BUILD | CHECK | BUILD BIN | ||||||||||||||||
| cardelino 1.2.0 (landing page) Davis McCarthy
| kjohnson2 | macOS 12.6.1 Monterey / arm64 | OK | OK | OK | OK | ||||||||||||||||
| Package 70/664 | Hostname | OS / Arch | INSTALL | BUILD | CHECK | BUILD BIN | ||||||||||||||||
| Cardinal 3.2.1 (landing page) Kylie A. Bemis
| kjohnson2 | macOS 12.6.1 Monterey / arm64 | OK | OK | OK | OK | ||||||||||||||||
| Package 71/664 | Hostname | OS / Arch | INSTALL | BUILD | CHECK | BUILD BIN | ||||||||||||||||
| casper 2.34.0 (landing page) David Rossell
| kjohnson2 | macOS 12.6.1 Monterey / arm64 | OK | ERROR | skipped | skipped | ||||||||||||||||
| Package 72/664 | Hostname | OS / Arch | INSTALL | BUILD | CHECK | BUILD BIN | ||||||||||||||||
| CATALYST 1.24.0 (landing page) Helena L. Crowell
| kjohnson2 | macOS 12.6.1 Monterey / arm64 | OK | OK | ERROR | OK | ||||||||||||||||
| Package 73/664 | Hostname | OS / Arch | INSTALL | BUILD | CHECK | BUILD BIN | ||||||||||||||||
| cBioPortalData 2.12.0 (landing page) Marcel Ramos
| kjohnson2 | macOS 12.6.1 Monterey / arm64 | OK | OK | OK | OK | ||||||||||||||||
| Package 74/664 | Hostname | OS / Arch | INSTALL | BUILD | CHECK | BUILD BIN | ||||||||||||||||
| ccfindR 1.20.0 (landing page) Jun Woo
| kjohnson2 | macOS 12.6.1 Monterey / arm64 | ERROR | ERROR | skipped | skipped | ||||||||||||||||
| Package 75/664 | Hostname | OS / Arch | INSTALL | BUILD | CHECK | BUILD BIN | ||||||||||||||||
| celaref 1.18.0 (landing page) Sarah Williams
| kjohnson2 | macOS 12.6.1 Monterey / arm64 | OK | OK | OK | OK | ||||||||||||||||
| Package 76/664 | Hostname | OS / Arch | INSTALL | BUILD | CHECK | BUILD BIN | ||||||||||||||||
| celda 1.16.1 (landing page) Joshua Campbell
| kjohnson2 | macOS 12.6.1 Monterey / arm64 | OK | OK | OK | OK | ||||||||||||||||
| Package 77/664 | Hostname | OS / Arch | INSTALL | BUILD | CHECK | BUILD BIN | ||||||||||||||||
| CellaRepertorium 1.10.0 (landing page) Andrew McDavid
| kjohnson2 | macOS 12.6.1 Monterey / arm64 | OK | OK | WARNINGS | OK | ||||||||||||||||
| Package 78/664 | Hostname | OS / Arch | INSTALL | BUILD | CHECK | BUILD BIN | ||||||||||||||||
| CellBarcode 1.6.0 (landing page) Wenjie Sun
| kjohnson2 | macOS 12.6.1 Monterey / arm64 | OK | OK | OK | OK | ||||||||||||||||
| Package 79/664 | Hostname | OS / Arch | INSTALL | BUILD | CHECK | BUILD BIN | ||||||||||||||||
| CellMapper 1.26.0 (landing page) Brad Nelms
| kjohnson2 | macOS 12.6.1 Monterey / arm64 | OK | OK | WARNINGS | OK | ||||||||||||||||
| Package 80/664 | Hostname | OS / Arch | INSTALL | BUILD | CHECK | BUILD BIN | ||||||||||||||||
| censcyt 1.8.0 (landing page) Reto Gerber
| kjohnson2 | macOS 12.6.1 Monterey / arm64 | OK | OK | OK | OK | ||||||||||||||||
| Package 81/664 | Hostname | OS / Arch | INSTALL | BUILD | CHECK | BUILD BIN | ||||||||||||||||
| Cepo 1.6.0 (landing page) Hani Jieun Kim
| kjohnson2 | macOS 12.6.1 Monterey / arm64 | OK | OK | WARNINGS | OK | ||||||||||||||||
| Package 82/664 | Hostname | OS / Arch | INSTALL | BUILD | CHECK | BUILD BIN | ||||||||||||||||
| CeTF 1.12.0 (landing page) Carlos Alberto Oliveira de Biagi Junior
| kjohnson2 | macOS 12.6.1 Monterey / arm64 | OK | OK | OK | OK | ||||||||||||||||
| Package 83/664 | Hostname | OS / Arch | INSTALL | BUILD | CHECK | BUILD BIN | ||||||||||||||||
| CexoR 1.38.0 (landing page) Pedro Madrigal
| kjohnson2 | macOS 12.6.1 Monterey / arm64 | OK | OK | OK | OK | ||||||||||||||||
| Package 84/664 | Hostname | OS / Arch | INSTALL | BUILD | CHECK | BUILD BIN | ||||||||||||||||
| CHETAH 1.16.0 (landing page) Jurrian de Kanter
| kjohnson2 | macOS 12.6.1 Monterey / arm64 | OK | OK | OK | OK | ||||||||||||||||
| Package 85/664 | Hostname | OS / Arch | INSTALL | BUILD | CHECK | BUILD BIN | ||||||||||||||||
Carmen Maria Livi
| kjohnson2 | macOS 12.6.1 Monterey / arm64 | ERROR | ERROR | skipped | skipped | ||||||||||||||||
| Package 86/664 | Hostname | OS / Arch | INSTALL | BUILD | CHECK | BUILD BIN | ||||||||||||||||
| chimeraviz 1.26.0 (landing page) Stian Lågstad
| kjohnson2 | macOS 12.6.1 Monterey / arm64 | OK | OK | OK | OK | ||||||||||||||||
| Package 87/664 | Hostname | OS / Arch | INSTALL | BUILD | CHECK | BUILD BIN | ||||||||||||||||
| ChIPanalyser 1.22.0 (landing page) Patrick C.N. Martin
| kjohnson2 | macOS 12.6.1 Monterey / arm64 | OK | OK | OK | OK | ||||||||||||||||
| Package 88/664 | Hostname | OS / Arch | INSTALL | BUILD | CHECK | BUILD BIN | ||||||||||||||||
| ChIPComp 1.30.0 (landing page) Li Chen
| kjohnson2 | macOS 12.6.1 Monterey / arm64 | OK | OK | OK | OK | ||||||||||||||||
| Package 89/664 | Hostname | OS / Arch | INSTALL | BUILD | CHECK | BUILD BIN | ||||||||||||||||
| chipenrich 2.24.0 (landing page) Kai Wang
| kjohnson2 | macOS 12.6.1 Monterey / arm64 | OK | OK | OK | OK | ||||||||||||||||
| Package 90/664 | Hostname | OS / Arch | INSTALL | BUILD | CHECK | BUILD BIN | ||||||||||||||||
| ChIPexoQual 1.24.0 (landing page) Rene Welch
| kjohnson2 | macOS 12.6.1 Monterey / arm64 | OK | OK | OK | OK | ||||||||||||||||
| Package 91/664 | Hostname | OS / Arch | INSTALL | BUILD | CHECK | BUILD BIN | ||||||||||||||||
| ChIPpeakAnno 3.34.1 (landing page) Jianhong Ou
| kjohnson2 | macOS 12.6.1 Monterey / arm64 | OK | OK | OK | OK | ||||||||||||||||
| Package 92/664 | Hostname | OS / Arch | INSTALL | BUILD | CHECK | BUILD BIN | ||||||||||||||||
| ChIPQC 1.36.1 (landing page) Tom Carroll
| kjohnson2 | macOS 12.6.1 Monterey / arm64 | OK | OK | WARNINGS | OK | ||||||||||||||||
| Package 93/664 | Hostname | OS / Arch | INSTALL | BUILD | CHECK | BUILD BIN | ||||||||||||||||
| ChIPseeker 1.36.0 (landing page) Guangchuang Yu
| kjohnson2 | macOS 12.6.1 Monterey / arm64 | OK | OK | OK | OK | ||||||||||||||||
| Package 94/664 | Hostname | OS / Arch | INSTALL | BUILD | CHECK | BUILD BIN | ||||||||||||||||
| chipseq 1.50.0 (landing page) Bioconductor Package Maintainer
| kjohnson2 | macOS 12.6.1 Monterey / arm64 | OK | OK | WARNINGS | OK | ||||||||||||||||
| Package 95/664 | Hostname | OS / Arch | INSTALL | BUILD | CHECK | BUILD BIN | ||||||||||||||||
| ChIPseqR 1.54.0 (landing page) Peter Humburg
| kjohnson2 | macOS 12.6.1 Monterey / arm64 | OK | OK | OK | OK | ||||||||||||||||
| Package 96/664 | Hostname | OS / Arch | INSTALL | BUILD | CHECK | BUILD BIN | ||||||||||||||||
| ChromSCape 1.10.0 (landing page) Pacome Prompsy
| kjohnson2 | macOS 12.6.1 Monterey / arm64 | OK | OK | WARNINGS | OK | ||||||||||||||||
| Package 97/664 | Hostname | OS / Arch | INSTALL | BUILD | CHECK | BUILD BIN | ||||||||||||||||
| chromstaR 1.26.0 (landing page) Aaron Taudt
| kjohnson2 | macOS 12.6.1 Monterey / arm64 | OK | OK | OK | OK | ||||||||||||||||
| Package 98/664 | Hostname | OS / Arch | INSTALL | BUILD | CHECK | BUILD BIN | ||||||||||||||||
Selin Jessa
| kjohnson2 | macOS 12.6.1 Monterey / arm64 | OK | OK | WARNINGS | OK | ||||||||||||||||
| Package 99/664 | Hostname | OS / Arch | INSTALL | BUILD | CHECK | BUILD BIN | ||||||||||||||||
| chromVAR 1.22.1 (landing page) Alicia Schep
| kjohnson2 | macOS 12.6.1 Monterey / arm64 | OK | OK | OK | OK | ||||||||||||||||
| Package 100/664 | Hostname | OS / Arch | INSTALL | BUILD | CHECK | BUILD BIN | ||||||||||||||||
| cicero 1.18.0 (landing page) Hannah Pliner
| kjohnson2 | macOS 12.6.1 Monterey / arm64 | OK | OK | OK | OK | ||||||||||||||||
| Package 101/664 | Hostname | OS / Arch | INSTALL | BUILD | CHECK | BUILD BIN | ||||||||||||||||
| CINdex 1.28.0 (landing page) Yuriy Gusev
| kjohnson2 | macOS 12.6.1 Monterey / arm64 | OK | OK | WARNINGS | OK | ||||||||||||||||
| Package 102/664 | Hostname | OS / Arch | INSTALL | BUILD | CHECK | BUILD BIN | ||||||||||||||||
| circRNAprofiler 1.14.0 (landing page) Simona Aufiero
| kjohnson2 | macOS 12.6.1 Monterey / arm64 | OK | OK | OK | OK | ||||||||||||||||
| Package 103/664 | Hostname | OS / Arch | INSTALL | BUILD | CHECK | BUILD BIN | ||||||||||||||||
| CircSeqAlignTk 1.2.0 (landing page) Jianqiang Sun
| kjohnson2 | macOS 12.6.1 Monterey / arm64 | OK | OK | OK | OK | ||||||||||||||||
| Package 104/664 | Hostname | OS / Arch | INSTALL | BUILD | CHECK | BUILD BIN | ||||||||||||||||
| CiteFuse 1.12.0 (landing page) Yingxin Lin
| kjohnson2 | macOS 12.6.1 Monterey / arm64 | OK | OK | OK | OK | ||||||||||||||||
| Package 105/664 | Hostname | OS / Arch | INSTALL | BUILD | CHECK | BUILD BIN | ||||||||||||||||
| ClassifyR 3.4.11 (landing page) Dario Strbenac
| kjohnson2 | macOS 12.6.1 Monterey / arm64 | OK | OK | WARNINGS | OK | ||||||||||||||||
| Package 106/664 | Hostname | OS / Arch | INSTALL | BUILD | CHECK | BUILD BIN | ||||||||||||||||
| cleanUpdTSeq 1.38.0 (landing page) Jianhong Ou
| kjohnson2 | macOS 12.6.1 Monterey / arm64 | OK | OK | OK | OK | ||||||||||||||||
| Package 107/664 | Hostname | OS / Arch | INSTALL | BUILD | CHECK | BUILD BIN | ||||||||||||||||
| cleaver 1.38.0 (landing page) Sebastian Gibb
| kjohnson2 | macOS 12.6.1 Monterey / arm64 | OK | OK | OK | OK | ||||||||||||||||
| Package 108/664 | Hostname | OS / Arch | INSTALL | BUILD | CHECK | BUILD BIN | ||||||||||||||||
| cliProfiler 1.6.0 (landing page) You Zhou
| kjohnson2 | macOS 12.6.1 Monterey / arm64 | OK | OK | OK | OK | ||||||||||||||||
| Package 109/664 | Hostname | OS / Arch | INSTALL | BUILD | CHECK | BUILD BIN | ||||||||||||||||
| CluMSID 1.16.0 (landing page) Tobias Depke
| kjohnson2 | macOS 12.6.1 Monterey / arm64 | OK | OK | WARNINGS | OK | ||||||||||||||||
| Package 110/664 | Hostname | OS / Arch | INSTALL | BUILD | CHECK | BUILD BIN | ||||||||||||||||
| clusterExperiment 2.20.0 (landing page) Elizabeth Purdom
| kjohnson2 | macOS 12.6.1 Monterey / arm64 | OK | OK | WARNINGS | OK | ||||||||||||||||
| Package 111/664 | Hostname | OS / Arch | INSTALL | BUILD | CHECK | BUILD BIN | ||||||||||||||||
| clustifyr 1.12.0 (landing page) Kent Riemondy
| kjohnson2 | macOS 12.6.1 Monterey / arm64 | OK | OK | OK | OK | ||||||||||||||||
| Package 112/664 | Hostname | OS / Arch | INSTALL | BUILD | CHECK | BUILD BIN | ||||||||||||||||
| cn.mops 1.46.0 (landing page) Gundula Povysil
| kjohnson2 | macOS 12.6.1 Monterey / arm64 | OK | OK | OK | OK | ||||||||||||||||
| Package 113/664 | Hostname | OS / Arch | INSTALL | BUILD | CHECK | BUILD BIN | ||||||||||||||||
| CNEr 1.36.0 (landing page) Ge Tan
| kjohnson2 | macOS 12.6.1 Monterey / arm64 | OK | OK | ERROR | OK | ||||||||||||||||
| Package 114/664 | Hostname | OS / Arch | INSTALL | BUILD | CHECK | BUILD BIN | ||||||||||||||||
| CNVMetrics 1.4.0 (landing page) Astrid Deschênes
| kjohnson2 | macOS 12.6.1 Monterey / arm64 | OK | OK | OK | OK | ||||||||||||||||
| Package 115/664 | Hostname | OS / Arch | INSTALL | BUILD | CHECK | BUILD BIN | ||||||||||||||||
| CNVPanelizer 1.32.0 (landing page) Thomas Wolf
| kjohnson2 | macOS 12.6.1 Monterey / arm64 | OK | OK | OK | OK | ||||||||||||||||
| Package 116/664 | Hostname | OS / Arch | INSTALL | BUILD | CHECK | BUILD BIN | ||||||||||||||||
| CNVRanger 1.16.5 (landing page) Ludwig Geistlinger
| kjohnson2 | macOS 12.6.1 Monterey / arm64 | OK | OK | OK | OK | ||||||||||||||||
| Package 117/664 | Hostname | OS / Arch | INSTALL | BUILD | CHECK | BUILD BIN | ||||||||||||||||
| COCOA 2.14.0 (landing page) John Lawson
| kjohnson2 | macOS 12.6.1 Monterey / arm64 | OK | OK | OK | OK | ||||||||||||||||
| Package 118/664 | Hostname | OS / Arch | INSTALL | BUILD | CHECK | BUILD BIN | ||||||||||||||||
| CODEX 1.32.0 (landing page) Yuchao Jiang
| kjohnson2 | macOS 12.6.1 Monterey / arm64 | OK | OK | OK | OK | ||||||||||||||||
| Package 119/664 | Hostname | OS / Arch | INSTALL | BUILD | CHECK | BUILD BIN | ||||||||||||||||
| CoGAPS 3.20.0 (landing page) Elana J. Fertig
| kjohnson2 | macOS 12.6.1 Monterey / arm64 | OK | ERROR | skipped | skipped | ||||||||||||||||
| Package 120/664 | Hostname | OS / Arch | INSTALL | BUILD | CHECK | BUILD BIN | ||||||||||||||||
| Cogito 1.6.0 (landing page) Annika Bürger
| kjohnson2 | macOS 12.6.1 Monterey / arm64 | OK | OK | OK | OK | ||||||||||||||||
| Package 121/664 | Hostname | OS / Arch | INSTALL | BUILD | CHECK | BUILD BIN | ||||||||||||||||
| comapr 1.4.0 (landing page) Ruqian Lyu
| kjohnson2 | macOS 12.6.1 Monterey / arm64 | OK | OK | ERROR | OK | ||||||||||||||||
| Package 122/664 | Hostname | OS / Arch | INSTALL | BUILD | CHECK | BUILD BIN | ||||||||||||||||
| coMET 1.32.0 (landing page) Tiphaine Martin
| kjohnson2 | macOS 12.6.1 Monterey / arm64 | OK | OK | WARNINGS | OK | ||||||||||||||||
| Package 123/664 | Hostname | OS / Arch | INSTALL | BUILD | CHECK | BUILD BIN | ||||||||||||||||
| compEpiTools 1.34.1 (landing page) Mattia Furlan
| kjohnson2 | macOS 12.6.1 Monterey / arm64 | OK | OK | WARNINGS | OK | ||||||||||||||||
| Package 124/664 | Hostname | OS / Arch | INSTALL | BUILD | CHECK | BUILD BIN | ||||||||||||||||
| CompoundDb 1.4.0 (landing page) Johannes Rainer
| kjohnson2 | macOS 12.6.1 Monterey / arm64 | OK | OK | OK | OK | ||||||||||||||||
| Package 125/664 | Hostname | OS / Arch | INSTALL | BUILD | CHECK | BUILD BIN | ||||||||||||||||
| consensusDE 1.18.0 (landing page) Ashley J. Waardenberg
| kjohnson2 | macOS 12.6.1 Monterey / arm64 | OK | OK | OK | OK | ||||||||||||||||
| Package 126/664 | Hostname | OS / Arch | INSTALL | BUILD | CHECK | BUILD BIN | ||||||||||||||||
| consensusSeekeR 1.28.0 (landing page) Astrid Deschenes
| kjohnson2 | macOS 12.6.1 Monterey / arm64 | OK | OK | OK | OK | ||||||||||||||||
| Package 127/664 | Hostname | OS / Arch | INSTALL | BUILD | CHECK | BUILD BIN | ||||||||||||||||
| contiBAIT 1.28.0 (landing page) Kieran O'Neill
| kjohnson2 | macOS 12.6.1 Monterey / arm64 | OK | OK | WARNINGS | OK | ||||||||||||||||
| Package 128/664 | Hostname | OS / Arch | INSTALL | BUILD | CHECK | BUILD BIN | ||||||||||||||||
Gro Nilsen
| kjohnson2 | macOS 12.6.1 Monterey / arm64 | OK | ERROR | skipped | skipped | ||||||||||||||||
| Package 129/664 | Hostname | OS / Arch | INSTALL | BUILD | CHECK | BUILD BIN | ||||||||||||||||
Oscar Krijgsman
| kjohnson2 | macOS 12.6.1 Monterey / arm64 | OK | ERROR | skipped | skipped | ||||||||||||||||
| Package 130/664 | Hostname | OS / Arch | INSTALL | BUILD | CHECK | BUILD BIN | ||||||||||||||||
| CoreGx 2.4.0 (landing page) Benjamin Haibe-Kains
| kjohnson2 | macOS 12.6.1 Monterey / arm64 | OK | OK | OK | OK | ||||||||||||||||
| Package 131/664 | Hostname | OS / Arch | INSTALL | BUILD | CHECK | BUILD BIN | ||||||||||||||||
| coseq 1.24.0 (landing page) Andrea Rau
| kjohnson2 | macOS 12.6.1 Monterey / arm64 | OK | OK | OK | OK | ||||||||||||||||
| Package 132/664 | Hostname | OS / Arch | INSTALL | BUILD | CHECK | BUILD BIN | ||||||||||||||||
| CoverageView 1.38.0 (landing page) Ernesto Lowy
| kjohnson2 | macOS 12.6.1 Monterey / arm64 | OK | OK | WARNINGS | OK | ||||||||||||||||
| Package 133/664 | Hostname | OS / Arch | INSTALL | BUILD | CHECK | BUILD BIN | ||||||||||||||||
| crisprBase 1.4.0 (landing page) Jean-Philippe Fortin
| kjohnson2 | macOS 12.6.1 Monterey / arm64 | OK | OK | OK | OK | ||||||||||||||||
| Package 134/664 | Hostname | OS / Arch | INSTALL | BUILD | CHECK | BUILD BIN | ||||||||||||||||
| crisprDesign 1.2.0 (landing page) Jean-Philippe Fortin
| kjohnson2 | macOS 12.6.1 Monterey / arm64 | OK | OK | OK | OK | ||||||||||||||||
| Package 135/664 | Hostname | OS / Arch | INSTALL | BUILD | CHECK | BUILD BIN | ||||||||||||||||
| CRISPRseek 1.40.0 (landing page) Lihua Julie Zhu
| kjohnson2 | macOS 12.6.1 Monterey / arm64 | OK | OK | TIMEOUT | OK | ||||||||||||||||
| Package 136/664 | Hostname | OS / Arch | INSTALL | BUILD | CHECK | BUILD BIN | ||||||||||||||||
| CrispRVariants 1.28.0 (landing page) Helen Lindsay
| kjohnson2 | macOS 12.6.1 Monterey / arm64 | OK | OK | WARNINGS | OK | ||||||||||||||||
| Package 137/664 | Hostname | OS / Arch | INSTALL | BUILD | CHECK | BUILD BIN | ||||||||||||||||
| crisprViz 1.2.0 (landing page) Jean-Philippe Fortin
| kjohnson2 | macOS 12.6.1 Monterey / arm64 | OK | OK | OK | OK | ||||||||||||||||
| Package 138/664 | Hostname | OS / Arch | INSTALL | BUILD | CHECK | BUILD BIN | ||||||||||||||||
| CSAR 1.52.0 (landing page) Jose M Muino
| kjohnson2 | macOS 12.6.1 Monterey / arm64 | OK | OK | OK | OK | ||||||||||||||||
| Package 139/664 | Hostname | OS / Arch | INSTALL | BUILD | CHECK | BUILD BIN | ||||||||||||||||
| csaw 1.34.0 (landing page) Aaron Lun
| kjohnson2 | macOS 12.6.1 Monterey / arm64 | OK | OK | ERROR | OK | ||||||||||||||||
| Package 140/664 | Hostname | OS / Arch | INSTALL | BUILD | CHECK | BUILD BIN | ||||||||||||||||
| CSSQ 1.12.1 (landing page) Fan Lab at Georgia Institute of Technology
| kjohnson2 | macOS 12.6.1 Monterey / arm64 | OK | OK | OK | OK | ||||||||||||||||
| Package 141/664 | Hostname | OS / Arch | INSTALL | BUILD | CHECK | BUILD BIN | ||||||||||||||||
| CTDquerier 2.8.0 (landing page) Xavier Escribà-Montagut
| kjohnson2 | macOS 12.6.1 Monterey / arm64 | OK | OK | WARNINGS | OK | ||||||||||||||||
| Package 142/664 | Hostname | OS / Arch | INSTALL | BUILD | CHECK | BUILD BIN | ||||||||||||||||
| cummeRbund 2.42.0 (landing page) Loyal A. Goff
| kjohnson2 | macOS 12.6.1 Monterey / arm64 | OK | OK | WARNINGS | OK | ||||||||||||||||
| Package 143/664 | Hostname | OS / Arch | INSTALL | BUILD | CHECK | BUILD BIN | ||||||||||||||||
| customProDB 1.40.0 (landing page) Xiaojing Wang
| kjohnson2 | macOS 12.6.1 Monterey / arm64 | OK | OK | OK | OK | ||||||||||||||||
| Package 144/664 | Hostname | OS / Arch | INSTALL | BUILD | CHECK | BUILD BIN | ||||||||||||||||
| cydar 1.24.0 (landing page) Aaron Lun
| kjohnson2 | macOS 12.6.1 Monterey / arm64 | OK | OK | OK | OK | ||||||||||||||||
| Package 145/664 | Hostname | OS / Arch | INSTALL | BUILD | CHECK | BUILD BIN | ||||||||||||||||
| cytofQC 1.0.0 (landing page) Jill Lundell
| kjohnson2 | macOS 12.6.1 Monterey / arm64 | OK | OK | OK | OK | ||||||||||||||||
| Package 146/664 | Hostname | OS / Arch | INSTALL | BUILD | CHECK | BUILD BIN | ||||||||||||||||
| cytoKernel 1.6.0 (landing page) Tusharkanti Ghosh
| kjohnson2 | macOS 12.6.1 Monterey / arm64 | OK | OK | OK | OK | ||||||||||||||||
| Package 147/664 | Hostname | OS / Arch | INSTALL | BUILD | CHECK | BUILD BIN | ||||||||||||||||
| cytomapper 1.12.0 (landing page) Nils Eling
| kjohnson2 | macOS 12.6.1 Monterey / arm64 | OK | OK | OK | OK | ||||||||||||||||
| Package 148/664 | Hostname | OS / Arch | INSTALL | BUILD | CHECK | BUILD BIN | ||||||||||||||||
| cytoviewer 1.0.1 (landing page) Lasse Meyer
| kjohnson2 | macOS 12.6.1 Monterey / arm64 | OK | OK | OK | OK | ||||||||||||||||
| Package 149/664 | Hostname | OS / Arch | INSTALL | BUILD | CHECK | BUILD BIN | ||||||||||||||||
| DAMEfinder 1.12.0 (landing page) Stephany Orjuela
| kjohnson2 | macOS 12.6.1 Monterey / arm64 | OK | OK | OK | OK | ||||||||||||||||
| Package 150/664 | Hostname | OS / Arch | INSTALL | BUILD | CHECK | BUILD BIN | ||||||||||||||||
David Zhang
| kjohnson2 | macOS 12.6.1 Monterey / arm64 | OK | ERROR | skipped | skipped | ||||||||||||||||
| Package 151/664 | Hostname | OS / Arch | INSTALL | BUILD | CHECK | BUILD BIN | ||||||||||||||||
| debrowser 1.28.3 (landing page) Alper Kucukural
| kjohnson2 | macOS 12.6.1 Monterey / arm64 | OK | OK | OK | OK | ||||||||||||||||
| Package 152/664 | Hostname | OS / Arch | INSTALL | BUILD | CHECK | BUILD BIN | ||||||||||||||||
| DECIPHER 2.28.0 (landing page) Erik Wright
| kjohnson2 | macOS 12.6.1 Monterey / arm64 | OK | OK | OK | OK | ||||||||||||||||
| Package 153/664 | Hostname | OS / Arch | INSTALL | BUILD | CHECK | BUILD BIN | ||||||||||||||||
| decompTumor2Sig 2.16.0 (landing page) Rosario M. Piro
| kjohnson2 | macOS 12.6.1 Monterey / arm64 | OK | TIMEOUT | skipped | skipped | ||||||||||||||||
| Package 154/664 | Hostname | OS / Arch | INSTALL | BUILD | CHECK | BUILD BIN | ||||||||||||||||
| deconvR 1.6.0 (landing page) Irem B. Gündüz
| kjohnson2 | macOS 12.6.1 Monterey / arm64 | OK | OK | OK | OK | ||||||||||||||||
| Package 155/664 | Hostname | OS / Arch | INSTALL | BUILD | CHECK | BUILD BIN | ||||||||||||||||
| DEFormats 1.28.0 (landing page) Andrzej Oleś
| kjohnson2 | macOS 12.6.1 Monterey / arm64 | OK | OK | OK | OK | ||||||||||||||||
| Package 156/664 | Hostname | OS / Arch | INSTALL | BUILD | CHECK | BUILD BIN | ||||||||||||||||
| DegNorm 1.10.1 (landing page) Ji-Ping Wang
| kjohnson2 | macOS 12.6.1 Monterey / arm64 | OK | OK | OK | OK | ||||||||||||||||
| Package 157/664 | Hostname | OS / Arch | INSTALL | BUILD | CHECK | BUILD BIN | ||||||||||||||||
| DEGreport 1.36.0 (landing page) Lorena Pantano
| kjohnson2 | macOS 12.6.1 Monterey / arm64 | OK | OK | WARNINGS | OK | ||||||||||||||||
| Package 158/664 | Hostname | OS / Arch | INSTALL | BUILD | CHECK | BUILD BIN | ||||||||||||||||
| DelayedArray 0.26.7 (landing page) Hervé Pagès
| kjohnson2 | macOS 12.6.1 Monterey / arm64 | OK | OK | WARNINGS | OK | ||||||||||||||||
| Package 159/664 | Hostname | OS / Arch | INSTALL | BUILD | CHECK | BUILD BIN | ||||||||||||||||
| DelayedDataFrame 1.16.0 (landing page) Qian Liu
| kjohnson2 | macOS 12.6.1 Monterey / arm64 | OK | OK | OK | OK | ||||||||||||||||
| Package 160/664 | Hostname | OS / Arch | INSTALL | BUILD | CHECK | BUILD BIN | ||||||||||||||||
| DelayedMatrixStats 1.22.6 (landing page) Peter Hickey
| kjohnson2 | macOS 12.6.1 Monterey / arm64 | OK | OK | WARNINGS | OK | ||||||||||||||||
| Package 161/664 | Hostname | OS / Arch | INSTALL | BUILD | CHECK | BUILD BIN | ||||||||||||||||
| derfinder 1.34.0 (landing page) Leonardo Collado-Torres
| kjohnson2 | macOS 12.6.1 Monterey / arm64 | OK | OK | OK | OK | ||||||||||||||||
| Package 162/664 | Hostname | OS / Arch | INSTALL | BUILD | CHECK | BUILD BIN | ||||||||||||||||
| derfinderHelper 1.34.0 (landing page) Leonardo Collado-Torres
| kjohnson2 | macOS 12.6.1 Monterey / arm64 | OK | OK | OK | OK | ||||||||||||||||
| Package 163/664 | Hostname | OS / Arch | INSTALL | BUILD | CHECK | BUILD BIN | ||||||||||||||||
| derfinderPlot 1.34.0 (landing page) Leonardo Collado-Torres
| kjohnson2 | macOS 12.6.1 Monterey / arm64 | OK | OK | OK | OK | ||||||||||||||||
| Package 164/664 | Hostname | OS / Arch | INSTALL | BUILD | CHECK | BUILD BIN | ||||||||||||||||
| DEScan2 1.20.1 (landing page) Dario Righelli
| kjohnson2 | macOS 12.6.1 Monterey / arm64 | OK | OK | WARNINGS | OK | ||||||||||||||||
| Package 165/664 | Hostname | OS / Arch | INSTALL | BUILD | CHECK | BUILD BIN | ||||||||||||||||
| DESeq2 1.40.2 (landing page) Michael Love
| kjohnson2 | macOS 12.6.1 Monterey / arm64 | OK | OK | OK | OK | ||||||||||||||||
| Package 166/664 | Hostname | OS / Arch | INSTALL | BUILD | CHECK | BUILD BIN | ||||||||||||||||
| DEWSeq 1.14.0 (landing page) bioinformatics team Hentze
| kjohnson2 | macOS 12.6.1 Monterey / arm64 | OK | OK | OK | OK | ||||||||||||||||
| Package 167/664 | Hostname | OS / Arch | INSTALL | BUILD | CHECK | BUILD BIN | ||||||||||||||||
| DEXSeq 1.46.1 (landing page) Alejandro Reyes
| kjohnson2 | macOS 12.6.1 Monterey / arm64 | OK | OK | OK | OK | ||||||||||||||||
| Package 168/664 | Hostname | OS / Arch | INSTALL | BUILD | CHECK | BUILD BIN | ||||||||||||||||
| DiffBind 3.10.1 (landing page) Rory Stark
| kjohnson2 | macOS 12.6.1 Monterey / arm64 | OK | OK | WARNINGS | OK | ||||||||||||||||
| Package 169/664 | Hostname | OS / Arch | INSTALL | BUILD | CHECK | BUILD BIN | ||||||||||||||||
| diffcyt 1.20.0 (landing page) Lukas M. Weber
| kjohnson2 | macOS 12.6.1 Monterey / arm64 | OK | OK | OK | OK | ||||||||||||||||
| Package 170/664 | Hostname | OS / Arch | INSTALL | BUILD | CHECK | BUILD BIN | ||||||||||||||||
| diffHic 1.32.0 (landing page) Aaron Lun
| kjohnson2 | macOS 12.6.1 Monterey / arm64 | OK | OK | WARNINGS | OK | ||||||||||||||||
| Package 171/664 | Hostname | OS / Arch | INSTALL | BUILD | CHECK | BUILD BIN | ||||||||||||||||
| diffUTR 1.8.0 (landing page) Pierre-Luc Germain
| kjohnson2 | macOS 12.6.1 Monterey / arm64 | OK | OK | OK | OK | ||||||||||||||||
| Package 172/664 | Hostname | OS / Arch | INSTALL | BUILD | CHECK | BUILD BIN | ||||||||||||||||
| Dino 1.6.0 (landing page) Jared Brown
| kjohnson2 | macOS 12.6.1 Monterey / arm64 | OK | OK | OK | OK | ||||||||||||||||
| Package 173/664 | Hostname | OS / Arch | INSTALL | BUILD | CHECK | BUILD BIN | ||||||||||||||||
| DirichletMultinomial 1.42.0 (landing page) Martin Morgan
| kjohnson2 | macOS 12.6.1 Monterey / arm64 | OK | OK | OK | OK | ||||||||||||||||
| Package 174/664 | Hostname | OS / Arch | INSTALL | BUILD | CHECK | BUILD BIN | ||||||||||||||||
| DiscoRhythm 1.16.0 (landing page) Matthew Carlucci
| kjohnson2 | macOS 12.6.1 Monterey / arm64 | OK | OK | OK | OK | ||||||||||||||||
| Package 175/664 | Hostname | OS / Arch | INSTALL | BUILD | CHECK | BUILD BIN | ||||||||||||||||
| dittoSeq 1.12.2 (landing page) Daniel Bunis
| kjohnson2 | macOS 12.6.1 Monterey / arm64 | OK | OK | OK | OK | ||||||||||||||||
| Package 176/664 | Hostname | OS / Arch | INSTALL | BUILD | CHECK | BUILD BIN | ||||||||||||||||
| DMCFB 1.14.0 (landing page) Farhad Shokoohi
| kjohnson2 | macOS 12.6.1 Monterey / arm64 | OK | OK | OK | OK | ||||||||||||||||
| Package 177/664 | Hostname | OS / Arch | INSTALL | BUILD | CHECK | BUILD BIN | ||||||||||||||||
| DMCHMM 1.22.0 (landing page) Farhad Shokoohi
| kjohnson2 | macOS 12.6.1 Monterey / arm64 | OK | OK | OK | OK | ||||||||||||||||
| Package 178/664 | Hostname | OS / Arch | INSTALL | BUILD | CHECK | BUILD BIN | ||||||||||||||||
| DMRcaller 1.32.0 (landing page) Nicolae Radu Zabet
| kjohnson2 | macOS 12.6.1 Monterey / arm64 | OK | OK | OK | OK | ||||||||||||||||
| Package 179/664 | Hostname | OS / Arch | INSTALL | BUILD | CHECK | BUILD BIN | ||||||||||||||||
| DMRcate 2.14.1 (landing page) Tim Peters
| kjohnson2 | macOS 12.6.1 Monterey / arm64 | OK | OK | TIMEOUT | OK | ||||||||||||||||
| Package 180/664 | Hostname | OS / Arch | INSTALL | BUILD | CHECK | BUILD BIN | ||||||||||||||||
| dmrseq 1.20.1 (landing page) Keegan Korthauer
| kjohnson2 | macOS 12.6.1 Monterey / arm64 | OK | OK | OK | OK | ||||||||||||||||
| Package 181/664 | Hostname | OS / Arch | INSTALL | BUILD | CHECK | BUILD BIN | ||||||||||||||||
| DNAfusion 1.2.0 (landing page) Christoffer Trier Maansson
| kjohnson2 | macOS 12.6.1 Monterey / arm64 | OK | OK | OK | OK | ||||||||||||||||
| Package 182/664 | Hostname | OS / Arch | INSTALL | BUILD | CHECK | BUILD BIN | ||||||||||||||||
| doseR 1.16.0 (landing page) ake.vastermark
| kjohnson2 | macOS 12.6.1 Monterey / arm64 | OK | OK | OK | OK | ||||||||||||||||
| Package 183/664 | Hostname | OS / Arch | INSTALL | BUILD | CHECK | BUILD BIN | ||||||||||||||||
| DRIMSeq 1.28.0 (landing page) Malgorzata Nowicka
| kjohnson2 | macOS 12.6.1 Monterey / arm64 | OK | OK | WARNINGS | OK | ||||||||||||||||
| Package 184/664 | Hostname | OS / Arch | INSTALL | BUILD | CHECK | BUILD BIN | ||||||||||||||||
| DropletUtils 1.20.0 (landing page) Jonathan Griffiths
| kjohnson2 | macOS 12.6.1 Monterey / arm64 | OK | OK | WARNINGS | OK | ||||||||||||||||
| Package 185/664 | Hostname | OS / Arch | INSTALL | BUILD | CHECK | BUILD BIN | ||||||||||||||||
| drugTargetInteractions 1.8.0 (landing page) Thomas Girke
| kjohnson2 | macOS 12.6.1 Monterey / arm64 | OK | OK | OK | OK | ||||||||||||||||
| Package 186/664 | Hostname | OS / Arch | INSTALL | BUILD | CHECK | BUILD BIN | ||||||||||||||||
| dStruct 1.6.0 (landing page) Krishna Choudhary
| kjohnson2 | macOS 12.6.1 Monterey / arm64 | OK | OK | OK | OK | ||||||||||||||||
| Package 187/664 | Hostname | OS / Arch | INSTALL | BUILD | CHECK | BUILD BIN | ||||||||||||||||
| easyRNASeq 2.36.0 (landing page) Nicolas Delhomme
| kjohnson2 | macOS 12.6.1 Monterey / arm64 | OK | OK | OK | OK | ||||||||||||||||
| Package 188/664 | Hostname | OS / Arch | INSTALL | BUILD | CHECK | BUILD BIN | ||||||||||||||||
| eegc 1.26.0 (landing page) Xiaoyuan Zhou
| kjohnson2 | macOS 12.6.1 Monterey / arm64 | OK | OK | WARNINGS | OK | ||||||||||||||||
| Package 189/664 | Hostname | OS / Arch | INSTALL | BUILD | CHECK | BUILD BIN | ||||||||||||||||
| eisaR 1.12.0 (landing page) Michael Stadler
| kjohnson2 | macOS 12.6.1 Monterey / arm64 | OK | OK | OK | OK | ||||||||||||||||
| Package 190/664 | Hostname | OS / Arch | INSTALL | BUILD | CHECK | BUILD BIN | ||||||||||||||||
| ELMER 2.24.1 (landing page) Tiago Chedraoui Silva
| kjohnson2 | macOS 12.6.1 Monterey / arm64 | OK | OK | WARNINGS | OK | ||||||||||||||||
| Package 191/664 | Hostname | OS / Arch | INSTALL | BUILD | CHECK | BUILD BIN | ||||||||||||||||
| enhancerHomologSearch 1.6.1 (landing page) Jianhong Ou
| kjohnson2 | macOS 12.6.1 Monterey / arm64 | OK | OK | WARNINGS | OK | ||||||||||||||||
| Package 192/664 | Hostname | OS / Arch | INSTALL | BUILD | CHECK | BUILD BIN | ||||||||||||||||
| ENmix 1.36.08 (landing page) Zongli Xu
| kjohnson2 | macOS 12.6.1 Monterey / arm64 | OK | OK | OK | OK | ||||||||||||||||
| Package 193/664 | Hostname | OS / Arch | INSTALL | BUILD | CHECK | BUILD BIN | ||||||||||||||||
| EnrichmentBrowser 2.30.2 (landing page) Ludwig Geistlinger
| kjohnson2 | macOS 12.6.1 Monterey / arm64 | OK | OK | OK | OK | ||||||||||||||||
| Package 194/664 | Hostname | OS / Arch | INSTALL | BUILD | CHECK | BUILD BIN | ||||||||||||||||
| enrichTF 1.16.0 (landing page) Zheng Wei
| kjohnson2 | macOS 12.6.1 Monterey / arm64 | OK | OK | OK | OK | ||||||||||||||||
| Package 195/664 | Hostname | OS / Arch | INSTALL | BUILD | CHECK | BUILD BIN | ||||||||||||||||
| ensembldb 2.24.1 (landing page) Johannes Rainer
| kjohnson2 | macOS 12.6.1 Monterey / arm64 | OK | OK | OK | OK | ||||||||||||||||
| Package 196/664 | Hostname | OS / Arch | INSTALL | BUILD | CHECK | BUILD BIN | ||||||||||||||||
| ensemblVEP 1.42.0 (landing page) Bioconductor Package Maintainer
| kjohnson2 | macOS 12.6.1 Monterey / arm64 | OK | ERROR | skipped | skipped | ||||||||||||||||
| Package 197/664 | Hostname | OS / Arch | INSTALL | BUILD | CHECK | BUILD BIN | ||||||||||||||||
| epigenomix 1.40.0 (landing page) Hans-Ulrich Klein
| kjohnson2 | macOS 12.6.1 Monterey / arm64 | OK | OK | OK | OK | ||||||||||||||||
| Package 198/664 | Hostname | OS / Arch | INSTALL | BUILD | CHECK | BUILD BIN | ||||||||||||||||
| epigraHMM 1.8.3 (landing page) Pedro Baldoni
| kjohnson2 | macOS 12.6.1 Monterey / arm64 | OK | OK | WARNINGS | OK | ||||||||||||||||
| Package 199/664 | Hostname | OS / Arch | INSTALL | BUILD | CHECK | BUILD BIN | ||||||||||||||||
Xiaowen Chen
| kjohnson2 | macOS 12.6.1 Monterey / arm64 | ERROR | ERROR | skipped | skipped | ||||||||||||||||
| Package 200/664 | Hostname | OS / Arch | INSTALL | BUILD | CHECK | BUILD BIN | ||||||||||||||||
| EpiMix 1.2.4 (landing page) Yuanning Zheng
| kjohnson2 | macOS 12.6.1 Monterey / arm64 | ERROR | ERROR | skipped | skipped | ||||||||||||||||
| Package 201/664 | Hostname | OS / Arch | INSTALL | BUILD | CHECK | BUILD BIN | ||||||||||||||||
| epimutacions 1.4.0 (landing page) Dolors Pelegri-Siso
| kjohnson2 | macOS 12.6.1 Monterey / arm64 | OK | OK | OK | OK | ||||||||||||||||
| Package 202/664 | Hostname | OS / Arch | INSTALL | BUILD | CHECK | BUILD BIN | ||||||||||||||||
| epistack 1.6.0 (landing page) DEVAILLY Guillaume
| kjohnson2 | macOS 12.6.1 Monterey / arm64 | OK | OK | OK | OK | ||||||||||||||||
| Package 203/664 | Hostname | OS / Arch | INSTALL | BUILD | CHECK | BUILD BIN | ||||||||||||||||
| EpiTxDb 1.12.0 (landing page) Felix G.M. Ernst
| kjohnson2 | macOS 12.6.1 Monterey / arm64 | OK | OK | OK | OK | ||||||||||||||||
| Package 204/664 | Hostname | OS / Arch | INSTALL | BUILD | CHECK | BUILD BIN | ||||||||||||||||
| epivizr 2.30.0 (landing page) Hector Corrada Bravo
| kjohnson2 | macOS 12.6.1 Monterey / arm64 | OK | OK | OK | OK | ||||||||||||||||
| Package 205/664 | Hostname | OS / Arch | INSTALL | BUILD | CHECK | BUILD BIN | ||||||||||||||||
| epivizrData 1.28.0 (landing page) Hector Corrada Bravo
| kjohnson2 | macOS 12.6.1 Monterey / arm64 | OK | OK | OK | OK | ||||||||||||||||
| Package 206/664 | Hostname | OS / Arch | INSTALL | BUILD | CHECK | BUILD BIN | ||||||||||||||||
| epivizrStandalone 1.28.0 (landing page) Hector Corrada Bravo
| kjohnson2 | macOS 12.6.1 Monterey / arm64 | OK | OK | WARNINGS | OK | ||||||||||||||||
| Package 207/664 | Hostname | OS / Arch | INSTALL | BUILD | CHECK | BUILD BIN | ||||||||||||||||
| erma 1.16.0 (landing page) VJ Carey
| kjohnson2 | macOS 12.6.1 Monterey / arm64 | OK | OK | OK | OK | ||||||||||||||||
| Package 208/664 | Hostname | OS / Arch | INSTALL | BUILD | CHECK | BUILD BIN | ||||||||||||||||
| esATAC 1.22.0 (landing page) Zheng Wei
| kjohnson2 | macOS 12.6.1 Monterey / arm64 | OK | OK | OK | OK | ||||||||||||||||
| Package 209/664 | Hostname | OS / Arch | INSTALL | BUILD | CHECK | BUILD BIN | ||||||||||||||||
| EventPointer 3.8.0 (landing page) Juan A. Ferrer-Bonsoms
| kjohnson2 | macOS 12.6.1 Monterey / arm64 | OK | OK | OK | OK | ||||||||||||||||
| Package 210/664 | Hostname | OS / Arch | INSTALL | BUILD | CHECK | BUILD BIN | ||||||||||||||||
| exomePeak2 1.12.0 (landing page) Zhen Wei
| kjohnson2 | macOS 12.6.1 Monterey / arm64 | OK | OK | OK | OK | ||||||||||||||||
| Package 211/664 | Hostname | OS / Arch | INSTALL | BUILD | CHECK | BUILD BIN | ||||||||||||||||
| ExperimentHub 2.8.1 (landing page) Bioconductor Package Maintainer
| kjohnson2 | macOS 12.6.1 Monterey / arm64 | OK | OK | WARNINGS | OK | ||||||||||||||||
| Package 212/664 | Hostname | OS / Arch | INSTALL | BUILD | CHECK | BUILD BIN | ||||||||||||||||
| ExperimentHubData 1.26.1 (landing page) Bioconductor Package Maintainer
| kjohnson2 | macOS 12.6.1 Monterey / arm64 | OK | OK | WARNINGS | OK | ||||||||||||||||
| Package 213/664 | Hostname | OS / Arch | INSTALL | BUILD | CHECK | BUILD BIN | ||||||||||||||||
| ExperimentSubset 1.10.0 (landing page) Irzam Sarfraz
| kjohnson2 | macOS 12.6.1 Monterey / arm64 | OK | OK | OK | OK | ||||||||||||||||
| Package 214/664 | Hostname | OS / Arch | INSTALL | BUILD | CHECK | BUILD BIN | ||||||||||||||||
| ExploreModelMatrix 1.12.0 (landing page) Charlotte Soneson
| kjohnson2 | macOS 12.6.1 Monterey / arm64 | OK | OK | OK | OK | ||||||||||||||||
| Package 215/664 | Hostname | OS / Arch | INSTALL | BUILD | CHECK | BUILD BIN | ||||||||||||||||
| ExpressionAtlas 1.28.0 (landing page) Pedro Madrigal
| kjohnson2 | macOS 12.6.1 Monterey / arm64 | OK | OK | OK | OK | ||||||||||||||||
| Package 216/664 | Hostname | OS / Arch | INSTALL | BUILD | CHECK | BUILD BIN | ||||||||||||||||
| extraChIPs 1.4.6 (landing page) Stephen Pederson
| kjohnson2 | macOS 12.6.1 Monterey / arm64 | OK | OK | OK | OK | ||||||||||||||||
| Package 217/664 | Hostname | OS / Arch | INSTALL | BUILD | CHECK | BUILD BIN | ||||||||||||||||
| factR 1.2.0 (landing page) Fursham Hamid
| kjohnson2 | macOS 12.6.1 Monterey / arm64 | OK | ERROR | skipped | skipped | ||||||||||||||||
| Package 218/664 | Hostname | OS / Arch | INSTALL | BUILD | CHECK | BUILD BIN | ||||||||||||||||
| FastqCleaner 1.18.0 (landing page) Leandro Roser
| kjohnson2 | macOS 12.6.1 Monterey / arm64 | OK | OK | OK | OK | ||||||||||||||||
| Package 219/664 | Hostname | OS / Arch | INSTALL | BUILD | CHECK | BUILD BIN | ||||||||||||||||
| fastseg 1.46.0 (landing page) Alexander Blume
| kjohnson2 | macOS 12.6.1 Monterey / arm64 | OK | OK | OK | OK | ||||||||||||||||
| Package 220/664 | Hostname | OS / Arch | INSTALL | BUILD | CHECK | BUILD BIN | ||||||||||||||||
| fCCAC 1.26.0 (landing page) Pedro Madrigal
| kjohnson2 | macOS 12.6.1 Monterey / arm64 | OK | OK | OK | OK | ||||||||||||||||
| Package 221/664 | Hostname | OS / Arch | INSTALL | BUILD | CHECK | BUILD BIN | ||||||||||||||||
| FilterFFPE 1.10.0 (landing page) Lanying Wei
| kjohnson2 | macOS 12.6.1 Monterey / arm64 | OK | OK | OK | OK | ||||||||||||||||
| Package 222/664 | Hostname | OS / Arch | INSTALL | BUILD | CHECK | BUILD BIN | ||||||||||||||||
| FindIT2 1.6.0 (landing page) Guandong Shang
| kjohnson2 | macOS 12.6.1 Monterey / arm64 | OK | OK | OK | OK | ||||||||||||||||
| Package 223/664 | Hostname | OS / Arch | INSTALL | BUILD | CHECK | BUILD BIN | ||||||||||||||||
| fishpond 2.6.2 (landing page) Michael Love
| kjohnson2 | macOS 12.6.1 Monterey / arm64 | OK | OK | OK | OK | ||||||||||||||||
| Package 224/664 | Hostname | OS / Arch | INSTALL | BUILD | CHECK | BUILD BIN | ||||||||||||||||
| FLAMES 1.6.0 (landing page) Oliver Voogd
| kjohnson2 | macOS 12.6.1 Monterey / arm64 | OK | OK | WARNINGS | OK | ||||||||||||||||
| Package 225/664 | Hostname | OS / Arch | INSTALL | BUILD | CHECK | BUILD BIN | ||||||||||||||||
| flowCore 2.12.2 (landing page) Mike Jiang
| kjohnson2 | macOS 12.6.1 Monterey / arm64 | OK | OK | WARNINGS | OK | ||||||||||||||||
| Package 226/664 | Hostname | OS / Arch | INSTALL | BUILD | CHECK | BUILD BIN | ||||||||||||||||
| flowWorkspace 4.12.2 (landing page) Greg Finak
| kjohnson2 | macOS 12.6.1 Monterey / arm64 | OK | OK | WARNINGS | OK | ||||||||||||||||
| Package 227/664 | Hostname | OS / Arch | INSTALL | BUILD | CHECK | BUILD BIN | ||||||||||||||||
| FRASER 1.12.1 (landing page) Christian Mertes
| kjohnson2 | macOS 12.6.1 Monterey / arm64 | OK | OK | OK | OK | ||||||||||||||||
| Package 228/664 | Hostname | OS / Arch | INSTALL | BUILD | CHECK | BUILD BIN | ||||||||||||||||
| FuseSOM 1.2.0 (landing page) Elijah Willie
| kjohnson2 | macOS 12.6.1 Monterey / arm64 | OK | OK | OK | OK | ||||||||||||||||
| Package 229/664 | Hostname | OS / Arch | INSTALL | BUILD | CHECK | BUILD BIN | ||||||||||||||||
| GA4GHclient 1.24.0 (landing page) Welliton Souza
| kjohnson2 | macOS 12.6.1 Monterey / arm64 | OK | OK | OK | OK | ||||||||||||||||
| Package 230/664 | Hostname | OS / Arch | INSTALL | BUILD | CHECK | BUILD BIN | ||||||||||||||||
| GA4GHshiny 1.22.0 (landing page) Welliton Souza
| kjohnson2 | macOS 12.6.1 Monterey / arm64 | OK | OK | OK | OK | ||||||||||||||||
| Package 231/664 | Hostname | OS / Arch | INSTALL | BUILD | CHECK | BUILD BIN | ||||||||||||||||
| gcapc 1.24.0 (landing page) Mingxiang Teng
| kjohnson2 | macOS 12.6.1 Monterey / arm64 | OK | OK | OK | OK | ||||||||||||||||
| Package 232/664 | Hostname | OS / Arch | INSTALL | BUILD | CHECK | BUILD BIN | ||||||||||||||||
| GDSArray 1.20.0 (landing page) Qian Liu
| kjohnson2 | macOS 12.6.1 Monterey / arm64 | OK | OK | OK | OK | ||||||||||||||||
| Package 233/664 | Hostname | OS / Arch | INSTALL | BUILD | CHECK | BUILD BIN | ||||||||||||||||
| gemma.R 1.2.0 (landing page) Ogan Mancarci
| kjohnson2 | macOS 12.6.1 Monterey / arm64 | OK | ERROR | skipped | skipped | ||||||||||||||||
| Package 234/664 | Hostname | OS / Arch | INSTALL | BUILD | CHECK | BUILD BIN | ||||||||||||||||
| genbankr 1.28.0 (landing page) Gabriel Becker
| kjohnson2 | macOS 12.6.1 Monterey / arm64 | OK | ERROR | skipped | skipped | ||||||||||||||||
| Package 235/664 | Hostname | OS / Arch | INSTALL | BUILD | CHECK | BUILD BIN | ||||||||||||||||
| GeneRegionScan 1.56.0 (landing page) Lasse Folkersen
| kjohnson2 | macOS 12.6.1 Monterey / arm64 | OK | OK | OK | OK | ||||||||||||||||
| Package 236/664 | Hostname | OS / Arch | INSTALL | BUILD | CHECK | BUILD BIN | ||||||||||||||||
| GENESIS 2.30.0 (landing page) Stephanie M. Gogarten
| kjohnson2 | macOS 12.6.1 Monterey / arm64 | OK | OK | OK | OK | ||||||||||||||||
| Package 237/664 | Hostname | OS / Arch | INSTALL | BUILD | CHECK | BUILD BIN | ||||||||||||||||
| GeneStructureTools 1.20.0 (landing page) Beth Signal
| kjohnson2 | macOS 12.6.1 Monterey / arm64 | OK | OK | OK | OK | ||||||||||||||||
| Package 238/664 | Hostname | OS / Arch | INSTALL | BUILD | CHECK | BUILD BIN | ||||||||||||||||
| GeneTonic 2.4.2 (landing page) Federico Marini
| kjohnson2 | macOS 12.6.1 Monterey / arm64 | OK | OK | OK | OK | ||||||||||||||||
| Package 239/664 | Hostname | OS / Arch | INSTALL | BUILD | CHECK | BUILD BIN | ||||||||||||||||
| genomation 1.32.0 (landing page) Altuna Akalin
| kjohnson2 | macOS 12.6.1 Monterey / arm64 | OK | OK | WARNINGS | OK | ||||||||||||||||
| Package 240/664 | Hostname | OS / Arch | INSTALL | BUILD | CHECK | BUILD BIN | ||||||||||||||||
| GenomAutomorphism 1.2.0 (landing page) Robersy Sanchez
| kjohnson2 | macOS 12.6.1 Monterey / arm64 | OK | OK | ERROR | OK | ||||||||||||||||
| Package 241/664 | Hostname | OS / Arch | INSTALL | BUILD | CHECK | BUILD BIN | ||||||||||||||||
| GenomeInfoDb 1.36.4 (landing page) Hervé Pagès
| kjohnson2 | macOS 12.6.1 Monterey / arm64 | OK | OK | WARNINGS | OK | ||||||||||||||||
| Package 242/664 | Hostname | OS / Arch | INSTALL | BUILD | CHECK | BUILD BIN | ||||||||||||||||
| genomeIntervals 1.56.0 (landing page) Julien Gagneur
| kjohnson2 | macOS 12.6.1 Monterey / arm64 | OK | OK | WARNINGS | OK | ||||||||||||||||
| Package 243/664 | Hostname | OS / Arch | INSTALL | BUILD | CHECK | BUILD BIN | ||||||||||||||||
| GenomicAlignments 1.36.0 (landing page) Hervé Pagès
| kjohnson2 | macOS 12.6.1 Monterey / arm64 | OK | OK | WARNINGS | OK | ||||||||||||||||
| Package 244/664 | Hostname | OS / Arch | INSTALL | BUILD | CHECK | BUILD BIN | ||||||||||||||||
| GenomicFeatures 1.52.2 (landing page) H. Pagès
| kjohnson2 | macOS 12.6.1 Monterey / arm64 | OK | OK | ERROR | OK | ||||||||||||||||
| Package 245/664 | Hostname | OS / Arch | INSTALL | BUILD | CHECK | BUILD BIN | ||||||||||||||||
| GenomicFiles 1.36.0 (landing page) Bioconductor Package Maintainer
| kjohnson2 | macOS 12.6.1 Monterey / arm64 | OK | OK | WARNINGS | OK | ||||||||||||||||
| Package 246/664 | Hostname | OS / Arch | INSTALL | BUILD | CHECK | BUILD BIN | ||||||||||||||||
| GenomicInteractionNodes 1.4.0 (landing page) Jianhong Ou
| kjohnson2 | macOS 12.6.1 Monterey / arm64 | OK | OK | OK | OK | ||||||||||||||||
| Package 247/664 | Hostname | OS / Arch | INSTALL | BUILD | CHECK | BUILD BIN | ||||||||||||||||
| GenomicInteractions 1.34.0 (landing page) Liz Ing-Simmons
| kjohnson2 | macOS 12.6.1 Monterey / arm64 | OK | OK | OK | OK | ||||||||||||||||
| Package 248/664 | Hostname | OS / Arch | INSTALL | BUILD | CHECK | BUILD BIN | ||||||||||||||||
| GenomicOZone 1.14.0 (landing page) Hua Zhong
| kjohnson2 | macOS 12.6.1 Monterey / arm64 | OK | OK | OK | OK | ||||||||||||||||
| Package 249/664 | Hostname | OS / Arch | INSTALL | BUILD | CHECK | BUILD BIN | ||||||||||||||||
| GenomicRanges 1.52.1 (landing page) Hervé Pagès
| kjohnson2 | macOS 12.6.1 Monterey / arm64 | OK | OK | ERROR | OK | ||||||||||||||||
| Package 250/664 | Hostname | OS / Arch | INSTALL | BUILD | CHECK | BUILD BIN | ||||||||||||||||
| GenomicScores 2.12.1 (landing page) Robert Castelo
| kjohnson2 | macOS 12.6.1 Monterey / arm64 | OK | OK | OK | OK | ||||||||||||||||
| Package 251/664 | Hostname | OS / Arch | INSTALL | BUILD | CHECK | BUILD BIN | ||||||||||||||||
| GenomicSuperSignature 1.8.0 (landing page) Sehyun Oh
| kjohnson2 | macOS 12.6.1 Monterey / arm64 | OK | OK | WARNINGS | OK | ||||||||||||||||
| Package 252/664 | Hostname | OS / Arch | INSTALL | BUILD | CHECK | BUILD BIN | ||||||||||||||||
| GenomicTuples 1.34.0 (landing page) Peter Hickey
| kjohnson2 | macOS 12.6.1 Monterey / arm64 | OK | OK | WARNINGS | OK | ||||||||||||||||
| Package 253/664 | Hostname | OS / Arch | INSTALL | BUILD | CHECK | BUILD BIN | ||||||||||||||||
| GeomxTools 3.4.0 (landing page) Nicole Ortogero
| kjohnson2 | macOS 12.6.1 Monterey / arm64 | OK | OK | TIMEOUT | OK | ||||||||||||||||
| Package 254/664 | Hostname | OS / Arch | INSTALL | BUILD | CHECK | BUILD BIN | ||||||||||||||||
| ggbio 1.48.0 (landing page) Michael Lawrence
| kjohnson2 | macOS 12.6.1 Monterey / arm64 | OK | OK | WARNINGS | OK | ||||||||||||||||
| Package 255/664 | Hostname | OS / Arch | INSTALL | BUILD | CHECK | BUILD BIN | ||||||||||||||||
| girafe 1.52.0 (landing page) J. Toedling
| kjohnson2 | macOS 12.6.1 Monterey / arm64 | OK | OK | OK | OK | ||||||||||||||||
| Package 256/664 | Hostname | OS / Arch | INSTALL | BUILD | CHECK | BUILD BIN | ||||||||||||||||
| Glimma 2.10.0 (landing page) Shian Su
| kjohnson2 | macOS 12.6.1 Monterey / arm64 | OK | OK | OK | OK | ||||||||||||||||
| Package 257/664 | Hostname | OS / Arch | INSTALL | BUILD | CHECK | BUILD BIN | ||||||||||||||||
| gmapR 1.42.0 (landing page) Michael Lawrence
| kjohnson2 | macOS 12.6.1 Monterey / arm64 | ERROR | ERROR | skipped | skipped | ||||||||||||||||
| Package 258/664 | Hostname | OS / Arch | INSTALL | BUILD | CHECK | BUILD BIN | ||||||||||||||||
| gmoviz 1.12.0 (landing page) Kathleen Zeglinski
| kjohnson2 | macOS 12.6.1 Monterey / arm64 | OK | OK | OK | OK | ||||||||||||||||
| Package 259/664 | Hostname | OS / Arch | INSTALL | BUILD | CHECK | BUILD BIN | ||||||||||||||||
| GOpro 1.26.0 (landing page) Lidia Chrabaszcz
| kjohnson2 | macOS 12.6.1 Monterey / arm64 | OK | OK | OK | OK | ||||||||||||||||
| Package 260/664 | Hostname | OS / Arch | INSTALL | BUILD | CHECK | BUILD BIN | ||||||||||||||||
| GOTHiC 1.36.0 (landing page) Borbala Mifsud
| kjohnson2 | macOS 12.6.1 Monterey / arm64 | OK | OK | OK | OK | ||||||||||||||||
| Package 261/664 | Hostname | OS / Arch | INSTALL | BUILD | CHECK | BUILD BIN | ||||||||||||||||
| GRaNIE 1.4.1 (landing page) Christian Arnold
| kjohnson2 | macOS 12.6.1 Monterey / arm64 | OK | OK | WARNINGS | OK | ||||||||||||||||
| Package 262/664 | Hostname | OS / Arch | INSTALL | BUILD | CHECK | BUILD BIN | ||||||||||||||||
| GRmetrics 1.26.0 (landing page) Nicholas Clark
| kjohnson2 | macOS 12.6.1 Monterey / arm64 | OK | OK | OK | OK | ||||||||||||||||
| Package 263/664 | Hostname | OS / Arch | INSTALL | BUILD | CHECK | BUILD BIN | ||||||||||||||||
| groHMM 1.34.0 (landing page) Tulip Nandu
| kjohnson2 | macOS 12.6.1 Monterey / arm64 | OK | OK | OK | OK | ||||||||||||||||
| Package 264/664 | Hostname | OS / Arch | INSTALL | BUILD | CHECK | BUILD BIN | ||||||||||||||||
| GSEABenchmarkeR 1.20.1 (landing page) Ludwig Geistlinger
| kjohnson2 | macOS 12.6.1 Monterey / arm64 | OK | OK | OK | OK | ||||||||||||||||
| Package 265/664 | Hostname | OS / Arch | INSTALL | BUILD | CHECK | BUILD BIN | ||||||||||||||||
| GSVA 1.48.3 (landing page) Robert Castelo
| kjohnson2 | macOS 12.6.1 Monterey / arm64 | OK | OK | OK | OK | ||||||||||||||||
| Package 266/664 | Hostname | OS / Arch | INSTALL | BUILD | CHECK | BUILD BIN | ||||||||||||||||
| GUIDEseq 1.30.0 (landing page) Lihua Julie Zhu
| kjohnson2 | macOS 12.6.1 Monterey / arm64 | OK | OK | OK | OK | ||||||||||||||||
| Package 267/664 | Hostname | OS / Arch | INSTALL | BUILD | CHECK | BUILD BIN | ||||||||||||||||
| Gviz 1.44.2 (landing page) Robert Ivanek
| kjohnson2 | macOS 12.6.1 Monterey / arm64 | OK | OK | OK | OK | ||||||||||||||||
| Package 268/664 | Hostname | OS / Arch | INSTALL | BUILD | CHECK | BUILD BIN | ||||||||||||||||
| gwascat 2.32.0 (landing page) VJ Carey
| kjohnson2 | macOS 12.6.1 Monterey / arm64 | OK | OK | OK | OK | ||||||||||||||||
| Package 269/664 | Hostname | OS / Arch | INSTALL | BUILD | CHECK | BUILD BIN | ||||||||||||||||
| h5vc 2.34.0 (landing page) Paul Theodor Pyl
| kjohnson2 | macOS 12.6.1 Monterey / arm64 | OK | OK | WARNINGS | OK | ||||||||||||||||
| Package 270/664 | Hostname | OS / Arch | INSTALL | BUILD | CHECK | BUILD BIN | ||||||||||||||||
| HDF5Array 1.28.1 (landing page) Hervé Pagès
| kjohnson2 | macOS 12.6.1 Monterey / arm64 | OK | OK | WARNINGS | OK | ||||||||||||||||
| Package 271/664 | Hostname | OS / Arch | INSTALL | BUILD | CHECK | BUILD BIN | ||||||||||||||||
| HelloRanges 1.26.0 (landing page) Michael Lawrence
| kjohnson2 | macOS 12.6.1 Monterey / arm64 | OK | OK | OK | OK | ||||||||||||||||
| Package 272/664 | Hostname | OS / Arch | INSTALL | BUILD | CHECK | BUILD BIN | ||||||||||||||||
| hermes 1.4.0 (landing page) Daniel Sabanés Bové
| kjohnson2 | macOS 12.6.1 Monterey / arm64 | OK | OK | OK | OK | ||||||||||||||||
| Package 273/664 | Hostname | OS / Arch | INSTALL | BUILD | CHECK | BUILD BIN | ||||||||||||||||
| HiCBricks 1.18.0 (landing page) Koustav Pal
| kjohnson2 | macOS 12.6.1 Monterey / arm64 | OK | OK | OK | OK | ||||||||||||||||
| Package 274/664 | Hostname | OS / Arch | INSTALL | BUILD | CHECK | BUILD BIN | ||||||||||||||||
| HiCcompare 1.22.1 (landing page) Mikhail Dozmorov
| kjohnson2 | macOS 12.6.1 Monterey / arm64 | OK | OK | OK | OK | ||||||||||||||||
| Package 275/664 | Hostname | OS / Arch | INSTALL | BUILD | CHECK | BUILD BIN | ||||||||||||||||
| HiCDCPlus 1.8.0 (landing page) Merve Sahin
| kjohnson2 | macOS 12.6.1 Monterey / arm64 | OK | OK | OK | OK | ||||||||||||||||
| Package 276/664 | Hostname | OS / Arch | INSTALL | BUILD | CHECK | BUILD BIN | ||||||||||||||||
| HiCDOC 1.2.0 (landing page) Maigné Élise
| kjohnson2 | macOS 12.6.1 Monterey / arm64 | OK | OK | OK | OK | ||||||||||||||||
| Package 277/664 | Hostname | OS / Arch | INSTALL | BUILD | CHECK | BUILD BIN | ||||||||||||||||
| HiCExperiment 1.0.0 (landing page) Jacques Serizay
| kjohnson2 | macOS 12.6.1 Monterey / arm64 | OK | OK | OK | OK | ||||||||||||||||
| Package 278/664 | Hostname | OS / Arch | INSTALL | BUILD | CHECK | BUILD BIN | ||||||||||||||||
| HiContacts 1.2.0 (landing page) Jacques Serizay
| kjohnson2 | macOS 12.6.1 Monterey / arm64 | OK | OK | OK | OK | ||||||||||||||||
| Package 279/664 | Hostname | OS / Arch | INSTALL | BUILD | CHECK | BUILD BIN | ||||||||||||||||
| HiCool 1.0.0 (landing page) Jacques Serizay
| kjohnson2 | macOS 12.6.1 Monterey / arm64 | OK | ERROR | skipped | skipped | ||||||||||||||||
| Package 280/664 | Hostname | OS / Arch | INSTALL | BUILD | CHECK | BUILD BIN | ||||||||||||||||
| HiLDA 1.14.0 (landing page) Zhi Yang
| kjohnson2 | macOS 12.6.1 Monterey / arm64 | OK | OK | OK | OK | ||||||||||||||||
| Package 281/664 | Hostname | OS / Arch | INSTALL | BUILD | CHECK | BUILD BIN | ||||||||||||||||
| hipathia 3.0.2 (landing page) Marta R. Hidalgo
| kjohnson2 | macOS 12.6.1 Monterey / arm64 | OK | OK | WARNINGS | OK | ||||||||||||||||
| Package 282/664 | Hostname | OS / Arch | INSTALL | BUILD | CHECK | BUILD BIN | ||||||||||||||||
| hmdbQuery 1.20.0 (landing page) VJ Carey
| kjohnson2 | macOS 12.6.1 Monterey / arm64 | OK | OK | OK | OK | ||||||||||||||||
| Package 283/664 | Hostname | OS / Arch | INSTALL | BUILD | CHECK | BUILD BIN | ||||||||||||||||
| HumanTranscriptomeCompendium 1.16.3 (landing page) VJ Carey
| kjohnson2 | macOS 12.6.1 Monterey / arm64 | OK | OK | OK | OK | ||||||||||||||||
| Package 284/664 | Hostname | OS / Arch | INSTALL | BUILD | CHECK | BUILD BIN | ||||||||||||||||
| icetea 1.18.1 (landing page) Vivek Bhardwaj
| kjohnson2 | macOS 12.6.1 Monterey / arm64 | OK | OK | WARNINGS | OK | ||||||||||||||||
| Package 285/664 | Hostname | OS / Arch | INSTALL | BUILD | CHECK | BUILD BIN | ||||||||||||||||
| ideal 1.24.1 (landing page) Federico Marini
| kjohnson2 | macOS 12.6.1 Monterey / arm64 | OK | OK | OK | OK | ||||||||||||||||
| Package 286/664 | Hostname | OS / Arch | INSTALL | BUILD | CHECK | BUILD BIN | ||||||||||||||||
| IFAA 1.2.0 (landing page) Zhigang Li
| kjohnson2 | macOS 12.6.1 Monterey / arm64 | OK | OK | OK | OK | ||||||||||||||||
| Package 287/664 | Hostname | OS / Arch | INSTALL | BUILD | CHECK | BUILD BIN | ||||||||||||||||
| ILoReg 1.10.0 (landing page) Johannes Smolander
| kjohnson2 | macOS 12.6.1 Monterey / arm64 | OK | OK | WARNINGS | OK | ||||||||||||||||
| Package 288/664 | Hostname | OS / Arch | INSTALL | BUILD | CHECK | BUILD BIN | ||||||||||||||||
| IMAS 1.24.0 (landing page) Seonggyun Han
| kjohnson2 | macOS 12.6.1 Monterey / arm64 | OK | OK | OK | OK | ||||||||||||||||
| Package 289/664 | Hostname | OS / Arch | INSTALL | BUILD | CHECK | BUILD BIN | ||||||||||||||||
| imcRtools 1.6.5 (landing page) Nils Eling
| kjohnson2 | macOS 12.6.1 Monterey / arm64 | OK | OK | OK | OK | ||||||||||||||||
| Package 290/664 | Hostname | OS / Arch | INSTALL | BUILD | CHECK | BUILD BIN | ||||||||||||||||
| InPAS 2.8.0 (landing page) Jianhong Ou
| kjohnson2 | macOS 12.6.1 Monterey / arm64 | OK | OK | OK | OK | ||||||||||||||||
| Package 291/664 | Hostname | OS / Arch | INSTALL | BUILD | CHECK | BUILD BIN | ||||||||||||||||
| INSPEcT 1.30.0 (landing page) Stefano de Pretis
| kjohnson2 | macOS 12.6.1 Monterey / arm64 | OK | OK | OK | OK | ||||||||||||||||
| Package 292/664 | Hostname | OS / Arch | INSTALL | BUILD | CHECK | BUILD BIN | ||||||||||||||||
| InTAD 1.20.0 (landing page) Konstantin Okonechnikov
| kjohnson2 | macOS 12.6.1 Monterey / arm64 | OK | OK | OK | OK | ||||||||||||||||
| Package 293/664 | Hostname | OS / Arch | INSTALL | BUILD | CHECK | BUILD BIN | ||||||||||||||||
| InteractionSet 1.28.1 (landing page) Aaron Lun
| kjohnson2 | macOS 12.6.1 Monterey / arm64 | OK | OK | WARNINGS | OK | ||||||||||||||||
| Package 294/664 | Hostname | OS / Arch | INSTALL | BUILD | CHECK | BUILD BIN | ||||||||||||||||
| InteractiveComplexHeatmap 1.8.0 (landing page) Zuguang Gu
| kjohnson2 | macOS 12.6.1 Monterey / arm64 | OK | OK | OK | OK | ||||||||||||||||
| Package 295/664 | Hostname | OS / Arch | INSTALL | BUILD | CHECK | BUILD BIN | ||||||||||||||||
| IntEREst 1.24.0 (landing page) Ali Oghabian
| kjohnson2 | macOS 12.6.1 Monterey / arm64 | OK | OK | OK | OK | ||||||||||||||||
| Package 296/664 | Hostname | OS / Arch | INSTALL | BUILD | CHECK | BUILD BIN | ||||||||||||||||
| InterMineR 1.22.0 (landing page) InterMine Team
| kjohnson2 | macOS 12.6.1 Monterey / arm64 | OK | OK | WARNINGS | OK | ||||||||||||||||
| Package 297/664 | Hostname | OS / Arch | INSTALL | BUILD | CHECK | BUILD BIN | ||||||||||||||||
| IRanges 2.34.1 (landing page) Hervé Pagès
| kjohnson2 | macOS 12.6.1 Monterey / arm64 | OK | OK | WARNINGS | OK | ||||||||||||||||
| Package 298/664 | Hostname | OS / Arch | INSTALL | BUILD | CHECK | BUILD BIN | ||||||||||||||||
| iSEE 2.12.0 (landing page) Kevin Rue-Albrecht
| kjohnson2 | macOS 12.6.1 Monterey / arm64 | OK | OK | OK | OK | ||||||||||||||||
| Package 299/664 | Hostname | OS / Arch | INSTALL | BUILD | CHECK | BUILD BIN | ||||||||||||||||
| iSEEhub 1.2.1 (landing page) Kevin Rue-Albrecht
| kjohnson2 | macOS 12.6.1 Monterey / arm64 | OK | OK | OK | OK | ||||||||||||||||
| Package 300/664 | Hostname | OS / Arch | INSTALL | BUILD | CHECK | BUILD BIN | ||||||||||||||||
| iSEEu 1.12.0 (landing page) Kevin Rue-Albrecht
| kjohnson2 | macOS 12.6.1 Monterey / arm64 | OK | OK | WARNINGS | OK | ||||||||||||||||
| Package 301/664 | Hostname | OS / Arch | INSTALL | BUILD | CHECK | BUILD BIN | ||||||||||||||||
| IsoformSwitchAnalyzeR 2.0.1 (landing page) Kristoffer Vitting-Seerup
| kjohnson2 | macOS 12.6.1 Monterey / arm64 | OK | OK | OK | OK | ||||||||||||||||
| Package 302/664 | Hostname | OS / Arch | INSTALL | BUILD | CHECK | BUILD BIN | ||||||||||||||||
| isomiRs 1.28.0 (landing page) Lorena Pantano
| kjohnson2 | macOS 12.6.1 Monterey / arm64 | OK | OK | OK | OK | ||||||||||||||||
| Package 303/664 | Hostname | OS / Arch | INSTALL | BUILD | CHECK | BUILD BIN | ||||||||||||||||
| IVAS 2.20.0 (landing page) Seonggyun Han
| kjohnson2 | macOS 12.6.1 Monterey / arm64 | OK | OK | WARNINGS | OK | ||||||||||||||||
| Package 304/664 | Hostname | OS / Arch | INSTALL | BUILD | CHECK | BUILD BIN | ||||||||||||||||
| ivygapSE 1.22.1 (landing page) VJ Carey
| kjohnson2 | macOS 12.6.1 Monterey / arm64 | OK | OK | OK | OK | ||||||||||||||||
| Package 305/664 | Hostname | OS / Arch | INSTALL | BUILD | CHECK | BUILD BIN | ||||||||||||||||
| IWTomics 1.24.0 (landing page) Marzia A Cremona
| kjohnson2 | macOS 12.6.1 Monterey / arm64 | OK | OK | WARNINGS | OK | ||||||||||||||||
| Package 306/664 | Hostname | OS / Arch | INSTALL | BUILD | CHECK | BUILD BIN | ||||||||||||||||
| karyoploteR 1.26.0 (landing page) Bernat Gel
| kjohnson2 | macOS 12.6.1 Monterey / arm64 | OK | OK | OK | OK | ||||||||||||||||
| Package 307/664 | Hostname | OS / Arch | INSTALL | BUILD | CHECK | BUILD BIN | ||||||||||||||||
| katdetectr 1.2.0 (landing page) Daan Hazelaar
| kjohnson2 | macOS 12.6.1 Monterey / arm64 | OK | OK | OK | OK | ||||||||||||||||
| Package 308/664 | Hostname | OS / Arch | INSTALL | BUILD | CHECK | BUILD BIN | ||||||||||||||||
| kebabs 1.34.0 (landing page) Ulrich Bodenhofer
| kjohnson2 | macOS 12.6.1 Monterey / arm64 | OK | OK | OK | OK | ||||||||||||||||
| Package 309/664 | Hostname | OS / Arch | INSTALL | BUILD | CHECK | BUILD BIN | ||||||||||||||||
| lefser 1.10.1 (landing page) Asya Khleborodova
| kjohnson2 | macOS 12.6.1 Monterey / arm64 | OK | OK | OK | OK | ||||||||||||||||
| Package 310/664 | Hostname | OS / Arch | INSTALL | BUILD | CHECK | BUILD BIN | ||||||||||||||||
| LinTInd 1.4.0 (landing page) Luyue Wang
| kjohnson2 | macOS 12.6.1 Monterey / arm64 | OK | OK | OK | OK | ||||||||||||||||
| Package 311/664 | Hostname | OS / Arch | INSTALL | BUILD | CHECK | BUILD BIN | ||||||||||||||||
| lionessR 1.14.0 (landing page) Ping-Han Hsieh
| kjohnson2 | macOS 12.6.1 Monterey / arm64 | OK | OK | OK | OK | ||||||||||||||||
| Package 312/664 | Hostname | OS / Arch | INSTALL | BUILD | CHECK | BUILD BIN | ||||||||||||||||
| lipidr 2.14.1 (landing page) Ahmed Mohamed
| kjohnson2 | macOS 12.6.1 Monterey / arm64 | OK | OK | OK | OK | ||||||||||||||||
| Package 313/664 | Hostname | OS / Arch | INSTALL | BUILD | CHECK | BUILD BIN | ||||||||||||||||
| lisaClust 1.8.2 (landing page) Ellis Patrick
| kjohnson2 | macOS 12.6.1 Monterey / arm64 | OK | OK | OK | OK | ||||||||||||||||
| Package 314/664 | Hostname | OS / Arch | INSTALL | BUILD | CHECK | BUILD BIN | ||||||||||||||||
| loci2path 1.20.0 (landing page) Tianlei Xu
| kjohnson2 | macOS 12.6.1 Monterey / arm64 | OK | OK | OK | OK | ||||||||||||||||
| Package 315/664 | Hostname | OS / Arch | INSTALL | BUILD | CHECK | BUILD BIN | ||||||||||||||||
| LOLA 1.30.0 (landing page) Nathan Sheffield
| kjohnson2 | macOS 12.6.1 Monterey / arm64 | OK | OK | OK | OK | ||||||||||||||||
| Package 316/664 | Hostname | OS / Arch | INSTALL | BUILD | CHECK | BUILD BIN | ||||||||||||||||
| LoomExperiment 1.18.0 (landing page) Bioconductor Package Maintainer
| kjohnson2 | macOS 12.6.1 Monterey / arm64 | OK | OK | OK | OK | ||||||||||||||||
| Package 317/664 | Hostname | OS / Arch | INSTALL | BUILD | CHECK | BUILD BIN | ||||||||||||||||
| m6Aboost 1.6.0 (landing page) You Zhou
| kjohnson2 | macOS 12.6.1 Monterey / arm64 | OK | OK | OK | OK | ||||||||||||||||
| Package 318/664 | Hostname | OS / Arch | INSTALL | BUILD | CHECK | BUILD BIN | ||||||||||||||||
| MACSr 1.8.0 (landing page) Qiang Hu
| kjohnson2 | macOS 12.6.1 Monterey / arm64 | OK | OK | OK | OK | ||||||||||||||||
| Package 319/664 | Hostname | OS / Arch | INSTALL | BUILD | CHECK | BUILD BIN | ||||||||||||||||
| MADSEQ 1.26.0 (landing page) Yu Kong
| kjohnson2 | macOS 12.6.1 Monterey / arm64 | OK | OK | OK | OK | ||||||||||||||||
| Package 320/664 | Hostname | OS / Arch | INSTALL | BUILD | CHECK | BUILD BIN | ||||||||||||||||
| magpie 1.0.0 (landing page) Daoyu Duan
| kjohnson2 | macOS 12.6.1 Monterey / arm64 | OK | OK | OK | OK | ||||||||||||||||
| Package 321/664 | Hostname | OS / Arch | INSTALL | BUILD | CHECK | BUILD BIN | ||||||||||||||||
| MAI 1.6.0 (landing page) Jonathan Dekermanjian
| kjohnson2 | macOS 12.6.1 Monterey / arm64 | OK | OK | OK | OK | ||||||||||||||||
| Package 322/664 | Hostname | OS / Arch | INSTALL | BUILD | CHECK | BUILD BIN | ||||||||||||||||
| mariner 1.0.0 (landing page) Eric Davis
| kjohnson2 | macOS 12.6.1 Monterey / arm64 | OK | OK | OK | OK | ||||||||||||||||
| Package 323/664 | Hostname | OS / Arch | INSTALL | BUILD | CHECK | BUILD BIN | ||||||||||||||||
| marr 1.10.0 (landing page) Tusharkanti Ghosh
| kjohnson2 | macOS 12.6.1 Monterey / arm64 | OK | OK | OK | OK | ||||||||||||||||
| Package 324/664 | Hostname | OS / Arch | INSTALL | BUILD | CHECK | BUILD BIN | ||||||||||||||||
| MAST 1.26.0 (landing page) Andrew McDavid
| kjohnson2 | macOS 12.6.1 Monterey / arm64 | OK | OK | ERROR | OK | ||||||||||||||||
| Package 325/664 | Hostname | OS / Arch | INSTALL | BUILD | CHECK | BUILD BIN | ||||||||||||||||
| MatrixRider 1.32.0 (landing page) Elena Grassi
| kjohnson2 | macOS 12.6.1 Monterey / arm64 | OK | OK | WARNINGS | OK | ||||||||||||||||
| Package 326/664 | Hostname | OS / Arch | INSTALL | BUILD | CHECK | BUILD BIN | ||||||||||||||||
| mbkmeans 1.16.0 (landing page) Davide Risso
| kjohnson2 | macOS 12.6.1 Monterey / arm64 | OK | OK | OK | OK | ||||||||||||||||
| Package 327/664 | Hostname | OS / Arch | INSTALL | BUILD | CHECK | BUILD BIN | ||||||||||||||||
| mCSEA 1.20.0 (landing page) Jordi Martorell-Marugán
| kjohnson2 | macOS 12.6.1 Monterey / arm64 | OK | OK | OK | OK | ||||||||||||||||
| Package 328/664 | Hostname | OS / Arch | INSTALL | BUILD | CHECK | BUILD BIN | ||||||||||||||||
| MEAL 1.30.0 (landing page) Xavier Escribà Montagut
| kjohnson2 | macOS 12.6.1 Monterey / arm64 | OK | OK | WARNINGS | OK | ||||||||||||||||
| Package 329/664 | Hostname | OS / Arch | INSTALL | BUILD | CHECK | BUILD BIN | ||||||||||||||||
| meshr 2.6.0 (landing page) Koki Tsuyuzaki
| kjohnson2 | macOS 12.6.1 Monterey / arm64 | OK | OK | OK | OK | ||||||||||||||||
| Package 330/664 | Hostname | OS / Arch | INSTALL | BUILD | CHECK | BUILD BIN | ||||||||||||||||
| MesKit 1.10.0 (landing page) Mengni Liu
| kjohnson2 | macOS 12.6.1 Monterey / arm64 | OK | OK | WARNINGS | OK | ||||||||||||||||
| Package 331/664 | Hostname | OS / Arch | INSTALL | BUILD | CHECK | BUILD BIN | ||||||||||||||||
| metabCombiner 1.10.0 (landing page) Hani Habra
| kjohnson2 | macOS 12.6.1 Monterey / arm64 | OK | OK | OK | OK | ||||||||||||||||
| Package 332/664 | Hostname | OS / Arch | INSTALL | BUILD | CHECK | BUILD BIN | ||||||||||||||||
| MetaboAnnotation 1.4.3 (landing page) Johannes Rainer
| kjohnson2 | macOS 12.6.1 Monterey / arm64 | OK | OK | OK | OK | ||||||||||||||||
| Package 333/664 | Hostname | OS / Arch | INSTALL | BUILD | CHECK | BUILD BIN | ||||||||||||||||
| metaseqR2 1.12.0 (landing page) Panagiotis Moulos
| kjohnson2 | macOS 12.6.1 Monterey / arm64 | OK | OK | OK | OK | ||||||||||||||||
| Package 334/664 | Hostname | OS / Arch | INSTALL | BUILD | CHECK | BUILD BIN | ||||||||||||||||
| MetCirc 1.30.0 (landing page) Thomas Naake
| kjohnson2 | macOS 12.6.1 Monterey / arm64 | OK | OK | OK | OK | ||||||||||||||||
| Package 335/664 | Hostname | OS / Arch | INSTALL | BUILD | CHECK | BUILD BIN | ||||||||||||||||
Boying Gong
| kjohnson2 | macOS 12.6.1 Monterey / arm64 | OK | OK | ERROR | OK | ||||||||||||||||
| Package 336/664 | Hostname | OS / Arch | INSTALL | BUILD | CHECK | BUILD BIN | ||||||||||||||||
| methInheritSim 1.22.0 (landing page) Pascal Belleau
| kjohnson2 | macOS 12.6.1 Monterey / arm64 | OK | OK | OK | OK | ||||||||||||||||
| Package 337/664 | Hostname | OS / Arch | INSTALL | BUILD | CHECK | BUILD BIN | ||||||||||||||||
| MethReg 1.10.2 (landing page) Tiago Silva
| kjohnson2 | macOS 12.6.1 Monterey / arm64 | OK | OK | WARNINGS | OK | ||||||||||||||||
| Package 338/664 | Hostname | OS / Arch | INSTALL | BUILD | CHECK | BUILD BIN | ||||||||||||||||
| methylCC 1.14.0 (landing page) Stephanie C. Hicks
| kjohnson2 | macOS 12.6.1 Monterey / arm64 | OK | OK | OK | OK | ||||||||||||||||
| Package 339/664 | Hostname | OS / Arch | INSTALL | BUILD | CHECK | BUILD BIN | ||||||||||||||||
| methylInheritance 1.24.0 (landing page) Astrid Deschênes
| kjohnson2 | macOS 12.6.1 Monterey / arm64 | OK | OK | OK | OK | ||||||||||||||||
| Package 340/664 | Hostname | OS / Arch | INSTALL | BUILD | CHECK | BUILD BIN | ||||||||||||||||
| methylKit 1.26.0 (landing page) Altuna Akalin
| kjohnson2 | macOS 12.6.1 Monterey / arm64 | OK | OK | WARNINGS | OK | ||||||||||||||||
| Package 341/664 | Hostname | OS / Arch | INSTALL | BUILD | CHECK | BUILD BIN | ||||||||||||||||
| methylPipe 1.34.1 (landing page) Mattia Furlan
| kjohnson2 | macOS 12.6.1 Monterey / arm64 | OK | OK | ERROR | OK | ||||||||||||||||
| Package 342/664 | Hostname | OS / Arch | INSTALL | BUILD | CHECK | BUILD BIN | ||||||||||||||||
| methylSig 1.12.0 (landing page) Raymond G. Cavalcante
| kjohnson2 | macOS 12.6.1 Monterey / arm64 | OK | OK | OK | OK | ||||||||||||||||
| Package 343/664 | Hostname | OS / Arch | INSTALL | BUILD | CHECK | BUILD BIN | ||||||||||||||||
| methylumi 2.46.0 (landing page) Sean Davis
| kjohnson2 | macOS 12.6.1 Monterey / arm64 | OK | OK | OK | OK | ||||||||||||||||
| Package 344/664 | Hostname | OS / Arch | INSTALL | BUILD | CHECK | BUILD BIN | ||||||||||||||||
| MetNet 1.18.0 (landing page) Thomas Naake
| kjohnson2 | macOS 12.6.1 Monterey / arm64 | OK | OK | OK | OK | ||||||||||||||||
| Package 345/664 | Hostname | OS / Arch | INSTALL | BUILD | CHECK | BUILD BIN | ||||||||||||||||
| mia 1.8.0 (landing page) Tuomas Borman
| kjohnson2 | macOS 12.6.1 Monterey / arm64 | OK | OK | OK | OK | ||||||||||||||||
| Package 346/664 | Hostname | OS / Arch | INSTALL | BUILD | CHECK | BUILD BIN | ||||||||||||||||
| miaSim 1.6.0 (landing page) Yagmur Simsek
| kjohnson2 | macOS 12.6.1 Monterey / arm64 | OK | OK | OK | OK | ||||||||||||||||
| Package 347/664 | Hostname | OS / Arch | INSTALL | BUILD | CHECK | BUILD BIN | ||||||||||||||||
| miaViz 1.8.0 (landing page) Tuomas Borman
| kjohnson2 | macOS 12.6.1 Monterey / arm64 | OK | OK | OK | OK | ||||||||||||||||
| Package 348/664 | Hostname | OS / Arch | INSTALL | BUILD | CHECK | BUILD BIN | ||||||||||||||||
| microbiomeMarker 1.6.0 (landing page) Yang Cao
| kjohnson2 | macOS 12.6.1 Monterey / arm64 | OK | OK | OK | OK | ||||||||||||||||
| Package 349/664 | Hostname | OS / Arch | INSTALL | BUILD | CHECK | BUILD BIN | ||||||||||||||||
| midasHLA 1.8.0 (landing page) Maciej Migdał
| kjohnson2 | macOS 12.6.1 Monterey / arm64 | OK | OK | ERROR | OK | ||||||||||||||||
| Package 350/664 | Hostname | OS / Arch | INSTALL | BUILD | CHECK | BUILD BIN | ||||||||||||||||
| miloR 1.8.1 (landing page) Mike Morgan
| kjohnson2 | macOS 12.6.1 Monterey / arm64 | OK | OK | OK | OK | ||||||||||||||||
| Package 351/664 | Hostname | OS / Arch | INSTALL | BUILD | CHECK | BUILD BIN | ||||||||||||||||
| mimager 1.24.0 (landing page) Aaron Wolen
| kjohnson2 | macOS 12.6.1 Monterey / arm64 | OK | OK | OK | OK | ||||||||||||||||
| Package 352/664 | Hostname | OS / Arch | INSTALL | BUILD | CHECK | BUILD BIN | ||||||||||||||||
| minfi 1.46.0 (landing page) Kasper Daniel Hansen
| kjohnson2 | macOS 12.6.1 Monterey / arm64 | OK | OK | OK | OK | ||||||||||||||||
| Package 353/664 | Hostname | OS / Arch | INSTALL | BUILD | CHECK | BUILD BIN | ||||||||||||||||
| MinimumDistance 1.44.0 (landing page) Robert Scharpf
| kjohnson2 | macOS 12.6.1 Monterey / arm64 | OK | OK | WARNINGS | OK | ||||||||||||||||
| Package 354/664 | Hostname | OS / Arch | INSTALL | BUILD | CHECK | BUILD BIN | ||||||||||||||||
| MIRA 1.22.0 (landing page) John Lawson
| kjohnson2 | macOS 12.6.1 Monterey / arm64 | OK | OK | OK | OK | ||||||||||||||||
| Package 355/664 | Hostname | OS / Arch | INSTALL | BUILD | CHECK | BUILD BIN | ||||||||||||||||
| MiRaGE 1.42.0 (landing page) Y-h. Taguchi
| kjohnson2 | macOS 12.6.1 Monterey / arm64 | OK | OK | WARNINGS | OK | ||||||||||||||||
| Package 356/664 | Hostname | OS / Arch | INSTALL | BUILD | CHECK | BUILD BIN | ||||||||||||||||
| missMethyl 1.34.0 (landing page) Belinda Phipson
| kjohnson2 | macOS 12.6.1 Monterey / arm64 | OK | OK | OK | OK | ||||||||||||||||
| Package 357/664 | Hostname | OS / Arch | INSTALL | BUILD | CHECK | BUILD BIN | ||||||||||||||||
| missRows 1.20.0 (landing page) Gonzalez Ignacio
| kjohnson2 | macOS 12.6.1 Monterey / arm64 | OK | OK | OK | OK | ||||||||||||||||
| Package 358/664 | Hostname | OS / Arch | INSTALL | BUILD | CHECK | BUILD BIN | ||||||||||||||||
| mitoClone2 1.6.0 (landing page) Benjamin Story
| kjohnson2 | macOS 12.6.1 Monterey / arm64 | ERROR | ERROR | skipped | skipped | ||||||||||||||||
| Package 359/664 | Hostname | OS / Arch | INSTALL | BUILD | CHECK | BUILD BIN | ||||||||||||||||
| MMAPPR2 1.14.0 (landing page) Jonathon Hill
| kjohnson2 | macOS 12.6.1 Monterey / arm64 | ERROR | ERROR | skipped | skipped | ||||||||||||||||
| Package 360/664 | Hostname | OS / Arch | INSTALL | BUILD | CHECK | BUILD BIN | ||||||||||||||||
| MMDiff2 1.28.0 (landing page) Gabriele Schweikert
| kjohnson2 | macOS 12.6.1 Monterey / arm64 | OK | OK | OK | OK | ||||||||||||||||
| Package 361/664 | Hostname | OS / Arch | INSTALL | BUILD | CHECK | BUILD BIN | ||||||||||||||||
| moanin 1.8.0 (landing page) Nelle Varoquaux
| kjohnson2 | macOS 12.6.1 Monterey / arm64 | OK | OK | OK | OK | ||||||||||||||||
| Package 362/664 | Hostname | OS / Arch | INSTALL | BUILD | CHECK | BUILD BIN | ||||||||||||||||
| Modstrings 1.16.0 (landing page) Felix G.M. Ernst
| kjohnson2 | macOS 12.6.1 Monterey / arm64 | OK | OK | OK | OK | ||||||||||||||||
| Package 363/664 | Hostname | OS / Arch | INSTALL | BUILD | CHECK | BUILD BIN | ||||||||||||||||
| MoleculeExperiment 1.0.3 (landing page) Shila Ghazanfar
| kjohnson2 | macOS 12.6.1 Monterey / arm64 | OK | OK | OK | OK | ||||||||||||||||
| Package 364/664 | Hostname | OS / Arch | INSTALL | BUILD | CHECK | BUILD BIN | ||||||||||||||||
| monaLisa 1.6.0 (landing page) Michael Stadler
| kjohnson2 | macOS 12.6.1 Monterey / arm64 | OK | OK | ERROR | OK | ||||||||||||||||
| Package 365/664 | Hostname | OS / Arch | INSTALL | BUILD | CHECK | BUILD BIN | ||||||||||||||||
| mosaics 2.38.0 (landing page) Dongjun Chung
| kjohnson2 | macOS 12.6.1 Monterey / arm64 | OK | OK | OK | OK | ||||||||||||||||
| Package 366/664 | Hostname | OS / Arch | INSTALL | BUILD | CHECK | BUILD BIN | ||||||||||||||||
| MOSim 1.14.0 (landing page) Sonia Tarazona
| kjohnson2 | macOS 12.6.1 Monterey / arm64 | OK | OK | OK | OK | ||||||||||||||||
| Package 367/664 | Hostname | OS / Arch | INSTALL | BUILD | CHECK | BUILD BIN | ||||||||||||||||
| Motif2Site 1.4.0 (landing page) Peyman Zarrineh
| kjohnson2 | macOS 12.6.1 Monterey / arm64 | OK | OK | OK | OK | ||||||||||||||||
| Package 368/664 | Hostname | OS / Arch | INSTALL | BUILD | CHECK | BUILD BIN | ||||||||||||||||
| motifbreakR 2.14.2 (landing page) Simon Gert Coetzee
| kjohnson2 | macOS 12.6.1 Monterey / arm64 | OK | OK | WARNINGS | OK | ||||||||||||||||
| Package 369/664 | Hostname | OS / Arch | INSTALL | BUILD | CHECK | BUILD BIN | ||||||||||||||||
| MotifDb 1.42.0 (landing page) Paul Shannon
| kjohnson2 | macOS 12.6.1 Monterey / arm64 | OK | OK | WARNINGS | OK | ||||||||||||||||
| Package 370/664 | Hostname | OS / Arch | INSTALL | BUILD | CHECK | BUILD BIN | ||||||||||||||||
| motifmatchr 1.22.0 (landing page) Alicia Schep
| kjohnson2 | macOS 12.6.1 Monterey / arm64 | OK | OK | OK | OK | ||||||||||||||||
| Package 371/664 | Hostname | OS / Arch | INSTALL | BUILD | CHECK | BUILD BIN | ||||||||||||||||
| mpra 1.22.0 (landing page) Leslie Myint
| kjohnson2 | macOS 12.6.1 Monterey / arm64 | OK | OK | OK | OK | ||||||||||||||||
| Package 372/664 | Hostname | OS / Arch | INSTALL | BUILD | CHECK | BUILD BIN | ||||||||||||||||
| msa 1.32.0 (landing page) Ulrich Bodenhofer
| kjohnson2 | macOS 12.6.1 Monterey / arm64 | OK | OK | WARNINGS | OK | ||||||||||||||||
| Package 373/664 | Hostname | OS / Arch | INSTALL | BUILD | CHECK | BUILD BIN | ||||||||||||||||
| MsBackendMassbank 1.8.0 (landing page) RforMassSpectrometry Package Maintainer
| kjohnson2 | macOS 12.6.1 Monterey / arm64 | OK | OK | OK | OK | ||||||||||||||||
| Package 374/664 | Hostname | OS / Arch | INSTALL | BUILD | CHECK | BUILD BIN | ||||||||||||||||
| MsBackendMgf 1.8.0 (landing page) RforMassSpectrometry Package Maintainer
| kjohnson2 | macOS 12.6.1 Monterey / arm64 | OK | OK | OK | OK | ||||||||||||||||
| Package 375/664 | Hostname | OS / Arch | INSTALL | BUILD | CHECK | BUILD BIN | ||||||||||||||||
| MsBackendMsp 1.4.0 (landing page) Johannes Rainer
| kjohnson2 | macOS 12.6.1 Monterey / arm64 | OK | OK | OK | OK | ||||||||||||||||
| Package 376/664 | Hostname | OS / Arch | INSTALL | BUILD | CHECK | BUILD BIN | ||||||||||||||||
| MsBackendRawFileReader 1.6.0 (landing page) Christian Panse
| kjohnson2 | macOS 12.6.1 Monterey / arm64 | OK | OK | OK | OK | ||||||||||||||||
| Package 377/664 | Hostname | OS / Arch | INSTALL | BUILD | CHECK | BUILD BIN | ||||||||||||||||
| MsBackendSql 1.0.1 (landing page) Johannes Rainer
| kjohnson2 | macOS 12.6.1 Monterey / arm64 | OK | OK | OK | OK | ||||||||||||||||
| Package 378/664 | Hostname | OS / Arch | INSTALL | BUILD | CHECK | BUILD BIN | ||||||||||||||||
| MsCoreUtils 1.12.0 (landing page) RforMassSpectrometry Package Maintainer
| kjohnson2 | macOS 12.6.1 Monterey / arm64 | OK | OK | OK | OK | ||||||||||||||||
| Package 379/664 | Hostname | OS / Arch | INSTALL | BUILD | CHECK | BUILD BIN | ||||||||||||||||
| MsExperiment 1.2.0 (landing page) Laurent Gatto
| kjohnson2 | macOS 12.6.1 Monterey / arm64 | OK | OK | OK | OK | ||||||||||||||||
| Package 380/664 | Hostname | OS / Arch | INSTALL | BUILD | CHECK | BUILD BIN | ||||||||||||||||
| msgbsR 1.24.0 (landing page) Benjamin Mayne
| kjohnson2 | macOS 12.6.1 Monterey / arm64 | OK | OK | OK | OK | ||||||||||||||||
| Package 381/664 | Hostname | OS / Arch | INSTALL | BUILD | CHECK | BUILD BIN | ||||||||||||||||
| MSnbase 2.26.0 (landing page) Laurent Gatto
| kjohnson2 | macOS 12.6.1 Monterey / arm64 | OK | OK | ERROR | OK | ||||||||||||||||
| Package 382/664 | Hostname | OS / Arch | INSTALL | BUILD | CHECK | BUILD BIN | ||||||||||||||||
| MSPrep 1.10.0 (landing page) Max McGrath
| kjohnson2 | macOS 12.6.1 Monterey / arm64 | OK | OK | ERROR | OK | ||||||||||||||||
| Package 383/664 | Hostname | OS / Arch | INSTALL | BUILD | CHECK | BUILD BIN | ||||||||||||||||
| MuData 1.4.0 (landing page) Danila Bredikhin
| kjohnson2 | macOS 12.6.1 Monterey / arm64 | OK | OK | OK | OK | ||||||||||||||||
| Package 384/664 | Hostname | OS / Arch | INSTALL | BUILD | CHECK | BUILD BIN | ||||||||||||||||
| MultiAssayExperiment 1.26.0 (landing page) Marcel Ramos
| kjohnson2 | macOS 12.6.1 Monterey / arm64 | OK | OK | OK | OK | ||||||||||||||||
| Package 385/664 | Hostname | OS / Arch | INSTALL | BUILD | CHECK | BUILD BIN | ||||||||||||||||
| MultiDataSet 1.28.0 (landing page) Xavier Escribà Montagut
| kjohnson2 | macOS 12.6.1 Monterey / arm64 | OK | OK | WARNINGS | OK | ||||||||||||||||
| Package 386/664 | Hostname | OS / Arch | INSTALL | BUILD | CHECK | BUILD BIN | ||||||||||||||||
| MultimodalExperiment 1.0.0 (landing page) Lucas Schiffer
| kjohnson2 | macOS 12.6.1 Monterey / arm64 | OK | OK | OK | OK | ||||||||||||||||
| Package 387/664 | Hostname | OS / Arch | INSTALL | BUILD | CHECK | BUILD BIN | ||||||||||||||||
| mumosa 1.8.0 (landing page) Aaron Lun
| kjohnson2 | macOS 12.6.1 Monterey / arm64 | OK | OK | OK | OK | ||||||||||||||||
| Package 388/664 | Hostname | OS / Arch | INSTALL | BUILD | CHECK | BUILD BIN | ||||||||||||||||
| muscat 1.14.0 (landing page) Helena L. Crowell
| kjohnson2 | macOS 12.6.1 Monterey / arm64 | OK | ERROR | skipped | skipped | ||||||||||||||||
| Package 389/664 | Hostname | OS / Arch | INSTALL | BUILD | CHECK | BUILD BIN | ||||||||||||||||
| musicatk 1.10.0 (landing page) Aaron Chevalier
| kjohnson2 | macOS 12.6.1 Monterey / arm64 | OK | OK | OK | OK | ||||||||||||||||
| Package 390/664 | Hostname | OS / Arch | INSTALL | BUILD | CHECK | BUILD BIN | ||||||||||||||||
| MutationalPatterns 3.10.0 (landing page) Mark van Roosmalen
| kjohnson2 | macOS 12.6.1 Monterey / arm64 | OK | ERROR | skipped | skipped | ||||||||||||||||
| Package 391/664 | Hostname | OS / Arch | INSTALL | BUILD | CHECK | BUILD BIN | ||||||||||||||||
| mygene 1.36.0 (landing page) Adam Mark, Cyrus Afrasiabi, Chunlei Wu
| kjohnson2 | macOS 12.6.1 Monterey / arm64 | OK | OK | OK | OK | ||||||||||||||||
| Package 392/664 | Hostname | OS / Arch | INSTALL | BUILD | CHECK | BUILD BIN | ||||||||||||||||
| myvariant 1.30.0 (landing page) Adam Mark, Chunlei Wu
| kjohnson2 | macOS 12.6.1 Monterey / arm64 | OK | OK | OK | OK | ||||||||||||||||
| Package 393/664 | Hostname | OS / Arch | INSTALL | BUILD | CHECK | BUILD BIN | ||||||||||||||||
| NADfinder 1.24.0 (landing page) Jianhong Ou
| kjohnson2 | macOS 12.6.1 Monterey / arm64 | OK | OK | OK | OK | ||||||||||||||||
| Package 394/664 | Hostname | OS / Arch | INSTALL | BUILD | CHECK | BUILD BIN | ||||||||||||||||
| NanoMethViz 2.6.0 (landing page) Shian Su
| kjohnson2 | macOS 12.6.1 Monterey / arm64 | OK | OK | OK | OK | ||||||||||||||||
| Package 395/664 | Hostname | OS / Arch | INSTALL | BUILD | CHECK | BUILD BIN | ||||||||||||||||
| NanoStringNCTools 1.8.0 (landing page) Nicole Ortogero
| kjohnson2 | macOS 12.6.1 Monterey / arm64 | OK | OK | WARNINGS | OK | ||||||||||||||||
| Package 396/664 | Hostname | OS / Arch | INSTALL | BUILD | CHECK | BUILD BIN | ||||||||||||||||
| NBAMSeq 1.16.0 (landing page) Xu Ren
| kjohnson2 | macOS 12.6.1 Monterey / arm64 | OK | OK | OK | OK | ||||||||||||||||
| Package 397/664 | Hostname | OS / Arch | INSTALL | BUILD | CHECK | BUILD BIN | ||||||||||||||||
| ncRNAtools 1.10.0 (landing page) Lara Selles Vidal
| kjohnson2 | macOS 12.6.1 Monterey / arm64 | OK | OK | OK | OK | ||||||||||||||||
| Package 398/664 | Hostname | OS / Arch | INSTALL | BUILD | CHECK | BUILD BIN | ||||||||||||||||
| nearBynding 1.10.0 (landing page) Veronica Busa
| kjohnson2 | macOS 12.6.1 Monterey / arm64 | OK | OK | OK | OK | ||||||||||||||||
| Package 399/664 | Hostname | OS / Arch | INSTALL | BUILD | CHECK | BUILD BIN | ||||||||||||||||
| netDx 1.12.0 (landing page) Shraddha Pai
| kjohnson2 | macOS 12.6.1 Monterey / arm64 | OK | OK | ERROR | OK | ||||||||||||||||
| Package 400/664 | Hostname | OS / Arch | INSTALL | BUILD | CHECK | BUILD BIN | ||||||||||||||||
| NoRCE 1.12.0 (landing page) Gulden Olgun
| kjohnson2 | macOS 12.6.1 Monterey / arm64 | OK | OK | OK | OK | ||||||||||||||||
| Package 401/664 | Hostname | OS / Arch | INSTALL | BUILD | CHECK | BUILD BIN | ||||||||||||||||
| nucleoSim 1.28.0 (landing page) Astrid Deschênes
| kjohnson2 | macOS 12.6.1 Monterey / arm64 | OK | OK | OK | OK | ||||||||||||||||
| Package 402/664 | Hostname | OS / Arch | INSTALL | BUILD | CHECK | BUILD BIN | ||||||||||||||||
| nucleR 2.32.0 (landing page) Alba Sala
| kjohnson2 | macOS 12.6.1 Monterey / arm64 | OK | OK | WARNINGS | OK | ||||||||||||||||
| Package 403/664 | Hostname | OS / Arch | INSTALL | BUILD | CHECK | BUILD BIN | ||||||||||||||||
| nullranges 1.6.2 (landing page) Michael Love
| kjohnson2 | macOS 12.6.1 Monterey / arm64 | OK | OK | OK | OK | ||||||||||||||||
| Package 404/664 | Hostname | OS / Arch | INSTALL | BUILD | CHECK | BUILD BIN | ||||||||||||||||
Alex Chit Hei Wong
| kjohnson2 | macOS 12.6.1 Monterey / arm64 | OK | OK | WARNINGS | OK | ||||||||||||||||
| Package 405/664 | Hostname | OS / Arch | INSTALL | BUILD | CHECK | BUILD BIN | ||||||||||||||||
| octad 1.2.0 (landing page) E. Chekalin
| kjohnson2 | macOS 12.6.1 Monterey / arm64 | OK | OK | OK | OK | ||||||||||||||||
| Package 406/664 | Hostname | OS / Arch | INSTALL | BUILD | CHECK | BUILD BIN | ||||||||||||||||
David Zhang
| kjohnson2 | macOS 12.6.1 Monterey / arm64 | OK | ERROR | skipped | skipped | ||||||||||||||||
| Package 407/664 | Hostname | OS / Arch | INSTALL | BUILD | CHECK | BUILD BIN | ||||||||||||||||
| OGRE 1.4.0 (landing page) Sven Berres
| kjohnson2 | macOS 12.6.1 Monterey / arm64 | OK | OK | ERROR | OK | ||||||||||||||||
| Package 408/664 | Hostname | OS / Arch | INSTALL | BUILD | CHECK | BUILD BIN | ||||||||||||||||
| oligoClasses 1.62.0 (landing page) Benilton Carvalho
| kjohnson2 | macOS 12.6.1 Monterey / arm64 | OK | OK | WARNINGS | OK | ||||||||||||||||
| Package 409/664 | Hostname | OS / Arch | INSTALL | BUILD | CHECK | BUILD BIN | ||||||||||||||||
| omicsViewer 1.4.0 (landing page) Chen Meng
| kjohnson2 | macOS 12.6.1 Monterey / arm64 | OK | OK | OK | OK | ||||||||||||||||
| Package 410/664 | Hostname | OS / Arch | INSTALL | BUILD | CHECK | BUILD BIN | ||||||||||||||||
| oncoscanR 1.2.0 (landing page) Yann Christinat
| kjohnson2 | macOS 12.6.1 Monterey / arm64 | OK | OK | OK | OK | ||||||||||||||||
| Package 411/664 | Hostname | OS / Arch | INSTALL | BUILD | CHECK | BUILD BIN | ||||||||||||||||
| ontoProc 1.22.0 (landing page) Vincent Carey
| kjohnson2 | macOS 12.6.1 Monterey / arm64 | OK | OK | OK | OK | ||||||||||||||||
| Package 412/664 | Hostname | OS / Arch | INSTALL | BUILD | CHECK | BUILD BIN | ||||||||||||||||
| openPrimeR 1.22.0 (landing page) Matthias Döring
| kjohnson2 | macOS 12.6.1 Monterey / arm64 | OK | OK | OK | OK | ||||||||||||||||
| Package 413/664 | Hostname | OS / Arch | INSTALL | BUILD | CHECK | BUILD BIN | ||||||||||||||||
| ORFik 1.20.2 (landing page) Haakon Tjeldnes
| kjohnson2 | macOS 12.6.1 Monterey / arm64 | OK | OK | OK | OK | ||||||||||||||||
| Package 414/664 | Hostname | OS / Arch | INSTALL | BUILD | CHECK | BUILD BIN | ||||||||||||||||
| Organism.dplyr 1.28.0 (landing page) Martin Morgan
| kjohnson2 | macOS 12.6.1 Monterey / arm64 | OK | OK | OK | OK | ||||||||||||||||
| Package 415/664 | Hostname | OS / Arch | INSTALL | BUILD | CHECK | BUILD BIN | ||||||||||||||||
| OrganismDbi 1.42.0 (landing page) Bioconductor Package Maintainer
| kjohnson2 | macOS 12.6.1 Monterey / arm64 | OK | OK | WARNINGS | OK | ||||||||||||||||
| Package 416/664 | Hostname | OS / Arch | INSTALL | BUILD | CHECK | BUILD BIN | ||||||||||||||||
| OTUbase 1.50.0 (landing page) Daniel Beck
| kjohnson2 | macOS 12.6.1 Monterey / arm64 | OK | OK | OK | OK | ||||||||||||||||
| Package 417/664 | Hostname | OS / Arch | INSTALL | BUILD | CHECK | BUILD BIN | ||||||||||||||||
| OUTRIDER 1.18.1 (landing page) Christian Mertes
| kjohnson2 | macOS 12.6.1 Monterey / arm64 | OK | OK | OK | OK | ||||||||||||||||
| Package 418/664 | Hostname | OS / Arch | INSTALL | BUILD | CHECK | BUILD BIN | ||||||||||||||||
| OutSplice 1.0.1 (landing page) Theresa Guo
| kjohnson2 | macOS 12.6.1 Monterey / arm64 | OK | OK | OK | OK | ||||||||||||||||
| Package 419/664 | Hostname | OS / Arch | INSTALL | BUILD | CHECK | BUILD BIN | ||||||||||||||||
| packFinder 1.12.0 (landing page) Jack Gisby
| kjohnson2 | macOS 12.6.1 Monterey / arm64 | OK | OK | OK | OK | ||||||||||||||||
| Package 420/664 | Hostname | OS / Arch | INSTALL | BUILD | CHECK | BUILD BIN | ||||||||||||||||
| padma 1.10.0 (landing page) Andrea Rau
| kjohnson2 | macOS 12.6.1 Monterey / arm64 | OK | OK | OK | OK | ||||||||||||||||
| Package 421/664 | Hostname | OS / Arch | INSTALL | BUILD | CHECK | BUILD BIN | ||||||||||||||||
| PAIRADISE 1.16.0 (landing page) Qiang Hu
| kjohnson2 | macOS 12.6.1 Monterey / arm64 | OK | OK | OK | OK | ||||||||||||||||
| Package 422/664 | Hostname | OS / Arch | INSTALL | BUILD | CHECK | BUILD BIN | ||||||||||||||||
| pairedGSEA 1.0.0 (landing page) Søren Helweg Dam
| kjohnson2 | macOS 12.6.1 Monterey / arm64 | OK | OK | OK | OK | ||||||||||||||||
| Package 423/664 | Hostname | OS / Arch | INSTALL | BUILD | CHECK | BUILD BIN | ||||||||||||||||
| panelcn.mops 1.22.0 (landing page) Gundula Povysil
| kjohnson2 | macOS 12.6.1 Monterey / arm64 | OK | OK | OK | OK | ||||||||||||||||
| Package 424/664 | Hostname | OS / Arch | INSTALL | BUILD | CHECK | BUILD BIN | ||||||||||||||||
| PAST 1.16.0 (landing page) Thrash Adam
| kjohnson2 | macOS 12.6.1 Monterey / arm64 | OK | OK | WARNINGS | OK | ||||||||||||||||
| Package 425/664 | Hostname | OS / Arch | INSTALL | BUILD | CHECK | BUILD BIN | ||||||||||||||||
| pcaExplorer 2.26.1 (landing page) Federico Marini
| kjohnson2 | macOS 12.6.1 Monterey / arm64 | OK | OK | OK | OK | ||||||||||||||||
| Package 426/664 | Hostname | OS / Arch | INSTALL | BUILD | CHECK | BUILD BIN | ||||||||||||||||
| PDATK 1.8.0 (landing page) Benjamin Haibe-Kains
| kjohnson2 | macOS 12.6.1 Monterey / arm64 | OK | OK | WARNINGS | OK | ||||||||||||||||
| Package 427/664 | Hostname | OS / Arch | INSTALL | BUILD | CHECK | BUILD BIN | ||||||||||||||||
| pdInfoBuilder 1.64.0 (landing page) Benilton Carvalho
| kjohnson2 | macOS 12.6.1 Monterey / arm64 | OK | OK | OK | OK | ||||||||||||||||
| Package 428/664 | Hostname | OS / Arch | INSTALL | BUILD | CHECK | BUILD BIN | ||||||||||||||||
| periodicDNA 1.10.0 (landing page) Jacques Serizay
| kjohnson2 | macOS 12.6.1 Monterey / arm64 | OK | OK | WARNINGS | OK | ||||||||||||||||
| Package 429/664 | Hostname | OS / Arch | INSTALL | BUILD | CHECK | BUILD BIN | ||||||||||||||||
| PharmacoGx 3.4.0 (landing page) Benjamin Haibe-Kains
| kjohnson2 | macOS 12.6.1 Monterey / arm64 | OK | OK | OK | OK | ||||||||||||||||
| Package 430/664 | Hostname | OS / Arch | INSTALL | BUILD | CHECK | BUILD BIN | ||||||||||||||||
| phemd 1.16.0 (landing page) William S Chen
| kjohnson2 | macOS 12.6.1 Monterey / arm64 | OK | OK | WARNINGS | OK | ||||||||||||||||
| Package 431/664 | Hostname | OS / Arch | INSTALL | BUILD | CHECK | BUILD BIN | ||||||||||||||||
| PhIPData 1.8.0 (landing page) Athena Chen
| kjohnson2 | macOS 12.6.1 Monterey / arm64 | OK | OK | OK | OK | ||||||||||||||||
| Package 432/664 | Hostname | OS / Arch | INSTALL | BUILD | CHECK | BUILD BIN | ||||||||||||||||
| PhosR 1.10.0 (landing page) Taiyun Kim
| kjohnson2 | macOS 12.6.1 Monterey / arm64 | OK | OK | OK | OK | ||||||||||||||||
| Package 433/664 | Hostname | OS / Arch | INSTALL | BUILD | CHECK | BUILD BIN | ||||||||||||||||
| PING 2.44.0 (landing page) Renan Sauteraud
| kjohnson2 | macOS 12.6.1 Monterey / arm64 | OK | OK | WARNINGS | OK | ||||||||||||||||
| Package 434/664 | Hostname | OS / Arch | INSTALL | BUILD | CHECK | BUILD BIN | ||||||||||||||||
| pipeComp 1.10.0 (landing page) Pierre-Luc Germain
| kjohnson2 | macOS 12.6.1 Monterey / arm64 | OK | OK | OK | OK | ||||||||||||||||
| Package 435/664 | Hostname | OS / Arch | INSTALL | BUILD | CHECK | BUILD BIN | ||||||||||||||||
| plethy 1.38.0 (landing page) Daniel Bottomly
| kjohnson2 | macOS 12.6.1 Monterey / arm64 | OK | OK | ERROR | OK | ||||||||||||||||
| Package 436/664 | Hostname | OS / Arch | INSTALL | BUILD | CHECK | BUILD BIN | ||||||||||||||||
| plyranges 1.20.0 (landing page) Stuart Lee
| kjohnson2 | macOS 12.6.1 Monterey / arm64 | OK | OK | ERROR | OK | ||||||||||||||||
| Package 437/664 | Hostname | OS / Arch | INSTALL | BUILD | CHECK | BUILD BIN | ||||||||||||||||
| pmp 1.12.0 (landing page) Gavin Rhys Lloyd
| kjohnson2 | macOS 12.6.1 Monterey / arm64 | OK | OK | ERROR | OK | ||||||||||||||||
| Package 438/664 | Hostname | OS / Arch | INSTALL | BUILD | CHECK | BUILD BIN | ||||||||||||||||
| pogos 1.20.0 (landing page) VJ Carey
| kjohnson2 | macOS 12.6.1 Monterey / arm64 | OK | OK | OK | OK | ||||||||||||||||
| Package 439/664 | Hostname | OS / Arch | INSTALL | BUILD | CHECK | BUILD BIN | ||||||||||||||||
| polyester 1.36.0 (landing page) Jack Fu
| kjohnson2 | macOS 12.6.1 Monterey / arm64 | OK | OK | OK | OK | ||||||||||||||||
| Package 440/664 | Hostname | OS / Arch | INSTALL | BUILD | CHECK | BUILD BIN | ||||||||||||||||
| pqsfinder 2.16.0 (landing page) Jiri Hon
| kjohnson2 | macOS 12.6.1 Monterey / arm64 | OK | OK | WARNINGS | OK | ||||||||||||||||
| Package 441/664 | Hostname | OS / Arch | INSTALL | BUILD | CHECK | BUILD BIN | ||||||||||||||||
| pram 1.16.0 (landing page) Peng Liu
| kjohnson2 | macOS 12.6.1 Monterey / arm64 | OK | OK | OK | OK | ||||||||||||||||
| Package 442/664 | Hostname | OS / Arch | INSTALL | BUILD | CHECK | BUILD BIN | ||||||||||||||||
| prebs 1.40.0 (landing page) Karolis Uziela
| kjohnson2 | macOS 12.6.1 Monterey / arm64 | OK | OK | OK | OK | ||||||||||||||||
| Package 443/664 | Hostname | OS / Arch | INSTALL | BUILD | CHECK | BUILD BIN | ||||||||||||||||
| preciseTAD 1.10.0 (landing page) Mikhail Dozmorov
| kjohnson2 | macOS 12.6.1 Monterey / arm64 | OK | OK | OK | OK | ||||||||||||||||
| Package 444/664 | Hostname | OS / Arch | INSTALL | BUILD | CHECK | BUILD BIN | ||||||||||||||||
Giorgio Melloni
| kjohnson2 | macOS 12.6.1 Monterey / arm64 | OK | ERROR | skipped | skipped | ||||||||||||||||
| Package 445/664 | Hostname | OS / Arch | INSTALL | BUILD | CHECK | BUILD BIN | ||||||||||||||||
| primirTSS 1.18.0 (landing page) Pumin Li
| kjohnson2 | macOS 12.6.1 Monterey / arm64 | OK | OK | WARNINGS | OK | ||||||||||||||||
| Package 446/664 | Hostname | OS / Arch | INSTALL | BUILD | CHECK | BUILD BIN | ||||||||||||||||
| proActiv 1.10.0 (landing page) Joseph Lee
| kjohnson2 | macOS 12.6.1 Monterey / arm64 | OK | OK | OK | OK | ||||||||||||||||
| Package 447/664 | Hostname | OS / Arch | INSTALL | BUILD | CHECK | BUILD BIN | ||||||||||||||||
| procoil 2.28.0 (landing page) Ulrich Bodenhofer
| kjohnson2 | macOS 12.6.1 Monterey / arm64 | OK | OK | OK | OK | ||||||||||||||||
| Package 448/664 | Hostname | OS / Arch | INSTALL | BUILD | CHECK | BUILD BIN | ||||||||||||||||
| proDA 1.14.0 (landing page) Constantin Ahlmann-Eltze
| kjohnson2 | macOS 12.6.1 Monterey / arm64 | OK | OK | OK | OK | ||||||||||||||||
| Package 449/664 | Hostname | OS / Arch | INSTALL | BUILD | CHECK | BUILD BIN | ||||||||||||||||
| profileplyr 1.16.0 (landing page) Tom Carroll
| kjohnson2 | macOS 12.6.1 Monterey / arm64 | OK | OK | OK | OK | ||||||||||||||||
| Package 450/664 | Hostname | OS / Arch | INSTALL | BUILD | CHECK | BUILD BIN | ||||||||||||||||
| ProteoDisco 1.6.0 (landing page) Job van Riet
| kjohnson2 | macOS 12.6.1 Monterey / arm64 | OK | OK | WARNINGS | OK | ||||||||||||||||
| Package 451/664 | Hostname | OS / Arch | INSTALL | BUILD | CHECK | BUILD BIN | ||||||||||||||||
| PSMatch 1.4.0 (landing page) Laurent Gatto
| kjohnson2 | macOS 12.6.1 Monterey / arm64 | OK | OK | OK | OK | ||||||||||||||||
| Package 452/664 | Hostname | OS / Arch | INSTALL | BUILD | CHECK | BUILD BIN | ||||||||||||||||
Marc Pagès-Gallego
| kjohnson2 | macOS 12.6.1 Monterey / arm64 | ERROR | ERROR | skipped | skipped | ||||||||||||||||
| Package 453/664 | Hostname | OS / Arch | INSTALL | BUILD | CHECK | BUILD BIN | ||||||||||||||||
| PureCN 2.6.4 (landing page) Markus Riester
| kjohnson2 | macOS 12.6.1 Monterey / arm64 | OK | OK | OK | OK | ||||||||||||||||
| Package 454/664 | Hostname | OS / Arch | INSTALL | BUILD | CHECK | BUILD BIN | ||||||||||||||||
| PWMEnrich 4.36.0 (landing page) Diego Diez
| kjohnson2 | macOS 12.6.1 Monterey / arm64 | OK | OK | OK | OK | ||||||||||||||||
| Package 455/664 | Hostname | OS / Arch | INSTALL | BUILD | CHECK | BUILD BIN | ||||||||||||||||
| qcmetrics 1.38.0 (landing page) Laurent Gatto
| kjohnson2 | macOS 12.6.1 Monterey / arm64 | OK | OK | ERROR | OK | ||||||||||||||||
| Package 456/664 | Hostname | OS / Arch | INSTALL | BUILD | CHECK | BUILD BIN | ||||||||||||||||
| QFeatures 1.10.0 (landing page) Laurent Gatto
| kjohnson2 | macOS 12.6.1 Monterey / arm64 | OK | OK | OK | OK | ||||||||||||||||
| Package 457/664 | Hostname | OS / Arch | INSTALL | BUILD | CHECK | BUILD BIN | ||||||||||||||||
| qpgraph 2.34.2 (landing page) Robert Castelo
| kjohnson2 | macOS 12.6.1 Monterey / arm64 | OK | OK | OK | OK | ||||||||||||||||
| Package 458/664 | Hostname | OS / Arch | INSTALL | BUILD | CHECK | BUILD BIN | ||||||||||||||||
| qsea 1.26.0 (landing page) Matthias Lienhard
| kjohnson2 | macOS 12.6.1 Monterey / arm64 | OK | OK | OK | OK | ||||||||||||||||
| Package 459/664 | Hostname | OS / Arch | INSTALL | BUILD | CHECK | BUILD BIN | ||||||||||||||||
| QuasR 1.40.1 (landing page) Michael Stadler
| kjohnson2 | macOS 12.6.1 Monterey / arm64 | OK | OK | WARNINGS | OK | ||||||||||||||||
| Package 460/664 | Hostname | OS / Arch | INSTALL | BUILD | CHECK | BUILD BIN | ||||||||||||||||
| R3CPET 1.32.0 (landing page) Mohamed Nadhir Djekidel
| kjohnson2 | macOS 12.6.1 Monterey / arm64 | ERROR | ERROR | skipped | skipped | ||||||||||||||||
| Package 461/664 | Hostname | OS / Arch | INSTALL | BUILD | CHECK | BUILD BIN | ||||||||||||||||
| R453Plus1Toolbox 1.50.0 (landing page) Hans-Ulrich Klein
| kjohnson2 | macOS 12.6.1 Monterey / arm64 | OK | OK | OK | OK | ||||||||||||||||
| Package 462/664 | Hostname | OS / Arch | INSTALL | BUILD | CHECK | BUILD BIN | ||||||||||||||||
| RadioGx 2.4.0 (landing page) Benjamin Haibe-Kains
| kjohnson2 | macOS 12.6.1 Monterey / arm64 | OK | OK | OK | OK | ||||||||||||||||
| Package 463/664 | Hostname | OS / Arch | INSTALL | BUILD | CHECK | BUILD BIN | ||||||||||||||||
| RaggedExperiment 1.24.2 (landing page) Marcel Ramos
| kjohnson2 | macOS 12.6.1 Monterey / arm64 | OK | OK | OK | OK | ||||||||||||||||
| Package 464/664 | Hostname | OS / Arch | INSTALL | BUILD | CHECK | BUILD BIN | ||||||||||||||||
| ramr 1.8.0 (landing page) Oleksii Nikolaienko
| kjohnson2 | macOS 12.6.1 Monterey / arm64 | OK | OK | OK | OK | ||||||||||||||||
| Package 465/664 | Hostname | OS / Arch | INSTALL | BUILD | CHECK | BUILD BIN | ||||||||||||||||
| RareVariantVis 2.28.0 (landing page) Tomasz Stokowy
| kjohnson2 | macOS 12.6.1 Monterey / arm64 | OK | OK | OK | OK | ||||||||||||||||
| Package 466/664 | Hostname | OS / Arch | INSTALL | BUILD | CHECK | BUILD BIN | ||||||||||||||||
| RBioFormats 1.0.0 (landing page) Andrzej Oleś
| kjohnson2 | macOS 12.6.1 Monterey / arm64 | OK | OK | OK | OK | ||||||||||||||||
| Package 467/664 | Hostname | OS / Arch | INSTALL | BUILD | CHECK | BUILD BIN | ||||||||||||||||
| RCAS 1.26.0 (landing page) Bora Uyar
| kjohnson2 | macOS 12.6.1 Monterey / arm64 | OK | OK | OK | OK | ||||||||||||||||
| Package 468/664 | Hostname | OS / Arch | INSTALL | BUILD | CHECK | BUILD BIN | ||||||||||||||||
| RcisTarget 1.20.0 (landing page) Sara Aibar
| kjohnson2 | macOS 12.6.1 Monterey / arm64 | OK | OK | OK | OK | ||||||||||||||||
| Package 469/664 | Hostname | OS / Arch | INSTALL | BUILD | CHECK | BUILD BIN | ||||||||||||||||
| Rcwl 1.16.0 (landing page) Qiang Hu
| kjohnson2 | macOS 12.6.1 Monterey / arm64 | OK | OK | OK | OK | ||||||||||||||||
| Package 470/664 | Hostname | OS / Arch | INSTALL | BUILD | CHECK | BUILD BIN | ||||||||||||||||
| RcwlPipelines 1.16.0 (landing page) Qiang Hu
| kjohnson2 | macOS 12.6.1 Monterey / arm64 | OK | OK | OK | OK | ||||||||||||||||
| Package 471/664 | Hostname | OS / Arch | INSTALL | BUILD | CHECK | BUILD BIN | ||||||||||||||||
| recount 1.26.0 (landing page) Leonardo Collado-Torres
| kjohnson2 | macOS 12.6.1 Monterey / arm64 | OK | ERROR | skipped | skipped | ||||||||||||||||
| Package 472/664 | Hostname | OS / Arch | INSTALL | BUILD | CHECK | BUILD BIN | ||||||||||||||||
| recount3 1.10.2 (landing page) Leonardo Collado-Torres
| kjohnson2 | macOS 12.6.1 Monterey / arm64 | OK | OK | OK | OK | ||||||||||||||||
| Package 473/664 | Hostname | OS / Arch | INSTALL | BUILD | CHECK | BUILD BIN | ||||||||||||||||
| recountmethylation 1.10.0 (landing page) Sean K Maden
| kjohnson2 | macOS 12.6.1 Monterey / arm64 | OK | OK | OK | OK | ||||||||||||||||
| Package 474/664 | Hostname | OS / Arch | INSTALL | BUILD | CHECK | BUILD BIN | ||||||||||||||||
| recoup 1.28.0 (landing page) Panagiotis Moulos
| kjohnson2 | macOS 12.6.1 Monterey / arm64 | OK | OK | OK | OK | ||||||||||||||||
| Package 475/664 | Hostname | OS / Arch | INSTALL | BUILD | CHECK | BUILD BIN | ||||||||||||||||
| RegEnrich 1.10.0 (landing page) Weiyang Tao
| kjohnson2 | macOS 12.6.1 Monterey / arm64 | OK | OK | OK | OK | ||||||||||||||||
| Package 476/664 | Hostname | OS / Arch | INSTALL | BUILD | CHECK | BUILD BIN | ||||||||||||||||
| regioneR 1.32.0 (landing page) Bernat Gel
| kjohnson2 | macOS 12.6.1 Monterey / arm64 | OK | OK | OK | OK | ||||||||||||||||
| Package 477/664 | Hostname | OS / Arch | INSTALL | BUILD | CHECK | BUILD BIN | ||||||||||||||||
| regionReport 1.34.0 (landing page) Leonardo Collado-Torres
| kjohnson2 | macOS 12.6.1 Monterey / arm64 | OK | OK | OK | OK | ||||||||||||||||
| Package 478/664 | Hostname | OS / Arch | INSTALL | BUILD | CHECK | BUILD BIN | ||||||||||||||||
| regsplice 1.26.0 (landing page) Lukas M. Weber
| kjohnson2 | macOS 12.6.1 Monterey / arm64 | OK | OK | OK | OK | ||||||||||||||||
| Package 479/664 | Hostname | OS / Arch | INSTALL | BUILD | CHECK | BUILD BIN | ||||||||||||||||
| regutools 1.12.0 (landing page) Joselyn Chavez
| kjohnson2 | macOS 12.6.1 Monterey / arm64 | OK | OK | OK | OK | ||||||||||||||||
| Package 480/664 | Hostname | OS / Arch | INSTALL | BUILD | CHECK | BUILD BIN | ||||||||||||||||
| REMP 1.24.0 (landing page) Yinan Zheng
| kjohnson2 | macOS 12.6.1 Monterey / arm64 | OK | ERROR | skipped | skipped | ||||||||||||||||
| Package 481/664 | Hostname | OS / Arch | INSTALL | BUILD | CHECK | BUILD BIN | ||||||||||||||||
| Repitools 1.46.0 (landing page) Mark Robinson
| kjohnson2 | macOS 12.6.1 Monterey / arm64 | OK | OK | WARNINGS | OK | ||||||||||||||||
| Package 482/664 | Hostname | OS / Arch | INSTALL | BUILD | CHECK | BUILD BIN | ||||||||||||||||
| RepViz 1.16.0 (landing page) Thomas Faux, Asta Laiho
| kjohnson2 | macOS 12.6.1 Monterey / arm64 | OK | OK | WARNINGS | OK | ||||||||||||||||
| Package 483/664 | Hostname | OS / Arch | INSTALL | BUILD | CHECK | BUILD BIN | ||||||||||||||||
| ResidualMatrix 1.10.0 (landing page) Aaron Lun
| kjohnson2 | macOS 12.6.1 Monterey / arm64 | OK | OK | OK | OK | ||||||||||||||||
| Package 484/664 | Hostname | OS / Arch | INSTALL | BUILD | CHECK | BUILD BIN | ||||||||||||||||
| RESOLVE 1.2.0 (landing page) Luca De Sano
| kjohnson2 | macOS 12.6.1 Monterey / arm64 | OK | OK | OK | OK | ||||||||||||||||
| Package 485/664 | Hostname | OS / Arch | INSTALL | BUILD | CHECK | BUILD BIN | ||||||||||||||||
| restfulSE 1.22.0 (landing page) Shweta Gopaulakrishnan
| kjohnson2 | macOS 12.6.1 Monterey / arm64 | OK | ERROR | skipped | skipped | ||||||||||||||||
| Package 486/664 | Hostname | OS / Arch | INSTALL | BUILD | CHECK | BUILD BIN | ||||||||||||||||
| ReUseData 1.0.1 (landing page) Qian Liu
| kjohnson2 | macOS 12.6.1 Monterey / arm64 | OK | OK | OK | OK | ||||||||||||||||
| Package 487/664 | Hostname | OS / Arch | INSTALL | BUILD | CHECK | BUILD BIN | ||||||||||||||||
| rexposome 1.22.0 (landing page) Xavier Escribà Montagut
| kjohnson2 | macOS 12.6.1 Monterey / arm64 | OK | OK | WARNINGS | OK | ||||||||||||||||
| Package 488/664 | Hostname | OS / Arch | INSTALL | BUILD | CHECK | BUILD BIN | ||||||||||||||||
| rfaRm 1.12.1 (landing page) Lara Selles Vidal
| kjohnson2 | macOS 12.6.1 Monterey / arm64 | OK | OK | OK | OK | ||||||||||||||||
| Package 489/664 | Hostname | OS / Arch | INSTALL | BUILD | CHECK | BUILD BIN | ||||||||||||||||
| RgnTX 1.2.0 (landing page) Yue Wang
| kjohnson2 | macOS 12.6.1 Monterey / arm64 | OK | OK | OK | OK | ||||||||||||||||
| Package 490/664 | Hostname | OS / Arch | INSTALL | BUILD | CHECK | BUILD BIN | ||||||||||||||||
| rGREAT 2.2.0 (landing page) Zuguang Gu
| kjohnson2 | macOS 12.6.1 Monterey / arm64 | OK | OK | OK | OK | ||||||||||||||||
| Package 491/664 | Hostname | OS / Arch | INSTALL | BUILD | CHECK | BUILD BIN | ||||||||||||||||
| RiboDiPA 1.8.0 (landing page) Ji-Ping Wang
| kjohnson2 | macOS 12.6.1 Monterey / arm64 | OK | OK | OK | OK | ||||||||||||||||
| Package 492/664 | Hostname | OS / Arch | INSTALL | BUILD | CHECK | BUILD BIN | ||||||||||||||||
| RiboProfiling 1.30.0 (landing page) A. Popa
| kjohnson2 | macOS 12.6.1 Monterey / arm64 | OK | OK | WARNINGS | OK | ||||||||||||||||
| Package 493/664 | Hostname | OS / Arch | INSTALL | BUILD | CHECK | BUILD BIN | ||||||||||||||||
| ribor 1.12.0 (landing page) Michael Geng
| kjohnson2 | macOS 12.6.1 Monterey / arm64 | OK | OK | OK | OK | ||||||||||||||||
| Package 494/664 | Hostname | OS / Arch | INSTALL | BUILD | CHECK | BUILD BIN | ||||||||||||||||
| ribosomeProfilingQC 1.12.0 (landing page) Jianhong Ou
| kjohnson2 | macOS 12.6.1 Monterey / arm64 | OK | OK | OK | OK | ||||||||||||||||
| Package 495/664 | Hostname | OS / Arch | INSTALL | BUILD | CHECK | BUILD BIN | ||||||||||||||||
| rifi 1.4.1 (landing page) Jens Georg
| kjohnson2 | macOS 12.6.1 Monterey / arm64 | OK | OK | WARNINGS | OK | ||||||||||||||||
| Package 496/664 | Hostname | OS / Arch | INSTALL | BUILD | CHECK | BUILD BIN | ||||||||||||||||
| rifiComparative 1.0.1 (landing page) Loubna Youssar
| kjohnson2 | macOS 12.6.1 Monterey / arm64 | OK | OK | OK | OK | ||||||||||||||||
| Package 497/664 | Hostname | OS / Arch | INSTALL | BUILD | CHECK | BUILD BIN | ||||||||||||||||
| RJMCMCNucleosomes 1.24.0 (landing page) Astrid Deschênes
| kjohnson2 | macOS 12.6.1 Monterey / arm64 | OK | OK | OK | OK | ||||||||||||||||
| Package 498/664 | Hostname | OS / Arch | INSTALL | BUILD | CHECK | BUILD BIN | ||||||||||||||||
| RMassBank 3.10.0 (landing page) RMassBank at Eawag
| kjohnson2 | macOS 12.6.1 Monterey / arm64 | ERROR | ERROR | skipped | skipped | ||||||||||||||||
| Package 499/664 | Hostname | OS / Arch | INSTALL | BUILD | CHECK | BUILD BIN | ||||||||||||||||
| Rmmquant 1.18.0 (landing page) Zytnicki Matthias
| kjohnson2 | macOS 12.6.1 Monterey / arm64 | OK | OK | OK | OK | ||||||||||||||||
| Package 500/664 | Hostname | OS / Arch | INSTALL | BUILD | CHECK | BUILD BIN | ||||||||||||||||
| rnaEditr 1.10.0 (landing page) Lanyu Zhang
| kjohnson2 | macOS 12.6.1 Monterey / arm64 | OK | OK | WARNINGS | OK | ||||||||||||||||
| Package 501/664 | Hostname | OS / Arch | INSTALL | BUILD | CHECK | BUILD BIN | ||||||||||||||||
| RNAmodR 1.14.0 (landing page) Felix G.M. Ernst
| kjohnson2 | macOS 12.6.1 Monterey / arm64 | OK | OK | OK | OK | ||||||||||||||||
| Package 502/664 | Hostname | OS / Arch | INSTALL | BUILD | CHECK | BUILD BIN | ||||||||||||||||
| RNAmodR.AlkAnilineSeq 1.14.0 (landing page) Felix G.M. Ernst
| kjohnson2 | macOS 12.6.1 Monterey / arm64 | OK | OK | OK | OK | ||||||||||||||||
| Package 503/664 | Hostname | OS / Arch | INSTALL | BUILD | CHECK | BUILD BIN | ||||||||||||||||
| RNAmodR.ML 1.14.0 (landing page) Felix G.M. Ernst
| kjohnson2 | macOS 12.6.1 Monterey / arm64 | OK | OK | OK | OK | ||||||||||||||||
| Package 504/664 | Hostname | OS / Arch | INSTALL | BUILD | CHECK | BUILD BIN | ||||||||||||||||
| RNAmodR.RiboMethSeq 1.14.0 (landing page) Felix G.M. Ernst
| kjohnson2 | macOS 12.6.1 Monterey / arm64 | OK | OK | OK | OK | ||||||||||||||||
| Package 505/664 | Hostname | OS / Arch | INSTALL | BUILD | CHECK | BUILD BIN | ||||||||||||||||
| RnBeads 2.18.1 (landing page) Fabian Mueller
| kjohnson2 | macOS 12.6.1 Monterey / arm64 | OK | OK | OK | OK | ||||||||||||||||
| Package 506/664 | Hostname | OS / Arch | INSTALL | BUILD | CHECK | BUILD BIN | ||||||||||||||||
| roar 1.36.0 (landing page) Elena Grassi
| kjohnson2 | macOS 12.6.1 Monterey / arm64 | OK | OK | OK | OK | ||||||||||||||||
| Package 507/664 | Hostname | OS / Arch | INSTALL | BUILD | CHECK | BUILD BIN | ||||||||||||||||
| rprimer 1.4.0 (landing page) Sofia Persson
| kjohnson2 | macOS 12.6.1 Monterey / arm64 | OK | OK | OK | OK | ||||||||||||||||
| Package 508/664 | Hostname | OS / Arch | INSTALL | BUILD | CHECK | BUILD BIN | ||||||||||||||||
| Rqc 1.34.0 (landing page) Welliton Souza
| kjohnson2 | macOS 12.6.1 Monterey / arm64 | OK | OK | OK | OK | ||||||||||||||||
| Package 509/664 | Hostname | OS / Arch | INSTALL | BUILD | CHECK | BUILD BIN | ||||||||||||||||
| Rsamtools 2.16.0 (landing page) Bioconductor Package Maintainer
| kjohnson2 | macOS 12.6.1 Monterey / arm64 | OK | OK | WARNINGS | OK | ||||||||||||||||
| Package 510/664 | Hostname | OS / Arch | INSTALL | BUILD | CHECK | BUILD BIN | ||||||||||||||||
| rScudo 1.16.0 (landing page) Matteo Ciciani
| kjohnson2 | macOS 12.6.1 Monterey / arm64 | OK | OK | OK | OK | ||||||||||||||||
| Package 511/664 | Hostname | OS / Arch | INSTALL | BUILD | CHECK | BUILD BIN | ||||||||||||||||
| RTCGAToolbox 2.30.0 (landing page) Marcel Ramos
| kjohnson2 | macOS 12.6.1 Monterey / arm64 | OK | ERROR | skipped | skipped | ||||||||||||||||
| Package 512/664 | Hostname | OS / Arch | INSTALL | BUILD | CHECK | BUILD BIN | ||||||||||||||||
| RTN 2.24.0 (landing page) Mauro Castro
| kjohnson2 | macOS 12.6.1 Monterey / arm64 | OK | OK | OK | OK | ||||||||||||||||
| Package 513/664 | Hostname | OS / Arch | INSTALL | BUILD | CHECK | BUILD BIN | ||||||||||||||||
| rtracklayer 1.60.1 (landing page) Michael Lawrence
| kjohnson2 | macOS 12.6.1 Monterey / arm64 | OK | OK | ERROR | OK | ||||||||||||||||
| Package 514/664 | Hostname | OS / Arch | INSTALL | BUILD | CHECK | BUILD BIN | ||||||||||||||||
| S4Arrays 1.0.6 (landing page) Hervé Pagès
| kjohnson2 | macOS 12.6.1 Monterey / arm64 | OK | OK | OK | OK | ||||||||||||||||
| Package 515/664 | Hostname | OS / Arch | INSTALL | BUILD | CHECK | BUILD BIN | ||||||||||||||||
| SC3 1.28.3 (landing page) Vladimir Kiselev
| kjohnson2 | macOS 12.6.1 Monterey / arm64 | OK | OK | OK | OK | ||||||||||||||||
| Package 516/664 | Hostname | OS / Arch | INSTALL | BUILD | CHECK | BUILD BIN | ||||||||||||||||
| ScaledMatrix 1.8.1 (landing page) Aaron Lun
| kjohnson2 | macOS 12.6.1 Monterey / arm64 | OK | OK | OK | OK | ||||||||||||||||
| Package 517/664 | Hostname | OS / Arch | INSTALL | BUILD | CHECK | BUILD BIN | ||||||||||||||||
| scanMiR 1.6.0 (landing page) Fridolin Gross
| kjohnson2 | macOS 12.6.1 Monterey / arm64 | OK | OK | WARNINGS | OK | ||||||||||||||||
| Package 518/664 | Hostname | OS / Arch | INSTALL | BUILD | CHECK | BUILD BIN | ||||||||||||||||
| scanMiRApp 1.6.0 (landing page) Pierre-Luc Germain
| kjohnson2 | macOS 12.6.1 Monterey / arm64 | OK | OK | WARNINGS | OK | ||||||||||||||||
| Package 519/664 | Hostname | OS / Arch | INSTALL | BUILD | CHECK | BUILD BIN | ||||||||||||||||
| SCArray 1.8.4 (landing page) Xiuwen Zheng
| kjohnson2 | macOS 12.6.1 Monterey / arm64 | OK | OK | OK | OK | ||||||||||||||||
| Package 520/664 | Hostname | OS / Arch | INSTALL | BUILD | CHECK | BUILD BIN | ||||||||||||||||
| SCArray.sat 1.0.3 (landing page) Xiuwen Zheng
| kjohnson2 | macOS 12.6.1 Monterey / arm64 | OK | OK | OK | OK | ||||||||||||||||
| Package 521/664 | Hostname | OS / Arch | INSTALL | BUILD | CHECK | BUILD BIN | ||||||||||||||||
| scater 1.28.0 (landing page) Alan O'Callaghan
| kjohnson2 | macOS 12.6.1 Monterey / arm64 | OK | OK | OK | OK | ||||||||||||||||
| Package 522/664 | Hostname | OS / Arch | INSTALL | BUILD | CHECK | BUILD BIN | ||||||||||||||||
| scClassify 1.12.0 (landing page) Yingxin Lin
| kjohnson2 | macOS 12.6.1 Monterey / arm64 | OK | OK | OK | OK | ||||||||||||||||
| Package 523/664 | Hostname | OS / Arch | INSTALL | BUILD | CHECK | BUILD BIN | ||||||||||||||||
| scDataviz 1.10.0 (landing page) Kevin Blighe
| kjohnson2 | macOS 12.6.1 Monterey / arm64 | OK | OK | OK | OK | ||||||||||||||||
| Package 524/664 | Hostname | OS / Arch | INSTALL | BUILD | CHECK | BUILD BIN | ||||||||||||||||
| scDblFinder 1.14.0 (landing page) Pierre-Luc Germain
| kjohnson2 | macOS 12.6.1 Monterey / arm64 | OK | OK | OK | OK | ||||||||||||||||
| Package 525/664 | Hostname | OS / Arch | INSTALL | BUILD | CHECK | BUILD BIN | ||||||||||||||||
| scDD 1.24.0 (landing page) Keegan Korthauer
| kjohnson2 | macOS 12.6.1 Monterey / arm64 | OK | OK | OK | OK | ||||||||||||||||
| Package 526/664 | Hostname | OS / Arch | INSTALL | BUILD | CHECK | BUILD BIN | ||||||||||||||||
| scds 1.16.0 (landing page) Dennis Kostka
| kjohnson2 | macOS 12.6.1 Monterey / arm64 | OK | OK | OK | OK | ||||||||||||||||
| Package 527/664 | Hostname | OS / Arch | INSTALL | BUILD | CHECK | BUILD BIN | ||||||||||||||||
| scHOT 1.12.0 (landing page) Shila Ghazanfar
| kjohnson2 | macOS 12.6.1 Monterey / arm64 | OK | OK | OK | OK | ||||||||||||||||
| Package 528/664 | Hostname | OS / Arch | INSTALL | BUILD | CHECK | BUILD BIN | ||||||||||||||||
| scmap 1.22.3 (landing page) Vladimir Kiselev
| kjohnson2 | macOS 12.6.1 Monterey / arm64 | OK | OK | OK | OK | ||||||||||||||||
| Package 529/664 | Hostname | OS / Arch | INSTALL | BUILD | CHECK | BUILD BIN | ||||||||||||||||
| scMerge 1.16.0 (landing page) Yingxin Lin
| kjohnson2 | macOS 12.6.1 Monterey / arm64 | OK | OK | OK | OK | ||||||||||||||||
| Package 530/664 | Hostname | OS / Arch | INSTALL | BUILD | CHECK | BUILD BIN | ||||||||||||||||
| scMET 1.2.0 (landing page) Andreas C. Kapourani
| kjohnson2 | macOS 12.6.1 Monterey / arm64 | OK | OK | OK | OK | ||||||||||||||||
| Package 531/664 | Hostname | OS / Arch | INSTALL | BUILD | CHECK | BUILD BIN | ||||||||||||||||
| SCnorm 1.22.0 (landing page) Rhonda Bacher
| kjohnson2 | macOS 12.6.1 Monterey / arm64 | OK | OK | OK | OK | ||||||||||||||||
| Package 532/664 | Hostname | OS / Arch | INSTALL | BUILD | CHECK | BUILD BIN | ||||||||||||||||
| SCOPE 1.12.0 (landing page) Rujin Wang
| kjohnson2 | macOS 12.6.1 Monterey / arm64 | OK | OK | OK | OK | ||||||||||||||||
| Package 533/664 | Hostname | OS / Arch | INSTALL | BUILD | CHECK | BUILD BIN | ||||||||||||||||
| scp 1.10.1 (landing page) Christophe Vanderaa
| kjohnson2 | macOS 12.6.1 Monterey / arm64 | OK | OK | ERROR | OK | ||||||||||||||||
| Package 534/664 | Hostname | OS / Arch | INSTALL | BUILD | CHECK | BUILD BIN | ||||||||||||||||
| scPipe 2.0.0 (landing page) Shian Su
| kjohnson2 | macOS 12.6.1 Monterey / arm64 | OK | OK | WARNINGS | OK | ||||||||||||||||
| Package 535/664 | Hostname | OS / Arch | INSTALL | BUILD | CHECK | BUILD BIN | ||||||||||||||||
| scran 1.28.2 (landing page) Aaron Lun
| kjohnson2 | macOS 12.6.1 Monterey / arm64 | OK | OK | WARNINGS | OK | ||||||||||||||||
| Package 536/664 | Hostname | OS / Arch | INSTALL | BUILD | CHECK | BUILD BIN | ||||||||||||||||
| screenCounter 1.0.1 (landing page) Aaron Lun
| kjohnson2 | macOS 12.6.1 Monterey / arm64 | OK | OK | OK | OK | ||||||||||||||||
| Package 537/664 | Hostname | OS / Arch | INSTALL | BUILD | CHECK | BUILD BIN | ||||||||||||||||
| scRNAseqApp 1.0.1 (landing page) Jianhong Ou
| kjohnson2 | macOS 12.6.1 Monterey / arm64 | OK | OK | OK | OK | ||||||||||||||||
| Package 538/664 | Hostname | OS / Arch | INSTALL | BUILD | CHECK | BUILD BIN | ||||||||||||||||
| scruff 1.18.0 (landing page) Zhe Wang
| kjohnson2 | macOS 12.6.1 Monterey / arm64 | OK | OK | OK | OK | ||||||||||||||||
| Package 539/664 | Hostname | OS / Arch | INSTALL | BUILD | CHECK | BUILD BIN | ||||||||||||||||
| scTensor 2.10.0 (landing page) Koki Tsuyuzaki
| kjohnson2 | macOS 12.6.1 Monterey / arm64 | OK | OK | WARNINGS | OK | ||||||||||||||||
| Package 540/664 | Hostname | OS / Arch | INSTALL | BUILD | CHECK | BUILD BIN | ||||||||||||||||
| scTGIF 1.14.0 (landing page) Koki Tsuyuzaki
| kjohnson2 | macOS 12.6.1 Monterey / arm64 | OK | OK | OK | OK | ||||||||||||||||
| Package 541/664 | Hostname | OS / Arch | INSTALL | BUILD | CHECK | BUILD BIN | ||||||||||||||||
| scTreeViz 1.6.0 (landing page) Jayaram Kancherla
| kjohnson2 | macOS 12.6.1 Monterey / arm64 | OK | OK | OK | OK | ||||||||||||||||
| Package 542/664 | Hostname | OS / Arch | INSTALL | BUILD | CHECK | BUILD BIN | ||||||||||||||||
| scuttle 1.10.3 (landing page) Aaron Lun
| kjohnson2 | macOS 12.6.1 Monterey / arm64 | OK | OK | OK | OK | ||||||||||||||||
| Package 543/664 | Hostname | OS / Arch | INSTALL | BUILD | CHECK | BUILD BIN | ||||||||||||||||
| scviR 1.0.0 (landing page) Vincent Carey
| kjohnson2 | macOS 12.6.1 Monterey / arm64 | OK | OK | OK | OK | ||||||||||||||||
| Package 544/664 | Hostname | OS / Arch | INSTALL | BUILD | CHECK | BUILD BIN | ||||||||||||||||
| sechm 1.8.0 (landing page) Pierre-Luc Germain
| kjohnson2 | macOS 12.6.1 Monterey / arm64 | OK | OK | OK | OK | ||||||||||||||||
| Package 545/664 | Hostname | OS / Arch | INSTALL | BUILD | CHECK | BUILD BIN | ||||||||||||||||
| segmenter 1.6.0 (landing page) Mahmoud Ahmed
| kjohnson2 | macOS 12.6.1 Monterey / arm64 | OK | OK | OK | OK | ||||||||||||||||
| Package 546/664 | Hostname | OS / Arch | INSTALL | BUILD | CHECK | BUILD BIN | ||||||||||||||||
| segmentSeq 2.34.0 (landing page) Thomas J. Hardcastle
| kjohnson2 | macOS 12.6.1 Monterey / arm64 | OK | OK | OK | OK | ||||||||||||||||
| Package 547/664 | Hostname | OS / Arch | INSTALL | BUILD | CHECK | BUILD BIN | ||||||||||||||||
| seqArchRplus 1.0.0 (landing page) Sarvesh Nikumbh
| kjohnson2 | macOS 12.6.1 Monterey / arm64 | OK | OK | OK | OK | ||||||||||||||||
| Package 548/664 | Hostname | OS / Arch | INSTALL | BUILD | CHECK | BUILD BIN | ||||||||||||||||
| SeqArray 1.40.1 (landing page) Xiuwen Zheng
| kjohnson2 | macOS 12.6.1 Monterey / arm64 | OK | OK | OK | OK | ||||||||||||||||
| Package 549/664 | Hostname | OS / Arch | INSTALL | BUILD | CHECK | BUILD BIN | ||||||||||||||||
| seqCAT 1.22.0 (landing page) Erik Fasterius
| kjohnson2 | macOS 12.6.1 Monterey / arm64 | OK | OK | OK | OK | ||||||||||||||||
| Package 550/664 | Hostname | OS / Arch | INSTALL | BUILD | CHECK | BUILD BIN | ||||||||||||||||
| SeqGate 1.10.0 (landing page) Stéphanie Rialle
| kjohnson2 | macOS 12.6.1 Monterey / arm64 | OK | OK | OK | OK | ||||||||||||||||
| Package 551/664 | Hostname | OS / Arch | INSTALL | BUILD | CHECK | BUILD BIN | ||||||||||||||||
| seqsetvis 1.20.0 (landing page) Joseph R Boyd
| kjohnson2 | macOS 12.6.1 Monterey / arm64 | OK | OK | OK | OK | ||||||||||||||||
| Package 552/664 | Hostname | OS / Arch | INSTALL | BUILD | CHECK | BUILD BIN | ||||||||||||||||
| SeqSQC 1.22.0 (landing page) Qian Liu
| kjohnson2 | macOS 12.6.1 Monterey / arm64 | OK | OK | OK | OK | ||||||||||||||||
| Package 553/664 | Hostname | OS / Arch | INSTALL | BUILD | CHECK | BUILD BIN | ||||||||||||||||
| SeqVarTools 1.38.0 (landing page) Stephanie M. Gogarten
| kjohnson2 | macOS 12.6.1 Monterey / arm64 | OK | OK | OK | OK | ||||||||||||||||
| Package 554/664 | Hostname | OS / Arch | INSTALL | BUILD | CHECK | BUILD BIN | ||||||||||||||||
| sesame 1.18.4 (landing page) Wanding Zhou
| kjohnson2 | macOS 12.6.1 Monterey / arm64 | OK | OK | WARNINGS | OK | ||||||||||||||||
| Package 555/664 | Hostname | OS / Arch | INSTALL | BUILD | CHECK | BUILD BIN | ||||||||||||||||
| SEtools 1.14.0 (landing page) Pierre-Luc Germain
| kjohnson2 | macOS 12.6.1 Monterey / arm64 | OK | OK | OK | OK | ||||||||||||||||
| Package 556/664 | Hostname | OS / Arch | INSTALL | BUILD | CHECK | BUILD BIN | ||||||||||||||||
| sevenbridges 1.30.0 (landing page) Phil Webster
| kjohnson2 | macOS 12.6.1 Monterey / arm64 | OK | OK | OK | OK | ||||||||||||||||
| Package 557/664 | Hostname | OS / Arch | INSTALL | BUILD | CHECK | BUILD BIN | ||||||||||||||||
| sevenC 1.20.0 (landing page) Jonas Ibn-Salem
| kjohnson2 | macOS 12.6.1 Monterey / arm64 | OK | OK | OK | OK | ||||||||||||||||
| Package 558/664 | Hostname | OS / Arch | INSTALL | BUILD | CHECK | BUILD BIN | ||||||||||||||||
| SGSeq 1.34.0 (landing page) Leonard Goldstein
| kjohnson2 | macOS 12.6.1 Monterey / arm64 | OK | OK | OK | OK | ||||||||||||||||
| Package 559/664 | Hostname | OS / Arch | INSTALL | BUILD | CHECK | BUILD BIN | ||||||||||||||||
| ShortRead 1.58.0 (landing page) Bioconductor Package Maintainer
| kjohnson2 | macOS 12.6.1 Monterey / arm64 | OK | OK | WARNINGS | OK | ||||||||||||||||
| Package 560/664 | Hostname | OS / Arch | INSTALL | BUILD | CHECK | BUILD BIN | ||||||||||||||||
| simpleSeg 1.2.5 (landing page) Ellis Patrick
| kjohnson2 | macOS 12.6.1 Monterey / arm64 | OK | OK | OK | OK | ||||||||||||||||
| Package 561/664 | Hostname | OS / Arch | INSTALL | BUILD | CHECK | BUILD BIN | ||||||||||||||||
| SingleCellExperiment 1.22.0 (landing page) Davide Risso
| kjohnson2 | macOS 12.6.1 Monterey / arm64 | OK | OK | OK | OK | ||||||||||||||||
| Package 562/664 | Hostname | OS / Arch | INSTALL | BUILD | CHECK | BUILD BIN | ||||||||||||||||
| singleCellTK 2.10.0 (landing page) Yichen Wang
| kjohnson2 | macOS 12.6.1 Monterey / arm64 | OK | OK | OK | OK | ||||||||||||||||
| Package 563/664 | Hostname | OS / Arch | INSTALL | BUILD | CHECK | BUILD BIN | ||||||||||||||||
| SingleR 2.2.0 (landing page) Aaron Lun
| kjohnson2 | macOS 12.6.1 Monterey / arm64 | OK | OK | WARNINGS | OK | ||||||||||||||||
| Package 564/664 | Hostname | OS / Arch | INSTALL | BUILD | CHECK | BUILD BIN | ||||||||||||||||
| singscore 1.20.0 (landing page) Malvika Kharbanda
| kjohnson2 | macOS 12.6.1 Monterey / arm64 | OK | OK | OK | OK | ||||||||||||||||
| Package 565/664 | Hostname | OS / Arch | INSTALL | BUILD | CHECK | BUILD BIN | ||||||||||||||||
| sitadela 1.8.0 (landing page) Panagiotis Moulos
| kjohnson2 | macOS 12.6.1 Monterey / arm64 | OK | OK | OK | OK | ||||||||||||||||
| Package 566/664 | Hostname | OS / Arch | INSTALL | BUILD | CHECK | BUILD BIN | ||||||||||||||||
| skewr 1.32.0 (landing page) Ryan Putney
| kjohnson2 | macOS 12.6.1 Monterey / arm64 | OK | OK | OK | OK | ||||||||||||||||
| Package 567/664 | Hostname | OS / Arch | INSTALL | BUILD | CHECK | BUILD BIN | ||||||||||||||||
| slingshot 2.8.0 (landing page) Kelly Street
| kjohnson2 | macOS 12.6.1 Monterey / arm64 | OK | OK | OK | OK | ||||||||||||||||
| Package 568/664 | Hostname | OS / Arch | INSTALL | BUILD | CHECK | BUILD BIN | ||||||||||||||||
| SMITE 1.28.0 (landing page) Neil Ari Wijetunga
| kjohnson2 | macOS 12.6.1 Monterey / arm64 | OK | OK | OK | OK | ||||||||||||||||
| Package 569/664 | Hostname | OS / Arch | INSTALL | BUILD | CHECK | BUILD BIN | ||||||||||||||||
| SNPhood 1.30.0 (landing page) Christian Arnold
| kjohnson2 | macOS 12.6.1 Monterey / arm64 | OK | OK | OK | OK | ||||||||||||||||
| Package 570/664 | Hostname | OS / Arch | INSTALL | BUILD | CHECK | BUILD BIN | ||||||||||||||||
| soGGi 1.32.0 (landing page) Tom Carroll
| kjohnson2 | macOS 12.6.1 Monterey / arm64 | OK | OK | OK | OK | ||||||||||||||||
| Package 571/664 | Hostname | OS / Arch | INSTALL | BUILD | CHECK | BUILD BIN | ||||||||||||||||
| SomaticSignatures 2.36.0 (landing page) Julian Gehring
| kjohnson2 | macOS 12.6.1 Monterey / arm64 | OK | OK | ERROR | OK | ||||||||||||||||
| Package 572/664 | Hostname | OS / Arch | INSTALL | BUILD | CHECK | BUILD BIN | ||||||||||||||||
| SOMNiBUS 1.8.0 (landing page) Audrey Lemaçon
| kjohnson2 | macOS 12.6.1 Monterey / arm64 | OK | OK | TIMEOUT | OK | ||||||||||||||||
| Package 573/664 | Hostname | OS / Arch | INSTALL | BUILD | CHECK | BUILD BIN | ||||||||||||||||
| Spaniel 1.14.0 (landing page) Rachel Queen
| kjohnson2 | macOS 12.6.1 Monterey / arm64 | OK | OK | OK | OK | ||||||||||||||||
| Package 574/664 | Hostname | OS / Arch | INSTALL | BUILD | CHECK | BUILD BIN | ||||||||||||||||
| SparseArray 1.0.12 (landing page) Hervé Pagès
| kjohnson2 | macOS 12.6.1 Monterey / arm64 | OK | OK | ERROR | OK | ||||||||||||||||
| Package 575/664 | Hostname | OS / Arch | INSTALL | BUILD | CHECK | BUILD BIN | ||||||||||||||||
| SpatialExperiment 1.10.0 (landing page) Dario Righelli
| kjohnson2 | macOS 12.6.1 Monterey / arm64 | OK | OK | OK | OK | ||||||||||||||||
| Package 576/664 | Hostname | OS / Arch | INSTALL | BUILD | CHECK | BUILD BIN | ||||||||||||||||
| SpatialFeatureExperiment 1.2.3 (landing page) Lambda Moses
| kjohnson2 | macOS 12.6.1 Monterey / arm64 | OK | OK | OK | OK | ||||||||||||||||
| Package 577/664 | Hostname | OS / Arch | INSTALL | BUILD | CHECK | BUILD BIN | ||||||||||||||||
| spatialHeatmap 2.6.2 (landing page) Jianhai Zhang
| kjohnson2 | macOS 12.6.1 Monterey / arm64 | ERROR | ERROR | skipped | skipped | ||||||||||||||||
| Package 578/664 | Hostname | OS / Arch | INSTALL | BUILD | CHECK | BUILD BIN | ||||||||||||||||
| SpatialOmicsOverlay 1.0.0 (landing page) Maddy Griswold
| kjohnson2 | macOS 12.6.1 Monterey / arm64 | OK | OK | OK | OK | ||||||||||||||||
| Package 579/664 | Hostname | OS / Arch | INSTALL | BUILD | CHECK | BUILD BIN | ||||||||||||||||
| spatzie 1.6.0 (landing page) Jennifer Hammelman
| kjohnson2 | macOS 12.6.1 Monterey / arm64 | OK | OK | OK | OK | ||||||||||||||||
| Package 580/664 | Hostname | OS / Arch | INSTALL | BUILD | CHECK | BUILD BIN | ||||||||||||||||
| Spectra 1.10.3 (landing page) RforMassSpectrometry Package Maintainer
| kjohnson2 | macOS 12.6.1 Monterey / arm64 | OK | OK | OK | OK | ||||||||||||||||
| Package 581/664 | Hostname | OS / Arch | INSTALL | BUILD | CHECK | BUILD BIN | ||||||||||||||||
| spicyR 1.12.2 (landing page) Ellis Patrick
| kjohnson2 | macOS 12.6.1 Monterey / arm64 | OK | OK | WARNINGS | OK | ||||||||||||||||
| Package 582/664 | Hostname | OS / Arch | INSTALL | BUILD | CHECK | BUILD BIN | ||||||||||||||||
| spiky 1.6.0 (landing page) Tim Triche
| kjohnson2 | macOS 12.6.1 Monterey / arm64 | OK | OK | OK | OK | ||||||||||||||||
| Package 583/664 | Hostname | OS / Arch | INSTALL | BUILD | CHECK | BUILD BIN | ||||||||||||||||
| splatter 1.24.0 (landing page) Luke Zappia
| kjohnson2 | macOS 12.6.1 Monterey / arm64 | OK | OK | OK | OK | ||||||||||||||||
| Package 584/664 | Hostname | OS / Arch | INSTALL | BUILD | CHECK | BUILD BIN | ||||||||||||||||
| SpliceWiz 1.2.3 (landing page) Alex Chit Hei Wong
| kjohnson2 | macOS 12.6.1 Monterey / arm64 | OK | OK | OK | OK | ||||||||||||||||
| Package 585/664 | Hostname | OS / Arch | INSTALL | BUILD | CHECK | BUILD BIN | ||||||||||||||||
| SplicingGraphs 1.40.0 (landing page) H. Pagès
| kjohnson2 | macOS 12.6.1 Monterey / arm64 | OK | OK | WARNINGS | OK | ||||||||||||||||
| Package 586/664 | Hostname | OS / Arch | INSTALL | BUILD | CHECK | BUILD BIN | ||||||||||||||||
| SPLINTER 1.26.0 (landing page) Diana Low
| kjohnson2 | macOS 12.6.1 Monterey / arm64 | OK | ERROR | skipped | skipped | ||||||||||||||||
| Package 587/664 | Hostname | OS / Arch | INSTALL | BUILD | CHECK | BUILD BIN | ||||||||||||||||
| SpotClean 1.2.0 (landing page) Zijian Ni
| kjohnson2 | macOS 12.6.1 Monterey / arm64 | OK | OK | OK | OK | ||||||||||||||||
| Package 588/664 | Hostname | OS / Arch | INSTALL | BUILD | CHECK | BUILD BIN | ||||||||||||||||
| SQLDataFrame 1.14.0 (landing page) Qian Liu
| kjohnson2 | macOS 12.6.1 Monterey / arm64 | OK | OK | WARNINGS | OK | ||||||||||||||||
| Package 589/664 | Hostname | OS / Arch | INSTALL | BUILD | CHECK | BUILD BIN | ||||||||||||||||
| sRACIPE 1.16.0 (landing page) Vivek Kohar
| kjohnson2 | macOS 12.6.1 Monterey / arm64 | OK | OK | OK | OK | ||||||||||||||||
| Package 590/664 | Hostname | OS / Arch | INSTALL | BUILD | CHECK | BUILD BIN | ||||||||||||||||
| srnadiff 1.20.0 (landing page) Zytnicki Matthias
| kjohnson2 | macOS 12.6.1 Monterey / arm64 | OK | OK | WARNINGS | OK | ||||||||||||||||
| Package 591/664 | Hostname | OS / Arch | INSTALL | BUILD | CHECK | BUILD BIN | ||||||||||||||||
Rafael Campos-Martin
| kjohnson2 | macOS 12.6.1 Monterey / arm64 | ERROR | ERROR | skipped | skipped | ||||||||||||||||
| Package 592/664 | Hostname | OS / Arch | INSTALL | BUILD | CHECK | BUILD BIN | ||||||||||||||||
| standR 1.4.2 (landing page) Ning Liu
| kjohnson2 | macOS 12.6.1 Monterey / arm64 | OK | OK | OK | OK | ||||||||||||||||
| Package 593/664 | Hostname | OS / Arch | INSTALL | BUILD | CHECK | BUILD BIN | ||||||||||||||||
| Statial 1.2.4 (landing page) Farhan Ameen
| kjohnson2 | macOS 12.6.1 Monterey / arm64 | OK | OK | OK | OK | ||||||||||||||||
| Package 594/664 | Hostname | OS / Arch | INSTALL | BUILD | CHECK | BUILD BIN | ||||||||||||||||
| strandCheckR 1.18.0 (landing page) Thu-Hien To
| kjohnson2 | macOS 12.6.1 Monterey / arm64 | OK | OK | OK | OK | ||||||||||||||||
| Package 595/664 | Hostname | OS / Arch | INSTALL | BUILD | CHECK | BUILD BIN | ||||||||||||||||
| struct 1.12.0 (landing page) Gavin Rhys Lloyd
| kjohnson2 | macOS 12.6.1 Monterey / arm64 | OK | OK | OK | OK | ||||||||||||||||
| Package 596/664 | Hostname | OS / Arch | INSTALL | BUILD | CHECK | BUILD BIN | ||||||||||||||||
| Structstrings 1.16.0 (landing page) Felix G.M. Ernst
| kjohnson2 | macOS 12.6.1 Monterey / arm64 | OK | OK | OK | OK | ||||||||||||||||
| Package 597/664 | Hostname | OS / Arch | INSTALL | BUILD | CHECK | BUILD BIN | ||||||||||||||||
| StructuralVariantAnnotation 1.16.0 (landing page) Daniel Cameron
| kjohnson2 | macOS 12.6.1 Monterey / arm64 | OK | OK | OK | OK | ||||||||||||||||
| Package 598/664 | Hostname | OS / Arch | INSTALL | BUILD | CHECK | BUILD BIN | ||||||||||||||||
| SummarizedBenchmark 2.18.0 (landing page) Patrick Kimes
| kjohnson2 | macOS 12.6.1 Monterey / arm64 | OK | OK | WARNINGS | OK | ||||||||||||||||
| Package 599/664 | Hostname | OS / Arch | INSTALL | BUILD | CHECK | BUILD BIN | ||||||||||||||||
| SummarizedExperiment 1.30.2 (landing page) Hervé Pagès
| kjohnson2 | macOS 12.6.1 Monterey / arm64 | OK | OK | OK | OK | ||||||||||||||||
| Package 600/664 | Hostname | OS / Arch | INSTALL | BUILD | CHECK | BUILD BIN | ||||||||||||||||
| svaNUMT 1.6.0 (landing page) Ruining Dong
| kjohnson2 | macOS 12.6.1 Monterey / arm64 | OK | OK | OK | OK | ||||||||||||||||
| Package 601/664 | Hostname | OS / Arch | INSTALL | BUILD | CHECK | BUILD BIN | ||||||||||||||||
| svaRetro 1.6.0 (landing page) Ruining Dong
| kjohnson2 | macOS 12.6.1 Monterey / arm64 | OK | OK | OK | OK | ||||||||||||||||
| Package 602/664 | Hostname | OS / Arch | INSTALL | BUILD | CHECK | BUILD BIN | ||||||||||||||||
| SynExtend 1.12.0 (landing page) Nicholas Cooley
| kjohnson2 | macOS 12.6.1 Monterey / arm64 | OK | OK | OK | OK | ||||||||||||||||
| Package 603/664 | Hostname | OS / Arch | INSTALL | BUILD | CHECK | BUILD BIN | ||||||||||||||||
| systemPipeR 2.6.3 (landing page) Thomas Girke
| kjohnson2 | macOS 12.6.1 Monterey / arm64 | OK | OK | OK | OK | ||||||||||||||||
| Package 604/664 | Hostname | OS / Arch | INSTALL | BUILD | CHECK | BUILD BIN | ||||||||||||||||
| TAPseq 1.12.0 (landing page) Andreas R. Gschwind
| kjohnson2 | macOS 12.6.1 Monterey / arm64 | OK | OK | WARNINGS | OK | ||||||||||||||||
| Package 605/664 | Hostname | OS / Arch | INSTALL | BUILD | CHECK | BUILD BIN | ||||||||||||||||
Gabriela Merino
| kjohnson2 | macOS 12.6.1 Monterey / arm64 | OK | OK | ERROR | OK | ||||||||||||||||
| Package 606/664 | Hostname | OS / Arch | INSTALL | BUILD | CHECK | BUILD BIN | ||||||||||||||||
| TBSignatureProfiler 1.12.0 (landing page) Aubrey R. Odom-Mabey
| kjohnson2 | macOS 12.6.1 Monterey / arm64 | OK | OK | OK | OK | ||||||||||||||||
| Package 607/664 | Hostname | OS / Arch | INSTALL | BUILD | CHECK | BUILD BIN | ||||||||||||||||
| TCGAbiolinks 2.28.4 (landing page) Tiago Chedraoui Silva
| kjohnson2 | macOS 12.6.1 Monterey / arm64 | OK | OK | ERROR | OK | ||||||||||||||||
| Package 608/664 | Hostname | OS / Arch | INSTALL | BUILD | CHECK | BUILD BIN | ||||||||||||||||
| TCGAutils 1.20.4 (landing page) Marcel Ramos
| kjohnson2 | macOS 12.6.1 Monterey / arm64 | OK | OK | OK | OK | ||||||||||||||||
| Package 609/664 | Hostname | OS / Arch | INSTALL | BUILD | CHECK | BUILD BIN | ||||||||||||||||
| TENxIO 1.2.0 (landing page) Marcel Ramos
| kjohnson2 | macOS 12.6.1 Monterey / arm64 | OK | OK | OK | OK | ||||||||||||||||
| Package 610/664 | Hostname | OS / Arch | INSTALL | BUILD | CHECK | BUILD BIN | ||||||||||||||||
| terraTCGAdata 1.4.0 (landing page) Marcel Ramos
| kjohnson2 | macOS 12.6.1 Monterey / arm64 | OK | OK | OK | OK | ||||||||||||||||
| Package 611/664 | Hostname | OS / Arch | INSTALL | BUILD | CHECK | BUILD BIN | ||||||||||||||||
| TFBSTools 1.38.0 (landing page) Ge Tan
| kjohnson2 | macOS 12.6.1 Monterey / arm64 | OK | OK | OK | OK | ||||||||||||||||
| Package 612/664 | Hostname | OS / Arch | INSTALL | BUILD | CHECK | BUILD BIN | ||||||||||||||||
| TFHAZ 1.22.0 (landing page) Gaia Ceddia
| kjohnson2 | macOS 12.6.1 Monterey / arm64 | OK | OK | OK | OK | ||||||||||||||||
| Package 613/664 | Hostname | OS / Arch | INSTALL | BUILD | CHECK | BUILD BIN | ||||||||||||||||
| tidybulk 1.12.0 (landing page) Stefano Mangiola
| kjohnson2 | macOS 12.6.1 Monterey / arm64 | OK | OK | WARNINGS | OK | ||||||||||||||||
| Package 614/664 | Hostname | OS / Arch | INSTALL | BUILD | CHECK | BUILD BIN | ||||||||||||||||
| tidySingleCellExperiment 1.10.0 (landing page) Stefano Mangiola
| kjohnson2 | macOS 12.6.1 Monterey / arm64 | OK | OK | WARNINGS | OK | ||||||||||||||||
| Package 615/664 | Hostname | OS / Arch | INSTALL | BUILD | CHECK | BUILD BIN | ||||||||||||||||
| tidySummarizedExperiment 1.10.0 (landing page) Stefano Mangiola
| kjohnson2 | macOS 12.6.1 Monterey / arm64 | OK | OK | WARNINGS | OK | ||||||||||||||||
| Package 616/664 | Hostname | OS / Arch | INSTALL | BUILD | CHECK | BUILD BIN | ||||||||||||||||
| TileDBArray 1.10.0 (landing page) Aaron Lun
| kjohnson2 | macOS 12.6.1 Monterey / arm64 | OK | OK | OK | OK | ||||||||||||||||
| Package 617/664 | Hostname | OS / Arch | INSTALL | BUILD | CHECK | BUILD BIN | ||||||||||||||||
| TnT 1.22.0 (landing page) Jialin Ma
| kjohnson2 | macOS 12.6.1 Monterey / arm64 | OK | OK | OK | OK | ||||||||||||||||
| Package 618/664 | Hostname | OS / Arch | INSTALL | BUILD | CHECK | BUILD BIN | ||||||||||||||||
| topdownr 1.22.0 (landing page) Sebastian Gibb
| kjohnson2 | macOS 12.6.1 Monterey / arm64 | OK | OK | OK | OK | ||||||||||||||||
| Package 619/664 | Hostname | OS / Arch | INSTALL | BUILD | CHECK | BUILD BIN | ||||||||||||||||
| ToxicoGx 2.4.0 (landing page) Benjamin Haibe-Kains
| kjohnson2 | macOS 12.6.1 Monterey / arm64 | OK | OK | OK | OK | ||||||||||||||||
| Package 620/664 | Hostname | OS / Arch | INSTALL | BUILD | CHECK | BUILD BIN | ||||||||||||||||
| trackViewer 1.36.2 (landing page) Jianhong Ou
| kjohnson2 | macOS 12.6.1 Monterey / arm64 | OK | OK | OK | OK | ||||||||||||||||
| Package 621/664 | Hostname | OS / Arch | INSTALL | BUILD | CHECK | BUILD BIN | ||||||||||||||||
| tradeSeq 1.14.0 (landing page) Hector Roux de Bezieux
| kjohnson2 | macOS 12.6.1 Monterey / arm64 | OK | OK | OK | OK | ||||||||||||||||
| Package 622/664 | Hostname | OS / Arch | INSTALL | BUILD | CHECK | BUILD BIN | ||||||||||||||||
| TrajectoryUtils 1.8.0 (landing page) Aaron Lun
| kjohnson2 | macOS 12.6.1 Monterey / arm64 | OK | OK | OK | OK | ||||||||||||||||
| Package 623/664 | Hostname | OS / Arch | INSTALL | BUILD | CHECK | BUILD BIN | ||||||||||||||||
| transcriptR 1.28.0 (landing page) Armen R. Karapetyan
| kjohnson2 | macOS 12.6.1 Monterey / arm64 | OK | OK | OK | OK | ||||||||||||||||
| Package 624/664 | Hostname | OS / Arch | INSTALL | BUILD | CHECK | BUILD BIN | ||||||||||||||||
| TransView 1.44.0 (landing page) Julius Muller
| kjohnson2 | macOS 12.6.1 Monterey / arm64 | OK | OK | WARNINGS | OK | ||||||||||||||||
| Package 625/664 | Hostname | OS / Arch | INSTALL | BUILD | CHECK | BUILD BIN | ||||||||||||||||
| TreeSummarizedExperiment 2.8.0 (landing page) Ruizhu Huang
| kjohnson2 | macOS 12.6.1 Monterey / arm64 | OK | OK | OK | OK | ||||||||||||||||
| Package 626/664 | Hostname | OS / Arch | INSTALL | BUILD | CHECK | BUILD BIN | ||||||||||||||||
| Trendy 1.22.0 (landing page) Rhonda Bacher
| kjohnson2 | macOS 12.6.1 Monterey / arm64 | OK | OK | OK | OK | ||||||||||||||||
| Package 627/664 | Hostname | OS / Arch | INSTALL | BUILD | CHECK | BUILD BIN | ||||||||||||||||
| TRESS 1.6.0 (landing page) Zhenxing Guo
| kjohnson2 | macOS 12.6.1 Monterey / arm64 | OK | OK | OK | OK | ||||||||||||||||
| Package 628/664 | Hostname | OS / Arch | INSTALL | BUILD | CHECK | BUILD BIN | ||||||||||||||||
| tricycle 1.8.0 (landing page) Shijie Zheng
| kjohnson2 | macOS 12.6.1 Monterey / arm64 | OK | OK | OK | OK | ||||||||||||||||
| Package 629/664 | Hostname | OS / Arch | INSTALL | BUILD | CHECK | BUILD BIN | ||||||||||||||||
| triplex 1.40.0 (landing page) Jiri Hon
| kjohnson2 | macOS 12.6.1 Monterey / arm64 | OK | OK | WARNINGS | OK | ||||||||||||||||
| Package 630/664 | Hostname | OS / Arch | INSTALL | BUILD | CHECK | BUILD BIN | ||||||||||||||||
| tRNA 1.18.0 (landing page) Felix GM Ernst
| kjohnson2 | macOS 12.6.1 Monterey / arm64 | OK | OK | OK | OK | ||||||||||||||||
| Package 631/664 | Hostname | OS / Arch | INSTALL | BUILD | CHECK | BUILD BIN | ||||||||||||||||
| tRNAdbImport 1.18.0 (landing page) Felix G.M. Ernst
| kjohnson2 | macOS 12.6.1 Monterey / arm64 | OK | OK | OK | OK | ||||||||||||||||
| Package 632/664 | Hostname | OS / Arch | INSTALL | BUILD | CHECK | BUILD BIN | ||||||||||||||||
| tRNAscanImport 1.20.0 (landing page) Felix G.M. Ernst
| kjohnson2 | macOS 12.6.1 Monterey / arm64 | OK | OK | OK | OK | ||||||||||||||||
| Package 633/664 | Hostname | OS / Arch | INSTALL | BUILD | CHECK | BUILD BIN | ||||||||||||||||
| TSCAN 1.38.0 (landing page) Zhicheng Ji
| kjohnson2 | macOS 12.6.1 Monterey / arm64 | OK | OK | WARNINGS | OK | ||||||||||||||||
| Package 634/664 | Hostname | OS / Arch | INSTALL | BUILD | CHECK | BUILD BIN | ||||||||||||||||
Fernando Pérez-Sanz
| kjohnson2 | macOS 12.6.1 Monterey / arm64 | ERROR | ERROR | skipped | skipped | ||||||||||||||||
| Package 635/664 | Hostname | OS / Arch | INSTALL | BUILD | CHECK | BUILD BIN | ||||||||||||||||
| TVTB 1.26.0 (landing page) Kevin Rue-Albrecht
| kjohnson2 | macOS 12.6.1 Monterey / arm64 | OK | OK | WARNINGS | OK | ||||||||||||||||
| Package 636/664 | Hostname | OS / Arch | INSTALL | BUILD | CHECK | BUILD BIN | ||||||||||||||||
| twoddpcr 1.24.0 (landing page) Anthony Chiu
| kjohnson2 | macOS 12.6.1 Monterey / arm64 | OK | OK | OK | OK | ||||||||||||||||
| Package 637/664 | Hostname | OS / Arch | INSTALL | BUILD | CHECK | BUILD BIN | ||||||||||||||||
| txcutr 1.6.0 (landing page) Mervin Fansler
| kjohnson2 | macOS 12.6.1 Monterey / arm64 | OK | OK | OK | OK | ||||||||||||||||
| Package 638/664 | Hostname | OS / Arch | INSTALL | BUILD | CHECK | BUILD BIN | ||||||||||||||||
| tximeta 1.18.3 (landing page) Michael Love
| kjohnson2 | macOS 12.6.1 Monterey / arm64 | OK | OK | OK | OK | ||||||||||||||||
| Package 639/664 | Hostname | OS / Arch | INSTALL | BUILD | CHECK | BUILD BIN | ||||||||||||||||
| Ularcirc 1.18.0 (landing page) David Humphreys
| kjohnson2 | macOS 12.6.1 Monterey / arm64 | OK | OK | WARNINGS | OK | ||||||||||||||||
| Package 640/664 | Hostname | OS / Arch | INSTALL | BUILD | CHECK | BUILD BIN | ||||||||||||||||
| UMI4Cats 1.10.0 (landing page) Mireia Ramos-Rodriguez
| kjohnson2 | macOS 12.6.1 Monterey / arm64 | OK | OK | OK | OK | ||||||||||||||||
| Package 641/664 | Hostname | OS / Arch | INSTALL | BUILD | CHECK | BUILD BIN | ||||||||||||||||
| uncoverappLib 1.10.0 (landing page) Emanuela Iovino
| kjohnson2 | macOS 12.6.1 Monterey / arm64 | OK | OK | OK | OK | ||||||||||||||||
| Package 642/664 | Hostname | OS / Arch | INSTALL | BUILD | CHECK | BUILD BIN | ||||||||||||||||
| universalmotif 1.18.1 (landing page) Benjamin Jean-Marie Tremblay
| kjohnson2 | macOS 12.6.1 Monterey / arm64 | OK | OK | OK | OK | ||||||||||||||||
| Package 643/664 | Hostname | OS / Arch | INSTALL | BUILD | CHECK | BUILD BIN | ||||||||||||||||
| updateObject 1.4.0 (landing page) Hervé Pagès
| kjohnson2 | macOS 12.6.1 Monterey / arm64 | OK | OK | OK | OK | ||||||||||||||||
| Package 644/664 | Hostname | OS / Arch | INSTALL | BUILD | CHECK | BUILD BIN | ||||||||||||||||
| VanillaICE 1.62.0 (landing page) Robert Scharpf
| kjohnson2 | macOS 12.6.1 Monterey / arm64 | OK | OK | WARNINGS | OK | ||||||||||||||||
| Package 645/664 | Hostname | OS / Arch | INSTALL | BUILD | CHECK | BUILD BIN | ||||||||||||||||
| VariantAnnotation 1.46.0 (landing page) Bioconductor Package Maintainer
| kjohnson2 | macOS 12.6.1 Monterey / arm64 | OK | OK | WARNINGS | OK | ||||||||||||||||
| Package 646/664 | Hostname | OS / Arch | INSTALL | BUILD | CHECK | BUILD BIN | ||||||||||||||||
| VariantExperiment 1.14.0 (landing page) Qian Liu
| kjohnson2 | macOS 12.6.1 Monterey / arm64 | OK | OK | WARNINGS | OK | ||||||||||||||||
| Package 647/664 | Hostname | OS / Arch | INSTALL | BUILD | CHECK | BUILD BIN | ||||||||||||||||
| VariantFiltering 1.36.1 (landing page) Robert Castelo
| kjohnson2 | macOS 12.6.1 Monterey / arm64 | OK | OK | OK | OK | ||||||||||||||||
| Package 648/664 | Hostname | OS / Arch | INSTALL | BUILD | CHECK | BUILD BIN | ||||||||||||||||
| VariantTools 1.42.0 (landing page) Michael Lawrence
| kjohnson2 | macOS 12.6.1 Monterey / arm64 | OK | OK | ERROR | OK | ||||||||||||||||
| Package 649/664 | Hostname | OS / Arch | INSTALL | BUILD | CHECK | BUILD BIN | ||||||||||||||||
| VaSP 1.12.0 (landing page) Huihui Yu
| kjohnson2 | macOS 12.6.1 Monterey / arm64 | OK | OK | OK | OK | ||||||||||||||||
| Package 650/664 | Hostname | OS / Arch | INSTALL | BUILD | CHECK | BUILD BIN | ||||||||||||||||
| VCFArray 1.16.0 (landing page) Qian Liu
| kjohnson2 | macOS 12.6.1 Monterey / arm64 | OK | OK | OK | OK | ||||||||||||||||
| Package 651/664 | Hostname | OS / Arch | INSTALL | BUILD | CHECK | BUILD BIN | ||||||||||||||||
| VDJdive 1.2.0 (landing page) Kelly Street
| kjohnson2 | macOS 12.6.1 Monterey / arm64 | OK | OK | OK | OK | ||||||||||||||||
| Package 652/664 | Hostname | OS / Arch | INSTALL | BUILD | CHECK | BUILD BIN | ||||||||||||||||
| velociraptor 1.10.0 (landing page) Kevin Rue-Albrecht
| kjohnson2 | macOS 12.6.1 Monterey / arm64 | OK | ERROR | skipped | skipped | ||||||||||||||||
| Package 653/664 | Hostname | OS / Arch | INSTALL | BUILD | CHECK | BUILD BIN | ||||||||||||||||
| Voyager 1.2.7 (landing page) Lambda Moses
| kjohnson2 | macOS 12.6.1 Monterey / arm64 | OK | OK | OK | OK | ||||||||||||||||
| Package 654/664 | Hostname | OS / Arch | INSTALL | BUILD | CHECK | BUILD BIN | ||||||||||||||||
| VplotR 1.10.0 (landing page) Jacques Serizay
| kjohnson2 | macOS 12.6.1 Monterey / arm64 | OK | OK | WARNINGS | OK | ||||||||||||||||
| Package 655/664 | Hostname | OS / Arch | INSTALL | BUILD | CHECK | BUILD BIN | ||||||||||||||||
| vulcan 1.22.0 (landing page) Federico M. Giorgi
| kjohnson2 | macOS 12.6.1 Monterey / arm64 | OK | OK | OK | OK | ||||||||||||||||
| Package 656/664 | Hostname | OS / Arch | INSTALL | BUILD | CHECK | BUILD BIN | ||||||||||||||||
| wavClusteR 2.34.0 (landing page) Federico Comoglio
| kjohnson2 | macOS 12.6.1 Monterey / arm64 | OK | OK | OK | OK | ||||||||||||||||
| Package 657/664 | Hostname | OS / Arch | INSTALL | BUILD | CHECK | BUILD BIN | ||||||||||||||||
| weitrix 1.12.0 (landing page) Paul Harrison
| kjohnson2 | macOS 12.6.1 Monterey / arm64 | OK | OK | OK | OK | ||||||||||||||||
| Package 658/664 | Hostname | OS / Arch | INSTALL | BUILD | CHECK | BUILD BIN | ||||||||||||||||
| wiggleplotr 1.24.0 (landing page) Kaur Alasoo
| kjohnson2 | macOS 12.6.1 Monterey / arm64 | OK | OK | OK | OK | ||||||||||||||||
| Package 659/664 | Hostname | OS / Arch | INSTALL | BUILD | CHECK | BUILD BIN | ||||||||||||||||
| xcms 3.22.0 (landing page) Steffen Neumann
| kjohnson2 | macOS 12.6.1 Monterey / arm64 | OK | OK | OK | OK | ||||||||||||||||
| Package 660/664 | Hostname | OS / Arch | INSTALL | BUILD | CHECK | BUILD BIN | ||||||||||||||||
| xcore 1.4.0 (landing page) Maciej Migdał
| kjohnson2 | macOS 12.6.1 Monterey / arm64 | OK | OK | OK | OK | ||||||||||||||||
| Package 661/664 | Hostname | OS / Arch | INSTALL | BUILD | CHECK | BUILD BIN | ||||||||||||||||
| XNAString 1.8.0 (landing page) Marianna Plucinska
| kjohnson2 | macOS 12.6.1 Monterey / arm64 | OK | OK | WARNINGS | OK | ||||||||||||||||
| Package 662/664 | Hostname | OS / Arch | INSTALL | BUILD | CHECK | BUILD BIN | ||||||||||||||||
| XVector 0.40.0 (landing page) Hervé Pagès
| kjohnson2 | macOS 12.6.1 Monterey / arm64 | OK | OK | WARNINGS | OK | ||||||||||||||||
| Package 663/664 | Hostname | OS / Arch | INSTALL | BUILD | CHECK | BUILD BIN | ||||||||||||||||
| yamss 1.26.0 (landing page) Leslie Myint
| kjohnson2 | macOS 12.6.1 Monterey / arm64 | OK | OK | OK | OK | ||||||||||||||||
| Package 664/664 | Hostname | OS / Arch | INSTALL | BUILD | CHECK | BUILD BIN | ||||||||||||||||
| zellkonverter 1.10.1 (landing page) Luke Zappia
| kjohnson2 | macOS 12.6.1 Monterey / arm64 | OK | OK | ERROR | OK | ||||||||||||||||