| Back to Mac ARM64 build report for BioC 3.17 |
|
This page was generated on 2023-10-20 09:38:10 -0400 (Fri, 20 Oct 2023).
| Hostname | OS | Arch (*) | R version | Installed pkgs |
|---|---|---|---|---|
| kjohnson2 | macOS 12.6.1 Monterey | arm64 | 4.3.1 (2023-06-16) -- "Beagle Scouts" | 4347 |
| Click on any hostname to see more info about the system (e.g. compilers) (*) as reported by 'uname -p', except on Windows and Mac OS X | ||||
| Package 1741/2230 | Hostname | OS / Arch | INSTALL | BUILD | CHECK | BUILD BIN | ||||||||
| RNAmodR 1.14.0 (landing page) Felix G.M. Ernst
| kjohnson2 | macOS 12.6.1 Monterey / arm64 | OK | OK | OK | OK | ||||||||
|
To the developers/maintainers of the RNAmodR package: - Use the following Renviron settings to reproduce errors and warnings. - If 'R CMD check' started to fail recently on the Linux builder(s) over a missing dependency, add the missing dependency to 'Suggests:' in your DESCRIPTION file. See Renviron.bioc for more information. |
| Package: RNAmodR |
| Version: 1.14.0 |
| Command: /Library/Frameworks/R.framework/Resources/bin/R CMD check --install=check:RNAmodR.install-out.txt --library=/Library/Frameworks/R.framework/Resources/library --no-vignettes --timings RNAmodR_1.14.0.tar.gz |
| StartedAt: 2023-10-18 19:46:51 -0400 (Wed, 18 Oct 2023) |
| EndedAt: 2023-10-18 20:03:50 -0400 (Wed, 18 Oct 2023) |
| EllapsedTime: 1018.2 seconds |
| RetCode: 0 |
| Status: OK |
| CheckDir: RNAmodR.Rcheck |
| Warnings: 0 |
##############################################################################
##############################################################################
###
### Running command:
###
### /Library/Frameworks/R.framework/Resources/bin/R CMD check --install=check:RNAmodR.install-out.txt --library=/Library/Frameworks/R.framework/Resources/library --no-vignettes --timings RNAmodR_1.14.0.tar.gz
###
##############################################################################
##############################################################################
* using log directory ‘/Users/biocbuild/bbs-3.17-bioc-mac-arm64/meat/RNAmodR.Rcheck’
* using R version 4.3.1 (2023-06-16)
* using platform: aarch64-apple-darwin20 (64-bit)
* R was compiled by
Apple clang version 14.0.0 (clang-1400.0.29.202)
GNU Fortran (GCC) 12.2.0
* running under: macOS Monterey 12.6.7
* using session charset: UTF-8
* using option ‘--no-vignettes’
* checking for file ‘RNAmodR/DESCRIPTION’ ... OK
* checking extension type ... Package
* this is package ‘RNAmodR’ version ‘1.14.0’
* package encoding: UTF-8
* checking package namespace information ... OK
* checking package dependencies ... OK
* checking if this is a source package ... OK
* checking if there is a namespace ... OK
* checking for hidden files and directories ... OK
* checking for portable file names ... OK
* checking for sufficient/correct file permissions ... OK
* checking whether package ‘RNAmodR’ can be installed ... OK
* checking installed package size ... OK
* checking package directory ... OK
* checking ‘build’ directory ... OK
* checking DESCRIPTION meta-information ... OK
* checking top-level files ... OK
* checking for left-over files ... OK
* checking index information ... OK
* checking package subdirectories ... OK
* checking R files for non-ASCII characters ... OK
* checking R files for syntax errors ... OK
* checking whether the package can be loaded ... OK
* checking whether the package can be loaded with stated dependencies ... OK
* checking whether the package can be unloaded cleanly ... OK
* checking whether the namespace can be loaded with stated dependencies ... OK
* checking whether the namespace can be unloaded cleanly ... OK
* checking dependencies in R code ... NOTE
Unexported objects imported by ':::' calls:
'BiocGenerics:::replaceSlots' 'Biostrings:::XString'
'IRanges:::.valid.CompressedList' 'IRanges:::coerceToCompressedList'
'S4Vectors:::.valid.DataFrame' 'S4Vectors:::labeledLine'
'S4Vectors:::make_zero_col_DataFrame'
'S4Vectors:::prepare_objects_to_bind'
See the note in ?`:::` about the use of this operator.
There are ::: calls to the package's namespace in its code. A package
almost never needs to use ::: for its own objects:
'.get_inosine_score'
* checking S3 generic/method consistency ... OK
* checking replacement functions ... OK
* checking foreign function calls ... OK
* checking R code for possible problems ... OK
* checking Rd files ... OK
* checking Rd metadata ... OK
* checking Rd cross-references ... OK
* checking for missing documentation entries ... OK
* checking for code/documentation mismatches ... OK
* checking Rd \usage sections ... OK
* checking Rd contents ... OK
* checking for unstated dependencies in examples ... OK
* checking contents of ‘data’ directory ... OK
* checking data for non-ASCII characters ... OK
* checking data for ASCII and uncompressed saves ... OK
* checking files in ‘vignettes’ ... OK
* checking examples ... OK
Examples with CPU (user + system) or elapsed time > 5s
user system elapsed
stats 67.695 4.177 90.999
CoverageSequenceData-class 18.939 2.470 40.257
ModInosine 12.260 0.473 19.998
PileupSequenceData-class 9.937 0.657 20.812
EndSequenceData-class 9.096 0.433 14.947
ProtectedEndSequenceData-class 9.027 0.468 16.834
* checking for unstated dependencies in ‘tests’ ... OK
* checking tests ...
Running ‘testthat.R’
OK
* checking for unstated dependencies in vignettes ... OK
* checking package vignettes in ‘inst/doc’ ... OK
* checking running R code from vignettes ... SKIPPED
* checking re-building of vignette outputs ... SKIPPED
* checking PDF version of manual ... OK
* DONE
Status: 1 NOTE
See
‘/Users/biocbuild/bbs-3.17-bioc-mac-arm64/meat/RNAmodR.Rcheck/00check.log’
for details.
RNAmodR.Rcheck/00install.out
############################################################################## ############################################################################## ### ### Running command: ### ### /Library/Frameworks/R.framework/Resources/bin/R CMD INSTALL RNAmodR ### ############################################################################## ############################################################################## * installing to library ‘/Library/Frameworks/R.framework/Versions/4.3-arm64/Resources/library’ * installing *source* package ‘RNAmodR’ ... ** using staged installation ** R ** data ** inst ** byte-compile and prepare package for lazy loading ** help *** installing help indices ** building package indices ** installing vignettes ** testing if installed package can be loaded from temporary location ** testing if installed package can be loaded from final location ** testing if installed package keeps a record of temporary installation path * DONE (RNAmodR)
RNAmodR.Rcheck/tests/testthat.Rout
R version 4.3.1 (2023-06-16) -- "Beagle Scouts"
Copyright (C) 2023 The R Foundation for Statistical Computing
Platform: aarch64-apple-darwin20 (64-bit)
R is free software and comes with ABSOLUTELY NO WARRANTY.
You are welcome to redistribute it under certain conditions.
Type 'license()' or 'licence()' for distribution details.
R is a collaborative project with many contributors.
Type 'contributors()' for more information and
'citation()' on how to cite R or R packages in publications.
Type 'demo()' for some demos, 'help()' for on-line help, or
'help.start()' for an HTML browser interface to help.
Type 'q()' to quit R.
> library(testthat)
> library(RNAmodR)
Loading required package: S4Vectors
Loading required package: stats4
Loading required package: BiocGenerics
Attaching package: 'BiocGenerics'
The following objects are masked from 'package:stats':
IQR, mad, sd, var, xtabs
The following objects are masked from 'package:base':
Filter, Find, Map, Position, Reduce, anyDuplicated, aperm, append,
as.data.frame, basename, cbind, colnames, dirname, do.call,
duplicated, eval, evalq, get, grep, grepl, intersect, is.unsorted,
lapply, mapply, match, mget, order, paste, pmax, pmax.int, pmin,
pmin.int, rank, rbind, rownames, sapply, setdiff, sort, table,
tapply, union, unique, unsplit, which.max, which.min
Attaching package: 'S4Vectors'
The following object is masked from 'package:utils':
findMatches
The following objects are masked from 'package:base':
I, expand.grid, unname
Loading required package: IRanges
Loading required package: GenomicRanges
Loading required package: GenomeInfoDb
Loading required package: Modstrings
Loading required package: Biostrings
Loading required package: XVector
Attaching package: 'Biostrings'
The following object is masked from 'package:base':
strsplit
Attaching package: 'RNAmodR'
The following object is masked from 'package:testthat':
compare
>
> test_check("RNAmodR")
[E::idx_find_and_load] Could not retrieve index file for '/Users/biocbuild/Library/Caches/org.R-project.R/R/ExperimentHub/8bd3314f534_2547'
[E::idx_find_and_load] Could not retrieve index file for '/Users/biocbuild/Library/Caches/org.R-project.R/R/ExperimentHub/8bd3314f534_2547'
[E::idx_find_and_load] Could not retrieve index file for '/Users/biocbuild/Library/Caches/org.R-project.R/R/ExperimentHub/8bd3314f534_2547'
[E::idx_find_and_load] Could not retrieve index file for '/Users/biocbuild/Library/Caches/org.R-project.R/R/ExperimentHub/8bd3314f534_2547'
[E::idx_find_and_load] Could not retrieve index file for '/Users/biocbuild/Library/Caches/org.R-project.R/R/ExperimentHub/8bd3314f534_2547'
[E::idx_find_and_load] Could not retrieve index file for '/Users/biocbuild/Library/Caches/org.R-project.R/R/ExperimentHub/8bd3314f534_2547'
[ FAIL 0 | WARN 2 | SKIP 9 | PASS 192 ]
══ Skipped tests (9) ═══════════════════════════════════════════════════════════
• On Bioconductor (9): 'test-0SequenceData.R:53:3',
'test-0SequenceDataFrame.R:23:3', 'test-1SequenceDataSet.R:57:3',
'test-2Modifier.R:85:3', 'test-3normalization.R:3:3', 'test-3subset.R:4:3',
'test-3zcomparison.R:4:3', 'test-4roc.R:3:3', 'test-8visualization.R:158:3'
[ FAIL 0 | WARN 2 | SKIP 9 | PASS 192 ]
>
> proc.time()
user system elapsed
65.156 3.237 111.479
RNAmodR.Rcheck/RNAmodR-Ex.timings
| name | user | system | elapsed | |
| CoverageSequenceData-class | 18.939 | 2.470 | 40.257 | |
| EndSequenceData-class | 9.096 | 0.433 | 14.947 | |
| ModInosine-functions | 2.059 | 0.027 | 3.173 | |
| ModInosine | 12.260 | 0.473 | 19.998 | |
| Modifier-functions | 0.380 | 0.012 | 0.610 | |
| NormEndSequenceData-class | 0.000 | 0.000 | 0.001 | |
| PileupSequenceData-class | 9.937 | 0.657 | 20.812 | |
| ProtectedEndSequenceData-class | 9.027 | 0.468 | 16.834 | |
| RNAmodR-development | 0.079 | 0.009 | 0.135 | |
| SequenceData-functions | 0.081 | 0.008 | 0.139 | |
| SequenceDataFrame-class | 0.076 | 0.005 | 0.125 | |
| SequenceDataList-class | 0.150 | 0.008 | 0.234 | |
| SequenceDataSet-class | 0.115 | 0.005 | 0.180 | |
| SequenceModDNAStringSetTrack-class | 1.401 | 0.222 | 2.462 | |
| SequenceModRNAStringSetTrack-class | 0.159 | 0.003 | 0.259 | |
| aggregate | 0.655 | 0.012 | 1.016 | |
| compareByCoord | 2.585 | 0.051 | 4.018 | |
| modify | 0.710 | 0.009 | 1.098 | |
| plotData | 2.095 | 0.024 | 3.201 | |
| plotROC | 1.695 | 0.028 | 2.627 | |
| settings | 0.158 | 0.005 | 0.247 | |
| stats | 67.695 | 4.177 | 90.999 | |
| subsetByCoord | 0.786 | 0.013 | 1.243 | |