| Back to Mac ARM64 build report for BioC 3.17 |
|
This page was generated on 2023-10-20 09:38:02 -0400 (Fri, 20 Oct 2023).
| Hostname | OS | Arch (*) | R version | Installed pkgs |
|---|---|---|---|---|
| kjohnson2 | macOS 12.6.1 Monterey | arm64 | 4.3.1 (2023-06-16) -- "Beagle Scouts" | 4347 |
| Click on any hostname to see more info about the system (e.g. compilers) (*) as reported by 'uname -p', except on Windows and Mac OS X | ||||
| Package 671/2230 | Hostname | OS / Arch | INSTALL | BUILD | CHECK | BUILD BIN | ||||||||
| ExperimentSubset 1.10.0 (landing page) Irzam Sarfraz
| kjohnson2 | macOS 12.6.1 Monterey / arm64 | OK | OK | OK | OK | ||||||||
|
To the developers/maintainers of the ExperimentSubset package: - Use the following Renviron settings to reproduce errors and warnings. - If 'R CMD check' started to fail recently on the Linux builder(s) over a missing dependency, add the missing dependency to 'Suggests:' in your DESCRIPTION file. See Renviron.bioc for more information. |
| Package: ExperimentSubset |
| Version: 1.10.0 |
| Command: /Library/Frameworks/R.framework/Resources/bin/R CMD check --install=check:ExperimentSubset.install-out.txt --library=/Library/Frameworks/R.framework/Resources/library --no-vignettes --timings ExperimentSubset_1.10.0.tar.gz |
| StartedAt: 2023-10-17 18:55:56 -0400 (Tue, 17 Oct 2023) |
| EndedAt: 2023-10-17 19:04:25 -0400 (Tue, 17 Oct 2023) |
| EllapsedTime: 509.6 seconds |
| RetCode: 0 |
| Status: OK |
| CheckDir: ExperimentSubset.Rcheck |
| Warnings: 0 |
##############################################################################
##############################################################################
###
### Running command:
###
### /Library/Frameworks/R.framework/Resources/bin/R CMD check --install=check:ExperimentSubset.install-out.txt --library=/Library/Frameworks/R.framework/Resources/library --no-vignettes --timings ExperimentSubset_1.10.0.tar.gz
###
##############################################################################
##############################################################################
* using log directory ‘/Users/biocbuild/bbs-3.17-bioc-mac-arm64/meat/ExperimentSubset.Rcheck’
* using R version 4.3.1 (2023-06-16)
* using platform: aarch64-apple-darwin20 (64-bit)
* R was compiled by
Apple clang version 14.0.0 (clang-1400.0.29.202)
GNU Fortran (GCC) 12.2.0
* running under: macOS Monterey 12.6.7
* using session charset: UTF-8
* using option ‘--no-vignettes’
* checking for file ‘ExperimentSubset/DESCRIPTION’ ... OK
* checking extension type ... Package
* this is package ‘ExperimentSubset’ version ‘1.10.0’
* package encoding: UTF-8
* checking package namespace information ... OK
* checking package dependencies ... OK
* checking if this is a source package ... OK
* checking if there is a namespace ... OK
* checking for hidden files and directories ... OK
* checking for portable file names ... OK
* checking for sufficient/correct file permissions ... OK
* checking whether package ‘ExperimentSubset’ can be installed ... OK
* checking installed package size ... OK
* checking package directory ... OK
* checking ‘build’ directory ... OK
* checking DESCRIPTION meta-information ... OK
* checking top-level files ... OK
* checking for left-over files ... OK
* checking index information ... OK
* checking package subdirectories ... OK
* checking R files for non-ASCII characters ... OK
* checking R files for syntax errors ... OK
* checking whether the package can be loaded ... OK
* checking whether the package can be loaded with stated dependencies ... OK
* checking whether the package can be unloaded cleanly ... OK
* checking whether the namespace can be loaded with stated dependencies ... OK
* checking whether the namespace can be unloaded cleanly ... OK
* checking dependencies in R code ... OK
* checking S3 generic/method consistency ... OK
* checking replacement functions ... OK
* checking foreign function calls ... OK
* checking R code for possible problems ... OK
* checking Rd files ... OK
* checking Rd metadata ... OK
* checking Rd cross-references ... OK
* checking for missing documentation entries ... OK
* checking for code/documentation mismatches ... OK
* checking Rd \usage sections ... OK
* checking Rd contents ... OK
* checking for unstated dependencies in examples ... OK
* checking files in ‘vignettes’ ... OK
* checking examples ... OK
* checking for unstated dependencies in ‘tests’ ... OK
* checking tests ...
Running ‘testthat.R’
OK
* checking for unstated dependencies in vignettes ... OK
* checking package vignettes in ‘inst/doc’ ... OK
* checking running R code from vignettes ... SKIPPED
* checking re-building of vignette outputs ... SKIPPED
* checking PDF version of manual ... OK
* DONE
Status: OK
ExperimentSubset.Rcheck/00install.out
############################################################################## ############################################################################## ### ### Running command: ### ### /Library/Frameworks/R.framework/Resources/bin/R CMD INSTALL ExperimentSubset ### ############################################################################## ############################################################################## * installing to library ‘/Library/Frameworks/R.framework/Versions/4.3-arm64/Resources/library’ * installing *source* package ‘ExperimentSubset’ ... ** using staged installation ** R ** inst ** byte-compile and prepare package for lazy loading Warning in makePrototypeFromClassDef(properties, ClassDef, immediate, where) : in constructing the prototype for class “SubsetSummarizedExperiment”, slots in prototype and not in class: listData, elementType Warning in makePrototypeFromClassDef(properties, ClassDef, immediate, where) : in constructing the prototype for class “SubsetRangedSummarizedExperiment”, slots in prototype and not in class: listData, elementType Warning in makePrototypeFromClassDef(properties, ClassDef, immediate, where) : in constructing the prototype for class “SubsetSingleCellExperiment”, slots in prototype and not in class: listData, elementType Warning in makePrototypeFromClassDef(properties, ClassDef, immediate, where) : in constructing the prototype for class “SubsetTreeSummarizedExperiment”, slots in prototype and not in class: listData, elementType Warning in makePrototypeFromClassDef(properties, ClassDef, immediate, where) : in constructing the prototype for class “SubsetSpatialExperiment”, slots in prototype and not in class: listData, elementType ** help *** installing help indices ** building package indices ** installing vignettes ** testing if installed package can be loaded from temporary location ** testing if installed package can be loaded from final location ** testing if installed package keeps a record of temporary installation path * DONE (ExperimentSubset)
ExperimentSubset.Rcheck/tests/testthat.Rout
R version 4.3.1 (2023-06-16) -- "Beagle Scouts"
Copyright (C) 2023 The R Foundation for Statistical Computing
Platform: aarch64-apple-darwin20 (64-bit)
R is free software and comes with ABSOLUTELY NO WARRANTY.
You are welcome to redistribute it under certain conditions.
Type 'license()' or 'licence()' for distribution details.
R is a collaborative project with many contributors.
Type 'contributors()' for more information and
'citation()' on how to cite R or R packages in publications.
Type 'demo()' for some demos, 'help()' for on-line help, or
'help.start()' for an HTML browser interface to help.
Type 'q()' to quit R.
> library(testthat)
> library(ExperimentSubset)
Loading required package: SummarizedExperiment
Loading required package: MatrixGenerics
Loading required package: matrixStats
Attaching package: 'MatrixGenerics'
The following objects are masked from 'package:matrixStats':
colAlls, colAnyNAs, colAnys, colAvgsPerRowSet, colCollapse,
colCounts, colCummaxs, colCummins, colCumprods, colCumsums,
colDiffs, colIQRDiffs, colIQRs, colLogSumExps, colMadDiffs,
colMads, colMaxs, colMeans2, colMedians, colMins, colOrderStats,
colProds, colQuantiles, colRanges, colRanks, colSdDiffs, colSds,
colSums2, colTabulates, colVarDiffs, colVars, colWeightedMads,
colWeightedMeans, colWeightedMedians, colWeightedSds,
colWeightedVars, rowAlls, rowAnyNAs, rowAnys, rowAvgsPerColSet,
rowCollapse, rowCounts, rowCummaxs, rowCummins, rowCumprods,
rowCumsums, rowDiffs, rowIQRDiffs, rowIQRs, rowLogSumExps,
rowMadDiffs, rowMads, rowMaxs, rowMeans2, rowMedians, rowMins,
rowOrderStats, rowProds, rowQuantiles, rowRanges, rowRanks,
rowSdDiffs, rowSds, rowSums2, rowTabulates, rowVarDiffs, rowVars,
rowWeightedMads, rowWeightedMeans, rowWeightedMedians,
rowWeightedSds, rowWeightedVars
Loading required package: GenomicRanges
Loading required package: stats4
Loading required package: BiocGenerics
Attaching package: 'BiocGenerics'
The following objects are masked from 'package:stats':
IQR, mad, sd, var, xtabs
The following objects are masked from 'package:base':
Filter, Find, Map, Position, Reduce, anyDuplicated, aperm, append,
as.data.frame, basename, cbind, colnames, dirname, do.call,
duplicated, eval, evalq, get, grep, grepl, intersect, is.unsorted,
lapply, mapply, match, mget, order, paste, pmax, pmax.int, pmin,
pmin.int, rank, rbind, rownames, sapply, setdiff, sort, table,
tapply, union, unique, unsplit, which.max, which.min
Loading required package: S4Vectors
Attaching package: 'S4Vectors'
The following object is masked from 'package:utils':
findMatches
The following objects are masked from 'package:base':
I, expand.grid, unname
Loading required package: IRanges
Loading required package: GenomeInfoDb
Loading required package: Biobase
Welcome to Bioconductor
Vignettes contain introductory material; view with
'browseVignettes()'. To cite Bioconductor, see
'citation("Biobase")', and for packages 'citation("pkgname")'.
Attaching package: 'Biobase'
The following object is masked from 'package:MatrixGenerics':
rowMedians
The following objects are masked from 'package:matrixStats':
anyMissing, rowMedians
Loading required package: SingleCellExperiment
Loading required package: SpatialExperiment
Loading required package: TreeSummarizedExperiment
Loading required package: Biostrings
Loading required package: XVector
Attaching package: 'Biostrings'
The following object is masked from 'package:base':
strsplit
Attaching package: 'ExperimentSubset'
The following objects are masked from 'package:SingleCellExperiment':
reducedDimNames, reducedDimNames<-, reducedDims<-
>
> test_check("ExperimentSubset")
class: SubsetSummarizedExperiment
dim: 2000 2000
metadata(0):
assays(2): counts logcounts
rownames(2000): C12orf73 RNU6-1256P ... FOXF1 PRR3
rowData names(0):
colnames(2000): CTGCTGTCAGGGTATG CAGTCCTTCGGTTAAC ... GATGCTATCAGCAACT
ATTTCTGGTGATGATA
colData names(0):
subsets(1): s1
subsetAssays(1): s1Main assay(s):
counts logcounts assay2
Subset(s):
Name Dim Parent Assays
1 s1 10, 2000 counts newS1
Main assay(s):
counts
Subset(s):
NULL
class: SubsetRangedSummarizedExperiment
dim: 63677 8
metadata(1): ''
assays(1): counts
rownames(63677): ENSG00000000003 ENSG00000000005 ... ENSG00000273492
ENSG00000273493
rowData names(10): gene_id gene_name ... seq_coord_system symbol
colnames(8): SRR1039508 SRR1039509 ... SRR1039520 SRR1039521
colData names(9): SampleName cell ... Sample BioSample
subsets(1): s2
subsetAssays(1): s2Main assay(s):
counts assay2
Subset(s):
Name Dim Parent Assays
1 s2 15, 8 counts newS2
Main assay(s):
counts logcounts
Subset(s):
Name Dim Parent Assays
1 subset1 10, 10 counts scaledSubset1
class: SubsetSingleCellExperiment
dim: 2000 2000
metadata(0):
assays(2): counts logcounts
rownames(2000): C12orf73 RNU6-1256P ... FOXF1 PRR3
rowData names(1): gene
colnames(2000): CTGCTGTCAGGGTATG CAGTCCTTCGGTTAAC ... GATGCTATCAGCAACT
ATTTCTGGTGATGATA
colData names(11): nGene nUMI ... ident doublet_true_labels
reducedDimNames(0):
mainExpName: NULL
altExpNames(0):
subsets(1): subset1
subsetAssays(2): subset1 scaledSubset1[ FAIL 0 | WARN 0 | SKIP 0 | PASS 127 ]
>
> proc.time()
user system elapsed
74.755 4.555 126.102
ExperimentSubset.Rcheck/ExperimentSubset-Ex.timings
| name | user | system | elapsed | |
| ExperimentSubset | 0.364 | 0.015 | 0.579 | |
| createSubset | 0.633 | 0.037 | 1.042 | |
| getSubsetAssay | 0.428 | 0.012 | 0.673 | |
| reducedDimNames-set | 2.495 | 0.069 | 3.934 | |
| reducedDimNames | 0.916 | 0.018 | 1.451 | |
| reducedDims-set | 0.959 | 0.019 | 1.483 | |
| setSubsetAssay | 0.716 | 0.017 | 1.119 | |
| subsetAssayCount | 0.520 | 0.013 | 0.829 | |
| subsetAssayNames | 0.440 | 0.017 | 0.703 | |
| subsetColData | 0.364 | 0.030 | 0.611 | |
| subsetColnames | 1.069 | 0.018 | 1.668 | |
| subsetCount | 0.354 | 0.009 | 0.545 | |
| subsetDim | 0.347 | 0.009 | 0.544 | |
| subsetNames | 0.358 | 0.014 | 0.581 | |
| subsetParent | 0.467 | 0.039 | 0.788 | |
| subsetRowData | 0.396 | 0.032 | 0.655 | |
| subsetRownames | 0.369 | 0.010 | 0.578 | |
| subsetSummary | 0.541 | 0.013 | 0.856 | |