| Back to Mac ARM64 build report for BioC 3.17 |
|
This page was generated on 2023-10-20 09:38:13 -0400 (Fri, 20 Oct 2023).
| Hostname | OS | Arch (*) | R version | Installed pkgs |
|---|---|---|---|---|
| kjohnson2 | macOS 12.6.1 Monterey | arm64 | 4.3.1 (2023-06-16) -- "Beagle Scouts" | 4347 |
| Click on any hostname to see more info about the system (e.g. compilers) (*) as reported by 'uname -p', except on Windows and Mac OS X | ||||
| Package 2088/2230 | Hostname | OS / Arch | INSTALL | BUILD | CHECK | BUILD BIN | ||||||||
| TFBSTools 1.38.0 (landing page) Ge Tan
| kjohnson2 | macOS 12.6.1 Monterey / arm64 | OK | OK | OK | OK | ||||||||
|
To the developers/maintainers of the TFBSTools package: - Use the following Renviron settings to reproduce errors and warnings. - If 'R CMD check' started to fail recently on the Linux builder(s) over a missing dependency, add the missing dependency to 'Suggests:' in your DESCRIPTION file. See Renviron.bioc for more information. |
| Package: TFBSTools |
| Version: 1.38.0 |
| Command: /Library/Frameworks/R.framework/Resources/bin/R CMD check --install=check:TFBSTools.install-out.txt --library=/Library/Frameworks/R.framework/Resources/library --no-vignettes --timings TFBSTools_1.38.0.tar.gz |
| StartedAt: 2023-10-19 06:39:10 -0400 (Thu, 19 Oct 2023) |
| EndedAt: 2023-10-19 06:50:40 -0400 (Thu, 19 Oct 2023) |
| EllapsedTime: 689.8 seconds |
| RetCode: 0 |
| Status: OK |
| CheckDir: TFBSTools.Rcheck |
| Warnings: 0 |
##############################################################################
##############################################################################
###
### Running command:
###
### /Library/Frameworks/R.framework/Resources/bin/R CMD check --install=check:TFBSTools.install-out.txt --library=/Library/Frameworks/R.framework/Resources/library --no-vignettes --timings TFBSTools_1.38.0.tar.gz
###
##############################################################################
##############################################################################
* using log directory ‘/Users/biocbuild/bbs-3.17-bioc-mac-arm64/meat/TFBSTools.Rcheck’
* using R version 4.3.1 (2023-06-16)
* using platform: aarch64-apple-darwin20 (64-bit)
* R was compiled by
Apple clang version 14.0.0 (clang-1400.0.29.202)
GNU Fortran (GCC) 12.2.0
* running under: macOS Monterey 12.6.7
* using session charset: UTF-8
* using option ‘--no-vignettes’
* checking for file ‘TFBSTools/DESCRIPTION’ ... OK
* checking extension type ... Package
* this is package ‘TFBSTools’ version ‘1.38.0’
* checking package namespace information ... OK
* checking package dependencies ... OK
* checking if this is a source package ... OK
* checking if there is a namespace ... OK
* checking for hidden files and directories ... OK
* checking for portable file names ... OK
* checking for sufficient/correct file permissions ... OK
* checking whether package ‘TFBSTools’ can be installed ... OK
* used C compiler: ‘Apple clang version 14.0.0 (clang-1400.0.29.202)’
* used SDK: ‘MacOSX11.3.sdk’
* checking installed package size ... OK
* checking package directory ... OK
* checking ‘build’ directory ... OK
* checking DESCRIPTION meta-information ... OK
* checking top-level files ... OK
* checking for left-over files ... OK
* checking index information ... OK
* checking package subdirectories ... OK
* checking R files for non-ASCII characters ... OK
* checking R files for syntax errors ... OK
* checking whether the package can be loaded ... OK
* checking whether the package can be loaded with stated dependencies ... OK
* checking whether the package can be unloaded cleanly ... OK
* checking whether the namespace can be loaded with stated dependencies ... OK
* checking whether the namespace can be unloaded cleanly ... OK
* checking dependencies in R code ... NOTE
Unexported objects imported by ':::' calls:
‘S4Vectors:::new_SimpleList_from_list’ ‘seqLogo:::pwm2ic’
See the note in ?`:::` about the use of this operator.
* checking S3 generic/method consistency ... OK
* checking replacement functions ... OK
* checking foreign function calls ... OK
* checking R code for possible problems ... OK
* checking Rd files ... OK
* checking Rd metadata ... OK
* checking Rd cross-references ... OK
* checking for missing documentation entries ... OK
* checking for code/documentation mismatches ... OK
* checking Rd \usage sections ... OK
* checking Rd contents ... OK
* checking for unstated dependencies in examples ... OK
* checking contents of ‘data’ directory ... OK
* checking data for non-ASCII characters ... OK
* checking LazyData ... OK
* checking data for ASCII and uncompressed saves ... OK
* checking line endings in C/C++/Fortran sources/headers ... OK
* checking line endings in Makefiles ... OK
* checking compilation flags in Makevars ... OK
* checking for GNU extensions in Makefiles ... OK
* checking for portable use of $(BLAS_LIBS) and $(LAPACK_LIBS) ... OK
* checking use of PKG_*FLAGS in Makefiles ... OK
* checking compiled code ... NOTE
Note: information on .o files is not available
* checking files in ‘vignettes’ ... OK
* checking examples ... OK
Examples with CPU (user + system) or elapsed time > 5s
user system elapsed
SiteSetList-class 34.099 1.071 62.056
searchAln-methods 11.826 0.188 21.741
toGRangesList-methods 9.354 0.171 17.061
SiteSet-class 6.199 0.184 11.362
* checking for unstated dependencies in ‘tests’ ... OK
* checking tests ...
Running ‘testthat.R’
OK
* checking for unstated dependencies in vignettes ... OK
* checking package vignettes in ‘inst/doc’ ... OK
* checking running R code from vignettes ... SKIPPED
* checking re-building of vignette outputs ... SKIPPED
* checking PDF version of manual ... OK
* DONE
Status: 2 NOTEs
See
‘/Users/biocbuild/bbs-3.17-bioc-mac-arm64/meat/TFBSTools.Rcheck/00check.log’
for details.
TFBSTools.Rcheck/00install.out
##############################################################################
##############################################################################
###
### Running command:
###
### /Library/Frameworks/R.framework/Resources/bin/R CMD INSTALL TFBSTools
###
##############################################################################
##############################################################################
* installing to library ‘/Library/Frameworks/R.framework/Versions/4.3-arm64/Resources/library’
* installing *source* package ‘TFBSTools’ ...
** using staged installation
** libs
using C compiler: ‘Apple clang version 14.0.0 (clang-1400.0.29.202)’
using SDK: ‘MacOSX11.3.sdk’
clang -arch arm64 -I"/Library/Frameworks/R.framework/Resources/include" -DNDEBUG -I/opt/R/arm64/include -fPIC -falign-functions=64 -Wall -g -O2 -c matrixAlignerDynamic.c -o matrixAlignerDynamic.o
matrixAlignerDynamic.c:63:9: warning: variable 'sum_i' set but not used [-Wunused-but-set-variable]
float sum_i; // counter for sums in a position in profile1
^
matrixAlignerDynamic.c:64:9: warning: variable 'sum_j' set but not used [-Wunused-but-set-variable]
float sum_j; // counter for sums in a position in profile2
^
2 warnings generated.
clang -arch arm64 -I"/Library/Frameworks/R.framework/Resources/include" -DNDEBUG -I/opt/R/arm64/include -fPIC -falign-functions=64 -Wall -g -O2 -c R_init_TFBSTools.c -o R_init_TFBSTools.o
clang -arch arm64 -dynamiclib -Wl,-headerpad_max_install_names -undefined dynamic_lookup -single_module -multiply_defined suppress -L/Library/Frameworks/R.framework/Resources/lib -L/opt/R/arm64/lib -o TFBSTools.so matrixAlignerDynamic.o R_init_TFBSTools.o -F/Library/Frameworks/R.framework/.. -framework R -Wl,-framework -Wl,CoreFoundation
installing to /Library/Frameworks/R.framework/Versions/4.3-arm64/Resources/library/00LOCK-TFBSTools/00new/TFBSTools/libs
** R
** data
*** moving datasets to lazyload DB
** inst
** byte-compile and prepare package for lazy loading
Creating a new generic function for ‘seqLogo’ in package ‘TFBSTools’
Creating a generic function for ‘colSums’ from package ‘base’ in package ‘TFBSTools’
Creating a generic function for ‘rowSums’ from package ‘base’ in package ‘TFBSTools’
** help
*** installing help indices
** building package indices
** installing vignettes
** testing if installed package can be loaded from temporary location
** checking absolute paths in shared objects and dynamic libraries
** testing if installed package can be loaded from final location
** testing if installed package keeps a record of temporary installation path
* DONE (TFBSTools)
TFBSTools.Rcheck/tests/testthat.Rout
R version 4.3.1 (2023-06-16) -- "Beagle Scouts"
Copyright (C) 2023 The R Foundation for Statistical Computing
Platform: aarch64-apple-darwin20 (64-bit)
R is free software and comes with ABSOLUTELY NO WARRANTY.
You are welcome to redistribute it under certain conditions.
Type 'license()' or 'licence()' for distribution details.
R is a collaborative project with many contributors.
Type 'contributors()' for more information and
'citation()' on how to cite R or R packages in publications.
Type 'demo()' for some demos, 'help()' for on-line help, or
'help.start()' for an HTML browser interface to help.
Type 'q()' to quit R.
> library(testthat)
> library(TFBSTools)
>
> test_check("TFBSTools")
[ FAIL 0 | WARN 0 | SKIP 0 | PASS 34 ]
>
> proc.time()
user system elapsed
16.121 0.897 30.826
TFBSTools.Rcheck/TFBSTools-Ex.timings
| name | user | system | elapsed | |
| IUPAC2Matrix | 0.002 | 0.001 | 0.006 | |
| MA0004.1 | 0.004 | 0.003 | 0.012 | |
| MotifSet-class | 0.000 | 0.001 | 0.001 | |
| PFMSimilarity-methods | 0.339 | 0.030 | 0.632 | |
| PWMSimilarity-methods | 0.009 | 0.003 | 0.020 | |
| SiteSet-class | 6.199 | 0.184 | 11.362 | |
| SiteSetList-class | 34.099 | 1.071 | 62.056 | |
| TFFM-class | 0.028 | 0.001 | 0.055 | |
| XMatrix-class | 0.016 | 0.002 | 0.035 | |
| XMatrixList-class | 0.003 | 0.002 | 0.007 | |
| deleteMatrixHavingID-methods | 0.107 | 0.075 | 0.325 | |
| dmmEM-methods | 0 | 0 | 0 | |
| getEmissionProb | 0.199 | 0.006 | 0.360 | |
| getMatrixByID-methods | 0.307 | 0.027 | 0.567 | |
| getMatrixSet-methods | 0.000 | 0.000 | 0.005 | |
| getPosProb | 0.219 | 0.009 | 0.416 | |
| makeFlatFileDir | 0 | 0 | 0 | |
| parseMEMEOutput | 0.183 | 0.007 | 0.331 | |
| permuteMatrix-methods | 0.077 | 0.004 | 0.155 | |
| rPWMDmm-methods | 0 | 0 | 0 | |
| readJASPARMatrix | 0.014 | 0.002 | 0.035 | |
| readXMLTFFM | 0.022 | 0.001 | 0.041 | |
| runMEME-methods | 0.000 | 0.001 | 0.001 | |
| sampleRanges | 0.359 | 0.014 | 0.662 | |
| searchAln-methods | 11.826 | 0.188 | 21.741 | |
| searchPairBSgenome-methods | 0 | 0 | 0 | |
| searchSeq-methods | 1.287 | 0.038 | 2.332 | |
| seqLogo | 0.660 | 0.114 | 1.375 | |
| shannon.entropy | 0.001 | 0.000 | 0.001 | |
| toGRangesList-methods | 9.354 | 0.171 | 17.061 | |
| toICM-methods | 0.013 | 0.003 | 0.028 | |
| toPWM-methods | 0.009 | 0.003 | 0.022 | |