| Back to Mac ARM64 build report for BioC 3.17 |
|
This page was generated on 2023-10-20 09:38:04 -0400 (Fri, 20 Oct 2023).
| Hostname | OS | Arch (*) | R version | Installed pkgs |
|---|---|---|---|---|
| kjohnson2 | macOS 12.6.1 Monterey | arm64 | 4.3.1 (2023-06-16) -- "Beagle Scouts" | 4347 |
| Click on any hostname to see more info about the system (e.g. compilers) (*) as reported by 'uname -p', except on Windows and Mac OS X | ||||
| Package 1010/2230 | Hostname | OS / Arch | INSTALL | BUILD | CHECK | BUILD BIN | ||||||||
| IntEREst 1.24.0 (landing page) Ali Oghabian
| kjohnson2 | macOS 12.6.1 Monterey / arm64 | OK | OK | OK | OK | ||||||||
|
To the developers/maintainers of the IntEREst package: - Use the following Renviron settings to reproduce errors and warnings. - If 'R CMD check' started to fail recently on the Linux builder(s) over a missing dependency, add the missing dependency to 'Suggests:' in your DESCRIPTION file. See Renviron.bioc for more information. |
| Package: IntEREst |
| Version: 1.24.0 |
| Command: /Library/Frameworks/R.framework/Resources/bin/R CMD check --install=check:IntEREst.install-out.txt --library=/Library/Frameworks/R.framework/Resources/library --no-vignettes --timings IntEREst_1.24.0.tar.gz |
| StartedAt: 2023-10-18 02:24:32 -0400 (Wed, 18 Oct 2023) |
| EndedAt: 2023-10-18 02:34:32 -0400 (Wed, 18 Oct 2023) |
| EllapsedTime: 600.3 seconds |
| RetCode: 0 |
| Status: OK |
| CheckDir: IntEREst.Rcheck |
| Warnings: 0 |
##############################################################################
##############################################################################
###
### Running command:
###
### /Library/Frameworks/R.framework/Resources/bin/R CMD check --install=check:IntEREst.install-out.txt --library=/Library/Frameworks/R.framework/Resources/library --no-vignettes --timings IntEREst_1.24.0.tar.gz
###
##############################################################################
##############################################################################
* using log directory ‘/Users/biocbuild/bbs-3.17-bioc-mac-arm64/meat/IntEREst.Rcheck’
* using R version 4.3.1 (2023-06-16)
* using platform: aarch64-apple-darwin20 (64-bit)
* R was compiled by
Apple clang version 14.0.0 (clang-1400.0.29.202)
GNU Fortran (GCC) 12.2.0
* running under: macOS Monterey 12.6.7
* using session charset: UTF-8
* using option ‘--no-vignettes’
* checking for file ‘IntEREst/DESCRIPTION’ ... OK
* this is package ‘IntEREst’ version ‘1.24.0’
* checking package namespace information ... OK
* checking package dependencies ... NOTE
Depends: includes the non-default packages:
'GenomicRanges', 'Rsamtools', 'SummarizedExperiment', 'edgeR',
'S4Vectors', 'GenomicFiles'
Adding so many packages to the search path is excessive and importing
selectively is preferable.
* checking if this is a source package ... OK
* checking if there is a namespace ... OK
* checking for hidden files and directories ... OK
* checking for portable file names ... OK
* checking for sufficient/correct file permissions ... OK
* checking whether package ‘IntEREst’ can be installed ... OK
* checking installed package size ... OK
* checking package directory ... OK
* checking ‘build’ directory ... OK
* checking DESCRIPTION meta-information ... OK
* checking top-level files ... OK
* checking for left-over files ... OK
* checking index information ... OK
* checking package subdirectories ... OK
* checking R files for non-ASCII characters ... OK
* checking R files for syntax errors ... OK
* checking whether the package can be loaded ... OK
* checking whether the package can be loaded with stated dependencies ... OK
* checking whether the package can be unloaded cleanly ... OK
* checking whether the namespace can be loaded with stated dependencies ... OK
* checking whether the namespace can be unloaded cleanly ... OK
* checking dependencies in R code ... OK
* checking S3 generic/method consistency ... OK
* checking replacement functions ... OK
* checking foreign function calls ... OK
* checking R code for possible problems ... NOTE
interestIntExAnalysePairStranded: no visible binding for global
variable ‘readGRangesM2’
interestIntExAnalyseSingleStranded: no visible global function
definition for ‘bamFlagAsBitMatrix’
Undefined global functions or variables:
bamFlagAsBitMatrix readGRangesM2
* checking Rd files ... OK
* checking Rd metadata ... OK
* checking Rd cross-references ... OK
* checking for missing documentation entries ... OK
* checking for code/documentation mismatches ... OK
* checking Rd \usage sections ... OK
* checking Rd contents ... OK
* checking for unstated dependencies in examples ... OK
* checking contents of ‘data’ directory ... OK
* checking data for non-ASCII characters ... OK
* checking LazyData ... OK
* checking data for ASCII and uncompressed saves ... OK
* checking files in ‘vignettes’ ... OK
* checking examples ... OK
Examples with CPU (user + system) or elapsed time > 5s
user system elapsed
DEXSeqIntEREst 28.599 0.429 42.355
deseqInterest 5.312 0.048 8.149
* checking for unstated dependencies in vignettes ... OK
* checking package vignettes in ‘inst/doc’ ... OK
* checking running R code from vignettes ... SKIPPED
* checking re-building of vignette outputs ... SKIPPED
* checking PDF version of manual ... OK
* DONE
Status: 2 NOTEs
See
‘/Users/biocbuild/bbs-3.17-bioc-mac-arm64/meat/IntEREst.Rcheck/00check.log’
for details.
IntEREst.Rcheck/00install.out
############################################################################## ############################################################################## ### ### Running command: ### ### /Library/Frameworks/R.framework/Resources/bin/R CMD INSTALL IntEREst ### ############################################################################## ############################################################################## * installing to library ‘/Library/Frameworks/R.framework/Versions/4.3-arm64/Resources/library’ * installing *source* package ‘IntEREst’ ... ** using staged installation ** R ** data *** moving datasets to lazyload DB ** inst ** byte-compile and prepare package for lazy loading ** help *** installing help indices ** building package indices ** installing vignettes ** testing if installed package can be loaded from temporary location ** testing if installed package can be loaded from final location ** testing if installed package keeps a record of temporary installation path * DONE (IntEREst)
IntEREst.Rcheck/IntEREst-Ex.timings
| name | user | system | elapsed | |
| DEXSeqIntEREst | 28.599 | 0.429 | 42.355 | |
| addAnnotation | 0.038 | 0.001 | 0.061 | |
| annotateU12 | 2.596 | 0.104 | 4.147 | |
| applyOverlap | 0.175 | 0.003 | 0.276 | |
| attributes | 0.025 | 0.002 | 0.042 | |
| boxplot-method | 0.059 | 0.002 | 0.097 | |
| buildSsTypePwms | 0 | 0 | 0 | |
| counts-method | 0.031 | 0.002 | 0.051 | |
| deseqInterest | 5.312 | 0.048 | 8.149 | |
| exactTestInterest | 0.100 | 0.003 | 0.161 | |
| getRepeatTable | 0.000 | 0.001 | 0.000 | |
| glmInterest | 0.142 | 0.002 | 0.219 | |
| interest | 1.690 | 0.028 | 2.672 | |
| interest.sequential | 1.528 | 0.024 | 2.375 | |
| interestResult | 0.019 | 0.002 | 0.031 | |
| interestResultIntEx | 0.198 | 0.003 | 0.305 | |
| intexIndex | 0.003 | 0.000 | 0.005 | |
| lfc | 0.235 | 0.005 | 0.371 | |
| mergeInterestResult | 0.081 | 0.003 | 0.128 | |
| plot-method | 0.342 | 0.011 | 0.545 | |
| psi | 0.764 | 0.010 | 1.182 | |
| qlfInterest | 0.254 | 0.006 | 0.399 | |
| readInterestResults | 0.036 | 0.005 | 0.067 | |
| referencePrepare | 1.298 | 0.020 | 1.976 | |
| subInterestResult | 0.036 | 0.001 | 0.058 | |
| treatInterest | 0.134 | 0.005 | 0.210 | |
| u12Boxplot | 0.108 | 0.004 | 0.166 | |
| u12BoxplotNb | 0.084 | 0.002 | 0.129 | |
| u12DensityPlot | 0.258 | 0.005 | 0.405 | |
| u12Index | 0.006 | 0.000 | 0.010 | |
| u12NbIndex | 0.062 | 0.002 | 0.099 | |
| unionRefTr | 0.018 | 0.001 | 0.032 | |
| updateRowDataCol | 0.056 | 0.002 | 0.091 | |