| Back to Mac ARM64 build report for BioC 3.17 |
|
This page was generated on 2023-10-20 09:38:06 -0400 (Fri, 20 Oct 2023).
| Hostname | OS | Arch (*) | R version | Installed pkgs |
|---|---|---|---|---|
| kjohnson2 | macOS 12.6.1 Monterey | arm64 | 4.3.1 (2023-06-16) -- "Beagle Scouts" | 4347 |
| Click on any hostname to see more info about the system (e.g. compilers) (*) as reported by 'uname -p', except on Windows and Mac OS X | ||||
| Package 1209/2230 | Hostname | OS / Arch | INSTALL | BUILD | CHECK | BUILD BIN | ||||||||
| MetNet 1.18.0 (landing page) Thomas Naake
| kjohnson2 | macOS 12.6.1 Monterey / arm64 | OK | OK | OK | OK | ||||||||
|
To the developers/maintainers of the MetNet package: - Use the following Renviron settings to reproduce errors and warnings. - If 'R CMD check' started to fail recently on the Linux builder(s) over a missing dependency, add the missing dependency to 'Suggests:' in your DESCRIPTION file. See Renviron.bioc for more information. |
| Package: MetNet |
| Version: 1.18.0 |
| Command: /Library/Frameworks/R.framework/Resources/bin/R CMD check --install=check:MetNet.install-out.txt --library=/Library/Frameworks/R.framework/Resources/library --no-vignettes --timings MetNet_1.18.0.tar.gz |
| StartedAt: 2023-10-18 06:59:33 -0400 (Wed, 18 Oct 2023) |
| EndedAt: 2023-10-18 07:09:41 -0400 (Wed, 18 Oct 2023) |
| EllapsedTime: 608.2 seconds |
| RetCode: 0 |
| Status: OK |
| CheckDir: MetNet.Rcheck |
| Warnings: 0 |
##############################################################################
##############################################################################
###
### Running command:
###
### /Library/Frameworks/R.framework/Resources/bin/R CMD check --install=check:MetNet.install-out.txt --library=/Library/Frameworks/R.framework/Resources/library --no-vignettes --timings MetNet_1.18.0.tar.gz
###
##############################################################################
##############################################################################
* using log directory ‘/Users/biocbuild/bbs-3.17-bioc-mac-arm64/meat/MetNet.Rcheck’
* using R version 4.3.1 (2023-06-16)
* using platform: aarch64-apple-darwin20 (64-bit)
* R was compiled by
Apple clang version 14.0.0 (clang-1400.0.29.202)
GNU Fortran (GCC) 12.2.0
* running under: macOS Monterey 12.6.7
* using session charset: UTF-8
* using option ‘--no-vignettes’
* checking for file ‘MetNet/DESCRIPTION’ ... OK
* checking extension type ... Package
* this is package ‘MetNet’ version ‘1.18.0’
* package encoding: UTF-8
* checking package namespace information ... OK
* checking package dependencies ... OK
* checking if this is a source package ... OK
* checking if there is a namespace ... OK
* checking for hidden files and directories ... OK
* checking for portable file names ... OK
* checking for sufficient/correct file permissions ... OK
* checking whether package ‘MetNet’ can be installed ... OK
* checking installed package size ... OK
* checking package directory ... OK
* checking ‘build’ directory ... OK
* checking DESCRIPTION meta-information ... OK
* checking top-level files ... OK
* checking for left-over files ... OK
* checking index information ... OK
* checking package subdirectories ... OK
* checking R files for non-ASCII characters ... OK
* checking R files for syntax errors ... OK
* checking whether the package can be loaded ... OK
* checking whether the package can be loaded with stated dependencies ... OK
* checking whether the package can be unloaded cleanly ... OK
* checking whether the namespace can be loaded with stated dependencies ... OK
* checking whether the namespace can be unloaded cleanly ... OK
* checking dependencies in R code ... OK
* checking S3 generic/method consistency ... OK
* checking replacement functions ... OK
* checking foreign function calls ... OK
* checking R code for possible problems ... OK
* checking Rd files ... OK
* checking Rd metadata ... OK
* checking Rd cross-references ... OK
* checking for missing documentation entries ... OK
* checking for code/documentation mismatches ... OK
* checking Rd \usage sections ... OK
* checking Rd contents ... OK
* checking for unstated dependencies in examples ... OK
* checking contents of ‘data’ directory ... OK
* checking data for non-ASCII characters ... OK
* checking data for ASCII and uncompressed saves ... OK
* checking files in ‘vignettes’ ... OK
* checking examples ... OK
Examples with CPU (user + system) or elapsed time > 5s
user system elapsed
MetNet-package 68.582 1.118 101.753
* checking for unstated dependencies in ‘tests’ ... OK
* checking tests ...
Running ‘testthat.R’
OK
* checking for unstated dependencies in vignettes ... OK
* checking package vignettes in ‘inst/doc’ ... OK
* checking running R code from vignettes ... SKIPPED
* checking re-building of vignette outputs ... SKIPPED
* checking PDF version of manual ... OK
* DONE
Status: OK
MetNet.Rcheck/00install.out
############################################################################## ############################################################################## ### ### Running command: ### ### /Library/Frameworks/R.framework/Resources/bin/R CMD INSTALL MetNet ### ############################################################################## ############################################################################## * installing to library ‘/Library/Frameworks/R.framework/Versions/4.3-arm64/Resources/library’ * installing *source* package ‘MetNet’ ... ** using staged installation ** R ** data ** inst ** byte-compile and prepare package for lazy loading ** help *** installing help indices ** building package indices ** installing vignettes ** testing if installed package can be loaded from temporary location ** testing if installed package can be loaded from final location ** testing if installed package keeps a record of temporary installation path * DONE (MetNet)
MetNet.Rcheck/tests/testthat.Rout
R version 4.3.1 (2023-06-16) -- "Beagle Scouts"
Copyright (C) 2023 The R Foundation for Statistical Computing
Platform: aarch64-apple-darwin20 (64-bit)
R is free software and comes with ABSOLUTELY NO WARRANTY.
You are welcome to redistribute it under certain conditions.
Type 'license()' or 'licence()' for distribution details.
R is a collaborative project with many contributors.
Type 'contributors()' for more information and
'citation()' on how to cite R or R packages in publications.
Type 'demo()' for some demos, 'help()' for on-line help, or
'help.start()' for an HTML browser interface to help.
Type 'q()' to quit R.
> library("testthat")
> library("MetNet")
Loading required package: S4Vectors
Loading required package: stats4
Loading required package: BiocGenerics
Attaching package: 'BiocGenerics'
The following objects are masked from 'package:stats':
IQR, mad, sd, var, xtabs
The following objects are masked from 'package:base':
Filter, Find, Map, Position, Reduce, anyDuplicated, aperm, append,
as.data.frame, basename, cbind, colnames, dirname, do.call,
duplicated, eval, evalq, get, grep, grepl, intersect, is.unsorted,
lapply, mapply, match, mget, order, paste, pmax, pmax.int, pmin,
pmin.int, rank, rbind, rownames, sapply, setdiff, sort, table,
tapply, union, unique, unsplit, which.max, which.min
Attaching package: 'S4Vectors'
The following object is masked from 'package:utils':
findMatches
The following objects are masked from 'package:base':
I, expand.grid, unname
Loading required package: SummarizedExperiment
Loading required package: MatrixGenerics
Loading required package: matrixStats
Attaching package: 'MatrixGenerics'
The following objects are masked from 'package:matrixStats':
colAlls, colAnyNAs, colAnys, colAvgsPerRowSet, colCollapse,
colCounts, colCummaxs, colCummins, colCumprods, colCumsums,
colDiffs, colIQRDiffs, colIQRs, colLogSumExps, colMadDiffs,
colMads, colMaxs, colMeans2, colMedians, colMins, colOrderStats,
colProds, colQuantiles, colRanges, colRanks, colSdDiffs, colSds,
colSums2, colTabulates, colVarDiffs, colVars, colWeightedMads,
colWeightedMeans, colWeightedMedians, colWeightedSds,
colWeightedVars, rowAlls, rowAnyNAs, rowAnys, rowAvgsPerColSet,
rowCollapse, rowCounts, rowCummaxs, rowCummins, rowCumprods,
rowCumsums, rowDiffs, rowIQRDiffs, rowIQRs, rowLogSumExps,
rowMadDiffs, rowMads, rowMaxs, rowMeans2, rowMedians, rowMins,
rowOrderStats, rowProds, rowQuantiles, rowRanges, rowRanks,
rowSdDiffs, rowSds, rowSums2, rowTabulates, rowVarDiffs, rowVars,
rowWeightedMads, rowWeightedMeans, rowWeightedMedians,
rowWeightedSds, rowWeightedVars
Loading required package: GenomicRanges
Loading required package: IRanges
Loading required package: GenomeInfoDb
Loading required package: Biobase
Welcome to Bioconductor
Vignettes contain introductory material; view with
'browseVignettes()'. To cite Bioconductor, see
'citation("Biobase")', and for packages 'citation("pkgname")'.
Attaching package: 'Biobase'
The following object is masked from 'package:MatrixGenerics':
rowMedians
The following objects are masked from 'package:matrixStats':
anyMissing, rowMedians
Attaching package: 'MetNet'
The following object is masked from 'package:Biobase':
combine
The following objects are masked from 'package:BiocGenerics':
combine, type
>
> test_check("MetNet")
[1] "clr finished."
[1] "aracne finished."
[1] "pearson finished."
[1] "spearman finished."
Estimating optimal shrinkage intensity lambda (correlation matrix): 0.0987
[1] "ggm finished."
[1] "pearson finished."
Estimating optimal shrinkage intensity lambda (correlation matrix): 0.1038
[1] "ggm finished."
[1] "clr finished."
[1] "aracne finished."
[1] "pearson finished."
[1] "spearman finished."
[1] "clr finished."
[1] "aracne finished."
[1] "pearson finished."
[1] "spearman finished."
Estimating optimal shrinkage intensity lambda (correlation matrix): 0.3859
[1] "ggm finished."
[1] "bayes finished."
[1] "clr finished."
[1] "aracne finished."
[1] "pearson finished."
[1] "spearman finished."
Estimating optimal shrinkage intensity lambda (correlation matrix): 0.0761
Estimating optimal shrinkage intensity lambda (correlation matrix): 0.0806
Estimating optimal shrinkage intensity lambda (correlation matrix): 0.1024
Estimating optimal shrinkage intensity lambda (correlation matrix): 0.0211
Estimating optimal shrinkage intensity lambda (correlation matrix): 0.0222
Estimating optimal shrinkage intensity lambda (correlation matrix): 0.1024
[1] "randomForest finished."
[1] "clr finished."
[1] "aracne finished."
[1] "pearson finished."
Estimating optimal shrinkage intensity lambda (correlation matrix): 0.0761
[1] "pearson_partial finished."
[1] "spearman finished."
Estimating optimal shrinkage intensity lambda (correlation matrix): 0.0806
[1] "spearman_partial finished."
Estimating optimal shrinkage intensity lambda (correlation matrix): 0.1024
[1] "ggm finished."
Estimating optimal shrinkage intensity lambda (correlation matrix): 0.0761
Estimating optimal shrinkage intensity lambda (correlation matrix): 0.0806
Estimating optimal shrinkage intensity lambda (correlation matrix): 0.1024
[1] "pearson finished."
[1] "spearman finished."
Estimating optimal shrinkage intensity lambda (correlation matrix): 0.0987
[1] "ggm finished."
[1] "randomForest finished."
[1] "clr finished."
[1] "aracne finished."
[1] "pearson finished."
[1] "spearman finished."
[1] "bayes finished."
[1] "pearson finished."
Estimating optimal shrinkage intensity lambda (correlation matrix): 0.1139
[1] "ggm finished."
[1] "clr finished."
[1] "aracne finished."
[1] "pearson finished."
[1] "spearman finished."
Estimating optimal shrinkage intensity lambda (correlation matrix): 0.0461
[1] "ggm finished."
[ FAIL 0 | WARN 0 | SKIP 0 | PASS 606 ]
>
> proc.time()
user system elapsed
160.464 71.541 222.007
MetNet.Rcheck/MetNet-Ex.timings
| name | user | system | elapsed | |
| AdjacencyMatrix | 0.131 | 0.003 | 0.203 | |
| MetNet-package | 68.582 | 1.118 | 101.753 | |
| addSpectralSimilarity | 0.142 | 0.015 | 0.266 | |
| addToList | 0.014 | 0.004 | 0.031 | |
| aracne | 0.087 | 0.080 | 0.261 | |
| bayes | 1.946 | 0.062 | 3.032 | |
| clr | 0.080 | 0.079 | 0.247 | |
| combine | 0.641 | 0.011 | 1.007 | |
| correlation | 0.007 | 0.003 | 0.014 | |
| getLinks | 0.002 | 0.000 | 0.004 | |
| lasso | 0.006 | 0.001 | 0.011 | |
| mz_summary | 0.335 | 0.011 | 0.523 | |
| mz_vis | 0.448 | 0.017 | 0.672 | |
| partialCorrelation | 0.014 | 0.014 | 0.043 | |
| randomForest | 1.801 | 0.047 | 2.787 | |
| rtCorrection | 0.324 | 0.014 | 0.513 | |
| statistical | 0.142 | 0.004 | 0.205 | |
| structural | 0.052 | 0.002 | 0.068 | |
| threshold | 0.641 | 0.010 | 0.847 | |
| topKnet | 0.001 | 0.001 | 0.003 | |