| Back to Mac ARM64 build report for BioC 3.17 |
|
This page was generated on 2023-10-20 09:38:13 -0400 (Fri, 20 Oct 2023).
| Hostname | OS | Arch (*) | R version | Installed pkgs |
|---|---|---|---|---|
| kjohnson2 | macOS 12.6.1 Monterey | arm64 | 4.3.1 (2023-06-16) -- "Beagle Scouts" | 4347 |
| Click on any hostname to see more info about the system (e.g. compilers) (*) as reported by 'uname -p', except on Windows and Mac OS X | ||||
| Package 2028/2230 | Hostname | OS / Arch | INSTALL | BUILD | CHECK | BUILD BIN | ||||||||
| strandCheckR 1.18.0 (landing page) Thu-Hien To
| kjohnson2 | macOS 12.6.1 Monterey / arm64 | OK | OK | OK | OK | ||||||||
|
To the developers/maintainers of the strandCheckR package: - Use the following Renviron settings to reproduce errors and warnings. - If 'R CMD check' started to fail recently on the Linux builder(s) over a missing dependency, add the missing dependency to 'Suggests:' in your DESCRIPTION file. See Renviron.bioc for more information. |
| Package: strandCheckR |
| Version: 1.18.0 |
| Command: /Library/Frameworks/R.framework/Resources/bin/R CMD check --install=check:strandCheckR.install-out.txt --library=/Library/Frameworks/R.framework/Resources/library --no-vignettes --timings strandCheckR_1.18.0.tar.gz |
| StartedAt: 2023-10-19 05:01:34 -0400 (Thu, 19 Oct 2023) |
| EndedAt: 2023-10-19 05:10:40 -0400 (Thu, 19 Oct 2023) |
| EllapsedTime: 545.5 seconds |
| RetCode: 0 |
| Status: OK |
| CheckDir: strandCheckR.Rcheck |
| Warnings: 0 |
##############################################################################
##############################################################################
###
### Running command:
###
### /Library/Frameworks/R.framework/Resources/bin/R CMD check --install=check:strandCheckR.install-out.txt --library=/Library/Frameworks/R.framework/Resources/library --no-vignettes --timings strandCheckR_1.18.0.tar.gz
###
##############################################################################
##############################################################################
* using log directory ‘/Users/biocbuild/bbs-3.17-bioc-mac-arm64/meat/strandCheckR.Rcheck’
* using R version 4.3.1 (2023-06-16)
* using platform: aarch64-apple-darwin20 (64-bit)
* R was compiled by
Apple clang version 14.0.0 (clang-1400.0.29.202)
GNU Fortran (GCC) 12.2.0
* running under: macOS Monterey 12.6.7
* using session charset: UTF-8
* using option ‘--no-vignettes’
* checking for file ‘strandCheckR/DESCRIPTION’ ... OK
* checking extension type ... Package
* this is package ‘strandCheckR’ version ‘1.18.0’
* package encoding: UTF-8
* checking package namespace information ... OK
* checking package dependencies ... OK
* checking if this is a source package ... OK
* checking if there is a namespace ... OK
* checking for hidden files and directories ... OK
* checking for portable file names ... OK
* checking for sufficient/correct file permissions ... OK
* checking whether package ‘strandCheckR’ can be installed ... OK
* checking installed package size ... OK
* checking package directory ... OK
* checking ‘build’ directory ... OK
* checking DESCRIPTION meta-information ... OK
* checking top-level files ... OK
* checking for left-over files ... OK
* checking index information ... OK
* checking package subdirectories ... OK
* checking R files for non-ASCII characters ... OK
* checking R files for syntax errors ... OK
* checking whether the package can be loaded ... OK
* checking whether the package can be loaded with stated dependencies ... OK
* checking whether the package can be unloaded cleanly ... OK
* checking whether the namespace can be loaded with stated dependencies ... OK
* checking whether the namespace can be unloaded cleanly ... OK
* checking dependencies in R code ... NOTE
Namespace in Imports field not imported from: ‘rmarkdown’
All declared Imports should be used.
* checking S3 generic/method consistency ... OK
* checking replacement functions ... OK
* checking foreign function calls ... OK
* checking R code for possible problems ... OK
* checking Rd files ... OK
* checking Rd metadata ... OK
* checking Rd cross-references ... OK
* checking for missing documentation entries ... OK
* checking for code/documentation mismatches ... OK
* checking Rd \usage sections ... OK
* checking Rd contents ... OK
* checking for unstated dependencies in examples ... OK
* checking files in ‘vignettes’ ... OK
* checking examples ... OK
Examples with CPU (user + system) or elapsed time > 5s
user system elapsed
intersectWithFeature 3.38 0.173 5.995
* checking for unstated dependencies in ‘tests’ ... OK
* checking tests ...
Running ‘testthat.R’
OK
* checking for unstated dependencies in vignettes ... OK
* checking package vignettes in ‘inst/doc’ ... OK
* checking running R code from vignettes ... SKIPPED
* checking re-building of vignette outputs ... SKIPPED
* checking PDF version of manual ... OK
* DONE
Status: 1 NOTE
See
‘/Users/biocbuild/bbs-3.17-bioc-mac-arm64/meat/strandCheckR.Rcheck/00check.log’
for details.
strandCheckR.Rcheck/00install.out
############################################################################## ############################################################################## ### ### Running command: ### ### /Library/Frameworks/R.framework/Resources/bin/R CMD INSTALL strandCheckR ### ############################################################################## ############################################################################## * installing to library ‘/Library/Frameworks/R.framework/Versions/4.3-arm64/Resources/library’ * installing *source* package ‘strandCheckR’ ... ** using staged installation ** R ** inst ** byte-compile and prepare package for lazy loading ** help *** installing help indices ** building package indices ** installing vignettes ** testing if installed package can be loaded from temporary location ** testing if installed package can be loaded from final location ** testing if installed package keeps a record of temporary installation path * DONE (strandCheckR)
strandCheckR.Rcheck/tests/testthat.Rout
R version 4.3.1 (2023-06-16) -- "Beagle Scouts"
Copyright (C) 2023 The R Foundation for Statistical Computing
Platform: aarch64-apple-darwin20 (64-bit)
R is free software and comes with ABSOLUTELY NO WARRANTY.
You are welcome to redistribute it under certain conditions.
Type 'license()' or 'licence()' for distribution details.
R is a collaborative project with many contributors.
Type 'contributors()' for more information and
'citation()' on how to cite R or R packages in publications.
Type 'demo()' for some demos, 'help()' for on-line help, or
'help.start()' for an HTML browser interface to help.
Type 'q()' to quit R.
> library(testthat)
> library(strandCheckR)
>
> test_check("strandCheckR")
[ FAIL 0 | WARN 2 | SKIP 1 | PASS 28 ]
══ Skipped tests (1) ═══════════════════════════════════════════════════════════
• empty test (1): 'test_keptProbaWin.R:1:1'
[ FAIL 0 | WARN 2 | SKIP 1 | PASS 28 ]
>
> proc.time()
user system elapsed
19.598 0.816 33.150
strandCheckR.Rcheck/strandCheckR-Ex.timings
| name | user | system | elapsed | |
| checkPairedEnd | 0.060 | 0.008 | 0.116 | |
| filterDNA | 0.655 | 0.048 | 1.264 | |
| getStrandFromBamFile | 1.192 | 0.023 | 2.191 | |
| getStrandFromReadInfo | 0.353 | 0.023 | 0.664 | |
| getWinOverlapEachIRange | 0.116 | 0.007 | 0.217 | |
| getWinOverlapEachReadFragment | 0.279 | 0.022 | 0.540 | |
| getWinOverlapGRanges | 0.281 | 0.013 | 0.526 | |
| intersectWithFeature | 3.380 | 0.173 | 5.995 | |
| plotHist | 0.692 | 0.014 | 1.184 | |
| plotWin | 2.486 | 0.096 | 4.586 | |
| strandCheckR-package | 2.070 | 0.093 | 3.843 | |