| Back to Mac ARM64 build report for BioC 3.17 |
|
This page was generated on 2023-10-20 09:38:01 -0400 (Fri, 20 Oct 2023).
| Hostname | OS | Arch (*) | R version | Installed pkgs |
|---|---|---|---|---|
| kjohnson2 | macOS 12.6.1 Monterey | arm64 | 4.3.1 (2023-06-16) -- "Beagle Scouts" | 4347 |
| Click on any hostname to see more info about the system (e.g. compilers) (*) as reported by 'uname -p', except on Windows and Mac OS X | ||||
| Package 643/2230 | Hostname | OS / Arch | INSTALL | BUILD | CHECK | BUILD BIN | ||||||||
| EpiMix 1.2.4 (landing page) Yuanning Zheng
| kjohnson2 | macOS 12.6.1 Monterey / arm64 | ERROR | ERROR | skipped | skipped | ||||||||
|
To the developers/maintainers of the EpiMix package: - Use the following Renviron settings to reproduce errors and warnings. - If 'R CMD check' started to fail recently on the Linux builder(s) over a missing dependency, add the missing dependency to 'Suggests:' in your DESCRIPTION file. See Renviron.bioc for more information. |
| Package: EpiMix |
| Version: 1.2.4 |
| Command: /Library/Frameworks/R.framework/Resources/bin/R CMD build --keep-empty-dirs --no-resave-data EpiMix |
| StartedAt: 2023-10-16 02:44:28 -0400 (Mon, 16 Oct 2023) |
| EndedAt: 2023-10-16 02:44:31 -0400 (Mon, 16 Oct 2023) |
| EllapsedTime: 3.1 seconds |
| RetCode: 1 |
| Status: ERROR |
| PackageFile: None |
| PackageFileSize: NA |
##############################################################################
##############################################################################
###
### Running command:
###
### /Library/Frameworks/R.framework/Resources/bin/R CMD build --keep-empty-dirs --no-resave-data EpiMix
###
##############################################################################
##############################################################################
* checking for file ‘EpiMix/DESCRIPTION’ ... OK
* preparing ‘EpiMix’:
* checking DESCRIPTION meta-information ... OK
* installing the package to build vignettes
-----------------------------------
* installing *source* package ‘EpiMix’ ...
** using staged installation
** R
** inst
** byte-compile and prepare package for lazy loading
Error: package ‘EpiMix.data’ 1.1.0 was found, but >= 1.2.2 is required by ‘EpiMix’
Execution halted
ERROR: lazy loading failed for package ‘EpiMix’
* removing ‘/private/tmp/RtmpBAnu36/Rinstdb1c6b03096b/EpiMix’
-----------------------------------
ERROR: package installation failed