| Back to Mac ARM64 build report for BioC 3.17 |
|
This page was generated on 2023-10-20 09:38:02 -0400 (Fri, 20 Oct 2023).
| Hostname | OS | Arch (*) | R version | Installed pkgs |
|---|---|---|---|---|
| kjohnson2 | macOS 12.6.1 Monterey | arm64 | 4.3.1 (2023-06-16) -- "Beagle Scouts" | 4347 |
| Click on any hostname to see more info about the system (e.g. compilers) (*) as reported by 'uname -p', except on Windows and Mac OS X | ||||
| Package 734/2230 | Hostname | OS / Arch | INSTALL | BUILD | CHECK | BUILD BIN | ||||||||
| flowWorkspace 4.12.2 (landing page) Greg Finak
| kjohnson2 | macOS 12.6.1 Monterey / arm64 | OK | OK | WARNINGS | OK | ||||||||
|
To the developers/maintainers of the flowWorkspace package: - Use the following Renviron settings to reproduce errors and warnings. - If 'R CMD check' started to fail recently on the Linux builder(s) over a missing dependency, add the missing dependency to 'Suggests:' in your DESCRIPTION file. See Renviron.bioc for more information. |
| Package: flowWorkspace |
| Version: 4.12.2 |
| Command: /Library/Frameworks/R.framework/Resources/bin/R CMD INSTALL flowWorkspace |
| StartedAt: 2023-10-15 15:46:48 -0400 (Sun, 15 Oct 2023) |
| EndedAt: 2023-10-15 15:50:08 -0400 (Sun, 15 Oct 2023) |
| EllapsedTime: 200.6 seconds |
| RetCode: 0 |
| Status: OK |
##############################################################################
##############################################################################
###
### Running command:
###
### /Library/Frameworks/R.framework/Resources/bin/R CMD INSTALL flowWorkspace
###
##############################################################################
##############################################################################
* installing to library ‘/Library/Frameworks/R.framework/Versions/4.3-arm64/Resources/library’
* installing *source* package ‘flowWorkspace’ ...
** using staged installation
** libs
using C++ compiler: ‘Apple clang version 14.0.0 (clang-1400.0.29.202)’
using C++11
using SDK: ‘MacOSX11.3.sdk’
clang++ -arch arm64 -std=gnu++11 -I"/Library/Frameworks/R.framework/Resources/include" -DNDEBUG -DROUT -I../inst/include -DBOOST_NO_AUTO_PTR -Wno-pedantic -I'/Library/Frameworks/R.framework/Versions/4.3-arm64/Resources/library/cpp11/include' -I'/Library/Frameworks/R.framework/Versions/4.3-arm64/Resources/library/BH/include' -I'/Library/Frameworks/R.framework/Versions/4.3-arm64/Resources/library/RProtoBufLib/include' -I'/Library/Frameworks/R.framework/Versions/4.3-arm64/Resources/library/cytolib/include' -I'/Library/Frameworks/R.framework/Versions/4.3-arm64/Resources/library/Rhdf5lib/include' -I/opt/R/arm64/include -fPIC -falign-functions=64 -Wall -g -O2 -c R_API.cpp -o R_API.o
In file included from R_API.cpp:9:
In file included from /Library/Frameworks/R.framework/Versions/4.3-arm64/Resources/library/cytolib/include/cytolib/GatingSet.hpp:14:
In file included from /Library/Frameworks/R.framework/Versions/4.3-arm64/Resources/library/cytolib/include/cytolib/GatingHierarchy.hpp:17:
In file included from /Library/Frameworks/R.framework/Versions/4.3-arm64/Resources/library/cytolib/include/cytolib/populationTree.hpp:13:
In file included from /Library/Frameworks/R.framework/Versions/4.3-arm64/Resources/library/cytolib/include/cytolib/nodeProperties.hpp:13:
In file included from /Library/Frameworks/R.framework/Versions/4.3-arm64/Resources/library/cytolib/include/cytolib/POPINDICES.hpp:14:
/Library/Frameworks/R.framework/Versions/4.3-arm64/Resources/library/cytolib/include/cytolib/gate.hpp:238:26: warning: loop variable 'range' creates a copy from type 'const pb::Range' [-Wrange-loop-construct]
for (const pb::Range range : gate_pb.mrg().ranges()) {
^
/Library/Frameworks/R.framework/Versions/4.3-arm64/Resources/library/cytolib/include/cytolib/gate.hpp:238:10: note: use reference type 'const pb::Range &' to prevent copying
for (const pb::Range range : gate_pb.mrg().ranges()) {
^~~~~~~~~~~~~~~~~~~~~~~
&
1 warning generated.
clang++ -arch arm64 -std=gnu++11 -I"/Library/Frameworks/R.framework/Resources/include" -DNDEBUG -DROUT -I../inst/include -DBOOST_NO_AUTO_PTR -Wno-pedantic -I'/Library/Frameworks/R.framework/Versions/4.3-arm64/Resources/library/cpp11/include' -I'/Library/Frameworks/R.framework/Versions/4.3-arm64/Resources/library/BH/include' -I'/Library/Frameworks/R.framework/Versions/4.3-arm64/Resources/library/RProtoBufLib/include' -I'/Library/Frameworks/R.framework/Versions/4.3-arm64/Resources/library/cytolib/include' -I'/Library/Frameworks/R.framework/Versions/4.3-arm64/Resources/library/Rhdf5lib/include' -I/opt/R/arm64/include -fPIC -falign-functions=64 -Wall -g -O2 -c R_GatingHierarchy.cpp -o R_GatingHierarchy.o
In file included from R_GatingHierarchy.cpp:18:
In file included from /Library/Frameworks/R.framework/Versions/4.3-arm64/Resources/library/cytolib/include/cytolib/GatingSet.hpp:14:
In file included from /Library/Frameworks/R.framework/Versions/4.3-arm64/Resources/library/cytolib/include/cytolib/GatingHierarchy.hpp:17:
In file included from /Library/Frameworks/R.framework/Versions/4.3-arm64/Resources/library/cytolib/include/cytolib/populationTree.hpp:13:
In file included from /Library/Frameworks/R.framework/Versions/4.3-arm64/Resources/library/cytolib/include/cytolib/nodeProperties.hpp:13:
In file included from /Library/Frameworks/R.framework/Versions/4.3-arm64/Resources/library/cytolib/include/cytolib/POPINDICES.hpp:14:
/Library/Frameworks/R.framework/Versions/4.3-arm64/Resources/library/cytolib/include/cytolib/gate.hpp:238:26: warning: loop variable 'range' creates a copy from type 'const pb::Range' [-Wrange-loop-construct]
for (const pb::Range range : gate_pb.mrg().ranges()) {
^
/Library/Frameworks/R.framework/Versions/4.3-arm64/Resources/library/cytolib/include/cytolib/gate.hpp:238:10: note: use reference type 'const pb::Range &' to prevent copying
for (const pb::Range range : gate_pb.mrg().ranges()) {
^~~~~~~~~~~~~~~~~~~~~~~
&
1 warning generated.
clang++ -arch arm64 -std=gnu++11 -I"/Library/Frameworks/R.framework/Resources/include" -DNDEBUG -DROUT -I../inst/include -DBOOST_NO_AUTO_PTR -Wno-pedantic -I'/Library/Frameworks/R.framework/Versions/4.3-arm64/Resources/library/cpp11/include' -I'/Library/Frameworks/R.framework/Versions/4.3-arm64/Resources/library/BH/include' -I'/Library/Frameworks/R.framework/Versions/4.3-arm64/Resources/library/RProtoBufLib/include' -I'/Library/Frameworks/R.framework/Versions/4.3-arm64/Resources/library/cytolib/include' -I'/Library/Frameworks/R.framework/Versions/4.3-arm64/Resources/library/Rhdf5lib/include' -I/opt/R/arm64/include -fPIC -falign-functions=64 -Wall -g -O2 -c R_GatingSet.cpp -o R_GatingSet.o
In file included from R_GatingSet.cpp:10:
In file included from ./flowWorkspace_types.h:8:
In file included from /Library/Frameworks/R.framework/Versions/4.3-arm64/Resources/library/cytolib/include/cytolib/GatingSet.hpp:14:
In file included from /Library/Frameworks/R.framework/Versions/4.3-arm64/Resources/library/cytolib/include/cytolib/GatingHierarchy.hpp:17:
In file included from /Library/Frameworks/R.framework/Versions/4.3-arm64/Resources/library/cytolib/include/cytolib/populationTree.hpp:13:
In file included from /Library/Frameworks/R.framework/Versions/4.3-arm64/Resources/library/cytolib/include/cytolib/nodeProperties.hpp:13:
In file included from /Library/Frameworks/R.framework/Versions/4.3-arm64/Resources/library/cytolib/include/cytolib/POPINDICES.hpp:14:
/Library/Frameworks/R.framework/Versions/4.3-arm64/Resources/library/cytolib/include/cytolib/gate.hpp:238:26: warning: loop variable 'range' creates a copy from type 'const pb::Range' [-Wrange-loop-construct]
for (const pb::Range range : gate_pb.mrg().ranges()) {
^
/Library/Frameworks/R.framework/Versions/4.3-arm64/Resources/library/cytolib/include/cytolib/gate.hpp:238:10: note: use reference type 'const pb::Range &' to prevent copying
for (const pb::Range range : gate_pb.mrg().ranges()) {
^~~~~~~~~~~~~~~~~~~~~~~
&
1 warning generated.
clang++ -arch arm64 -std=gnu++11 -I"/Library/Frameworks/R.framework/Resources/include" -DNDEBUG -DROUT -I../inst/include -DBOOST_NO_AUTO_PTR -Wno-pedantic -I'/Library/Frameworks/R.framework/Versions/4.3-arm64/Resources/library/cpp11/include' -I'/Library/Frameworks/R.framework/Versions/4.3-arm64/Resources/library/BH/include' -I'/Library/Frameworks/R.framework/Versions/4.3-arm64/Resources/library/RProtoBufLib/include' -I'/Library/Frameworks/R.framework/Versions/4.3-arm64/Resources/library/cytolib/include' -I'/Library/Frameworks/R.framework/Versions/4.3-arm64/Resources/library/Rhdf5lib/include' -I/opt/R/arm64/include -fPIC -falign-functions=64 -Wall -g -O2 -c cpp11.cpp -o cpp11.o
In file included from cpp11.cpp:4:
In file included from ./flowWorkspace_types.h:8:
In file included from /Library/Frameworks/R.framework/Versions/4.3-arm64/Resources/library/cytolib/include/cytolib/GatingSet.hpp:14:
In file included from /Library/Frameworks/R.framework/Versions/4.3-arm64/Resources/library/cytolib/include/cytolib/GatingHierarchy.hpp:17:
In file included from /Library/Frameworks/R.framework/Versions/4.3-arm64/Resources/library/cytolib/include/cytolib/populationTree.hpp:13:
In file included from /Library/Frameworks/R.framework/Versions/4.3-arm64/Resources/library/cytolib/include/cytolib/nodeProperties.hpp:13:
In file included from /Library/Frameworks/R.framework/Versions/4.3-arm64/Resources/library/cytolib/include/cytolib/POPINDICES.hpp:14:
/Library/Frameworks/R.framework/Versions/4.3-arm64/Resources/library/cytolib/include/cytolib/gate.hpp:238:26: warning: loop variable 'range' creates a copy from type 'const pb::Range' [-Wrange-loop-construct]
for (const pb::Range range : gate_pb.mrg().ranges()) {
^
/Library/Frameworks/R.framework/Versions/4.3-arm64/Resources/library/cytolib/include/cytolib/gate.hpp:238:10: note: use reference type 'const pb::Range &' to prevent copying
for (const pb::Range range : gate_pb.mrg().ranges()) {
^~~~~~~~~~~~~~~~~~~~~~~
&
In file included from cpp11.cpp:4:
In file included from ./flowWorkspace_types.h:5:
In file included from /Library/Frameworks/R.framework/Versions/4.3-arm64/Resources/library/cpp11/include/cpp11/declarations.hpp:8:
In file included from /Library/Frameworks/R.framework/Versions/4.3-arm64/Resources/library/cpp11/include/cpp11.hpp:10:
/Library/Frameworks/R.framework/Versions/4.3-arm64/Resources/library/cpp11/include/cpp11/external_pointer.hpp:17:3: warning: delete called on non-final 'cytolib::CytoFrameView' that has virtual functions but non-virtual destructor [-Wdelete-non-abstract-non-virtual-dtor]
delete obj;
^
/Library/Frameworks/R.framework/Versions/4.3-arm64/Resources/library/cpp11/include/cpp11/external_pointer.hpp:20:42: note: in instantiation of function template specialization 'cpp11::default_deleter<cytolib::CytoFrameView>' requested here
template <typename T, void Deleter(T*) = default_deleter<T>>
^
2 warnings generated.
clang++ -arch arm64 -std=gnu++11 -I"/Library/Frameworks/R.framework/Resources/include" -DNDEBUG -DROUT -I../inst/include -DBOOST_NO_AUTO_PTR -Wno-pedantic -I'/Library/Frameworks/R.framework/Versions/4.3-arm64/Resources/library/cpp11/include' -I'/Library/Frameworks/R.framework/Versions/4.3-arm64/Resources/library/BH/include' -I'/Library/Frameworks/R.framework/Versions/4.3-arm64/Resources/library/RProtoBufLib/include' -I'/Library/Frameworks/R.framework/Versions/4.3-arm64/Resources/library/cytolib/include' -I'/Library/Frameworks/R.framework/Versions/4.3-arm64/Resources/library/Rhdf5lib/include' -I/opt/R/arm64/include -fPIC -falign-functions=64 -Wall -g -O2 -c cytoframeAPI.cpp -o cytoframeAPI.o
In file included from cytoframeAPI.cpp:6:
In file included from /Library/Frameworks/R.framework/Versions/4.3-arm64/Resources/library/cytolib/include/cytolib/GatingHierarchy.hpp:17:
In file included from /Library/Frameworks/R.framework/Versions/4.3-arm64/Resources/library/cytolib/include/cytolib/populationTree.hpp:13:
In file included from /Library/Frameworks/R.framework/Versions/4.3-arm64/Resources/library/cytolib/include/cytolib/nodeProperties.hpp:13:
In file included from /Library/Frameworks/R.framework/Versions/4.3-arm64/Resources/library/cytolib/include/cytolib/POPINDICES.hpp:14:
/Library/Frameworks/R.framework/Versions/4.3-arm64/Resources/library/cytolib/include/cytolib/gate.hpp:238:26: warning: loop variable 'range' creates a copy from type 'const pb::Range' [-Wrange-loop-construct]
for (const pb::Range range : gate_pb.mrg().ranges()) {
^
/Library/Frameworks/R.framework/Versions/4.3-arm64/Resources/library/cytolib/include/cytolib/gate.hpp:238:10: note: use reference type 'const pb::Range &' to prevent copying
for (const pb::Range range : gate_pb.mrg().ranges()) {
^~~~~~~~~~~~~~~~~~~~~~~
&
In file included from cytoframeAPI.cpp:1:
In file included from /Library/Frameworks/R.framework/Versions/4.3-arm64/Resources/library/cpp11/include/cpp11.hpp:10:
/Library/Frameworks/R.framework/Versions/4.3-arm64/Resources/library/cpp11/include/cpp11/external_pointer.hpp:17:3: warning: delete called on non-final 'cytolib::CytoFrameView' that has virtual functions but non-virtual destructor [-Wdelete-non-abstract-non-virtual-dtor]
delete obj;
^
/Library/Frameworks/R.framework/Versions/4.3-arm64/Resources/library/cpp11/include/cpp11/external_pointer.hpp:20:42: note: in instantiation of function template specialization 'cpp11::default_deleter<cytolib::CytoFrameView>' requested here
template <typename T, void Deleter(T*) = default_deleter<T>>
^
2 warnings generated.
clang++ -arch arm64 -std=gnu++11 -I"/Library/Frameworks/R.framework/Resources/include" -DNDEBUG -DROUT -I../inst/include -DBOOST_NO_AUTO_PTR -Wno-pedantic -I'/Library/Frameworks/R.framework/Versions/4.3-arm64/Resources/library/cpp11/include' -I'/Library/Frameworks/R.framework/Versions/4.3-arm64/Resources/library/BH/include' -I'/Library/Frameworks/R.framework/Versions/4.3-arm64/Resources/library/RProtoBufLib/include' -I'/Library/Frameworks/R.framework/Versions/4.3-arm64/Resources/library/cytolib/include' -I'/Library/Frameworks/R.framework/Versions/4.3-arm64/Resources/library/Rhdf5lib/include' -I/opt/R/arm64/include -fPIC -falign-functions=64 -Wall -g -O2 -c cytosetAPI.cpp -o cytosetAPI.o
In file included from cytosetAPI.cpp:2:
In file included from ../inst/include/flowWorkspace/pairVectorCpp11Convert.h:12:
In file included from /Library/Frameworks/R.framework/Versions/4.3-arm64/Resources/library/cytolib/include/cytolib/GatingSet.hpp:14:
In file included from /Library/Frameworks/R.framework/Versions/4.3-arm64/Resources/library/cytolib/include/cytolib/GatingHierarchy.hpp:17:
In file included from /Library/Frameworks/R.framework/Versions/4.3-arm64/Resources/library/cytolib/include/cytolib/populationTree.hpp:13:
In file included from /Library/Frameworks/R.framework/Versions/4.3-arm64/Resources/library/cytolib/include/cytolib/nodeProperties.hpp:13:
In file included from /Library/Frameworks/R.framework/Versions/4.3-arm64/Resources/library/cytolib/include/cytolib/POPINDICES.hpp:14:
/Library/Frameworks/R.framework/Versions/4.3-arm64/Resources/library/cytolib/include/cytolib/gate.hpp:238:26: warning: loop variable 'range' creates a copy from type 'const pb::Range' [-Wrange-loop-construct]
for (const pb::Range range : gate_pb.mrg().ranges()) {
^
/Library/Frameworks/R.framework/Versions/4.3-arm64/Resources/library/cytolib/include/cytolib/gate.hpp:238:10: note: use reference type 'const pb::Range &' to prevent copying
for (const pb::Range range : gate_pb.mrg().ranges()) {
^~~~~~~~~~~~~~~~~~~~~~~
&
In file included from cytosetAPI.cpp:2:
In file included from ../inst/include/flowWorkspace/pairVectorCpp11Convert.h:10:
In file included from /Library/Frameworks/R.framework/Versions/4.3-arm64/Resources/library/cpp11/include/cpp11.hpp:10:
/Library/Frameworks/R.framework/Versions/4.3-arm64/Resources/library/cpp11/include/cpp11/external_pointer.hpp:17:3: warning: delete called on non-final 'cytolib::CytoFrameView' that has virtual functions but non-virtual destructor [-Wdelete-non-abstract-non-virtual-dtor]
delete obj;
^
/Library/Frameworks/R.framework/Versions/4.3-arm64/Resources/library/cpp11/include/cpp11/external_pointer.hpp:20:42: note: in instantiation of function template specialization 'cpp11::default_deleter<cytolib::CytoFrameView>' requested here
template <typename T, void Deleter(T*) = default_deleter<T>>
^
2 warnings generated.
clang++ -arch arm64 -std=gnu++11 -I"/Library/Frameworks/R.framework/Resources/include" -DNDEBUG -DROUT -I../inst/include -DBOOST_NO_AUTO_PTR -Wno-pedantic -I'/Library/Frameworks/R.framework/Versions/4.3-arm64/Resources/library/cpp11/include' -I'/Library/Frameworks/R.framework/Versions/4.3-arm64/Resources/library/BH/include' -I'/Library/Frameworks/R.framework/Versions/4.3-arm64/Resources/library/RProtoBufLib/include' -I'/Library/Frameworks/R.framework/Versions/4.3-arm64/Resources/library/cytolib/include' -I'/Library/Frameworks/R.framework/Versions/4.3-arm64/Resources/library/Rhdf5lib/include' -I/opt/R/arm64/include -fPIC -falign-functions=64 -Wall -g -O2 -c getDescendants.cpp -o getDescendants.o
In file included from getDescendants.cpp:1:
In file included from /Library/Frameworks/R.framework/Versions/4.3-arm64/Resources/library/cytolib/include/cytolib/GatingSet.hpp:14:
In file included from /Library/Frameworks/R.framework/Versions/4.3-arm64/Resources/library/cytolib/include/cytolib/GatingHierarchy.hpp:17:
In file included from /Library/Frameworks/R.framework/Versions/4.3-arm64/Resources/library/cytolib/include/cytolib/populationTree.hpp:13:
In file included from /Library/Frameworks/R.framework/Versions/4.3-arm64/Resources/library/cytolib/include/cytolib/nodeProperties.hpp:13:
In file included from /Library/Frameworks/R.framework/Versions/4.3-arm64/Resources/library/cytolib/include/cytolib/POPINDICES.hpp:14:
/Library/Frameworks/R.framework/Versions/4.3-arm64/Resources/library/cytolib/include/cytolib/gate.hpp:238:26: warning: loop variable 'range' creates a copy from type 'const pb::Range' [-Wrange-loop-construct]
for (const pb::Range range : gate_pb.mrg().ranges()) {
^
/Library/Frameworks/R.framework/Versions/4.3-arm64/Resources/library/cytolib/include/cytolib/gate.hpp:238:10: note: use reference type 'const pb::Range &' to prevent copying
for (const pb::Range range : gate_pb.mrg().ranges()) {
^~~~~~~~~~~~~~~~~~~~~~~
&
1 warning generated.
clang++ -arch arm64 -std=gnu++11 -I"/Library/Frameworks/R.framework/Resources/include" -DNDEBUG -DROUT -I../inst/include -DBOOST_NO_AUTO_PTR -Wno-pedantic -I'/Library/Frameworks/R.framework/Versions/4.3-arm64/Resources/library/cpp11/include' -I'/Library/Frameworks/R.framework/Versions/4.3-arm64/Resources/library/BH/include' -I'/Library/Frameworks/R.framework/Versions/4.3-arm64/Resources/library/RProtoBufLib/include' -I'/Library/Frameworks/R.framework/Versions/4.3-arm64/Resources/library/cytolib/include' -I'/Library/Frameworks/R.framework/Versions/4.3-arm64/Resources/library/Rhdf5lib/include' -I/opt/R/arm64/include -fPIC -falign-functions=64 -Wall -g -O2 -c getPopStats.cpp -o getPopStats.o
In file included from getPopStats.cpp:1:
In file included from /Library/Frameworks/R.framework/Versions/4.3-arm64/Resources/library/cytolib/include/cytolib/GatingSet.hpp:14:
In file included from /Library/Frameworks/R.framework/Versions/4.3-arm64/Resources/library/cytolib/include/cytolib/GatingHierarchy.hpp:17:
In file included from /Library/Frameworks/R.framework/Versions/4.3-arm64/Resources/library/cytolib/include/cytolib/populationTree.hpp:13:
In file included from /Library/Frameworks/R.framework/Versions/4.3-arm64/Resources/library/cytolib/include/cytolib/nodeProperties.hpp:13:
In file included from /Library/Frameworks/R.framework/Versions/4.3-arm64/Resources/library/cytolib/include/cytolib/POPINDICES.hpp:14:
/Library/Frameworks/R.framework/Versions/4.3-arm64/Resources/library/cytolib/include/cytolib/gate.hpp:238:26: warning: loop variable 'range' creates a copy from type 'const pb::Range' [-Wrange-loop-construct]
for (const pb::Range range : gate_pb.mrg().ranges()) {
^
/Library/Frameworks/R.framework/Versions/4.3-arm64/Resources/library/cytolib/include/cytolib/gate.hpp:238:10: note: use reference type 'const pb::Range &' to prevent copying
for (const pb::Range range : gate_pb.mrg().ranges()) {
^~~~~~~~~~~~~~~~~~~~~~~
&
1 warning generated.
clang++ -arch arm64 -std=gnu++11 -I"/Library/Frameworks/R.framework/Resources/include" -DNDEBUG -DROUT -I../inst/include -DBOOST_NO_AUTO_PTR -Wno-pedantic -I'/Library/Frameworks/R.framework/Versions/4.3-arm64/Resources/library/cpp11/include' -I'/Library/Frameworks/R.framework/Versions/4.3-arm64/Resources/library/BH/include' -I'/Library/Frameworks/R.framework/Versions/4.3-arm64/Resources/library/RProtoBufLib/include' -I'/Library/Frameworks/R.framework/Versions/4.3-arm64/Resources/library/cytolib/include' -I'/Library/Frameworks/R.framework/Versions/4.3-arm64/Resources/library/Rhdf5lib/include' -I/opt/R/arm64/include -fPIC -falign-functions=64 -Wall -g -O2 -c getSingleCellExpression.cpp -o getSingleCellExpression.o
In file included from getSingleCellExpression.cpp:1:
In file included from /Library/Frameworks/R.framework/Versions/4.3-arm64/Resources/library/cytolib/include/cytolib/GatingSet.hpp:14:
In file included from /Library/Frameworks/R.framework/Versions/4.3-arm64/Resources/library/cytolib/include/cytolib/GatingHierarchy.hpp:17:
In file included from /Library/Frameworks/R.framework/Versions/4.3-arm64/Resources/library/cytolib/include/cytolib/populationTree.hpp:13:
In file included from /Library/Frameworks/R.framework/Versions/4.3-arm64/Resources/library/cytolib/include/cytolib/nodeProperties.hpp:13:
In file included from /Library/Frameworks/R.framework/Versions/4.3-arm64/Resources/library/cytolib/include/cytolib/POPINDICES.hpp:14:
/Library/Frameworks/R.framework/Versions/4.3-arm64/Resources/library/cytolib/include/cytolib/gate.hpp:238:26: warning: loop variable 'range' creates a copy from type 'const pb::Range' [-Wrange-loop-construct]
for (const pb::Range range : gate_pb.mrg().ranges()) {
^
/Library/Frameworks/R.framework/Versions/4.3-arm64/Resources/library/cytolib/include/cytolib/gate.hpp:238:10: note: use reference type 'const pb::Range &' to prevent copying
for (const pb::Range range : gate_pb.mrg().ranges()) {
^~~~~~~~~~~~~~~~~~~~~~~
&
1 warning generated.
clang++ -arch arm64 -std=gnu++11 -I"/Library/Frameworks/R.framework/Resources/include" -DNDEBUG -DROUT -I../inst/include -DBOOST_NO_AUTO_PTR -Wno-pedantic -I'/Library/Frameworks/R.framework/Versions/4.3-arm64/Resources/library/cpp11/include' -I'/Library/Frameworks/R.framework/Versions/4.3-arm64/Resources/library/BH/include' -I'/Library/Frameworks/R.framework/Versions/4.3-arm64/Resources/library/RProtoBufLib/include' -I'/Library/Frameworks/R.framework/Versions/4.3-arm64/Resources/library/cytolib/include' -I'/Library/Frameworks/R.framework/Versions/4.3-arm64/Resources/library/Rhdf5lib/include' -I/opt/R/arm64/include -fPIC -falign-functions=64 -Wall -g -O2 -c h5_error_r_handler.cpp -o h5_error_r_handler.o
In file included from h5_error_r_handler.cpp:8:
In file included from ../inst/include/flowWorkspace/pairVectorCpp11Convert.h:12:
In file included from /Library/Frameworks/R.framework/Versions/4.3-arm64/Resources/library/cytolib/include/cytolib/GatingSet.hpp:14:
In file included from /Library/Frameworks/R.framework/Versions/4.3-arm64/Resources/library/cytolib/include/cytolib/GatingHierarchy.hpp:17:
In file included from /Library/Frameworks/R.framework/Versions/4.3-arm64/Resources/library/cytolib/include/cytolib/populationTree.hpp:13:
In file included from /Library/Frameworks/R.framework/Versions/4.3-arm64/Resources/library/cytolib/include/cytolib/nodeProperties.hpp:13:
In file included from /Library/Frameworks/R.framework/Versions/4.3-arm64/Resources/library/cytolib/include/cytolib/POPINDICES.hpp:14:
/Library/Frameworks/R.framework/Versions/4.3-arm64/Resources/library/cytolib/include/cytolib/gate.hpp:238:26: warning: loop variable 'range' creates a copy from type 'const pb::Range' [-Wrange-loop-construct]
for (const pb::Range range : gate_pb.mrg().ranges()) {
^
/Library/Frameworks/R.framework/Versions/4.3-arm64/Resources/library/cytolib/include/cytolib/gate.hpp:238:10: note: use reference type 'const pb::Range &' to prevent copying
for (const pb::Range range : gate_pb.mrg().ranges()) {
^~~~~~~~~~~~~~~~~~~~~~~
&
1 warning generated.
clang++ -arch arm64 -std=gnu++11 -I"/Library/Frameworks/R.framework/Resources/include" -DNDEBUG -DROUT -I../inst/include -DBOOST_NO_AUTO_PTR -Wno-pedantic -I'/Library/Frameworks/R.framework/Versions/4.3-arm64/Resources/library/cpp11/include' -I'/Library/Frameworks/R.framework/Versions/4.3-arm64/Resources/library/BH/include' -I'/Library/Frameworks/R.framework/Versions/4.3-arm64/Resources/library/RProtoBufLib/include' -I'/Library/Frameworks/R.framework/Versions/4.3-arm64/Resources/library/cytolib/include' -I'/Library/Frameworks/R.framework/Versions/4.3-arm64/Resources/library/Rhdf5lib/include' -I/opt/R/arm64/include -fPIC -falign-functions=64 -Wall -g -O2 -c setCounts.cpp -o setCounts.o
In file included from setCounts.cpp:1:
In file included from /Library/Frameworks/R.framework/Versions/4.3-arm64/Resources/library/cytolib/include/cytolib/GatingSet.hpp:14:
In file included from /Library/Frameworks/R.framework/Versions/4.3-arm64/Resources/library/cytolib/include/cytolib/GatingHierarchy.hpp:17:
In file included from /Library/Frameworks/R.framework/Versions/4.3-arm64/Resources/library/cytolib/include/cytolib/populationTree.hpp:13:
In file included from /Library/Frameworks/R.framework/Versions/4.3-arm64/Resources/library/cytolib/include/cytolib/nodeProperties.hpp:13:
In file included from /Library/Frameworks/R.framework/Versions/4.3-arm64/Resources/library/cytolib/include/cytolib/POPINDICES.hpp:14:
/Library/Frameworks/R.framework/Versions/4.3-arm64/Resources/library/cytolib/include/cytolib/gate.hpp:238:26: warning: loop variable 'range' creates a copy from type 'const pb::Range' [-Wrange-loop-construct]
for (const pb::Range range : gate_pb.mrg().ranges()) {
^
/Library/Frameworks/R.framework/Versions/4.3-arm64/Resources/library/cytolib/include/cytolib/gate.hpp:238:10: note: use reference type 'const pb::Range &' to prevent copying
for (const pb::Range range : gate_pb.mrg().ranges()) {
^~~~~~~~~~~~~~~~~~~~~~~
&
1 warning generated.
clang++ -arch arm64 -std=gnu++11 -dynamiclib -Wl,-headerpad_max_install_names -undefined dynamic_lookup -single_module -multiply_defined suppress -L/Library/Frameworks/R.framework/Resources/lib -L/opt/R/arm64/lib -o flowWorkspace.so R_API.o R_GatingHierarchy.o R_GatingSet.o cpp11.o cytoframeAPI.o cytosetAPI.o getDescendants.o getPopStats.o getSingleCellExpression.o h5_error_r_handler.o setCounts.o /Library/Frameworks/R.framework/Versions/4.3-arm64/Resources/library/cytolib/lib/libcytolib.a /Library/Frameworks/R.framework/Versions/4.3-arm64/Resources/library/Rhdf5lib/lib/libhdf5_cpp.a /Library/Frameworks/R.framework/Versions/4.3-arm64/Resources/library/Rhdf5lib/lib/libhdf5.a -L/Library/Frameworks/R.framework/Versions/4.3-arm64/Resources/library/Rhdf5lib/lib -lcrypto -lcurl -lsz -laec -lz -ldl -lm -L/Library/Frameworks/R.framework/Resources/lib -lRlapack -L/Library/Frameworks/R.framework/Resources/lib -lRblas -F/Library/Frameworks/R.framework/.. -framework R -Wl,-framework -Wl,CoreFoundation
installing to /Library/Frameworks/R.framework/Versions/4.3-arm64/Resources/library/00LOCK-flowWorkspace/00new/flowWorkspace/libs
** R
** inst
** byte-compile and prepare package for lazy loading
** help
*** installing help indices
** building package indices
** installing vignettes
** testing if installed package can be loaded from temporary location
** checking absolute paths in shared objects and dynamic libraries
** testing if installed package can be loaded from final location
** testing if installed package keeps a record of temporary installation path
* DONE (flowWorkspace)