| Back to Mac ARM64 build report for BioC 3.17 |
|
This page was generated on 2023-10-20 09:38:04 -0400 (Fri, 20 Oct 2023).
| Hostname | OS | Arch (*) | R version | Installed pkgs |
|---|---|---|---|---|
| kjohnson2 | macOS 12.6.1 Monterey | arm64 | 4.3.1 (2023-06-16) -- "Beagle Scouts" | 4347 |
| Click on any hostname to see more info about the system (e.g. compilers) (*) as reported by 'uname -p', except on Windows and Mac OS X | ||||
| Package 926/2230 | Hostname | OS / Arch | INSTALL | BUILD | CHECK | BUILD BIN | ||||||||
| HiCcompare 1.22.1 (landing page) Mikhail Dozmorov
| kjohnson2 | macOS 12.6.1 Monterey / arm64 | OK | OK | OK | OK | ||||||||
|
To the developers/maintainers of the HiCcompare package: - Use the following Renviron settings to reproduce errors and warnings. - If 'R CMD check' started to fail recently on the Linux builder(s) over a missing dependency, add the missing dependency to 'Suggests:' in your DESCRIPTION file. See Renviron.bioc for more information. |
| Package: HiCcompare |
| Version: 1.22.1 |
| Command: /Library/Frameworks/R.framework/Resources/bin/R CMD check --install=check:HiCcompare.install-out.txt --library=/Library/Frameworks/R.framework/Resources/library --no-vignettes --timings HiCcompare_1.22.1.tar.gz |
| StartedAt: 2023-10-18 00:33:24 -0400 (Wed, 18 Oct 2023) |
| EndedAt: 2023-10-18 00:39:05 -0400 (Wed, 18 Oct 2023) |
| EllapsedTime: 340.6 seconds |
| RetCode: 0 |
| Status: OK |
| CheckDir: HiCcompare.Rcheck |
| Warnings: 0 |
##############################################################################
##############################################################################
###
### Running command:
###
### /Library/Frameworks/R.framework/Resources/bin/R CMD check --install=check:HiCcompare.install-out.txt --library=/Library/Frameworks/R.framework/Resources/library --no-vignettes --timings HiCcompare_1.22.1.tar.gz
###
##############################################################################
##############################################################################
* using log directory ‘/Users/biocbuild/bbs-3.17-bioc-mac-arm64/meat/HiCcompare.Rcheck’
* using R version 4.3.1 (2023-06-16)
* using platform: aarch64-apple-darwin20 (64-bit)
* R was compiled by
Apple clang version 14.0.0 (clang-1400.0.29.202)
GNU Fortran (GCC) 12.2.0
* running under: macOS Monterey 12.6.7
* using session charset: UTF-8
* using option ‘--no-vignettes’
* checking for file ‘HiCcompare/DESCRIPTION’ ... OK
* this is package ‘HiCcompare’ version ‘1.22.1’
* package encoding: UTF-8
* checking package namespace information ... OK
* checking package dependencies ... OK
* checking if this is a source package ... OK
* checking if there is a namespace ... OK
* checking for hidden files and directories ... OK
* checking for portable file names ... OK
* checking for sufficient/correct file permissions ... OK
* checking whether package ‘HiCcompare’ can be installed ... OK
* checking installed package size ... OK
* checking package directory ... OK
* checking ‘build’ directory ... OK
* checking DESCRIPTION meta-information ... OK
* checking top-level files ... OK
* checking for left-over files ... OK
* checking index information ... OK
* checking package subdirectories ... OK
* checking R files for non-ASCII characters ... OK
* checking R files for syntax errors ... OK
* checking whether the package can be loaded ... OK
* checking whether the package can be loaded with stated dependencies ... OK
* checking whether the package can be unloaded cleanly ... OK
* checking whether the namespace can be loaded with stated dependencies ... OK
* checking whether the namespace can be unloaded cleanly ... OK
* checking dependencies in R code ... OK
* checking S3 generic/method consistency ... OK
* checking replacement functions ... OK
* checking foreign function calls ... OK
* checking R code for possible problems ... NOTE
.adjust_pval : <anonymous>: no visible binding for global variable
‘p.adj’
.adjust_pval : <anonymous>: no visible binding for global variable
‘p.value’
.adjust_pval: no visible binding for global variable ‘p.value’
.adjust_pval: no visible binding for global variable ‘p.adj’
.calc.diff.thresh: no visible global function definition for ‘sd’
.calc.pval: no visible binding for global variable ‘D’
.calc.pval: no visible binding for global variable ‘p.value’
.calc.pval: no visible binding for global variable ‘p.adj’
.calc.pval: no visible binding for global variable ‘adj.M’
.calc.pval: no visible binding for global variable ‘fold.change’
.calc.pval: no visible binding for global variable ‘adj.IF2’
.calc.pval: no visible binding for global variable ‘adj.IF1’
.calc_z2: no visible global function definition for ‘sd’
.calc_z2: no visible binding for global variable ‘Z’
.calc_z2: no visible global function definition for ‘pnorm’
.calc_z2: no visible binding for global variable ‘p.value’
.loess.matrix: no visible binding for global variable ‘adj.IF1’
.loess.matrix: no visible binding for global variable ‘IF1’
.loess.matrix: no visible binding for global variable ‘adj.IF2’
.loess.matrix: no visible binding for global variable ‘IF2’
.loess.matrix: no visible binding for global variable ‘adj.M’
.loess.matrix: no visible binding for global variable ‘A’
.sim.mat: no visible global function definition for ‘head’
.split_cent: no visible binding for global variable
‘centromere_locations’
.split_cent: no visible binding for global variable ‘start1’
.split_cent: no visible binding for global variable ‘start2’
.split_cent: no visible binding for global variable ‘chr1’
.split_cent: no visible binding for global variable ‘chr2’
MA_norm: no visible binding for global variable ‘D’
MA_norm: no visible binding for global variable ‘M’
MA_norm: no visible binding for global variable ‘adj.IF1’
MA_norm: no visible binding for global variable ‘IF1’
MA_norm: no visible binding for global variable ‘adj.IF2’
MA_norm: no visible binding for global variable ‘IF2’
MA_norm: no visible binding for global variable ‘adj.M’
cooler2sparse: no visible binding for global variable ‘chr1’
cooler2sparse: no visible binding for global variable ‘chr2’
cooler2sparse: no visible binding for global variable ‘IF’
create.hic.table: no visible binding for global variable ‘D’
create.hic.table: no visible binding for global variable ‘region2’
create.hic.table: no visible binding for global variable ‘region1’
create.hic.table: no visible binding for global variable ‘IF2’
create.hic.table: no visible binding for global variable ‘M’
create.hic.table: no visible binding for global variable ‘IF1’
create.hic.table: no visible binding for global variable ‘i’
create.hic.table: no visible binding for global variable ‘j’
filter_params: no visible binding for global variable ‘M’
filter_params: no visible binding for global variable ‘IF1’
filter_params: no visible binding for global variable ‘IF2’
filter_params: no visible global function definition for ‘axis’
full2sparse: no visible binding for global variable ‘IF’
hic_compare : <anonymous>: no visible binding for global variable
‘p.adj’
hic_simulate: no visible binding for global variable ‘bias.slope’
hic_simulate: no visible global function definition for ‘na.omit’
hicpro2bedpe: no visible binding for global variable ‘chr1’
hicpro2bedpe: no visible binding for global variable ‘chr2’
manhattan_plot: no visible binding for global variable ‘bp’
manhattan_plot: no visible binding for global variable ‘count’
sim.other.methods: no visible binding for global variable ‘adj.IF1’
sim.other.methods: no visible binding for global variable ‘IF1’
sim.other.methods: no visible binding for global variable ‘adj.IF2’
sim.other.methods: no visible binding for global variable ‘IF2’
sim.other.methods: no visible binding for global variable ‘adj.M’
sim.other.methods: no visible binding for global variable ‘M’
sim.other.methods: no visible global function definition for ‘na.omit’
sim_matrix: no visible binding for global variable ‘bias.slope’
total_sum: no visible binding for global variable ‘IF2’
total_sum: no visible binding for global variable ‘M’
total_sum: no visible binding for global variable ‘IF1’
total_sum: no visible binding for global variable ‘chr1’
volcano: no visible binding for global variable ‘A’
volcano: no visible binding for global variable ‘adj.IF1’
volcano: no visible binding for global variable ‘adj.IF2’
volcano: no visible binding for global variable ‘p.value’
volcano: no visible binding for global variable ‘D’
Undefined global functions or variables:
A D IF IF1 IF2 M Z adj.IF1 adj.IF2 adj.M axis bias.slope bp
centromere_locations chr1 chr2 count fold.change head i j na.omit
p.adj p.value pnorm region1 region2 sd start1 start2
Consider adding
importFrom("graphics", "axis")
importFrom("stats", "D", "na.omit", "pnorm", "sd")
importFrom("utils", "head")
to your NAMESPACE file.
* checking Rd files ... OK
* checking Rd metadata ... OK
* checking Rd cross-references ... OK
* checking for missing documentation entries ... OK
* checking for code/documentation mismatches ... OK
* checking Rd \usage sections ... OK
* checking Rd contents ... OK
* checking for unstated dependencies in examples ... OK
* checking contents of ‘data’ directory ... OK
* checking data for non-ASCII characters ... OK
* checking LazyData ... OK
* checking data for ASCII and uncompressed saves ... OK
* checking files in ‘vignettes’ ... OK
* checking examples ... OK
Examples with CPU (user + system) or elapsed time > 5s
user system elapsed
hic_diff 3.335 0.312 5.547
filter_params 3.536 0.100 5.530
* checking for unstated dependencies in ‘tests’ ... OK
* checking tests ...
Running ‘testthat.R’
OK
* checking for unstated dependencies in vignettes ... OK
* checking package vignettes in ‘inst/doc’ ... OK
* checking running R code from vignettes ... SKIPPED
* checking re-building of vignette outputs ... SKIPPED
* checking PDF version of manual ... OK
* DONE
Status: 1 NOTE
See
‘/Users/biocbuild/bbs-3.17-bioc-mac-arm64/meat/HiCcompare.Rcheck/00check.log’
for details.
HiCcompare.Rcheck/00install.out
############################################################################## ############################################################################## ### ### Running command: ### ### /Library/Frameworks/R.framework/Resources/bin/R CMD INSTALL HiCcompare ### ############################################################################## ############################################################################## * installing to library ‘/Library/Frameworks/R.framework/Versions/4.3-arm64/Resources/library’ * installing *source* package ‘HiCcompare’ ... ** using staged installation ** R ** data *** moving datasets to lazyload DB ** inst ** byte-compile and prepare package for lazy loading Note: wrong number of arguments to 'ceiling' ** help *** installing help indices ** building package indices ** installing vignettes ** testing if installed package can be loaded from temporary location ** testing if installed package can be loaded from final location ** testing if installed package keeps a record of temporary installation path * DONE (HiCcompare)
HiCcompare.Rcheck/tests/testthat.Rout
R version 4.3.1 (2023-06-16) -- "Beagle Scouts"
Copyright (C) 2023 The R Foundation for Statistical Computing
Platform: aarch64-apple-darwin20 (64-bit)
R is free software and comes with ABSOLUTELY NO WARRANTY.
You are welcome to redistribute it under certain conditions.
Type 'license()' or 'licence()' for distribution details.
R is a collaborative project with many contributors.
Type 'contributors()' for more information and
'citation()' on how to cite R or R packages in publications.
Type 'demo()' for some demos, 'help()' for on-line help, or
'help.start()' for an HTML browser interface to help.
Type 'q()' to quit R.
> library(testthat)
> library(HiCcompare)
Loading required package: dplyr
Attaching package: 'dplyr'
The following object is masked from 'package:testthat':
matches
The following objects are masked from 'package:stats':
filter, lag
The following objects are masked from 'package:base':
intersect, setdiff, setequal, union
>
> test_check("HiCcompare")
[ FAIL 0 | WARN 0 | SKIP 0 | PASS 28 ]
>
> proc.time()
user system elapsed
9.967 0.488 16.041
HiCcompare.Rcheck/HiCcompare-Ex.timings
| name | user | system | elapsed | |
| KRnorm | 0.004 | 0.002 | 0.006 | |
| MA_norm | 0.113 | 0.005 | 0.175 | |
| MD.plot1 | 0.244 | 0.021 | 0.404 | |
| MD.plot2 | 0.277 | 0.015 | 0.462 | |
| SCN | 0.002 | 0.001 | 0.004 | |
| cooler2bedpe | 0.000 | 0.000 | 0.001 | |
| cooler2sparse | 0.738 | 0.029 | 1.182 | |
| create.hic.table | 0.012 | 0.003 | 0.026 | |
| filter_params | 3.536 | 0.100 | 5.530 | |
| full2sparse | 0.004 | 0.001 | 0.007 | |
| hic_compare | 0.392 | 0.029 | 0.653 | |
| hic_diff | 3.335 | 0.312 | 5.547 | |
| hic_loess | 0.250 | 0.026 | 0.421 | |
| hic_simulate | 1.130 | 0.066 | 1.826 | |
| hicpro2bedpe | 0 | 0 | 0 | |
| make_InteractionSet | 0.186 | 0.004 | 0.292 | |
| manhattan_plot | 0.637 | 0.037 | 1.034 | |
| remove_centromere | 0.001 | 0.001 | 0.003 | |
| sim.other.methods | 0.718 | 0.035 | 1.142 | |
| sim_matrix | 1.131 | 0.055 | 1.817 | |
| sparse2full | 0.002 | 0.001 | 0.004 | |
| split_centromere | 0.016 | 0.004 | 0.035 | |
| total_sum | 0.140 | 0.008 | 0.227 | |
| visualize_pvals | 1.092 | 0.040 | 1.689 | |