| Back to Mac ARM64 build report for BioC 3.17 |
|
This page was generated on 2023-10-20 09:38:02 -0400 (Fri, 20 Oct 2023).
| Hostname | OS | Arch (*) | R version | Installed pkgs |
|---|---|---|---|---|
| kjohnson2 | macOS 12.6.1 Monterey | arm64 | 4.3.1 (2023-06-16) -- "Beagle Scouts" | 4347 |
| Click on any hostname to see more info about the system (e.g. compilers) (*) as reported by 'uname -p', except on Windows and Mac OS X | ||||
| Package 700/2230 | Hostname | OS / Arch | INSTALL | BUILD | CHECK | BUILD BIN | ||||||||
| FindIT2 1.6.0 (landing page) Guandong Shang
| kjohnson2 | macOS 12.6.1 Monterey / arm64 | OK | OK | OK | OK | ||||||||
|
To the developers/maintainers of the FindIT2 package: - Use the following Renviron settings to reproduce errors and warnings. - If 'R CMD check' started to fail recently on the Linux builder(s) over a missing dependency, add the missing dependency to 'Suggests:' in your DESCRIPTION file. See Renviron.bioc for more information. |
| Package: FindIT2 |
| Version: 1.6.0 |
| Command: /Library/Frameworks/R.framework/Resources/bin/R CMD check --install=check:FindIT2.install-out.txt --library=/Library/Frameworks/R.framework/Resources/library --no-vignettes --timings FindIT2_1.6.0.tar.gz |
| StartedAt: 2023-10-17 19:32:35 -0400 (Tue, 17 Oct 2023) |
| EndedAt: 2023-10-17 19:42:52 -0400 (Tue, 17 Oct 2023) |
| EllapsedTime: 617.3 seconds |
| RetCode: 0 |
| Status: OK |
| CheckDir: FindIT2.Rcheck |
| Warnings: 0 |
##############################################################################
##############################################################################
###
### Running command:
###
### /Library/Frameworks/R.framework/Resources/bin/R CMD check --install=check:FindIT2.install-out.txt --library=/Library/Frameworks/R.framework/Resources/library --no-vignettes --timings FindIT2_1.6.0.tar.gz
###
##############################################################################
##############################################################################
* using log directory ‘/Users/biocbuild/bbs-3.17-bioc-mac-arm64/meat/FindIT2.Rcheck’
* using R version 4.3.1 (2023-06-16)
* using platform: aarch64-apple-darwin20 (64-bit)
* R was compiled by
Apple clang version 14.0.0 (clang-1400.0.29.202)
GNU Fortran (GCC) 12.2.0
* running under: macOS Monterey 12.6.7
* using session charset: UTF-8
* using option ‘--no-vignettes’
* checking for file ‘FindIT2/DESCRIPTION’ ... OK
* this is package ‘FindIT2’ version ‘1.6.0’
* package encoding: UTF-8
* checking package namespace information ... OK
* checking package dependencies ... OK
* checking if this is a source package ... OK
* checking if there is a namespace ... OK
* checking for hidden files and directories ... OK
* checking for portable file names ... OK
* checking for sufficient/correct file permissions ... OK
* checking whether package ‘FindIT2’ can be installed ... OK
* checking installed package size ... OK
* checking package directory ... OK
* checking ‘build’ directory ... OK
* checking DESCRIPTION meta-information ... OK
* checking top-level files ... OK
* checking for left-over files ... OK
* checking index information ... OK
* checking package subdirectories ... OK
* checking R files for non-ASCII characters ... OK
* checking R files for syntax errors ... OK
* checking whether the package can be loaded ... OK
* checking whether the package can be loaded with stated dependencies ... OK
* checking whether the package can be unloaded cleanly ... OK
* checking whether the namespace can be loaded with stated dependencies ... OK
* checking whether the namespace can be unloaded cleanly ... OK
* checking dependencies in R code ... OK
* checking S3 generic/method consistency ... OK
* checking replacement functions ... OK
* checking foreign function calls ... OK
* checking R code for possible problems ... OK
* checking Rd files ... OK
* checking Rd metadata ... OK
* checking Rd cross-references ... OK
* checking for missing documentation entries ... OK
* checking for code/documentation mismatches ... OK
* checking Rd \usage sections ... OK
* checking Rd contents ... OK
* checking for unstated dependencies in examples ... OK
* checking contents of ‘data’ directory ... OK
* checking data for non-ASCII characters ... OK
* checking data for ASCII and uncompressed saves ... OK
* checking files in ‘vignettes’ ... OK
* checking examples ... OK
Examples with CPU (user + system) or elapsed time > 5s
user system elapsed
findIT_regionRP 7.726 0.182 12.027
calcRP_region 5.854 0.165 9.189
calcRP_coverage 4.378 0.310 7.145
calcRP_TFHit 4.306 0.130 6.776
enhancerPromoterCor 3.428 0.062 5.343
plot_peakGeneCor 3.335 0.059 5.152
* checking for unstated dependencies in ‘tests’ ... OK
* checking tests ...
Running ‘testthat.R’
OK
* checking for unstated dependencies in vignettes ... OK
* checking package vignettes in ‘inst/doc’ ... OK
* checking running R code from vignettes ... SKIPPED
* checking re-building of vignette outputs ... SKIPPED
* checking PDF version of manual ... OK
* DONE
Status: OK
FindIT2.Rcheck/00install.out
############################################################################## ############################################################################## ### ### Running command: ### ### /Library/Frameworks/R.framework/Resources/bin/R CMD INSTALL FindIT2 ### ############################################################################## ############################################################################## * installing to library ‘/Library/Frameworks/R.framework/Versions/4.3-arm64/Resources/library’ * installing *source* package ‘FindIT2’ ... ** using staged installation ** R ** data ** inst ** byte-compile and prepare package for lazy loading ** help *** installing help indices ** building package indices ** installing vignettes ** testing if installed package can be loaded from temporary location ** testing if installed package can be loaded from final location ** testing if installed package keeps a record of temporary installation path * DONE (FindIT2)
FindIT2.Rcheck/tests/testthat.Rout
R version 4.3.1 (2023-06-16) -- "Beagle Scouts"
Copyright (C) 2023 The R Foundation for Statistical Computing
Platform: aarch64-apple-darwin20 (64-bit)
R is free software and comes with ABSOLUTELY NO WARRANTY.
You are welcome to redistribute it under certain conditions.
Type 'license()' or 'licence()' for distribution details.
R is a collaborative project with many contributors.
Type 'contributors()' for more information and
'citation()' on how to cite R or R packages in publications.
Type 'demo()' for some demos, 'help()' for on-line help, or
'help.start()' for an HTML browser interface to help.
Type 'q()' to quit R.
> library(testthat)
> library(FindIT2)
Loading required package: GenomicRanges
Loading required package: stats4
Loading required package: BiocGenerics
Attaching package: 'BiocGenerics'
The following objects are masked from 'package:stats':
IQR, mad, sd, var, xtabs
The following objects are masked from 'package:base':
Filter, Find, Map, Position, Reduce, anyDuplicated, aperm, append,
as.data.frame, basename, cbind, colnames, dirname, do.call,
duplicated, eval, evalq, get, grep, grepl, intersect, is.unsorted,
lapply, mapply, match, mget, order, paste, pmax, pmax.int, pmin,
pmin.int, rank, rbind, rownames, sapply, setdiff, sort, table,
tapply, union, unique, unsplit, which.max, which.min
Loading required package: S4Vectors
Attaching package: 'S4Vectors'
The following object is masked from 'package:utils':
findMatches
The following objects are masked from 'package:base':
I, expand.grid, unname
Loading required package: IRanges
Loading required package: GenomeInfoDb
> if (!requireNamespace("TxDb.Athaliana.BioMart.plantsmart28")) {
+ stop("unable to load TxDb.Athaliana.BioMart.plantsmart28")
+ }
Loading required namespace: TxDb.Athaliana.BioMart.plantsmart28
>
> test_check("FindIT2")
>> preparing gene features information... 2023-10-17 19:40:58
>> some scan range may cross Chr bound, trimming... 2023-10-17 19:41:01
>> preparing weight info... 2023-10-17 19:41:01
>> loading E50h_sampleChr5.bw info... 2023-10-17 19:41:01
------------
>> extracting and calcluating Chr5 signal... 2023-10-17 19:41:01
>> dealing with Chr5 left gene signal... 2023-10-17 19:41:07
>> norming Chr5RP accoring to the whole Chr RP... 2023-10-17 19:41:07
>> merging all Chr RP together... 2023-10-17 19:41:07
>> done 2023-10-17 19:41:07
>> checking seqlevels match... 2023-10-17 19:41:08
>> your peak_GR seqlevel:Chr5...
>> your Txdb seqlevel:Chr1 Chr2 Chr3 Chr4 Chr5 ChrM ChrC...
Good, your Chrs in peak_GR is all in Txdb
------------
annotatePeak using geneScan mode begins
>> preparing gene features information and scan region... 2023-10-17 19:41:08
>> some scan range may cross Chr bound, trimming... 2023-10-17 19:41:09
>> finding overlap peak in gene scan region... 2023-10-17 19:41:09
>> dealing with left peak not your gene scan region... 2023-10-17 19:41:09
>> merging two set peaks... 2023-10-17 19:41:10
>> calculating distance and dealing with gene strand... 2023-10-17 19:41:10
>> merging all info together ... 2023-10-17 19:41:10
>> done 2023-10-17 19:41:10
>> calculating peakCenter to TSS using peak-gene pair... 2023-10-17 19:41:10
>> pre-filling 1356 noAssoc peak gene's RP with 0... 2023-10-17 19:41:11
>> calculating RP using centerToTSS and peak score2023-10-17 19:41:11
>> merging all info together 2023-10-17 19:41:15
>> done 2023-10-17 19:41:17
>> calculating peakCenter to TSS using peak-gene pair... 2023-10-17 19:41:17
>> pre-filling 1356 noAssoc peak gene's RP with 0... 2023-10-17 19:41:19
>> calculating RP using centerToTSS and peak score2023-10-17 19:41:19
>> merging all info together 2023-10-17 19:41:23
>> done 2023-10-17 19:41:24
>> checking seqlevels match... 2023-10-17 19:41:25
>> your peak_GR seqlevel:Chr5...
>> your Txdb seqlevel:Chr1 Chr2 Chr3 Chr4 Chr5 ChrM ChrC...
Good, your Chrs in peak_GR is all in Txdb
------------
annotatePeak using geneScan mode begins
>> preparing gene features information and scan region... 2023-10-17 19:41:25
>> some scan range may cross Chr bound, trimming... 2023-10-17 19:41:26
>> finding overlap peak in gene scan region... 2023-10-17 19:41:26
>> dealing with left peak not your gene scan region... 2023-10-17 19:41:26
>> merging two set peaks... 2023-10-17 19:41:26
>> calculating distance and dealing with gene strand... 2023-10-17 19:41:26
>> merging all info together ... 2023-10-17 19:41:27
>> done 2023-10-17 19:41:27
>> calculating peakCenter to TSS using peak-gene pair... 2023-10-17 19:41:27
>> calculating RP using centerToTSS and TF hit 2023-10-17 19:41:28
>> merging all info together 2023-10-17 19:41:28
>> done 2023-10-17 19:41:28
>> calculating peakCenter to TSS using peak-gene pair... 2023-10-17 19:41:28
>> calculating RP using centerToTSS and TF hit 2023-10-17 19:41:29
>> merging all info together 2023-10-17 19:41:29
>> done 2023-10-17 19:41:29
>> checking seqlevels match... 2023-10-17 19:41:31
>> your peak_GR seqlevel:Chr5...
>> your Txdb seqlevel:Chr1 Chr2 Chr3 Chr4 Chr5 ChrM ChrC...
Good, your Chrs in peak_GR is all in Txdb
------------
annotatePeak using geneScan mode begins
>> preparing gene features information and scan region... 2023-10-17 19:41:31
>> some scan range may cross Chr bound, trimming... 2023-10-17 19:41:32
>> finding overlap peak in gene scan region... 2023-10-17 19:41:32
>> dealing with left peak not your gene scan region... 2023-10-17 19:41:32
>> merging two set peaks... 2023-10-17 19:41:32
>> calculating distance and dealing with gene strand... 2023-10-17 19:41:32
>> merging all info together ... 2023-10-17 19:41:32
>> done 2023-10-17 19:41:32
>> calculating peakCenter to TSS using peak-gene pair... 2023-10-17 19:41:32
>> pre-filling 1356 noAssoc peak gene's RP with 0... 2023-10-17 19:41:34
>> calculating RP using centerToTSS and peak score2023-10-17 19:41:34
>> merging all info together 2023-10-17 19:41:37
>> done 2023-10-17 19:41:37
>> extracting RP info from regionRP... 2023-10-17 19:41:38
>> dealing with TF_GR_databse... 2023-10-17 19:41:38
>> calculating percent and p-value... 2023-10-17 19:41:38
>> dealing withE5_0h_R1... 2023-10-17 19:41:38
>> dealing withE5_0h_R2... 2023-10-17 19:41:39
>> dealing withE5_4h_R1... 2023-10-17 19:41:39
>> dealing withE5_4h_R2... 2023-10-17 19:41:39
>> dealing withE5_8h_R1... 2023-10-17 19:41:39
>> dealing withE5_8h_R2... 2023-10-17 19:41:39
>> dealing withE5_16h_R1... 2023-10-17 19:41:39
>> dealing withE5_16h_R2... 2023-10-17 19:41:39
>> dealing withE5_24h_R1... 2023-10-17 19:41:39
>> dealing withE5_24h_R2... 2023-10-17 19:41:39
>> dealing withE5_48h_R1... 2023-10-17 19:41:39
>> dealing withE5_48h_R2... 2023-10-17 19:41:39
>> dealing withE5_48h_R3... 2023-10-17 19:41:39
>> dealing withE5_72h_R1... 2023-10-17 19:41:40
>> dealing withE5_72h_R2... 2023-10-17 19:41:40
>> dealing withE5_72h_R3... 2023-10-17 19:41:40
>> merging all info together... 2023-10-17 19:41:40
>> done 2023-10-17 19:41:40
>> preparing gene features information... 2023-10-17 19:41:40
>> some scan range may cross Chr bound, trimming... 2023-10-17 19:41:41
>> calculating p-value for each TF, which may be time consuming... 2023-10-17 19:41:42
>> merging all info together... 2023-10-17 19:41:42
>> done 2023-10-17 19:41:42
>> dealing with TF_GR_database... 2023-10-17 19:41:42
>> calculating coef and converting into z-score using INT... 2023-10-17 19:41:42
>> dealing with E5_0h_R1... 2023-10-17 19:41:42
>> dealing with E5_0h_R2... 2023-10-17 19:41:43
>> dealing with E5_4h_R1... 2023-10-17 19:41:43
>> dealing with E5_4h_R2... 2023-10-17 19:41:43
>> dealing with E5_8h_R1... 2023-10-17 19:41:43
>> dealing with E5_8h_R2... 2023-10-17 19:41:43
>> dealing with E5_16h_R1... 2023-10-17 19:41:43
>> dealing with E5_16h_R2... 2023-10-17 19:41:44
>> dealing with E5_24h_R1... 2023-10-17 19:41:44
>> dealing with E5_24h_R2... 2023-10-17 19:41:44
>> dealing with E5_48h_R1... 2023-10-17 19:41:44
>> dealing with E5_48h_R2... 2023-10-17 19:41:44
>> dealing with E5_48h_R3... 2023-10-17 19:41:44
>> dealing with E5_72h_R1... 2023-10-17 19:41:44
>> dealing with E5_72h_R2... 2023-10-17 19:41:44
>> dealing with E5_72h_R3... 2023-10-17 19:41:45
>> merging all info together... 2023-10-17 19:41:45
>> done 2023-10-17 19:41:45
>> checking seqlevels match... 2023-10-17 19:41:45
>> your peak_GR seqlevel:Chr5...
>> your Txdb seqlevel:Chr1 Chr2 Chr3 Chr4 Chr5 ChrM ChrC...
Good, your Chrs in peak_GR is all in Txdb
------------
annotatePeak using geneScan mode begins
>> preparing gene features information and scan region... 2023-10-17 19:41:45
>> some scan range may cross Chr bound, trimming... 2023-10-17 19:41:47
>> finding overlap peak in gene scan region... 2023-10-17 19:41:47
>> dealing with left peak not your gene scan region... 2023-10-17 19:41:47
>> merging two set peaks... 2023-10-17 19:41:47
>> calculating distance and dealing with gene strand... 2023-10-17 19:41:47
>> merging all info together ... 2023-10-17 19:41:47
>> done 2023-10-17 19:41:47
>> calculating peakCenter to TSS using peak-gene pair... 2023-10-17 19:41:47
>> calculating RP using centerToTSS and TF hit 2023-10-17 19:41:49
>> merging all info together 2023-10-17 19:41:49
>> done 2023-10-17 19:41:49
>> checking seqlevels match... 2023-10-17 19:41:49
>> your peak_GR seqlevel:5...
>> your Txdb seqlevel:Chr1 Chr2 Chr3 Chr4 Chr5 ChrM ChrC...
>> checking seqlevels match... 2023-10-17 19:41:50
>> your peak_GR seqlevel:Chr5 Chr6...
>> your Txdb seqlevel:Chr1 Chr2 Chr3 Chr4 Chr5 ChrM ChrC...
>> checking seqlevels match... 2023-10-17 19:41:56
>> your peak_GR seqlevel:Chr5...
>> your Txdb seqlevel:Chr1 Chr2 Chr3 Chr4 Chr5 ChrM ChrC...
Good, your Chrs in peak_GR is all in Txdb
>> checking seqlevels match... 2023-10-17 19:41:56
>> your peak_GR seqlevel:Chr5...
>> your Txdb seqlevel:Chr1 Chr2 Chr3 Chr4 Chr5 ChrM ChrC...
Good, your Chrs in peak_GR is all in Txdb
------------
annotating Peak using nearest gene mode begins
>> preparing gene features information... 2023-10-17 19:41:56
>> finding nearest gene and calculating distance... 2023-10-17 19:41:57
>> dealing with gene strand ... 2023-10-17 19:41:57
>> merging all info together ... 2023-10-17 19:41:57
>> done 2023-10-17 19:41:57
>> checking seqlevels match... 2023-10-17 19:41:58
>> your peak_GR seqlevel:Chr5...
>> your Txdb seqlevel:Chr1 Chr2 Chr3 Chr4 Chr5 ChrM ChrC...
Good, your Chrs in peak_GR is all in Txdb
>> checking seqlevels match... 2023-10-17 19:41:58
>> your peak_GR seqlevel:Chr5...
>> your Txdb seqlevel:Chr1 Chr2 Chr3 Chr4 Chr5 ChrM ChrC...
Good, your Chrs in peak_GR is all in Txdb
------------
annotating Peak using nearest gene mode begins
>> preparing gene features information... 2023-10-17 19:41:58
>> finding nearest gene and calculating distance... 2023-10-17 19:41:59
>> dealing with gene strand ... 2023-10-17 19:42:00
>> merging all info together ... 2023-10-17 19:42:00
>> done 2023-10-17 19:42:00
>> checking seqlevels match... 2023-10-17 19:42:01
>> your peak_GR seqlevel:Chr5...
>> your Txdb seqlevel:Chr1 Chr2 Chr3 Chr4 Chr5 ChrM ChrC...
Good, your Chrs in peak_GR is all in Txdb
>> checking seqlevels match... 2023-10-17 19:42:01
>> your peak_GR seqlevel:Chr5...
>> your Txdb seqlevel:Chr1 Chr2 Chr3 Chr4 Chr5 ChrM ChrC...
Good, your Chrs in peak_GR is all in Txdb
------------
annotating Peak using nearest gene mode begins
>> preparing gene features information... 2023-10-17 19:42:01
>> finding nearest gene and calculating distance... 2023-10-17 19:42:03
>> dealing with gene strand ... 2023-10-17 19:42:03
>> merging all info together ... 2023-10-17 19:42:03
>> done 2023-10-17 19:42:03
>> checking seqlevels match... 2023-10-17 19:42:05
>> your peak_GR seqlevel:Chr5...
>> your Txdb seqlevel:Chr1 Chr2 Chr3 Chr4 Chr5 ChrM ChrC...
Good, your Chrs in peak_GR is all in Txdb
>> checking seqlevels match... 2023-10-17 19:42:05
>> your peak_GR seqlevel:Chr5...
>> your Txdb seqlevel:Chr1 Chr2 Chr3 Chr4 Chr5 ChrM ChrC...
Good, your Chrs in peak_GR is all in Txdb
------------
annotating Peak using nearest gene mode begins
>> preparing gene features information... 2023-10-17 19:42:05
>> finding nearest gene and calculating distance... 2023-10-17 19:42:06
>> dealing with gene strand ... 2023-10-17 19:42:06
>> merging all info together ... 2023-10-17 19:42:07
>> done 2023-10-17 19:42:07
It seems that there 1 genes have not been annotated by nearestGene mode
>> checking seqlevels match... 2023-10-17 19:42:08
>> your peak_GR seqlevel:Chr5...
>> your Txdb seqlevel:Chr1 Chr2 Chr3 Chr4 Chr5 ChrM ChrC...
Good, your Chrs in peak_GR is all in Txdb
>> checking seqlevels match... 2023-10-17 19:42:08
>> your peak_GR seqlevel:Chr5...
>> your Txdb seqlevel:Chr1 Chr2 Chr3 Chr4 Chr5 ChrM ChrC...
Good, your Chrs in peak_GR is all in Txdb
------------
annotating Peak using nearest gene mode begins
>> preparing gene features information... 2023-10-17 19:42:08
>> finding nearest gene and calculating distance... 2023-10-17 19:42:10
>> dealing with gene strand ... 2023-10-17 19:42:10
>> merging all info together ... 2023-10-17 19:42:10
>> done 2023-10-17 19:42:10
It seems that there 1 genes have not been annotated by nearestGene mode
>> checking seqlevels match... 2023-10-17 19:42:12
>> your peak_GR seqlevel:Chr5...
>> your Txdb seqlevel:Chr1 Chr2 Chr3 Chr4 Chr5 ChrM ChrC...
Good, your Chrs in peak_GR is all in Txdb
>> checking seqlevels match... 2023-10-17 19:42:14
>> your peak_GR seqlevel:Chr5...
>> your Txdb seqlevel:Chr1 Chr2 Chr3 Chr4 Chr5 ChrM ChrC...
Good, your Chrs in peak_GR is all in Txdb
>> some scan range may cross Chr bound, trimming... 2023-10-17 19:42:15
>> checking seqlevels match... 2023-10-17 19:42:17
>> your peak_GR seqlevel:Chr5...
>> your Txdb seqlevel:Chr1 Chr2 Chr3 Chr4 Chr5 ChrM ChrC...
Good, your Chrs in peak_GR is all in Txdb
>> some scan range may cross Chr bound, trimming... 2023-10-17 19:42:18
Good, your two matrix colnames matchs
>> calculating cor and pvalue, which may be time consuming... 2023-10-17 19:42:20
>> merging all info together... 2023-10-17 19:42:20
>> done 2023-10-17 19:42:20
>> checking seqlevels match... 2023-10-17 19:42:21
>> your peak_GR seqlevel:Chr5...
>> your Txdb seqlevel:Chr1 Chr2 Chr3 Chr4 Chr5 ChrM ChrC...
Good, your Chrs in peak_GR is all in Txdb
>> using scanPromoter parameter to scan promoter for each gene... 2023-10-17 19:42:21
>> checking seqlevels match... 2023-10-17 19:42:21
>> your peak_GR seqlevel:Chr5...
>> your Txdb seqlevel:Chr1 Chr2 Chr3 Chr4 Chr5 ChrM ChrC...
Good, your Chrs in peak_GR is all in Txdb
>> some scan range may cross Chr bound, trimming... 2023-10-17 19:42:22
>> there are 85 gene have scaned promoter
>> using scanEnhancer parameter to scan Enhancer for each gene... 2023-10-17 19:42:23
>> checking seqlevels match... 2023-10-17 19:42:23
>> your peak_GR seqlevel:Chr5...
>> your Txdb seqlevel:Chr1 Chr2 Chr3 Chr4 Chr5 ChrM ChrC...
Good, your Chrs in peak_GR is all in Txdb
>> some scan range may cross Chr bound, trimming... 2023-10-17 19:42:24
>> calculating cor and pvalue, which may be time consuming... 2023-10-17 19:42:25
>> merging all info together... 2023-10-17 19:42:25
>> done 2023-10-17 19:42:25
Good, your two matrix colnames matchs
>> calculating cor and pvalue, which may be time consuming... 2023-10-17 19:42:25
>> merging all info together... 2023-10-17 19:42:25
>> done 2023-10-17 19:42:25
>> checking seqlevels match... 2023-10-17 19:42:26
>> your peak_GR seqlevel:Chr5...
>> your Txdb seqlevel:Chr1 Chr2 Chr3 Chr4 Chr5 ChrM ChrC...
Good, your Chrs in peak_GR is all in Txdb
------------
annotatePeak using geneScan mode begins
>> preparing gene features information and scan region... 2023-10-17 19:42:26
>> some scan range may cross Chr bound, trimming... 2023-10-17 19:42:27
>> finding overlap peak in gene scan region... 2023-10-17 19:42:27
>> dealing with left peak not your gene scan region... 2023-10-17 19:42:27
>> merging two set peaks... 2023-10-17 19:42:28
>> calculating distance and dealing with gene strand... 2023-10-17 19:42:28
>> merging all info together ... 2023-10-17 19:42:28
>> done 2023-10-17 19:42:28
Good, your two matrix colnames matchs
>> calculating cor and pvalue, which may be time consuming... 2023-10-17 19:42:29
>> merging all info together... 2023-10-17 19:42:29
>> done 2023-10-17 19:42:30
>> checking seqlevels match... 2023-10-17 19:42:30
>> your peak_GR seqlevel:Chr5...
>> your Txdb seqlevel:Chr1 Chr2 Chr3 Chr4 Chr5 ChrM ChrC...
Good, your Chrs in peak_GR is all in Txdb
>> using scanPromoter parameter to scan promoter for each gene... 2023-10-17 19:42:30
>> checking seqlevels match... 2023-10-17 19:42:30
>> your peak_GR seqlevel:Chr5...
>> your Txdb seqlevel:Chr1 Chr2 Chr3 Chr4 Chr5 ChrM ChrC...
Good, your Chrs in peak_GR is all in Txdb
>> some scan range may cross Chr bound, trimming... 2023-10-17 19:42:33
>> there are 85 gene have scaned promoter
>> using scanEnhancer parameter to scan Enhancer for each gene... 2023-10-17 19:42:33
>> checking seqlevels match... 2023-10-17 19:42:33
>> your peak_GR seqlevel:Chr5...
>> your Txdb seqlevel:Chr1 Chr2 Chr3 Chr4 Chr5 ChrM ChrC...
Good, your Chrs in peak_GR is all in Txdb
>> some scan range may cross Chr bound, trimming... 2023-10-17 19:42:35
>> calculating cor and pvalue, which may be time consuming... 2023-10-17 19:42:35
>> merging all info together... 2023-10-17 19:42:35
>> done 2023-10-17 19:42:35
Joining with `by = join_by(feature_id)`
Joining with `by = join_by(feature_id)`
`geom_smooth()` using formula = 'y ~ x'
Joining with `by = join_by(feature_id)`
Joining with `by = join_by(feature_id)`
`geom_smooth()` using formula = 'y ~ x'
[ FAIL 0 | WARN 0 | SKIP 0 | PASS 65 ]
>
> proc.time()
user system elapsed
77.947 2.116 119.927
FindIT2.Rcheck/FindIT2-Ex.timings
| name | user | system | elapsed | |
| TF_target_database | 0 | 0 | 0 | |
| calcRP_TFHit | 4.306 | 0.130 | 6.776 | |
| calcRP_coverage | 4.378 | 0.310 | 7.145 | |
| calcRP_region | 5.854 | 0.165 | 9.189 | |
| enhancerPromoterCor | 3.428 | 0.062 | 5.343 | |
| findIT_MARA | 0.579 | 0.017 | 0.917 | |
| findIT_TFHit | 1.296 | 0.033 | 2.028 | |
| findIT_TTPair | 0.107 | 0.005 | 0.171 | |
| findIT_enrichFisher | 0.215 | 0.006 | 0.340 | |
| findIT_enrichWilcox | 0.276 | 0.007 | 0.423 | |
| findIT_regionRP | 7.726 | 0.182 | 12.027 | |
| getAssocPairNumber | 1.425 | 0.030 | 2.236 | |
| integrate_ChIP_RNA | 2.454 | 0.046 | 3.846 | |
| integrate_replicates | 0.002 | 0.001 | 0.005 | |
| jaccard_findIT_TTpair | 0.144 | 0.005 | 0.226 | |
| jaccard_findIT_enrichFisher | 0.269 | 0.006 | 0.434 | |
| loadPeakFile | 0.081 | 0.002 | 0.128 | |
| mm_geneBound | 2.242 | 0.045 | 3.475 | |
| mm_geneScan | 1.453 | 0.035 | 2.265 | |
| mm_nearestGene | 1.353 | 0.032 | 2.135 | |
| peakGeneCor | 2.648 | 0.048 | 4.126 | |
| plot_annoDistance | 1.698 | 0.038 | 2.655 | |
| plot_peakGeneAlias_summary | 1.607 | 0.036 | 2.509 | |
| plot_peakGeneCor | 3.335 | 0.059 | 5.152 | |
| test_geneSet | 0.000 | 0.001 | 0.000 | |