| Back to Mac ARM64 build report for BioC 3.17 |
|
This page was generated on 2023-10-20 09:37:58 -0400 (Fri, 20 Oct 2023).
| Hostname | OS | Arch (*) | R version | Installed pkgs |
|---|---|---|---|---|
| kjohnson2 | macOS 12.6.1 Monterey | arm64 | 4.3.1 (2023-06-16) -- "Beagle Scouts" | 4347 |
| Click on any hostname to see more info about the system (e.g. compilers) (*) as reported by 'uname -p', except on Windows and Mac OS X | ||||
| Package 86/2230 | Hostname | OS / Arch | INSTALL | BUILD | CHECK | BUILD BIN | ||||||||
| appreci8R 1.18.0 (landing page) Sarah Sandmann
| kjohnson2 | macOS 12.6.1 Monterey / arm64 | OK | OK | WARNINGS | OK | ||||||||
|
To the developers/maintainers of the appreci8R package: - Use the following Renviron settings to reproduce errors and warnings. - If 'R CMD check' started to fail recently on the Linux builder(s) over a missing dependency, add the missing dependency to 'Suggests:' in your DESCRIPTION file. See Renviron.bioc for more information. |
| Package: appreci8R |
| Version: 1.18.0 |
| Command: rm -rf appreci8R.buildbin-libdir && mkdir appreci8R.buildbin-libdir && /Users/biocbuild/BBS/utils/build-universal.sh appreci8R_1.18.0.tar.gz /Library/Frameworks/R.framework/Resources/bin/R appreci8R.buildbin-libdir |
| StartedAt: 2023-10-19 11:15:37 -0400 (Thu, 19 Oct 2023) |
| EndedAt: 2023-10-19 11:19:16 -0400 (Thu, 19 Oct 2023) |
| EllapsedTime: 219.2 seconds |
| RetCode: 0 |
| Status: OK |
| PackageFile: appreci8R_1.18.0.tgz |
| PackageFileSize: 1.463 MiB |
############################################################################## ############################################################################## ### ### Running command: ### ### rm -rf appreci8R.buildbin-libdir && mkdir appreci8R.buildbin-libdir && /Users/biocbuild/BBS/utils/build-universal.sh appreci8R_1.18.0.tar.gz /Library/Frameworks/R.framework/Resources/bin/R appreci8R.buildbin-libdir ### ############################################################################## ############################################################################## >>>>>>> >>>>>>> INSTALLATION WITH 'R CMD INSTALL --preclean --no-multiarch --library=appreci8R.buildbin-libdir appreci8R_1.18.0.tar.gz' >>>>>>> * installing *source* package ‘appreci8R’ ... ** using staged installation ** R ** inst ** byte-compile and prepare package for lazy loading Warning: replacing previous import ‘utils::findMatches’ by ‘S4Vectors::findMatches’ when loading ‘SNPlocs.Hsapiens.dbSNP144.GRCh37’ Warning: replacing previous import ‘utils::findMatches’ by ‘S4Vectors::findMatches’ when loading ‘XtraSNPlocs.Hsapiens.dbSNP144.GRCh37’ Warning: replacing previous import ‘utils::findMatches’ by ‘S4Vectors::findMatches’ when loading ‘MafDb.1Kgenomes.phase3.hs37d5’ Warning: replacing previous import ‘utils::findMatches’ by ‘S4Vectors::findMatches’ when loading ‘MafDb.ExAC.r1.0.hs37d5’ Warning: replacing previous import ‘utils::findMatches’ by ‘S4Vectors::findMatches’ when loading ‘MafDb.gnomADex.r2.1.hs37d5’ Warning: replacing previous import ‘utils::findMatches’ by ‘S4Vectors::findMatches’ when loading ‘appreci8R’ ** help *** installing help indices ** building package indices ** installing vignettes ** testing if installed package can be loaded from temporary location Warning: replacing previous import ‘utils::findMatches’ by ‘S4Vectors::findMatches’ when loading ‘SNPlocs.Hsapiens.dbSNP144.GRCh37’ Warning: replacing previous import ‘utils::findMatches’ by ‘S4Vectors::findMatches’ when loading ‘XtraSNPlocs.Hsapiens.dbSNP144.GRCh37’ Warning: replacing previous import ‘utils::findMatches’ by ‘S4Vectors::findMatches’ when loading ‘MafDb.1Kgenomes.phase3.hs37d5’ Warning: replacing previous import ‘utils::findMatches’ by ‘S4Vectors::findMatches’ when loading ‘MafDb.ExAC.r1.0.hs37d5’ Warning: replacing previous import ‘utils::findMatches’ by ‘S4Vectors::findMatches’ when loading ‘MafDb.gnomADex.r2.1.hs37d5’ Warning: replacing previous import ‘utils::findMatches’ by ‘S4Vectors::findMatches’ when loading ‘appreci8R’ ** testing if installed package can be loaded from final location Warning: replacing previous import ‘utils::findMatches’ by ‘S4Vectors::findMatches’ when loading ‘SNPlocs.Hsapiens.dbSNP144.GRCh37’ Warning: replacing previous import ‘utils::findMatches’ by ‘S4Vectors::findMatches’ when loading ‘XtraSNPlocs.Hsapiens.dbSNP144.GRCh37’ Warning: replacing previous import ‘utils::findMatches’ by ‘S4Vectors::findMatches’ when loading ‘MafDb.1Kgenomes.phase3.hs37d5’ Warning: replacing previous import ‘utils::findMatches’ by ‘S4Vectors::findMatches’ when loading ‘MafDb.ExAC.r1.0.hs37d5’ Warning: replacing previous import ‘utils::findMatches’ by ‘S4Vectors::findMatches’ when loading ‘MafDb.gnomADex.r2.1.hs37d5’ Warning: replacing previous import ‘utils::findMatches’ by ‘S4Vectors::findMatches’ when loading ‘appreci8R’ ** testing if installed package keeps a record of temporary installation path * DONE (appreci8R)