| Back to Mac ARM64 build report for BioC 3.17 |
|
This page was generated on 2023-10-20 09:38:13 -0400 (Fri, 20 Oct 2023).
| Hostname | OS | Arch (*) | R version | Installed pkgs |
|---|---|---|---|---|
| kjohnson2 | macOS 12.6.1 Monterey | arm64 | 4.3.1 (2023-06-16) -- "Beagle Scouts" | 4347 |
| Click on any hostname to see more info about the system (e.g. compilers) (*) as reported by 'uname -p', except on Windows and Mac OS X | ||||
| Package 1993/2230 | Hostname | OS / Arch | INSTALL | BUILD | CHECK | BUILD BIN | ||||||||
| SpliceWiz 1.2.3 (landing page) Alex Chit Hei Wong
| kjohnson2 | macOS 12.6.1 Monterey / arm64 | OK | OK | OK | OK | ||||||||
|
To the developers/maintainers of the SpliceWiz package: - Use the following Renviron settings to reproduce errors and warnings. - If 'R CMD check' started to fail recently on the Linux builder(s) over a missing dependency, add the missing dependency to 'Suggests:' in your DESCRIPTION file. See Renviron.bioc for more information. |
| Package: SpliceWiz |
| Version: 1.2.3 |
| Command: /Library/Frameworks/R.framework/Resources/bin/R CMD check --install=check:SpliceWiz.install-out.txt --library=/Library/Frameworks/R.framework/Resources/library --no-vignettes --timings SpliceWiz_1.2.3.tar.gz |
| StartedAt: 2023-10-19 03:56:20 -0400 (Thu, 19 Oct 2023) |
| EndedAt: 2023-10-19 04:27:43 -0400 (Thu, 19 Oct 2023) |
| EllapsedTime: 1883.7 seconds |
| RetCode: 0 |
| Status: OK |
| CheckDir: SpliceWiz.Rcheck |
| Warnings: 0 |
##############################################################################
##############################################################################
###
### Running command:
###
### /Library/Frameworks/R.framework/Resources/bin/R CMD check --install=check:SpliceWiz.install-out.txt --library=/Library/Frameworks/R.framework/Resources/library --no-vignettes --timings SpliceWiz_1.2.3.tar.gz
###
##############################################################################
##############################################################################
* using log directory ‘/Users/biocbuild/bbs-3.17-bioc-mac-arm64/meat/SpliceWiz.Rcheck’
* using R version 4.3.1 (2023-06-16)
* using platform: aarch64-apple-darwin20 (64-bit)
* R was compiled by
Apple clang version 14.0.0 (clang-1400.0.29.202)
GNU Fortran (GCC) 12.2.0
* running under: macOS Monterey 12.6.7
* using session charset: UTF-8
* using option ‘--no-vignettes’
* checking for file ‘SpliceWiz/DESCRIPTION’ ... OK
* this is package ‘SpliceWiz’ version ‘1.2.3’
* package encoding: UTF-8
* checking package namespace information ... OK
* checking package dependencies ... OK
* checking if this is a source package ... OK
* checking if there is a namespace ... OK
* checking for hidden files and directories ... OK
* checking for portable file names ... OK
* checking for sufficient/correct file permissions ... OK
* checking whether package ‘SpliceWiz’ can be installed ... OK
* used C++ compiler: ‘Apple clang version 14.0.0 (clang-1400.0.29.202)’
* used SDK: ‘MacOSX11.3.sdk’
* checking C++ specification ... NOTE
Specified C++11: please drop specification unless essential
* checking installed package size ... OK
* checking package directory ... OK
* checking ‘build’ directory ... OK
* checking DESCRIPTION meta-information ... OK
* checking top-level files ... OK
* checking for left-over files ... OK
* checking index information ... OK
* checking package subdirectories ... OK
* checking R files for non-ASCII characters ... OK
* checking R files for syntax errors ... OK
* checking whether the package can be loaded ... OK
* checking whether the package can be loaded with stated dependencies ... OK
* checking whether the package can be unloaded cleanly ... OK
* checking whether the namespace can be loaded with stated dependencies ... OK
* checking whether the namespace can be unloaded cleanly ... OK
* checking startup messages can be suppressed ... OK
* checking dependencies in R code ... OK
* checking S3 generic/method consistency ... OK
* checking replacement functions ... OK
* checking foreign function calls ... OK
* checking R code for possible problems ... OK
* checking Rd files ... OK
* checking Rd metadata ... OK
* checking Rd cross-references ... OK
* checking for missing documentation entries ... OK
* checking for code/documentation mismatches ... OK
* checking Rd \usage sections ... OK
* checking Rd contents ... OK
* checking for unstated dependencies in examples ... OK
* checking line endings in shell scripts ... OK
* checking line endings in C/C++/Fortran sources/headers ... OK
* checking line endings in Makefiles ... OK
* checking compilation flags in Makevars ... OK
* checking for GNU extensions in Makefiles ... OK
* checking for portable use of $(BLAS_LIBS) and $(LAPACK_LIBS) ... OK
* checking use of PKG_*FLAGS in Makefiles ... OK
* checking compiled code ... NOTE
Note: information on .o files is not available
* checking files in ‘vignettes’ ... OK
* checking examples ... OK
Examples with CPU (user + system) or elapsed time > 5s
user system elapsed
Build-Reference-methods 72.160 1.760 128.018
NxtSE-class 50.987 1.119 93.356
ASE-methods 30.364 0.531 55.717
covPlotObject-class 21.486 0.332 39.358
plotCoverage 14.884 0.192 27.214
Run_SpliceWiz_Filters 6.612 0.059 11.948
processBAM 3.747 0.499 5.461
ASE-GLM-edgeR 4.027 0.145 7.546
* checking for unstated dependencies in ‘tests’ ... OK
* checking tests ...
Running ‘testthat.R’
OK
* checking for unstated dependencies in vignettes ... OK
* checking package vignettes in ‘inst/doc’ ... OK
* checking running R code from vignettes ... SKIPPED
* checking re-building of vignette outputs ... SKIPPED
* checking PDF version of manual ... OK
* DONE
Status: 2 NOTEs
See
‘/Users/biocbuild/bbs-3.17-bioc-mac-arm64/meat/SpliceWiz.Rcheck/00check.log’
for details.
SpliceWiz.Rcheck/00install.out
##############################################################################
##############################################################################
###
### Running command:
###
### /Library/Frameworks/R.framework/Resources/bin/R CMD INSTALL SpliceWiz
###
##############################################################################
##############################################################################
* installing to library ‘/Library/Frameworks/R.framework/Versions/4.3-arm64/Resources/library’
* installing *source* package ‘SpliceWiz’ ...
** using staged installation
Configuring without OpenMP for MacOS
** libs
using C++ compiler: ‘Apple clang version 14.0.0 (clang-1400.0.29.202)’
using C++11
using SDK: ‘MacOSX11.3.sdk’
clang++ -arch arm64 -std=gnu++11 -I"/Library/Frameworks/R.framework/Resources/include" -DNDEBUG -I'/Library/Frameworks/R.framework/Versions/4.3-arm64/Resources/library/ompBAM/include' -I'/Library/Frameworks/R.framework/Versions/4.3-arm64/Resources/library/Rcpp/include' -I'/Library/Frameworks/R.framework/Versions/4.3-arm64/Resources/library/zlibbioc/include' -I'/Library/Frameworks/R.framework/Versions/4.3-arm64/Resources/library/RcppProgress/include' -I/opt/R/arm64/include -DSPLICEWIZ -fPIC -falign-functions=64 -Wall -g -O2 -c BAM2blocks.cpp -o BAM2blocks.o
clang++ -arch arm64 -std=gnu++11 -I"/Library/Frameworks/R.framework/Resources/include" -DNDEBUG -I'/Library/Frameworks/R.framework/Versions/4.3-arm64/Resources/library/ompBAM/include' -I'/Library/Frameworks/R.framework/Versions/4.3-arm64/Resources/library/Rcpp/include' -I'/Library/Frameworks/R.framework/Versions/4.3-arm64/Resources/library/zlibbioc/include' -I'/Library/Frameworks/R.framework/Versions/4.3-arm64/Resources/library/RcppProgress/include' -I/opt/R/arm64/include -DSPLICEWIZ -fPIC -falign-functions=64 -Wall -g -O2 -c FastaReader.cpp -o FastaReader.o
clang++ -arch arm64 -std=gnu++11 -I"/Library/Frameworks/R.framework/Resources/include" -DNDEBUG -I'/Library/Frameworks/R.framework/Versions/4.3-arm64/Resources/library/ompBAM/include' -I'/Library/Frameworks/R.framework/Versions/4.3-arm64/Resources/library/Rcpp/include' -I'/Library/Frameworks/R.framework/Versions/4.3-arm64/Resources/library/zlibbioc/include' -I'/Library/Frameworks/R.framework/Versions/4.3-arm64/Resources/library/RcppProgress/include' -I/opt/R/arm64/include -DSPLICEWIZ -fPIC -falign-functions=64 -Wall -g -O2 -c FragmentBlocks.cpp -o FragmentBlocks.o
clang++ -arch arm64 -std=gnu++11 -I"/Library/Frameworks/R.framework/Resources/include" -DNDEBUG -I'/Library/Frameworks/R.framework/Versions/4.3-arm64/Resources/library/ompBAM/include' -I'/Library/Frameworks/R.framework/Versions/4.3-arm64/Resources/library/Rcpp/include' -I'/Library/Frameworks/R.framework/Versions/4.3-arm64/Resources/library/zlibbioc/include' -I'/Library/Frameworks/R.framework/Versions/4.3-arm64/Resources/library/RcppProgress/include' -I/opt/R/arm64/include -DSPLICEWIZ -fPIC -falign-functions=64 -Wall -g -O2 -c GZTools.cpp -o GZTools.o
clang++ -arch arm64 -std=gnu++11 -I"/Library/Frameworks/R.framework/Resources/include" -DNDEBUG -I'/Library/Frameworks/R.framework/Versions/4.3-arm64/Resources/library/ompBAM/include' -I'/Library/Frameworks/R.framework/Versions/4.3-arm64/Resources/library/Rcpp/include' -I'/Library/Frameworks/R.framework/Versions/4.3-arm64/Resources/library/zlibbioc/include' -I'/Library/Frameworks/R.framework/Versions/4.3-arm64/Resources/library/RcppProgress/include' -I/opt/R/arm64/include -DSPLICEWIZ -fPIC -falign-functions=64 -Wall -g -O2 -c RcppExports.cpp -o RcppExports.o
clang++ -arch arm64 -std=gnu++11 -I"/Library/Frameworks/R.framework/Resources/include" -DNDEBUG -I'/Library/Frameworks/R.framework/Versions/4.3-arm64/Resources/library/ompBAM/include' -I'/Library/Frameworks/R.framework/Versions/4.3-arm64/Resources/library/Rcpp/include' -I'/Library/Frameworks/R.framework/Versions/4.3-arm64/Resources/library/zlibbioc/include' -I'/Library/Frameworks/R.framework/Versions/4.3-arm64/Resources/library/RcppProgress/include' -I/opt/R/arm64/include -DSPLICEWIZ -fPIC -falign-functions=64 -Wall -g -O2 -c ReadBlockProcessor.cpp -o ReadBlockProcessor.o
clang++ -arch arm64 -std=gnu++11 -I"/Library/Frameworks/R.framework/Resources/include" -DNDEBUG -I'/Library/Frameworks/R.framework/Versions/4.3-arm64/Resources/library/ompBAM/include' -I'/Library/Frameworks/R.framework/Versions/4.3-arm64/Resources/library/Rcpp/include' -I'/Library/Frameworks/R.framework/Versions/4.3-arm64/Resources/library/zlibbioc/include' -I'/Library/Frameworks/R.framework/Versions/4.3-arm64/Resources/library/RcppProgress/include' -I/opt/R/arm64/include -DSPLICEWIZ -fPIC -falign-functions=64 -Wall -g -O2 -c ReadBlockProcessor_CoverageBlocks.cpp -o ReadBlockProcessor_CoverageBlocks.o
ReadBlockProcessor_CoverageBlocks.cpp:251:16: warning: variable 'len' set but not used [-Wunused-but-set-variable]
unsigned int len=0;
^
1 warning generated.
clang++ -arch arm64 -std=gnu++11 -I"/Library/Frameworks/R.framework/Resources/include" -DNDEBUG -I'/Library/Frameworks/R.framework/Versions/4.3-arm64/Resources/library/ompBAM/include' -I'/Library/Frameworks/R.framework/Versions/4.3-arm64/Resources/library/Rcpp/include' -I'/Library/Frameworks/R.framework/Versions/4.3-arm64/Resources/library/zlibbioc/include' -I'/Library/Frameworks/R.framework/Versions/4.3-arm64/Resources/library/RcppProgress/include' -I/opt/R/arm64/include -DSPLICEWIZ -fPIC -falign-functions=64 -Wall -g -O2 -c ReadBlockProcessor_FragmentsMap.cpp -o ReadBlockProcessor_FragmentsMap.o
clang++ -arch arm64 -std=gnu++11 -I"/Library/Frameworks/R.framework/Resources/include" -DNDEBUG -I'/Library/Frameworks/R.framework/Versions/4.3-arm64/Resources/library/ompBAM/include' -I'/Library/Frameworks/R.framework/Versions/4.3-arm64/Resources/library/Rcpp/include' -I'/Library/Frameworks/R.framework/Versions/4.3-arm64/Resources/library/zlibbioc/include' -I'/Library/Frameworks/R.framework/Versions/4.3-arm64/Resources/library/RcppProgress/include' -I/opt/R/arm64/include -DSPLICEWIZ -fPIC -falign-functions=64 -Wall -g -O2 -c ReadBlockProcessor_TandemJunctions.cpp -o ReadBlockProcessor_TandemJunctions.o
clang++ -arch arm64 -std=gnu++11 -I"/Library/Frameworks/R.framework/Resources/include" -DNDEBUG -I'/Library/Frameworks/R.framework/Versions/4.3-arm64/Resources/library/ompBAM/include' -I'/Library/Frameworks/R.framework/Versions/4.3-arm64/Resources/library/Rcpp/include' -I'/Library/Frameworks/R.framework/Versions/4.3-arm64/Resources/library/zlibbioc/include' -I'/Library/Frameworks/R.framework/Versions/4.3-arm64/Resources/library/RcppProgress/include' -I/opt/R/arm64/include -DSPLICEWIZ -fPIC -falign-functions=64 -Wall -g -O2 -c covTools.cpp -o covTools.o
clang++ -arch arm64 -std=gnu++11 -I"/Library/Frameworks/R.framework/Resources/include" -DNDEBUG -I'/Library/Frameworks/R.framework/Versions/4.3-arm64/Resources/library/ompBAM/include' -I'/Library/Frameworks/R.framework/Versions/4.3-arm64/Resources/library/Rcpp/include' -I'/Library/Frameworks/R.framework/Versions/4.3-arm64/Resources/library/zlibbioc/include' -I'/Library/Frameworks/R.framework/Versions/4.3-arm64/Resources/library/RcppProgress/include' -I/opt/R/arm64/include -DSPLICEWIZ -fPIC -falign-functions=64 -Wall -g -O2 -c main.cpp -o main.o
clang++ -arch arm64 -std=gnu++11 -I"/Library/Frameworks/R.framework/Resources/include" -DNDEBUG -I'/Library/Frameworks/R.framework/Versions/4.3-arm64/Resources/library/ompBAM/include' -I'/Library/Frameworks/R.framework/Versions/4.3-arm64/Resources/library/Rcpp/include' -I'/Library/Frameworks/R.framework/Versions/4.3-arm64/Resources/library/zlibbioc/include' -I'/Library/Frameworks/R.framework/Versions/4.3-arm64/Resources/library/RcppProgress/include' -I/opt/R/arm64/include -DSPLICEWIZ -fPIC -falign-functions=64 -Wall -g -O2 -c swEngine.cpp -o swEngine.o
clang++ -arch arm64 -std=gnu++11 -I"/Library/Frameworks/R.framework/Resources/include" -DNDEBUG -I'/Library/Frameworks/R.framework/Versions/4.3-arm64/Resources/library/ompBAM/include' -I'/Library/Frameworks/R.framework/Versions/4.3-arm64/Resources/library/Rcpp/include' -I'/Library/Frameworks/R.framework/Versions/4.3-arm64/Resources/library/zlibbioc/include' -I'/Library/Frameworks/R.framework/Versions/4.3-arm64/Resources/library/RcppProgress/include' -I/opt/R/arm64/include -DSPLICEWIZ -fPIC -falign-functions=64 -Wall -g -O2 -c synthReadGenerator.cpp -o synthReadGenerator.o
clang++ -arch arm64 -std=gnu++11 -dynamiclib -Wl,-headerpad_max_install_names -undefined dynamic_lookup -single_module -multiply_defined suppress -L/Library/Frameworks/R.framework/Resources/lib -L/opt/R/arm64/lib -o SpliceWiz.so BAM2blocks.o FastaReader.o FragmentBlocks.o GZTools.o RcppExports.o ReadBlockProcessor.o ReadBlockProcessor_CoverageBlocks.o ReadBlockProcessor_FragmentsMap.o ReadBlockProcessor_TandemJunctions.o covTools.o main.o swEngine.o synthReadGenerator.o -DSPLICEWIZ -F/Library/Frameworks/R.framework/.. -framework R -Wl,-framework -Wl,CoreFoundation
installing to /Library/Frameworks/R.framework/Versions/4.3-arm64/Resources/library/00LOCK-SpliceWiz/00new/SpliceWiz/libs
** R
** inst
** byte-compile and prepare package for lazy loading
** help
*** installing help indices
** building package indices
** installing vignettes
** testing if installed package can be loaded from temporary location
** checking absolute paths in shared objects and dynamic libraries
** testing if installed package can be loaded from final location
** testing if installed package keeps a record of temporary installation path
* DONE (SpliceWiz)
SpliceWiz.Rcheck/tests/testthat.Rout
R version 4.3.1 (2023-06-16) -- "Beagle Scouts"
Copyright (C) 2023 The R Foundation for Statistical Computing
Platform: aarch64-apple-darwin20 (64-bit)
R is free software and comes with ABSOLUTELY NO WARRANTY.
You are welcome to redistribute it under certain conditions.
Type 'license()' or 'licence()' for distribution details.
R is a collaborative project with many contributors.
Type 'contributors()' for more information and
'citation()' on how to cite R or R packages in publications.
Type 'demo()' for some demos, 'help()' for on-line help, or
'help.start()' for an HTML browser interface to help.
Type 'q()' to quit R.
> library(testthat)
> library(SpliceWiz)
Loading required package: NxtIRFdata
SpliceWiz package loaded with 1 threads
Use setSWthreads() to set the number of SpliceWiz threads
>
> test_check("SpliceWiz")
Loading required package: Rsubread
Oct 19 04:14:57 Converting FASTA to local TwoBitFile...done
Oct 19 04:14:59 Connecting to genome TwoBitFile...done
Oct 19 04:14:59 Making local copy of GTF file...done
Oct 19 04:14:59 Extracting temp genome FASTA from TwoBit file
Oct 19 04:15:00 Generating synthetic reads, saving to /private/tmp/RtmpCgLFJ2/refWithMapExcl/Mappability/Reads.fa
0% 10 20 30 40 50 60 70 80 90 100%
[----|----|----|----|----|----|----|----|----|----|
**************************************************|
10145 synthetic reads generated
Oct 19 04:15:00 Cleaning temp genome / gene annotation files
========== _____ _ _ ____ _____ ______ _____
===== / ____| | | | _ \| __ \| ____| /\ | __ \
===== | (___ | | | | |_) | |__) | |__ / \ | | | |
==== \___ \| | | | _ <| _ /| __| / /\ \ | | | |
==== ____) | |__| | |_) | | \ \| |____ / ____ \| |__| |
========== |_____/ \____/|____/|_| \_\______/_/ \_\_____/
Rsubread 2.14.2
//================================= setting ==================================\\
|| ||
|| Index name : reference_index ||
|| Index space : base space ||
|| Index split : no-split ||
|| Repeat threshold : 100 repeats ||
|| Gapped index : no ||
|| ||
|| Free / total memory : 5.2GB / 16.0GB ||
|| ||
|| Input files : 1 file in total ||
|| o genome.fa ||
|| ||
\\============================================================================//
//================================= Running ==================================\\
|| ||
|| Check the integrity of provided reference sequences ... ||
|| No format issues were found ||
|| Scan uninformative subreads in reference sequences ... ||
|| Estimate the index size... ||
|| 8%, 0 mins elapsed, rate=77.4k bps/s ||
|| 16%, 0 mins elapsed, rate=139.3k bps/s ||
|| 24%, 0 mins elapsed, rate=202.6k bps/s ||
|| 33%, 0 mins elapsed, rate=255.0k bps/s ||
|| 41%, 0 mins elapsed, rate=302.8k bps/s ||
|| 49%, 0 mins elapsed, rate=353.5k bps/s ||
|| 58%, 0 mins elapsed, rate=394.3k bps/s ||
|| 66%, 0 mins elapsed, rate=432.5k bps/s ||
|| 74%, 0 mins elapsed, rate=478.9k bps/s ||
|| 83%, 0 mins elapsed, rate=511.5k bps/s ||
|| 91%, 0 mins elapsed, rate=548.6k bps/s ||
|| 3.0 GB of memory is needed for index building. ||
|| Build the index... ||
|| 8%, 0 mins elapsed, rate=2.4k bps/s ||
|| 16%, 0 mins elapsed, rate=4.8k bps/s ||
|| 24%, 0 mins elapsed, rate=7.2k bps/s ||
|| 33%, 0 mins elapsed, rate=9.5k bps/s ||
|| 41%, 0 mins elapsed, rate=11.9k bps/s ||
|| 49%, 0 mins elapsed, rate=14.2k bps/s ||
|| 58%, 0 mins elapsed, rate=16.5k bps/s ||
|| 66%, 0 mins elapsed, rate=18.8k bps/s ||
|| 74%, 0 mins elapsed, rate=21.1k bps/s ||
|| 83%, 0 mins elapsed, rate=23.4k bps/s ||
|| 91%, 0 mins elapsed, rate=25.7k bps/s ||
|| Save current index block... ||
|| [ 0.0% finished ] ||
|| [ 10.0% finished ] ||
|| [ 20.0% finished ] ||
|| [ 30.0% finished ] ||
|| [ 40.0% finished ] ||
|| [ 50.0% finished ] ||
|| [ 60.0% finished ] ||
|| [ 70.0% finished ] ||
|| [ 80.0% finished ] ||
|| [ 90.0% finished ] ||
|| [ 100.0% finished ] ||
|| ||
|| Total running time: 0.6 minutes. ||
|| Index ./reference_index was successfully built. ||
|| ||
\\============================================================================//
========== _____ _ _ ____ _____ ______ _____
===== / ____| | | | _ \| __ \| ____| /\ | __ \
===== | (___ | | | | |_) | |__) | |__ / \ | | | |
==== \___ \| | | | _ <| _ /| __| / /\ \ | | | |
==== ____) | |__| | |_) | | \ \| |____ / ____ \| |__| |
========== |_____/ \____/|____/|_| \_\______/_/ \_\_____/
Rsubread 2.14.2
//================================= setting ==================================\\
|| ||
|| Function : Read alignment + Junction detection (RNA-Seq) ||
|| Input file : Reads.fa ||
|| Output file : AlignedReads.bam (BAM) ||
|| Index name : reference_index ||
|| ||
|| ------------------------------------ ||
|| ||
|| Threads : 1 ||
|| Phred offset : 33 ||
|| Min votes : 1 / 14 ||
|| Max mismatches : 3 ||
|| Max indel length : 5 ||
|| Report multi-mapping reads : yes ||
|| Max alignments per multi-mapping read : 1 ||
|| Annotations : transcripts.gtf (GTF) ||
|| ||
\\============================================================================//
//================ Running (19-Oct-2023 04:15:39, pid=29937) =================\\
|| ||
|| Check the input reads. ||
|| The input file contains base space reads. ||
|| Initialise the memory objects. ||
|| Estimate the mean read length. ||
|| Create the output BAM file. ||
|| Check the index. ||
|| Init the voting space. ||
|| Load the annotation file. ||
|| 538 annotation records were loaded. ||
|| Global environment is initialised. ||
|| Load the 1-th index block... ||
|| The index block has been loaded. ||
|| Start read mapping in chunk. ||
|| 65% completed, 7.8 mins elapsed, rate=2.7k reads per second ||
|| 83% completed, 7.8 mins elapsed, rate=0.0k reads per second ||
|| 99% completed, 7.8 mins elapsed, rate=0.0k reads per second ||
|| ||
|| Completed successfully. ||
|| ||
\\==================================== ====================================//
//================================ Summary =================================\\
|| ||
|| Total reads : 10,145 ||
|| Mapped : 10,145 (100.0%) ||
|| Uniquely mapped : 10,145 ||
|| Multi-mapping : 0 ||
|| ||
|| Unmapped : 0 ||
|| ||
|| Junctions : 0 ||
|| Indels : 1 ||
|| ||
|| Running time : 7.8 minutes ||
|| ||
\\============================================================================//
Oct 19 04:23:26 Calculating Mappability Exclusion regions from: /tmp/RtmpCgLFJ2/refWithMapExcl/Mappability/AlignedReads.bam
Calculating Mappability Exclusions: /private/tmp/RtmpCgLFJ2/refWithMapExcl/Mappability/AlignedReads.bam
0% 10 20 30 40 50 60 70 80 90 100%
[----|----|----|----|----|----|----|----|----|----|
**************************************************|
Performing final sort of fragment maps
Writing Mappability Exclusions
**************************************************|
0% 10 20 30 40 50 60 70 80 90 100%
[----|----|----|----|----|----|----|----|----|----|
**************************************************|
SpliceWiz was compiled without OpenMP
Oct 19 04:23:35 Reference generated without non-polyA reference
Oct 19 04:23:35 Reference generated without Mappability reference
Oct 19 04:23:35 Reference generated without Blacklist exclusion
Oct 19 04:23:35 Converting FASTA to local TwoBitFile...done
Oct 19 04:23:37 Connecting to genome TwoBitFile...done
Oct 19 04:23:37 Making local copy of GTF file...done
Oct 19 04:23:37 Reading source GTF file...done
Oct 19 04:23:38 Processing gtf file...
...genes
...transcripts
...CDS
...exons
done
Oct 19 04:23:41 Gene ontology not prepared for this reference
Oct 19 04:23:44 Processing introns...
...data
...basic annotations
...splice motifs
...other info
...defining flanking exon clusters
done
Oct 19 04:23:51 Generating processBAM reference
...prepping data
...determining measurable introns (directional)
...determining measurable introns (non-directional)
...writing ref-cover.bed
...writing ref-ROI.bed
...writing ref-read-continues.ref
...writing ref-sj.ref
...writing ref-tj.ref
processBAM reference generated
Oct 19 04:24:04 Predicting NMD transcripts from genome sequence
...exonic transcripts
...retained introns
|
| | 0%
|
|======================================================================| 100%
done
Oct 19 04:24:08 Annotating Splice Events
Annotating Mutually-Exclusive-Exon Splice Events...done
Annotating Skipped-Exon Splice Events...done
Annotating Alternate 5' / 3' Splice Site Splice Events...done
Annotating Alternate First / Last Exon Splice Events...done
Annotating known retained introns...done
Oct 19 04:24:10 Splice Annotations Filtered
Oct 19 04:24:11 Translating Alternate Splice Peptides...done
Oct 19 04:24:12 Splice Annotations finished
Reference build finished
Oct 19 04:24:14 Running SpliceWiz processBAM
Oct 19 04:24:15 Using MulticoreParam 1 threads
Reading reference file
Allocating memory to 1 threads for SpliceWiz (ompBAM)...initialized (0 milliseconds)
Processing BAM file /private/tmp/RtmpCgLFJ2/02H003.bam
0% 10 20 30 40 50 60 70 80 90 100%
[----|----|----|----|----|----|----|----|----|----|
**************************************************|
Performing final sort of fragment maps
Writing COV file
**************************************************|
0% 10 20 30 40 50 60 70 80 90 100%
[----|----|----|----|----|----|----|----|----|----|
**************************************************|
Writing output file
/private/tmp/RtmpCgLFJ2/02H003.bam processed (704 milliseconds)
Oct 19 04:24:16 SpliceWiz processBAM processed RtmpCgLFJ2/02H003.bam
Oct 19 04:24:16 Running SpliceWiz processBAM
Oct 19 04:24:18 Using MulticoreParam 1 threads
Reading reference file
Allocating memory to 1 threads for SpliceWiz (ompBAM)...initialized (0 milliseconds)
Processing BAM file /private/tmp/RtmpCgLFJ2/02H003.bam
0% 10 20 30 40 50 60 70 80 90 100%
[----|----|----|----|----|----|----|----|----|----|
**************************************************|
Performing final sort of fragment maps
Writing COV file
**************************************************|
0% 10 20 30 40 50 60 70 80 90 100%
[----|----|----|----|----|----|----|----|----|----|
**************************************************|
Writing output file
/private/tmp/RtmpCgLFJ2/02H003.bam processed (727 milliseconds)
Oct 19 04:24:19 SpliceWiz processBAM processed RtmpCgLFJ2/02H003.bam
Oct 19 04:24:19 SpliceWiz reference already exists in given directory
Oct 19 04:24:19 Running SpliceWiz processBAM
Oct 19 04:24:20 Using MulticoreParam 1 threads
Allocating memory to 1 threads for SpliceWiz (ompBAM)...initialized (0 milliseconds)
/private/tmp/RtmpCgLFJ2/02H003.bam processed (741 milliseconds)
Oct 19 04:24:21 SpliceWiz processBAM processed RtmpCgLFJ2/02H003.bam
Allocating memory to 1 threads for SpliceWiz (ompBAM)...initialized (0 milliseconds)
/private/tmp/RtmpCgLFJ2/02H025.bam processed (581 milliseconds)
Oct 19 04:24:22 SpliceWiz processBAM processed RtmpCgLFJ2/02H025.bam
Allocating memory to 1 threads for SpliceWiz (ompBAM)...initialized (0 milliseconds)
/private/tmp/RtmpCgLFJ2/02H026.bam processed (932 milliseconds)
Oct 19 04:24:23 SpliceWiz processBAM processed RtmpCgLFJ2/02H026.bam
Allocating memory to 1 threads for SpliceWiz (ompBAM)...initialized (4 milliseconds)
/private/tmp/RtmpCgLFJ2/02H033.bam processed (977 milliseconds)
Oct 19 04:24:24 SpliceWiz processBAM processed RtmpCgLFJ2/02H033.bam
Allocating memory to 1 threads for SpliceWiz (ompBAM)...initialized (0 milliseconds)
/private/tmp/RtmpCgLFJ2/02H043.bam processed (572 milliseconds)
Oct 19 04:24:24 SpliceWiz processBAM processed RtmpCgLFJ2/02H043.bam
Allocating memory to 1 threads for SpliceWiz (ompBAM)...initialized (4 milliseconds)
/private/tmp/RtmpCgLFJ2/02H046.bam processed (833 milliseconds)
Oct 19 04:24:25 SpliceWiz processBAM processed RtmpCgLFJ2/02H046.bam
Oct 19 04:24:27 Using MulticoreParam 1 threads
Oct 19 04:24:27 Validating Experiment; checking COV files...
Oct 19 04:24:27 Compiling Sample Stats
Oct 19 04:24:27 Compiling Junction List...merging...done
Oct 19 04:24:29 Compiling Junction Stats...merging...done
Oct 19 04:24:40 Compiling Intron Retention List...done
Oct 19 04:24:42 Compiling Tandem Junction List...merging...done
Oct 19 04:24:43 Tidying up splice junctions and intron retentions...
...annotating splice junctions
...looking for novel exons
Oct 19 04:24:48 Assembling novel splicing reference:
...loading reference FASTA/GTF
...injecting novel transcripts to GTF
...processing GTF
...processing introns from GTF
...annotating alternative splicing events
done
Oct 19 04:25:06 Tidying up splice junctions and intron retentions (part 2)...
...grouping splice junctions
...grouping introns
...loading splice events
...compiling rowEvents
done
Oct 19 04:25:19 Generating NxtSE assays
Oct 19 04:25:21 Using MulticoreParam 1 threads
|
| | 0%
|
|============ | 17%
|
|======================= | 33%
|
|=================================== | 50%
|
|=============================================== | 67%
|
|========================================================== | 83%
|
|======================================================================| 100%
Oct 19 04:25:44 Building Final NxtSE Object
Oct 19 04:25:44 ...consolidating assays to H5 file
Oct 19 04:25:47 ...packaging reference
Oct 19 04:25:47 ...synthesising NxtSE
Oct 19 04:25:47 ...determining how overlapping introns should be removed
Oct 19 04:25:57 SpliceWiz (NxtSE) Collation Finished
Oct 19 04:25:57 Loading NxtSE object from file...
Oct 19 04:25:57 ...loading reference (NxtSE)
Oct 19 04:25:57 ...linking assays
Oct 19 04:25:57 ...linking COV files
Oct 19 04:25:57 ...loading rowData
Oct 19 04:25:57 ...removing overlapping introns...
Oct 19 04:25:57 NxtSE loaded
Oct 19 04:25:58 SpliceWiz reference already exists in given directory
Oct 19 04:25:58 Running SpliceWiz processBAM
Oct 19 04:26:00 Using MulticoreParam 1 threads
Allocating memory to 1 threads for SpliceWiz (ompBAM)...initialized (0 milliseconds)
/private/tmp/RtmpCgLFJ2/02H003.bam processed (731 milliseconds)
Oct 19 04:26:00 SpliceWiz processBAM processed RtmpCgLFJ2/02H003.bam
Allocating memory to 1 threads for SpliceWiz (ompBAM)...initialized (0 milliseconds)
/private/tmp/RtmpCgLFJ2/02H025.bam processed (576 milliseconds)
Oct 19 04:26:01 SpliceWiz processBAM processed RtmpCgLFJ2/02H025.bam
Allocating memory to 1 threads for SpliceWiz (ompBAM)...initialized (0 milliseconds)
/private/tmp/RtmpCgLFJ2/02H026.bam processed (893 milliseconds)
Oct 19 04:26:02 SpliceWiz processBAM processed RtmpCgLFJ2/02H026.bam
Allocating memory to 1 threads for SpliceWiz (ompBAM)...initialized (0 milliseconds)
/private/tmp/RtmpCgLFJ2/02H033.bam processed (901 milliseconds)
Oct 19 04:26:03 SpliceWiz processBAM processed RtmpCgLFJ2/02H033.bam
Allocating memory to 1 threads for SpliceWiz (ompBAM)...initialized (0 milliseconds)
/private/tmp/RtmpCgLFJ2/02H043.bam processed (571 milliseconds)
Oct 19 04:26:04 SpliceWiz processBAM processed RtmpCgLFJ2/02H043.bam
Allocating memory to 1 threads for SpliceWiz (ompBAM)...initialized (4 milliseconds)
/private/tmp/RtmpCgLFJ2/02H046.bam processed (825 milliseconds)
Oct 19 04:26:04 SpliceWiz processBAM processed RtmpCgLFJ2/02H046.bam
Oct 19 04:26:06 Using MulticoreParam 1 threads
Oct 19 04:26:06 Validating Experiment; checking COV files...
Oct 19 04:26:06 Compiling Sample Stats
Oct 19 04:26:06 Compiling Junction List...merging...done
Oct 19 04:26:08 Compiling Junction Stats...merging...done
Oct 19 04:26:19 Compiling Intron Retention List...done
Oct 19 04:26:21 Tidying up splice junctions and intron retentions...
...annotating splice junctions
...copying splicing reference
...grouping splice junctions
...grouping introns
...loading splice events
...compiling rowEvents
done
Oct 19 04:26:39 Generating NxtSE assays
Oct 19 04:26:40 Using MulticoreParam 1 threads
|
| | 0%
|
|============ | 17%
|
|======================= | 33%
|
|=================================== | 50%
|
|=============================================== | 67%
|
|========================================================== | 83%
|
|======================================================================| 100%
Oct 19 04:27:04 Building Final NxtSE Object
Oct 19 04:27:04 ...consolidating assays to H5 file
Oct 19 04:27:07 ...packaging reference
Oct 19 04:27:07 ...synthesising NxtSE
Oct 19 04:27:07 ...determining how overlapping introns should be removed
Oct 19 04:27:17 SpliceWiz (NxtSE) Collation Finished
Oct 19 04:27:17 Loading NxtSE object from file...
Oct 19 04:27:17 ...loading reference (NxtSE)
Oct 19 04:27:17 ...linking assays
Oct 19 04:27:17 ...linking COV files
Oct 19 04:27:17 ...loading rowData
Oct 19 04:27:17 ...removing overlapping introns...
Oct 19 04:27:17 NxtSE loaded
[ FAIL 0 | WARN 0 | SKIP 0 | PASS 29 ]
>
> # bump to trigger r cmd check
>
> proc.time()
user system elapsed
261.494 167.785 771.706
SpliceWiz.Rcheck/SpliceWiz-Ex.timings
| name | user | system | elapsed | |
| ASE-GLM-edgeR | 4.027 | 0.145 | 7.546 | |
| ASE-methods | 30.364 | 0.531 | 55.717 | |
| ASEFilter-class | 0.057 | 0.007 | 0.101 | |
| Build-Reference-methods | 72.160 | 1.760 | 128.018 | |
| Coverage | 1.040 | 0.050 | 1.842 | |
| Gene-ontology-methods | 1.460 | 0.059 | 2.661 | |
| Graphics-User-Interface | 0 | 0 | 0 | |
| Mappability-methods | 2.086 | 0.040 | 3.732 | |
| NxtSE-class | 50.987 | 1.119 | 93.356 | |
| Run_SpliceWiz_Filters | 6.612 | 0.059 | 11.948 | |
| STAR-methods | 0.005 | 0.010 | 0.051 | |
| View-Reference-methods | 0.253 | 0.019 | 0.488 | |
| collateData | 2.265 | 0.067 | 4.260 | |
| coord2GR | 0.028 | 0.002 | 0.060 | |
| covDataObject-class | 1.702 | 0.033 | 3.153 | |
| covPlotObject-class | 21.486 | 0.332 | 39.358 | |
| covPlotly-class | 1.234 | 0.022 | 2.252 | |
| example-SpliceWiz-data | 0.017 | 0.002 | 0.035 | |
| findSamples | 0.006 | 0.004 | 0.018 | |
| isCOV | 0.015 | 0.003 | 0.036 | |
| makeSE | 1.624 | 0.086 | 3.167 | |
| make_plot_data | 0.058 | 0.003 | 0.109 | |
| plotCoverage | 14.884 | 0.192 | 27.214 | |
| processBAM | 3.747 | 0.499 | 5.461 | |
| setSWthreads | 0.004 | 0.012 | 0.054 | |
| theme_white | 0.196 | 0.050 | 0.440 | |