| Back to Mac ARM64 build report for BioC 3.17 | 
  | 
This page was generated on 2023-10-20 09:38:00 -0400 (Fri, 20 Oct 2023).
| Hostname | OS | Arch (*) | R version | Installed pkgs | 
|---|---|---|---|---|
| kjohnson2 | macOS 12.6.1 Monterey | arm64 | 4.3.1 (2023-06-16) -- "Beagle Scouts" | 4347 | 
| Click on any hostname to see more info about the system (e.g. compilers) (*) as reported by 'uname -p', except on Windows and Mac OS X | ||||
| Package 474/2230 | Hostname | OS / Arch | INSTALL | BUILD | CHECK | BUILD BIN | ||||||||
| customProDB 1.40.0  (landing page) Xiaojing Wang 
  | kjohnson2 | macOS 12.6.1 Monterey / arm64 | OK | OK | OK | OK | ||||||||
| 
To the developers/maintainers of the customProDB package: - Use the following Renviron settings to reproduce errors and warnings. - If 'R CMD check' started to fail recently on the Linux builder(s) over a missing dependency, add the missing dependency to 'Suggests:' in your DESCRIPTION file. See Renviron.bioc for more information.  | 
| Package: customProDB | 
| Version: 1.40.0 | 
| Command: /Library/Frameworks/R.framework/Resources/bin/R CMD build --keep-empty-dirs --no-resave-data customProDB | 
| StartedAt: 2023-10-16 00:50:44 -0400 (Mon, 16 Oct 2023) | 
| EndedAt: 2023-10-16 00:53:52 -0400 (Mon, 16 Oct 2023) | 
| EllapsedTime: 188.4 seconds | 
| RetCode: 0 | 
| Status: OK | 
| PackageFile: customProDB_1.40.0.tar.gz | 
| PackageFileSize: 540.5 KiB | 
##############################################################################
##############################################################################
###
### Running command:
###
###   /Library/Frameworks/R.framework/Resources/bin/R CMD build --keep-empty-dirs --no-resave-data customProDB
###
##############################################################################
##############################################################################
* checking for file ‘customProDB/DESCRIPTION’ ... OK
* preparing ‘customProDB’:
* checking DESCRIPTION meta-information ... OK
* installing the package to build vignettes
* creating vignettes ... OK
* checking for LF line-endings in source and make files and shell scripts
* checking for empty or unneeded directories
  NB: this package now depends on R (>= 3.5.0)
  WARNING: Added dependency on R >= 3.5.0 because serialized objects in
  serialize/load version 3 cannot be read in older versions of R.
  File(s) containing such objects:
    ‘customProDB/inst/extdata/refseq/cosmic.RData’
    ‘customProDB/inst/extdata/refseq/dbsnpinCoding.RData’
* building ‘customProDB_1.40.0.tar.gz’