Back to Mac ARM64 build report for BioC 3.18 |
|
This page was generated on 2024-04-18 11:32:03 -0400 (Thu, 18 Apr 2024).
Hostname | OS | Arch (*) | R version | Installed pkgs |
---|---|---|---|---|
kjohnson1 | macOS 13.6.1 Ventura | arm64 | 4.3.3 (2024-02-29) -- "Angel Food Cake" | 4388 |
Click on any hostname to see more info about the system (e.g. compilers) (*) as reported by 'uname -p', except on Windows and Mac OS X |
To the developers/maintainers of the S4Vectors package: - Use the following Renviron settings to reproduce errors and warnings. - If 'R CMD check' started to fail recently on the Linux builder(s) over a missing dependency, add the missing dependency to 'Suggests:' in your DESCRIPTION file. See Renviron.bioc for more information. |
Package 1832/2266 | Hostname | OS / Arch | INSTALL | BUILD | CHECK | BUILD BIN | ||||||||
S4Vectors 0.40.2 (landing page) Hervé Pagès
| kjohnson1 | macOS 13.6.1 Ventura / arm64 | OK | OK | WARNINGS | OK | ![]() | |||||||
QUICK STATS | OS / Arch | INSTALL | BUILD | CHECK | BUILD BIN | |||||||||||||||||
kjohnson1 | macOS 13.6.1 Ventura / arm64 |
|
|
|
| |||||||||||||||||
Package 1/679 | Hostname | OS / Arch | INSTALL | BUILD | CHECK | BUILD BIN | ||||||||||||||||
ADImpute 1.12.0 (landing page) Ana Carolina Leote
| kjohnson1 | macOS 13.6.1 Ventura / arm64 | OK | OK | WARNINGS | OK | ![]() | |||||||||||||||
Package 2/679 | Hostname | OS / Arch | INSTALL | BUILD | CHECK | BUILD BIN | ||||||||||||||||
adverSCarial 1.0.0 (landing page) Ghislain FIEVET
| kjohnson1 | macOS 13.6.1 Ventura / arm64 | OK | OK | OK | OK | ![]() | |||||||||||||||
Package 3/679 | Hostname | OS / Arch | INSTALL | BUILD | CHECK | BUILD BIN | ||||||||||||||||
affycoretools 1.74.0 (landing page) James W. MacDonald
| kjohnson1 | macOS 13.6.1 Ventura / arm64 | OK | OK | OK | OK | ![]() | |||||||||||||||
Package 4/679 | Hostname | OS / Arch | INSTALL | BUILD | CHECK | BUILD BIN | ||||||||||||||||
aggregateBioVar 1.12.0 (landing page) Jason Ratcliff
| kjohnson1 | macOS 13.6.1 Ventura / arm64 | OK | OK | OK | OK | ![]() | |||||||||||||||
Package 5/679 | Hostname | OS / Arch | INSTALL | BUILD | CHECK | BUILD BIN | ||||||||||||||||
airpart 1.10.0 (landing page) Wancen Mu
| kjohnson1 | macOS 13.6.1 Ventura / arm64 | OK | OK | OK | OK | ![]() | |||||||||||||||
Package 6/679 | Hostname | OS / Arch | INSTALL | BUILD | CHECK | BUILD BIN | ||||||||||||||||
alabaster.base 1.2.1 (landing page) Aaron Lun
| kjohnson1 | macOS 13.6.1 Ventura / arm64 | OK | OK | WARNINGS | OK | ![]() | |||||||||||||||
Package 7/679 | Hostname | OS / Arch | INSTALL | BUILD | CHECK | BUILD BIN | ||||||||||||||||
alabaster.bumpy 1.2.0 (landing page) Aaron Lun
| kjohnson1 | macOS 13.6.1 Ventura / arm64 | OK | OK | OK | OK | ![]() | |||||||||||||||
Package 8/679 | Hostname | OS / Arch | INSTALL | BUILD | CHECK | BUILD BIN | ||||||||||||||||
alabaster.files 1.0.0 (landing page) Aaron Lun
| kjohnson1 | macOS 13.6.1 Ventura / arm64 | OK | OK | OK | OK | ![]() | |||||||||||||||
Package 9/679 | Hostname | OS / Arch | INSTALL | BUILD | CHECK | BUILD BIN | ||||||||||||||||
alabaster.mae 1.2.0 (landing page) Aaron Lun
| kjohnson1 | macOS 13.6.1 Ventura / arm64 | OK | OK | OK | OK | ![]() | |||||||||||||||
Package 10/679 | Hostname | OS / Arch | INSTALL | BUILD | CHECK | BUILD BIN | ||||||||||||||||
alabaster.matrix 1.2.0 (landing page) Aaron Lun
| kjohnson1 | macOS 13.6.1 Ventura / arm64 | OK | OK | OK | OK | ![]() | |||||||||||||||
Package 11/679 | Hostname | OS / Arch | INSTALL | BUILD | CHECK | BUILD BIN | ||||||||||||||||
alabaster.ranges 1.2.0 (landing page) Aaron Lun
| kjohnson1 | macOS 13.6.1 Ventura / arm64 | OK | OK | OK | OK | ![]() | |||||||||||||||
Package 12/679 | Hostname | OS / Arch | INSTALL | BUILD | CHECK | BUILD BIN | ||||||||||||||||
alabaster.se 1.2.0 (landing page) Aaron Lun
| kjohnson1 | macOS 13.6.1 Ventura / arm64 | OK | OK | OK | OK | ![]() | |||||||||||||||
Package 13/679 | Hostname | OS / Arch | INSTALL | BUILD | CHECK | BUILD BIN | ||||||||||||||||
alabaster.spatial 1.2.0 (landing page) Aaron Lun
| kjohnson1 | macOS 13.6.1 Ventura / arm64 | OK | OK | OK | OK | ![]() | |||||||||||||||
Package 14/679 | Hostname | OS / Arch | INSTALL | BUILD | CHECK | BUILD BIN | ||||||||||||||||
alabaster.vcf 1.2.0 (landing page) Aaron Lun
| kjohnson1 | macOS 13.6.1 Ventura / arm64 | OK | OK | OK | OK | ![]() | |||||||||||||||
Package 15/679 | Hostname | OS / Arch | INSTALL | BUILD | CHECK | BUILD BIN | ||||||||||||||||
ALDEx2 1.34.0 (landing page) Greg Gloor
| kjohnson1 | macOS 13.6.1 Ventura / arm64 | OK | OK | OK | OK | ![]() | |||||||||||||||
Package 16/679 | Hostname | OS / Arch | INSTALL | BUILD | CHECK | BUILD BIN | ||||||||||||||||
AllelicImbalance 1.40.0 (landing page) Jesper R Gadin
| kjohnson1 | macOS 13.6.1 Ventura / arm64 | OK | OK | OK | OK | ![]() | |||||||||||||||
Package 17/679 | Hostname | OS / Arch | INSTALL | BUILD | CHECK | BUILD BIN | ||||||||||||||||
altcdfenvs 2.64.0 (landing page) Laurent Gautier
| kjohnson1 | macOS 13.6.1 Ventura / arm64 | OK | OK | OK | OK | ![]() | |||||||||||||||
Package 18/679 | Hostname | OS / Arch | INSTALL | BUILD | CHECK | BUILD BIN | ||||||||||||||||
amplican 1.24.0 (landing page) Eivind Valen
| kjohnson1 | macOS 13.6.1 Ventura / arm64 | OK | OK | OK | OK | ![]() | |||||||||||||||
Package 19/679 | Hostname | OS / Arch | INSTALL | BUILD | CHECK | BUILD BIN | ||||||||||||||||
ANCOMBC 2.4.0 (landing page) Huang Lin
| kjohnson1 | macOS 13.6.1 Ventura / arm64 | OK | OK | OK | OK | ![]() | |||||||||||||||
Package 20/679 | Hostname | OS / Arch | INSTALL | BUILD | CHECK | BUILD BIN | ||||||||||||||||
AneuFinder 1.30.0 (landing page) Aaron Taudt
| kjohnson1 | macOS 13.6.1 Ventura / arm64 | OK | OK | OK | OK | ![]() | |||||||||||||||
Package 21/679 | Hostname | OS / Arch | INSTALL | BUILD | CHECK | BUILD BIN | ||||||||||||||||
animalcules 1.18.3 (landing page) Jessica McClintock
| kjohnson1 | macOS 13.6.1 Ventura / arm64 | OK | OK | OK | OK | ![]() | |||||||||||||||
Package 22/679 | Hostname | OS / Arch | INSTALL | BUILD | CHECK | BUILD BIN | ||||||||||||||||
AnnotationDbi 1.64.1 (landing page) Bioconductor Package Maintainer
| kjohnson1 | macOS 13.6.1 Ventura / arm64 | OK | OK | WARNINGS | OK | ![]() | |||||||||||||||
Package 23/679 | Hostname | OS / Arch | INSTALL | BUILD | CHECK | BUILD BIN | ||||||||||||||||
AnnotationForge 1.44.0 (landing page) Bioconductor Package Maintainer
| kjohnson1 | macOS 13.6.1 Ventura / arm64 | OK | OK | OK | OK | ![]() | |||||||||||||||
Package 24/679 | Hostname | OS / Arch | INSTALL | BUILD | CHECK | BUILD BIN | ||||||||||||||||
AnnotationHub 3.10.1 (landing page) Bioconductor Package Maintainer
| kjohnson1 | macOS 13.6.1 Ventura / arm64 | OK | OK | WARNINGS | OK | ![]() | |||||||||||||||
Package 25/679 | Hostname | OS / Arch | INSTALL | BUILD | CHECK | BUILD BIN | ||||||||||||||||
AnnotationHubData 1.32.1 (landing page) Bioconductor Package Maintainer
| kjohnson1 | macOS 13.6.1 Ventura / arm64 | OK | OK | ERROR | OK | ||||||||||||||||
Package 26/679 | Hostname | OS / Arch | INSTALL | BUILD | CHECK | BUILD BIN | ||||||||||||||||
annotatr 1.28.0 (landing page) Raymond G. Cavalcante
| kjohnson1 | macOS 13.6.1 Ventura / arm64 | OK | OK | OK | OK | ![]() | |||||||||||||||
Package 27/679 | Hostname | OS / Arch | INSTALL | BUILD | CHECK | BUILD BIN | ||||||||||||||||
appreci8R 1.20.2 (landing page) Sarah Sandmann
| kjohnson1 | macOS 13.6.1 Ventura / arm64 | OK | OK | OK | OK | ![]() | |||||||||||||||
Package 28/679 | Hostname | OS / Arch | INSTALL | BUILD | CHECK | BUILD BIN | ||||||||||||||||
ASpli 2.12.0 (landing page) Ariel Chernomoretz
| kjohnson1 | macOS 13.6.1 Ventura / arm64 | OK | OK | WARNINGS | OK | ![]() | |||||||||||||||
Package 29/679 | Hostname | OS / Arch | INSTALL | BUILD | CHECK | BUILD BIN | ||||||||||||||||
ASURAT 1.6.0 (landing page) Keita Iida
| kjohnson1 | macOS 13.6.1 Ventura / arm64 | OK | OK | OK | OK | ![]() | |||||||||||||||
Package 30/679 | Hostname | OS / Arch | INSTALL | BUILD | CHECK | BUILD BIN | ||||||||||||||||
ATACseqQC 1.26.0 (landing page) Jianhong Ou
| kjohnson1 | macOS 13.6.1 Ventura / arm64 | OK | OK | OK | OK | ![]() | |||||||||||||||
Package 31/679 | Hostname | OS / Arch | INSTALL | BUILD | CHECK | BUILD BIN | ||||||||||||||||
ATACseqTFEA 1.4.0 (landing page) Jianhong Ou
| kjohnson1 | macOS 13.6.1 Ventura / arm64 | OK | OK | OK | OK | ![]() | |||||||||||||||
Package 32/679 | Hostname | OS / Arch | INSTALL | BUILD | CHECK | BUILD BIN | ||||||||||||||||
atena 1.8.0 (landing page) Beatriz Calvo-Serra
| kjohnson1 | macOS 13.6.1 Ventura / arm64 | OK | OK | OK | OK | ![]() | |||||||||||||||
Package 33/679 | Hostname | OS / Arch | INSTALL | BUILD | CHECK | BUILD BIN | ||||||||||||||||
autonomics 1.10.2 (landing page) Aditya Bhagwat
| kjohnson1 | macOS 13.6.1 Ventura / arm64 | OK | ERROR | skipped | skipped | ||||||||||||||||
Package 34/679 | Hostname | OS / Arch | INSTALL | BUILD | CHECK | BUILD BIN | ||||||||||||||||
BadRegionFinder 1.30.0 (landing page) Sarah Sandmann
| kjohnson1 | macOS 13.6.1 Ventura / arm64 | OK | OK | OK | OK | ![]() | |||||||||||||||
Package 35/679 | Hostname | OS / Arch | INSTALL | BUILD | CHECK | BUILD BIN | ||||||||||||||||
ballgown 2.34.0 (landing page) Jack Fu
| kjohnson1 | macOS 13.6.1 Ventura / arm64 | OK | OK | OK | OK | ![]() | |||||||||||||||
Package 36/679 | Hostname | OS / Arch | INSTALL | BUILD | CHECK | BUILD BIN | ||||||||||||||||
bambu 3.4.1 (landing page) Ying Chen
| kjohnson1 | macOS 13.6.1 Ventura / arm64 | OK | OK | OK | OK | ![]() | |||||||||||||||
Package 37/679 | Hostname | OS / Arch | INSTALL | BUILD | CHECK | BUILD BIN | ||||||||||||||||
bandle 1.6.0 (landing page) Oliver M. Crook
| kjohnson1 | macOS 13.6.1 Ventura / arm64 | OK | OK | WARNINGS | OK | ![]() | |||||||||||||||
Package 38/679 | Hostname | OS / Arch | INSTALL | BUILD | CHECK | BUILD BIN | ||||||||||||||||
barcodetrackR 1.10.0 (landing page) Diego Alexander Espinoza
| kjohnson1 | macOS 13.6.1 Ventura / arm64 | OK | OK | OK | OK | ![]() | |||||||||||||||
Package 39/679 | Hostname | OS / Arch | INSTALL | BUILD | CHECK | BUILD BIN | ||||||||||||||||
BASiCS 2.14.0 (landing page) Catalina Vallejos
| kjohnson1 | macOS 13.6.1 Ventura / arm64 | OK | OK | WARNINGS | OK | ![]() | |||||||||||||||
Package 40/679 | Hostname | OS / Arch | INSTALL | BUILD | CHECK | BUILD BIN | ||||||||||||||||
BasicSTARRseq 1.30.0 (landing page) Annika Buerger
| kjohnson1 | macOS 13.6.1 Ventura / arm64 | OK | OK | OK | OK | ![]() | |||||||||||||||
Package 41/679 | Hostname | OS / Arch | INSTALL | BUILD | CHECK | BUILD BIN | ||||||||||||||||
batchelor 1.18.1 (landing page) Aaron Lun
| kjohnson1 | macOS 13.6.1 Ventura / arm64 | OK | OK | OK | OK | ![]() | |||||||||||||||
Package 42/679 | Hostname | OS / Arch | INSTALL | BUILD | CHECK | BUILD BIN | ||||||||||||||||
BayesSpace 1.12.0 (landing page) Matt Stone
| kjohnson1 | macOS 13.6.1 Ventura / arm64 | OK | OK | OK | OK | ![]() | |||||||||||||||
Package 43/679 | Hostname | OS / Arch | INSTALL | BUILD | CHECK | BUILD BIN | ||||||||||||||||
BindingSiteFinder 2.0.0 (landing page) Mirko Brüggemann
| kjohnson1 | macOS 13.6.1 Ventura / arm64 | OK | OK | OK | OK | ![]() | |||||||||||||||
Package 44/679 | Hostname | OS / Arch | INSTALL | BUILD | CHECK | BUILD BIN | ||||||||||||||||
BiocHubsShiny 1.2.0 (landing page) Marcel Ramos
| kjohnson1 | macOS 13.6.1 Ventura / arm64 | OK | OK | OK | OK | ![]() | |||||||||||||||
Package 45/679 | Hostname | OS / Arch | INSTALL | BUILD | CHECK | BUILD BIN | ||||||||||||||||
BiocIO 1.12.0 (landing page) Marcel Ramos
| kjohnson1 | macOS 13.6.1 Ventura / arm64 | OK | OK | OK | OK | ![]() | |||||||||||||||
Package 46/679 | Hostname | OS / Arch | INSTALL | BUILD | CHECK | BUILD BIN | ||||||||||||||||
BiocNeighbors 1.20.2 (landing page) Aaron Lun
| kjohnson1 | macOS 13.6.1 Ventura / arm64 | OK | OK | WARNINGS | OK | ![]() | |||||||||||||||
Package 47/679 | Hostname | OS / Arch | INSTALL | BUILD | CHECK | BUILD BIN | ||||||||||||||||
BiocOncoTK 1.22.2 (landing page) VJ Carey
| kjohnson1 | macOS 13.6.1 Ventura / arm64 | OK | ERROR | skipped | skipped | ||||||||||||||||
Package 48/679 | Hostname | OS / Arch | INSTALL | BUILD | CHECK | BUILD BIN | ||||||||||||||||
BiocSet 1.16.1 (landing page) Kayla Morrell
| kjohnson1 | macOS 13.6.1 Ventura / arm64 | OK | OK | OK | OK | ![]() | |||||||||||||||
Package 49/679 | Hostname | OS / Arch | INSTALL | BUILD | CHECK | BUILD BIN | ||||||||||||||||
BiocSingular 1.18.0 (landing page) Aaron Lun
| kjohnson1 | macOS 13.6.1 Ventura / arm64 | OK | ERROR | skipped | skipped | ||||||||||||||||
Package 50/679 | Hostname | OS / Arch | INSTALL | BUILD | CHECK | BUILD BIN | ||||||||||||||||
Biostrings 2.70.3 (landing page) Hervé Pagès
| kjohnson1 | macOS 13.6.1 Ventura / arm64 | OK | OK | WARNINGS | OK | ![]() | |||||||||||||||
Package 51/679 | Hostname | OS / Arch | INSTALL | BUILD | CHECK | BUILD BIN | ||||||||||||||||
biotmle 1.26.0 (landing page) Nima Hejazi
| kjohnson1 | macOS 13.6.1 Ventura / arm64 | OK | OK | OK | OK | ![]() | |||||||||||||||
Package 52/679 | Hostname | OS / Arch | INSTALL | BUILD | CHECK | BUILD BIN | ||||||||||||||||
biovizBase 1.50.0 (landing page) Michael Lawrence
| kjohnson1 | macOS 13.6.1 Ventura / arm64 | OK | OK | WARNINGS | OK | ![]() | |||||||||||||||
Package 53/679 | Hostname | OS / Arch | INSTALL | BUILD | CHECK | BUILD BIN | ||||||||||||||||
biscuiteer 1.16.0 (landing page) Jacob Morrison
| kjohnson1 | macOS 13.6.1 Ventura / arm64 | OK | OK | WARNINGS | OK | ![]() | |||||||||||||||
Package 54/679 | Hostname | OS / Arch | INSTALL | BUILD | CHECK | BUILD BIN | ||||||||||||||||
BiSeq 1.42.0 (landing page) Katja Hebestreit
| kjohnson1 | macOS 13.6.1 Ventura / arm64 | OK | OK | OK | OK | ![]() | |||||||||||||||
Package 55/679 | Hostname | OS / Arch | INSTALL | BUILD | CHECK | BUILD BIN | ||||||||||||||||
bluster 1.12.0 (landing page) Aaron Lun
| kjohnson1 | macOS 13.6.1 Ventura / arm64 | OK | ERROR | skipped | skipped | ||||||||||||||||
Package 56/679 | Hostname | OS / Arch | INSTALL | BUILD | CHECK | BUILD BIN | ||||||||||||||||
bnbc 1.24.2 (landing page) Kipper Fletez-Brant
| kjohnson1 | macOS 13.6.1 Ventura / arm64 | OK | OK | OK | OK | ![]() | |||||||||||||||
Package 57/679 | Hostname | OS / Arch | INSTALL | BUILD | CHECK | BUILD BIN | ||||||||||||||||
BPRMeth 1.28.0 (landing page) Chantriolnt-Andreas Kapourani
| kjohnson1 | macOS 13.6.1 Ventura / arm64 | OK | OK | OK | OK | ![]() | |||||||||||||||
Package 58/679 | Hostname | OS / Arch | INSTALL | BUILD | CHECK | BUILD BIN | ||||||||||||||||
branchpointer 1.28.0 (landing page) Beth Signal
| kjohnson1 | macOS 13.6.1 Ventura / arm64 | OK | OK | OK | OK | ![]() | |||||||||||||||
Package 59/679 | Hostname | OS / Arch | INSTALL | BUILD | CHECK | BUILD BIN | ||||||||||||||||
breakpointR 1.20.0 (landing page) David Porubsky
| kjohnson1 | macOS 13.6.1 Ventura / arm64 | OK | OK | OK | OK | ![]() | |||||||||||||||
Package 60/679 | Hostname | OS / Arch | INSTALL | BUILD | CHECK | BUILD BIN | ||||||||||||||||
BRGenomics 1.14.1 (landing page) Mike DeBerardine
| kjohnson1 | macOS 13.6.1 Ventura / arm64 | OK | OK | OK | OK | ![]() | |||||||||||||||
Package 61/679 | Hostname | OS / Arch | INSTALL | BUILD | CHECK | BUILD BIN | ||||||||||||||||
BSgenome 1.70.2 (landing page) Hervé Pagès
| kjohnson1 | macOS 13.6.1 Ventura / arm64 | OK | OK | WARNINGS | OK | ![]() | |||||||||||||||
Package 62/679 | Hostname | OS / Arch | INSTALL | BUILD | CHECK | BUILD BIN | ||||||||||||||||
BSgenomeForge 1.2.3 (landing page) Hervé Pagès
| kjohnson1 | macOS 13.6.1 Ventura / arm64 | OK | OK | OK | OK | ![]() | |||||||||||||||
Package 63/679 | Hostname | OS / Arch | INSTALL | BUILD | CHECK | BUILD BIN | ||||||||||||||||
bsseq 1.38.0 (landing page) Kasper Daniel Hansen
| kjohnson1 | macOS 13.6.1 Ventura / arm64 | OK | OK | OK | OK | ![]() | |||||||||||||||
Package 64/679 | Hostname | OS / Arch | INSTALL | BUILD | CHECK | BUILD BIN | ||||||||||||||||
bumphunter 1.44.0 (landing page) Tamilselvi Guharaj
| kjohnson1 | macOS 13.6.1 Ventura / arm64 | OK | OK | OK | OK | ![]() | |||||||||||||||
Package 65/679 | Hostname | OS / Arch | INSTALL | BUILD | CHECK | BUILD BIN | ||||||||||||||||
BumpyMatrix 1.10.0 (landing page) Aaron Lun
| kjohnson1 | macOS 13.6.1 Ventura / arm64 | OK | OK | OK | OK | ![]() | |||||||||||||||
Package 66/679 | Hostname | OS / Arch | INSTALL | BUILD | CHECK | BUILD BIN | ||||||||||||||||
BUSpaRse 1.16.1 (landing page) Lambda Moses
| kjohnson1 | macOS 13.6.1 Ventura / arm64 | OK | OK | OK | OK | ![]() | |||||||||||||||
Package 67/679 | Hostname | OS / Arch | INSTALL | BUILD | CHECK | BUILD BIN | ||||||||||||||||
BUSseq 1.8.0 (landing page) Fangda Song
| kjohnson1 | macOS 13.6.1 Ventura / arm64 | OK | OK | OK | OK | ![]() | |||||||||||||||
Package 68/679 | Hostname | OS / Arch | INSTALL | BUILD | CHECK | BUILD BIN | ||||||||||||||||
CAGEfightR 1.22.0 (landing page) Malte Thodberg
| kjohnson1 | macOS 13.6.1 Ventura / arm64 | OK | OK | OK | OK | ![]() | |||||||||||||||
Package 69/679 | Hostname | OS / Arch | INSTALL | BUILD | CHECK | BUILD BIN | ||||||||||||||||
CAGEr 2.8.0 (landing page) Charles Plessy
| kjohnson1 | macOS 13.6.1 Ventura / arm64 | OK | OK | OK | OK | ![]() | |||||||||||||||
Package 70/679 | Hostname | OS / Arch | INSTALL | BUILD | CHECK | BUILD BIN | ||||||||||||||||
cardelino 1.4.0 (landing page) Davis McCarthy
| kjohnson1 | macOS 13.6.1 Ventura / arm64 | OK | OK | OK | OK | ![]() | |||||||||||||||
Package 71/679 | Hostname | OS / Arch | INSTALL | BUILD | CHECK | BUILD BIN | ||||||||||||||||
Cardinal 3.4.3 (landing page) Kylie A. Bemis
| kjohnson1 | macOS 13.6.1 Ventura / arm64 | OK | OK | OK | OK | ![]() | |||||||||||||||
Package 72/679 | Hostname | OS / Arch | INSTALL | BUILD | CHECK | BUILD BIN | ||||||||||||||||
CardinalIO 1.0.0 (landing page) Kylie Ariel Bemis
| kjohnson1 | macOS 13.6.1 Ventura / arm64 | OK | OK | OK | OK | ![]() | |||||||||||||||
Package 73/679 | Hostname | OS / Arch | INSTALL | BUILD | CHECK | BUILD BIN | ||||||||||||||||
casper 2.36.0 (landing page) David Rossell
| kjohnson1 | macOS 13.6.1 Ventura / arm64 | OK | ERROR | skipped | skipped | ||||||||||||||||
Package 74/679 | Hostname | OS / Arch | INSTALL | BUILD | CHECK | BUILD BIN | ||||||||||||||||
CATALYST 1.26.1 (landing page) Helena L. Crowell
| kjohnson1 | macOS 13.6.1 Ventura / arm64 | OK | ERROR | skipped | skipped | ||||||||||||||||
Package 75/679 | Hostname | OS / Arch | INSTALL | BUILD | CHECK | BUILD BIN | ||||||||||||||||
cBioPortalData 2.14.2 (landing page) Marcel Ramos
| kjohnson1 | macOS 13.6.1 Ventura / arm64 | OK | OK | OK | OK | ![]() | |||||||||||||||
Package 76/679 | Hostname | OS / Arch | INSTALL | BUILD | CHECK | BUILD BIN | ||||||||||||||||
ccfindR 1.22.0 (landing page) Jun Woo
| kjohnson1 | macOS 13.6.1 Ventura / arm64 | ERROR | ERROR | skipped | skipped | ||||||||||||||||
Package 77/679 | Hostname | OS / Arch | INSTALL | BUILD | CHECK | BUILD BIN | ||||||||||||||||
celaref 1.20.0 (landing page) Sarah Williams
| kjohnson1 | macOS 13.6.1 Ventura / arm64 | OK | OK | OK | OK | ![]() | |||||||||||||||
Package 78/679 | Hostname | OS / Arch | INSTALL | BUILD | CHECK | BUILD BIN | ||||||||||||||||
celda 1.18.2 (landing page) Joshua Campbell
| kjohnson1 | macOS 13.6.1 Ventura / arm64 | OK | ERROR | skipped | skipped | ||||||||||||||||
Package 79/679 | Hostname | OS / Arch | INSTALL | BUILD | CHECK | BUILD BIN | ||||||||||||||||
CellaRepertorium 1.12.0 (landing page) Andrew McDavid
| kjohnson1 | macOS 13.6.1 Ventura / arm64 | OK | OK | WARNINGS | OK | ![]() | |||||||||||||||
Package 80/679 | Hostname | OS / Arch | INSTALL | BUILD | CHECK | BUILD BIN | ||||||||||||||||
CellBarcode 1.8.1 (landing page) Wenjie Sun
| kjohnson1 | macOS 13.6.1 Ventura / arm64 | OK | OK | OK | OK | ![]() | |||||||||||||||
Package 81/679 | Hostname | OS / Arch | INSTALL | BUILD | CHECK | BUILD BIN | ||||||||||||||||
CellMapper 1.28.0 (landing page) Brad Nelms
| kjohnson1 | macOS 13.6.1 Ventura / arm64 | OK | OK | WARNINGS | OK | ![]() | |||||||||||||||
Package 82/679 | Hostname | OS / Arch | INSTALL | BUILD | CHECK | BUILD BIN | ||||||||||||||||
censcyt 1.10.0 (landing page) Reto Gerber
| kjohnson1 | macOS 13.6.1 Ventura / arm64 | OK | OK | OK | OK | ![]() | |||||||||||||||
Package 83/679 | Hostname | OS / Arch | INSTALL | BUILD | CHECK | BUILD BIN | ||||||||||||||||
Cepo 1.8.0 (landing page) Hani Jieun Kim
| kjohnson1 | macOS 13.6.1 Ventura / arm64 | OK | OK | WARNINGS | OK | ![]() | |||||||||||||||
Package 84/679 | Hostname | OS / Arch | INSTALL | BUILD | CHECK | BUILD BIN | ||||||||||||||||
CeTF 1.14.0 (landing page) Carlos Alberto Oliveira de Biagi Junior
| kjohnson1 | macOS 13.6.1 Ventura / arm64 | OK | OK | OK | OK | ![]() | |||||||||||||||
Package 85/679 | Hostname | OS / Arch | INSTALL | BUILD | CHECK | BUILD BIN | ||||||||||||||||
CexoR 1.40.0 (landing page) Pedro Madrigal
| kjohnson1 | macOS 13.6.1 Ventura / arm64 | OK | OK | OK | OK | ![]() | |||||||||||||||
Package 86/679 | Hostname | OS / Arch | INSTALL | BUILD | CHECK | BUILD BIN | ||||||||||||||||
cfdnakit 1.0.1 (landing page) Pitithat Puranachot
| kjohnson1 | macOS 13.6.1 Ventura / arm64 | OK | OK | OK | OK | ![]() | |||||||||||||||
Package 87/679 | Hostname | OS / Arch | INSTALL | BUILD | CHECK | BUILD BIN | ||||||||||||||||
CHETAH 1.18.0 (landing page) Jurrian de Kanter
| kjohnson1 | macOS 13.6.1 Ventura / arm64 | OK | OK | OK | OK | ![]() | |||||||||||||||
Package 88/679 | Hostname | OS / Arch | INSTALL | BUILD | CHECK | BUILD BIN | ||||||||||||||||
chimeraviz 1.28.0 (landing page) Stian Lågstad
| kjohnson1 | macOS 13.6.1 Ventura / arm64 | OK | OK | OK | OK | ![]() | |||||||||||||||
Package 89/679 | Hostname | OS / Arch | INSTALL | BUILD | CHECK | BUILD BIN | ||||||||||||||||
ChIPanalyser 1.24.0 (landing page) Patrick C.N. Martin
| kjohnson1 | macOS 13.6.1 Ventura / arm64 | OK | OK | OK | OK | ![]() | |||||||||||||||
Package 90/679 | Hostname | OS / Arch | INSTALL | BUILD | CHECK | BUILD BIN | ||||||||||||||||
ChIPComp 1.32.0 (landing page) Li Chen
| kjohnson1 | macOS 13.6.1 Ventura / arm64 | OK | OK | OK | OK | ![]() | |||||||||||||||
Package 91/679 | Hostname | OS / Arch | INSTALL | BUILD | CHECK | BUILD BIN | ||||||||||||||||
chipenrich 2.26.0 (landing page) Kai Wang
| kjohnson1 | macOS 13.6.1 Ventura / arm64 | OK | OK | OK | OK | ![]() | |||||||||||||||
Package 92/679 | Hostname | OS / Arch | INSTALL | BUILD | CHECK | BUILD BIN | ||||||||||||||||
ChIPexoQual 1.26.0 (landing page) Rene Welch
| kjohnson1 | macOS 13.6.1 Ventura / arm64 | OK | OK | OK | OK | ![]() | |||||||||||||||
Package 93/679 | Hostname | OS / Arch | INSTALL | BUILD | CHECK | BUILD BIN | ||||||||||||||||
ChIPpeakAnno 3.36.1 (landing page) Jianhong Ou
| kjohnson1 | macOS 13.6.1 Ventura / arm64 | OK | OK | OK | OK | ![]() | |||||||||||||||
Package 94/679 | Hostname | OS / Arch | INSTALL | BUILD | CHECK | BUILD BIN | ||||||||||||||||
ChIPQC 1.38.0 (landing page) Tom Carroll
| kjohnson1 | macOS 13.6.1 Ventura / arm64 | OK | OK | WARNINGS | OK | ![]() | |||||||||||||||
Package 95/679 | Hostname | OS / Arch | INSTALL | BUILD | CHECK | BUILD BIN | ||||||||||||||||
ChIPseeker 1.38.0 (landing page) Guangchuang Yu
| kjohnson1 | macOS 13.6.1 Ventura / arm64 | OK | OK | OK | OK | ![]() | |||||||||||||||
Package 96/679 | Hostname | OS / Arch | INSTALL | BUILD | CHECK | BUILD BIN | ||||||||||||||||
chipseq 1.52.0 (landing page) Bioconductor Package Maintainer
| kjohnson1 | macOS 13.6.1 Ventura / arm64 | OK | OK | WARNINGS | OK | ![]() | |||||||||||||||
Package 97/679 | Hostname | OS / Arch | INSTALL | BUILD | CHECK | BUILD BIN | ||||||||||||||||
ChIPseqR 1.56.0 (landing page) Peter Humburg
| kjohnson1 | macOS 13.6.1 Ventura / arm64 | OK | OK | OK | OK | ![]() | |||||||||||||||
Package 98/679 | Hostname | OS / Arch | INSTALL | BUILD | CHECK | BUILD BIN | ||||||||||||||||
ChromSCape 1.12.0 (landing page) Pacome Prompsy
| kjohnson1 | macOS 13.6.1 Ventura / arm64 | OK | OK | ERROR | OK | ||||||||||||||||
Package 99/679 | Hostname | OS / Arch | INSTALL | BUILD | CHECK | BUILD BIN | ||||||||||||||||
chromstaR 1.28.0 (landing page) Aaron Taudt
| kjohnson1 | macOS 13.6.1 Ventura / arm64 | OK | OK | OK | OK | ![]() | |||||||||||||||
Package 100/679 | Hostname | OS / Arch | INSTALL | BUILD | CHECK | BUILD BIN | ||||||||||||||||
chromVAR 1.24.0 (landing page) Alicia Schep
| kjohnson1 | macOS 13.6.1 Ventura / arm64 | OK | OK | OK | OK | ![]() | |||||||||||||||
Package 101/679 | Hostname | OS / Arch | INSTALL | BUILD | CHECK | BUILD BIN | ||||||||||||||||
cicero 1.20.0 (landing page) Hannah Pliner
| kjohnson1 | macOS 13.6.1 Ventura / arm64 | OK | OK | OK | OK | ![]() | |||||||||||||||
Package 102/679 | Hostname | OS / Arch | INSTALL | BUILD | CHECK | BUILD BIN | ||||||||||||||||
CINdex 1.30.0 (landing page) Yuriy Gusev
| kjohnson1 | macOS 13.6.1 Ventura / arm64 | OK | OK | WARNINGS | OK | ![]() | |||||||||||||||
Package 103/679 | Hostname | OS / Arch | INSTALL | BUILD | CHECK | BUILD BIN | ||||||||||||||||
circRNAprofiler 1.16.0 (landing page) Simona Aufiero
| kjohnson1 | macOS 13.6.1 Ventura / arm64 | OK | OK | OK | OK | ![]() | |||||||||||||||
Package 104/679 | Hostname | OS / Arch | INSTALL | BUILD | CHECK | BUILD BIN | ||||||||||||||||
CircSeqAlignTk 1.4.0 (landing page) Jianqiang Sun
| kjohnson1 | macOS 13.6.1 Ventura / arm64 | OK | OK | OK | OK | ![]() | |||||||||||||||
Package 105/679 | Hostname | OS / Arch | INSTALL | BUILD | CHECK | BUILD BIN | ||||||||||||||||
CiteFuse 1.14.0 (landing page) Yingxin Lin
| kjohnson1 | macOS 13.6.1 Ventura / arm64 | OK | ERROR | skipped | skipped | ||||||||||||||||
Package 106/679 | Hostname | OS / Arch | INSTALL | BUILD | CHECK | BUILD BIN | ||||||||||||||||
ClassifyR 3.6.5 (landing page) Dario Strbenac
| kjohnson1 | macOS 13.6.1 Ventura / arm64 | OK | OK | WARNINGS | OK | ![]() | |||||||||||||||
Package 107/679 | Hostname | OS / Arch | INSTALL | BUILD | CHECK | BUILD BIN | ||||||||||||||||
cleanUpdTSeq 1.40.0 (landing page) Jianhong Ou
| kjohnson1 | macOS 13.6.1 Ventura / arm64 | OK | OK | OK | OK | ![]() | |||||||||||||||
Package 108/679 | Hostname | OS / Arch | INSTALL | BUILD | CHECK | BUILD BIN | ||||||||||||||||
cleaver 1.40.0 (landing page) Sebastian Gibb
| kjohnson1 | macOS 13.6.1 Ventura / arm64 | OK | OK | OK | OK | ![]() | |||||||||||||||
Package 109/679 | Hostname | OS / Arch | INSTALL | BUILD | CHECK | BUILD BIN | ||||||||||||||||
cliProfiler 1.8.0 (landing page) You Zhou
| kjohnson1 | macOS 13.6.1 Ventura / arm64 | OK | OK | OK | OK | ![]() | |||||||||||||||
Package 110/679 | Hostname | OS / Arch | INSTALL | BUILD | CHECK | BUILD BIN | ||||||||||||||||
CluMSID 1.18.0 (landing page) Tobias Depke
| kjohnson1 | macOS 13.6.1 Ventura / arm64 | OK | OK | WARNINGS | OK | ![]() | |||||||||||||||
Package 111/679 | Hostname | OS / Arch | INSTALL | BUILD | CHECK | BUILD BIN | ||||||||||||||||
clusterExperiment 2.22.0 (landing page) Elizabeth Purdom
| kjohnson1 | macOS 13.6.1 Ventura / arm64 | OK | OK | WARNINGS | OK | ![]() | |||||||||||||||
Package 112/679 | Hostname | OS / Arch | INSTALL | BUILD | CHECK | BUILD BIN | ||||||||||||||||
clustifyr 1.14.0 (landing page) Kent Riemondy
| kjohnson1 | macOS 13.6.1 Ventura / arm64 | OK | OK | OK | OK | ![]() | |||||||||||||||
Package 113/679 | Hostname | OS / Arch | INSTALL | BUILD | CHECK | BUILD BIN | ||||||||||||||||
cn.mops 1.48.0 (landing page) Gundula Povysil
| kjohnson1 | macOS 13.6.1 Ventura / arm64 | OK | OK | OK | OK | ![]() | |||||||||||||||
Package 114/679 | Hostname | OS / Arch | INSTALL | BUILD | CHECK | BUILD BIN | ||||||||||||||||
CNEr 1.38.0 (landing page) Ge Tan
| kjohnson1 | macOS 13.6.1 Ventura / arm64 | OK | OK | ERROR | OK | ||||||||||||||||
Package 115/679 | Hostname | OS / Arch | INSTALL | BUILD | CHECK | BUILD BIN | ||||||||||||||||
CNVMetrics 1.6.0 (landing page) Astrid Deschênes
| kjohnson1 | macOS 13.6.1 Ventura / arm64 | OK | OK | OK | OK | ![]() | |||||||||||||||
Package 116/679 | Hostname | OS / Arch | INSTALL | BUILD | CHECK | BUILD BIN | ||||||||||||||||
CNVPanelizer 1.34.0 (landing page) Thomas Wolf
| kjohnson1 | macOS 13.6.1 Ventura / arm64 | OK | OK | OK | OK | ![]() | |||||||||||||||
Package 117/679 | Hostname | OS / Arch | INSTALL | BUILD | CHECK | BUILD BIN | ||||||||||||||||
CNVRanger 1.18.1 (landing page) Ludwig Geistlinger
| kjohnson1 | macOS 13.6.1 Ventura / arm64 | OK | OK | OK | OK | ![]() | |||||||||||||||
Package 118/679 | Hostname | OS / Arch | INSTALL | BUILD | CHECK | BUILD BIN | ||||||||||||||||
COCOA 2.16.0 (landing page) John Lawson
| kjohnson1 | macOS 13.6.1 Ventura / arm64 | OK | OK | OK | OK | ![]() | |||||||||||||||
Package 119/679 | Hostname | OS / Arch | INSTALL | BUILD | CHECK | BUILD BIN | ||||||||||||||||
CODEX 1.34.0 (landing page) Yuchao Jiang
| kjohnson1 | macOS 13.6.1 Ventura / arm64 | OK | OK | OK | OK | ![]() | |||||||||||||||
Package 120/679 | Hostname | OS / Arch | INSTALL | BUILD | CHECK | BUILD BIN | ||||||||||||||||
CoGAPS 3.22.0 (landing page) Elana J. Fertig
| kjohnson1 | macOS 13.6.1 Ventura / arm64 | OK | OK | OK | OK | ![]() | |||||||||||||||
Package 121/679 | Hostname | OS / Arch | INSTALL | BUILD | CHECK | BUILD BIN | ||||||||||||||||
Cogito 1.8.0 (landing page) Annika Bürger
| kjohnson1 | macOS 13.6.1 Ventura / arm64 | OK | OK | OK | OK | ![]() | |||||||||||||||
Package 122/679 | Hostname | OS / Arch | INSTALL | BUILD | CHECK | BUILD BIN | ||||||||||||||||
comapr 1.6.1 (landing page) Ruqian Lyu
| kjohnson1 | macOS 13.6.1 Ventura / arm64 | OK | OK | OK | OK | ![]() | |||||||||||||||
Package 123/679 | Hostname | OS / Arch | INSTALL | BUILD | CHECK | BUILD BIN | ||||||||||||||||
coMET 1.34.0 (landing page) Tiphaine Martin
| kjohnson1 | macOS 13.6.1 Ventura / arm64 | OK | OK | WARNINGS | OK | ![]() | |||||||||||||||
Package 124/679 | Hostname | OS / Arch | INSTALL | BUILD | CHECK | BUILD BIN | ||||||||||||||||
compEpiTools 1.36.0 (landing page) Mattia Furlan
| kjohnson1 | macOS 13.6.1 Ventura / arm64 | OK | OK | WARNINGS | OK | ![]() | |||||||||||||||
Package 125/679 | Hostname | OS / Arch | INSTALL | BUILD | CHECK | BUILD BIN | ||||||||||||||||
CompoundDb 1.6.0 (landing page) Johannes Rainer
| kjohnson1 | macOS 13.6.1 Ventura / arm64 | OK | OK | OK | OK | ![]() | |||||||||||||||
Package 126/679 | Hostname | OS / Arch | INSTALL | BUILD | CHECK | BUILD BIN | ||||||||||||||||
consensusDE 1.20.0 (landing page) Ashley J. Waardenberg
| kjohnson1 | macOS 13.6.1 Ventura / arm64 | OK | OK | OK | OK | ![]() | |||||||||||||||
Package 127/679 | Hostname | OS / Arch | INSTALL | BUILD | CHECK | BUILD BIN | ||||||||||||||||
consensusSeekeR 1.30.0 (landing page) Astrid Deschenes
| kjohnson1 | macOS 13.6.1 Ventura / arm64 | OK | OK | OK | OK | ![]() | |||||||||||||||
Package 128/679 | Hostname | OS / Arch | INSTALL | BUILD | CHECK | BUILD BIN | ||||||||||||||||
contiBAIT 1.30.0 (landing page) Kieran O'Neill
| kjohnson1 | macOS 13.6.1 Ventura / arm64 | OK | OK | WARNINGS | OK | ![]() | |||||||||||||||
Package 129/679 | Hostname | OS / Arch | INSTALL | BUILD | CHECK | BUILD BIN | ||||||||||||||||
CoreGx 2.6.1 (landing page) Benjamin Haibe-Kains
| kjohnson1 | macOS 13.6.1 Ventura / arm64 | OK | OK | WARNINGS | OK | ![]() | |||||||||||||||
Package 130/679 | Hostname | OS / Arch | INSTALL | BUILD | CHECK | BUILD BIN | ||||||||||||||||
coseq 1.26.0 (landing page) Andrea Rau
| kjohnson1 | macOS 13.6.1 Ventura / arm64 | OK | OK | OK | OK | ![]() | |||||||||||||||
Package 131/679 | Hostname | OS / Arch | INSTALL | BUILD | CHECK | BUILD BIN | ||||||||||||||||
CoverageView 1.40.0 (landing page) Ernesto Lowy
| kjohnson1 | macOS 13.6.1 Ventura / arm64 | OK | OK | WARNINGS | OK | ![]() | |||||||||||||||
Package 132/679 | Hostname | OS / Arch | INSTALL | BUILD | CHECK | BUILD BIN | ||||||||||||||||
crisprBase 1.6.0 (landing page) Jean-Philippe Fortin
| kjohnson1 | macOS 13.6.1 Ventura / arm64 | OK | OK | OK | OK | ![]() | |||||||||||||||
Package 133/679 | Hostname | OS / Arch | INSTALL | BUILD | CHECK | BUILD BIN | ||||||||||||||||
crisprDesign 1.4.0 (landing page) Jean-Philippe Fortin
| kjohnson1 | macOS 13.6.1 Ventura / arm64 | OK | OK | OK | OK | ![]() | |||||||||||||||
Package 134/679 | Hostname | OS / Arch | INSTALL | BUILD | CHECK | BUILD BIN | ||||||||||||||||
CRISPRseek 1.42.0 (landing page) Lihua Julie Zhu
| kjohnson1 | macOS 13.6.1 Ventura / arm64 | OK | OK | TIMEOUT | OK | ||||||||||||||||
Package 135/679 | Hostname | OS / Arch | INSTALL | BUILD | CHECK | BUILD BIN | ||||||||||||||||
CrispRVariants 1.30.0 (landing page) Helen Lindsay
| kjohnson1 | macOS 13.6.1 Ventura / arm64 | OK | OK | WARNINGS | OK | ![]() | |||||||||||||||
Package 136/679 | Hostname | OS / Arch | INSTALL | BUILD | CHECK | BUILD BIN | ||||||||||||||||
crisprViz 1.4.0 (landing page) Jean-Philippe Fortin
| kjohnson1 | macOS 13.6.1 Ventura / arm64 | OK | OK | OK | OK | ![]() | |||||||||||||||
Package 137/679 | Hostname | OS / Arch | INSTALL | BUILD | CHECK | BUILD BIN | ||||||||||||||||
CSAR 1.54.0 (landing page) Jose M Muino
| kjohnson1 | macOS 13.6.1 Ventura / arm64 | OK | OK | OK | OK | ![]() | |||||||||||||||
Package 138/679 | Hostname | OS / Arch | INSTALL | BUILD | CHECK | BUILD BIN | ||||||||||||||||
csaw 1.36.1 (landing page) Aaron Lun
| kjohnson1 | macOS 13.6.1 Ventura / arm64 | OK | OK | WARNINGS | OK | ![]() | |||||||||||||||
Package 139/679 | Hostname | OS / Arch | INSTALL | BUILD | CHECK | BUILD BIN | ||||||||||||||||
CSSQ 1.14.0 (landing page) Fan Lab at Georgia Institute of Technology
| kjohnson1 | macOS 13.6.1 Ventura / arm64 | OK | OK | OK | OK | ![]() | |||||||||||||||
Package 140/679 | Hostname | OS / Arch | INSTALL | BUILD | CHECK | BUILD BIN | ||||||||||||||||
CTDquerier 2.10.0 (landing page) Xavier Escribà-Montagut
| kjohnson1 | macOS 13.6.1 Ventura / arm64 | OK | OK | WARNINGS | OK | ![]() | |||||||||||||||
Package 141/679 | Hostname | OS / Arch | INSTALL | BUILD | CHECK | BUILD BIN | ||||||||||||||||
cummeRbund 2.44.0 (landing page) Loyal A. Goff
| kjohnson1 | macOS 13.6.1 Ventura / arm64 | OK | OK | WARNINGS | OK | ![]() | |||||||||||||||
Package 142/679 | Hostname | OS / Arch | INSTALL | BUILD | CHECK | BUILD BIN | ||||||||||||||||
CuratedAtlasQueryR 1.0.1 (landing page) Stefano Mangiola
| kjohnson1 | macOS 13.6.1 Ventura / arm64 | OK | OK | OK | OK | ![]() | |||||||||||||||
Package 143/679 | Hostname | OS / Arch | INSTALL | BUILD | CHECK | BUILD BIN | ||||||||||||||||
customProDB 1.42.1 (landing page) Xiaojing Wang
| kjohnson1 | macOS 13.6.1 Ventura / arm64 | OK | OK | OK | OK | ![]() | |||||||||||||||
Package 144/679 | Hostname | OS / Arch | INSTALL | BUILD | CHECK | BUILD BIN | ||||||||||||||||
cydar 1.26.0 (landing page) Aaron Lun
| kjohnson1 | macOS 13.6.1 Ventura / arm64 | OK | OK | OK | OK | ![]() | |||||||||||||||
Package 145/679 | Hostname | OS / Arch | INSTALL | BUILD | CHECK | BUILD BIN | ||||||||||||||||
cytofQC 1.2.0 (landing page) Jill Lundell
| kjohnson1 | macOS 13.6.1 Ventura / arm64 | OK | OK | OK | OK | ![]() | |||||||||||||||
Package 146/679 | Hostname | OS / Arch | INSTALL | BUILD | CHECK | BUILD BIN | ||||||||||||||||
cytoKernel 1.8.0 (landing page) Tusharkanti Ghosh
| kjohnson1 | macOS 13.6.1 Ventura / arm64 | OK | OK | OK | OK | ![]() | |||||||||||||||
Package 147/679 | Hostname | OS / Arch | INSTALL | BUILD | CHECK | BUILD BIN | ||||||||||||||||
cytomapper 1.14.0 (landing page) Nils Eling
| kjohnson1 | macOS 13.6.1 Ventura / arm64 | OK | OK | OK | OK | ![]() | |||||||||||||||
Package 148/679 | Hostname | OS / Arch | INSTALL | BUILD | CHECK | BUILD BIN | ||||||||||||||||
cytoviewer 1.2.0 (landing page) Lasse Meyer
| kjohnson1 | macOS 13.6.1 Ventura / arm64 | OK | OK | OK | OK | ![]() | |||||||||||||||
Package 149/679 | Hostname | OS / Arch | INSTALL | BUILD | CHECK | BUILD BIN | ||||||||||||||||
DAMEfinder 1.14.0 (landing page) Stephany Orjuela
| kjohnson1 | macOS 13.6.1 Ventura / arm64 | OK | OK | OK | OK | ![]() | |||||||||||||||
Package 150/679 | Hostname | OS / Arch | INSTALL | BUILD | CHECK | BUILD BIN | ||||||||||||||||
debrowser 1.30.2 (landing page) Alper Kucukural
| kjohnson1 | macOS 13.6.1 Ventura / arm64 | OK | ERROR | skipped | skipped | ||||||||||||||||
Package 151/679 | Hostname | OS / Arch | INSTALL | BUILD | CHECK | BUILD BIN | ||||||||||||||||
DECIPHER 2.30.0 (landing page) Erik Wright
| kjohnson1 | macOS 13.6.1 Ventura / arm64 | OK | OK | OK | OK | ![]() | |||||||||||||||
Package 152/679 | Hostname | OS / Arch | INSTALL | BUILD | CHECK | BUILD BIN | ||||||||||||||||
decompTumor2Sig 2.18.0 (landing page) Rosario M. Piro
| kjohnson1 | macOS 13.6.1 Ventura / arm64 | OK | TIMEOUT | skipped | skipped | ||||||||||||||||
Package 153/679 | Hostname | OS / Arch | INSTALL | BUILD | CHECK | BUILD BIN | ||||||||||||||||
decontX 1.0.0 (landing page) Yuan Yin
| kjohnson1 | macOS 13.6.1 Ventura / arm64 | OK | OK | WARNINGS | OK | ![]() | |||||||||||||||
Package 154/679 | Hostname | OS / Arch | INSTALL | BUILD | CHECK | BUILD BIN | ||||||||||||||||
deconvR 1.8.0 (landing page) Irem B. Gündüz
| kjohnson1 | macOS 13.6.1 Ventura / arm64 | OK | OK | OK | OK | ![]() | |||||||||||||||
Package 155/679 | Hostname | OS / Arch | INSTALL | BUILD | CHECK | BUILD BIN | ||||||||||||||||
DEFormats 1.30.0 (landing page) Andrzej Oleś
| kjohnson1 | macOS 13.6.1 Ventura / arm64 | OK | OK | OK | OK | ![]() | |||||||||||||||
Package 156/679 | Hostname | OS / Arch | INSTALL | BUILD | CHECK | BUILD BIN | ||||||||||||||||
DegNorm 1.12.0 (landing page) Ji-Ping Wang
| kjohnson1 | macOS 13.6.1 Ventura / arm64 | OK | OK | OK | OK | ![]() | |||||||||||||||
Package 157/679 | Hostname | OS / Arch | INSTALL | BUILD | CHECK | BUILD BIN | ||||||||||||||||
DEGreport 1.38.5 (landing page) Lorena Pantano
| kjohnson1 | macOS 13.6.1 Ventura / arm64 | OK | OK | OK | OK | ![]() | |||||||||||||||
Package 158/679 | Hostname | OS / Arch | INSTALL | BUILD | CHECK | BUILD BIN | ||||||||||||||||
DelayedArray 0.28.0 (landing page) Hervé Pagès
| kjohnson1 | macOS 13.6.1 Ventura / arm64 | OK | OK | WARNINGS | OK | ![]() | |||||||||||||||
Package 159/679 | Hostname | OS / Arch | INSTALL | BUILD | CHECK | BUILD BIN | ||||||||||||||||
DelayedDataFrame 1.18.0 (landing page) Qian Liu
| kjohnson1 | macOS 13.6.1 Ventura / arm64 | OK | OK | OK | OK | ![]() | |||||||||||||||
Package 160/679 | Hostname | OS / Arch | INSTALL | BUILD | CHECK | BUILD BIN | ||||||||||||||||
DelayedMatrixStats 1.24.0 (landing page) Peter Hickey
| kjohnson1 | macOS 13.6.1 Ventura / arm64 | OK | OK | OK | OK | ![]() | |||||||||||||||
Package 161/679 | Hostname | OS / Arch | INSTALL | BUILD | CHECK | BUILD BIN | ||||||||||||||||
derfinder 1.36.0 (landing page) Leonardo Collado-Torres
| kjohnson1 | macOS 13.6.1 Ventura / arm64 | OK | OK | OK | OK | ![]() | |||||||||||||||
Package 162/679 | Hostname | OS / Arch | INSTALL | BUILD | CHECK | BUILD BIN | ||||||||||||||||
derfinderHelper 1.36.0 (landing page) Leonardo Collado-Torres
| kjohnson1 | macOS 13.6.1 Ventura / arm64 | OK | OK | OK | OK | ![]() | |||||||||||||||
Package 163/679 | Hostname | OS / Arch | INSTALL | BUILD | CHECK | BUILD BIN | ||||||||||||||||
derfinderPlot 1.36.0 (landing page) Leonardo Collado-Torres
| kjohnson1 | macOS 13.6.1 Ventura / arm64 | OK | OK | OK | OK | ![]() | |||||||||||||||
Package 164/679 | Hostname | OS / Arch | INSTALL | BUILD | CHECK | BUILD BIN | ||||||||||||||||
DEScan2 1.22.0 (landing page) Dario Righelli
| kjohnson1 | macOS 13.6.1 Ventura / arm64 | OK | OK | WARNINGS | OK | ![]() | |||||||||||||||
Package 165/679 | Hostname | OS / Arch | INSTALL | BUILD | CHECK | BUILD BIN | ||||||||||||||||
DESeq2 1.42.1 (landing page) Michael Love
| kjohnson1 | macOS 13.6.1 Ventura / arm64 | OK | OK | OK | OK | ![]() | |||||||||||||||
Package 166/679 | Hostname | OS / Arch | INSTALL | BUILD | CHECK | BUILD BIN | ||||||||||||||||
DESpace 1.2.1 (landing page) Peiying Cai
| kjohnson1 | macOS 13.6.1 Ventura / arm64 | OK | OK | OK | OK | ![]() | |||||||||||||||
Package 167/679 | Hostname | OS / Arch | INSTALL | BUILD | CHECK | BUILD BIN | ||||||||||||||||
DEWSeq 1.16.2 (landing page) bioinformatics team Hentze
| kjohnson1 | macOS 13.6.1 Ventura / arm64 | OK | OK | OK | OK | ![]() | |||||||||||||||
Package 168/679 | Hostname | OS / Arch | INSTALL | BUILD | CHECK | BUILD BIN | ||||||||||||||||
DEXSeq 1.48.0 (landing page) Alejandro Reyes
| kjohnson1 | macOS 13.6.1 Ventura / arm64 | OK | OK | OK | OK | ![]() | |||||||||||||||
Package 169/679 | Hostname | OS / Arch | INSTALL | BUILD | CHECK | BUILD BIN | ||||||||||||||||
DiffBind 3.12.0 (landing page) Rory Stark
| kjohnson1 | macOS 13.6.1 Ventura / arm64 | OK | OK | WARNINGS | OK | ![]() | |||||||||||||||
Package 170/679 | Hostname | OS / Arch | INSTALL | BUILD | CHECK | BUILD BIN | ||||||||||||||||
diffcyt 1.22.1 (landing page) Lukas M. Weber
| kjohnson1 | macOS 13.6.1 Ventura / arm64 | OK | OK | OK | OK | ![]() | |||||||||||||||
Package 171/679 | Hostname | OS / Arch | INSTALL | BUILD | CHECK | BUILD BIN | ||||||||||||||||
diffHic 1.34.0 (landing page) Aaron Lun
| kjohnson1 | macOS 13.6.1 Ventura / arm64 | OK | OK | WARNINGS | OK | ![]() | |||||||||||||||
Package 172/679 | Hostname | OS / Arch | INSTALL | BUILD | CHECK | BUILD BIN | ||||||||||||||||
diffUTR 1.10.0 (landing page) Pierre-Luc Germain
| kjohnson1 | macOS 13.6.1 Ventura / arm64 | OK | OK | OK | OK | ![]() | |||||||||||||||
Package 173/679 | Hostname | OS / Arch | INSTALL | BUILD | CHECK | BUILD BIN | ||||||||||||||||
Dino 1.8.0 (landing page) Jared Brown
| kjohnson1 | macOS 13.6.1 Ventura / arm64 | OK | ERROR | skipped | skipped | ||||||||||||||||
Package 174/679 | Hostname | OS / Arch | INSTALL | BUILD | CHECK | BUILD BIN | ||||||||||||||||
DirichletMultinomial 1.44.0 (landing page) Martin Morgan
| kjohnson1 | macOS 13.6.1 Ventura / arm64 | OK | OK | OK | OK | ![]() | |||||||||||||||
Package 175/679 | Hostname | OS / Arch | INSTALL | BUILD | CHECK | BUILD BIN | ||||||||||||||||
DiscoRhythm 1.18.0 (landing page) Matthew Carlucci
| kjohnson1 | macOS 13.6.1 Ventura / arm64 | OK | OK | OK | OK | ![]() | |||||||||||||||
Package 176/679 | Hostname | OS / Arch | INSTALL | BUILD | CHECK | BUILD BIN | ||||||||||||||||
dittoSeq 1.14.3 (landing page) Daniel Bunis
| kjohnson1 | macOS 13.6.1 Ventura / arm64 | OK | ERROR | skipped | skipped | ||||||||||||||||
Package 177/679 | Hostname | OS / Arch | INSTALL | BUILD | CHECK | BUILD BIN | ||||||||||||||||
DMCFB 1.16.1 (landing page) Farhad Shokoohi
| kjohnson1 | macOS 13.6.1 Ventura / arm64 | OK | OK | OK | OK | ![]() | |||||||||||||||
Package 178/679 | Hostname | OS / Arch | INSTALL | BUILD | CHECK | BUILD BIN | ||||||||||||||||
DMCHMM 1.24.0 (landing page) Farhad Shokoohi
| kjohnson1 | macOS 13.6.1 Ventura / arm64 | OK | OK | OK | OK | ![]() | |||||||||||||||
Package 179/679 | Hostname | OS / Arch | INSTALL | BUILD | CHECK | BUILD BIN | ||||||||||||||||
DMRcaller 1.34.0 (landing page) Nicolae Radu Zabet
| kjohnson1 | macOS 13.6.1 Ventura / arm64 | OK | OK | OK | OK | ![]() | |||||||||||||||
Package 180/679 | Hostname | OS / Arch | INSTALL | BUILD | CHECK | BUILD BIN | ||||||||||||||||
DMRcate 2.16.1 (landing page) Tim Peters
| kjohnson1 | macOS 13.6.1 Ventura / arm64 | OK | OK | OK | OK | ![]() | |||||||||||||||
Package 181/679 | Hostname | OS / Arch | INSTALL | BUILD | CHECK | BUILD BIN | ||||||||||||||||
dmrseq 1.22.1 (landing page) Keegan Korthauer
| kjohnson1 | macOS 13.6.1 Ventura / arm64 | OK | OK | OK | OK | ![]() | |||||||||||||||
Package 182/679 | Hostname | OS / Arch | INSTALL | BUILD | CHECK | BUILD BIN | ||||||||||||||||
DNAfusion 1.4.0 (landing page) Christoffer Trier Maansson
| kjohnson1 | macOS 13.6.1 Ventura / arm64 | OK | OK | OK | OK | ![]() | |||||||||||||||
Package 183/679 | Hostname | OS / Arch | INSTALL | BUILD | CHECK | BUILD BIN | ||||||||||||||||
doseR 1.18.0 (landing page) ake.vastermark
| kjohnson1 | macOS 13.6.1 Ventura / arm64 | OK | OK | OK | OK | ![]() | |||||||||||||||
Package 184/679 | Hostname | OS / Arch | INSTALL | BUILD | CHECK | BUILD BIN | ||||||||||||||||
dreamlet 1.0.3 (landing page) Gabriel Hoffman
| kjohnson1 | macOS 13.6.1 Ventura / arm64 | OK | OK | OK | OK | ![]() | |||||||||||||||
Package 185/679 | Hostname | OS / Arch | INSTALL | BUILD | CHECK | BUILD BIN | ||||||||||||||||
DRIMSeq 1.30.0 (landing page) Malgorzata Nowicka
| kjohnson1 | macOS 13.6.1 Ventura / arm64 | OK | OK | WARNINGS | OK | ![]() | |||||||||||||||
Package 186/679 | Hostname | OS / Arch | INSTALL | BUILD | CHECK | BUILD BIN | ||||||||||||||||
DropletUtils 1.22.0 (landing page) Jonathan Griffiths
| kjohnson1 | macOS 13.6.1 Ventura / arm64 | OK | OK | WARNINGS | OK | ![]() | |||||||||||||||
Package 187/679 | Hostname | OS / Arch | INSTALL | BUILD | CHECK | BUILD BIN | ||||||||||||||||
drugTargetInteractions 1.10.1 (landing page) Thomas Girke
| kjohnson1 | macOS 13.6.1 Ventura / arm64 | OK | OK | OK | OK | ![]() | |||||||||||||||
Package 188/679 | Hostname | OS / Arch | INSTALL | BUILD | CHECK | BUILD BIN | ||||||||||||||||
dStruct 1.8.0 (landing page) Krishna Choudhary
| kjohnson1 | macOS 13.6.1 Ventura / arm64 | OK | OK | OK | OK | ![]() | |||||||||||||||
Package 189/679 | Hostname | OS / Arch | INSTALL | BUILD | CHECK | BUILD BIN | ||||||||||||||||
easyRNASeq 2.38.0 (landing page) Nicolas Delhomme
| kjohnson1 | macOS 13.6.1 Ventura / arm64 | OK | OK | OK | OK | ![]() | |||||||||||||||
Package 190/679 | Hostname | OS / Arch | INSTALL | BUILD | CHECK | BUILD BIN | ||||||||||||||||
eegc 1.28.0 (landing page) Xiaoyuan Zhou
| kjohnson1 | macOS 13.6.1 Ventura / arm64 | OK | OK | WARNINGS | OK | ![]() | |||||||||||||||
Package 191/679 | Hostname | OS / Arch | INSTALL | BUILD | CHECK | BUILD BIN | ||||||||||||||||
eisaR 1.14.1 (landing page) Michael Stadler
| kjohnson1 | macOS 13.6.1 Ventura / arm64 | OK | OK | OK | OK | ![]() | |||||||||||||||
Package 192/679 | Hostname | OS / Arch | INSTALL | BUILD | CHECK | BUILD BIN | ||||||||||||||||
ELMER 2.26.0 (landing page) Tiago Chedraoui Silva
| kjohnson1 | macOS 13.6.1 Ventura / arm64 | OK | OK | OK | OK | ![]() | |||||||||||||||
Package 193/679 | Hostname | OS / Arch | INSTALL | BUILD | CHECK | BUILD BIN | ||||||||||||||||
enhancerHomologSearch 1.8.3 (landing page) Jianhong Ou
| kjohnson1 | macOS 13.6.1 Ventura / arm64 | OK | OK | OK | OK | ![]() | |||||||||||||||
Package 194/679 | Hostname | OS / Arch | INSTALL | BUILD | CHECK | BUILD BIN | ||||||||||||||||
ENmix 1.38.01 (landing page) Zongli Xu
| kjohnson1 | macOS 13.6.1 Ventura / arm64 | OK | OK | OK | OK | ![]() | |||||||||||||||
Package 195/679 | Hostname | OS / Arch | INSTALL | BUILD | CHECK | BUILD BIN | ||||||||||||||||
EnrichmentBrowser 2.32.0 (landing page) Ludwig Geistlinger
| kjohnson1 | macOS 13.6.1 Ventura / arm64 | OK | OK | OK | OK | ![]() | |||||||||||||||
Package 196/679 | Hostname | OS / Arch | INSTALL | BUILD | CHECK | BUILD BIN | ||||||||||||||||
enrichTF 1.18.0 (landing page) Zheng Wei
| kjohnson1 | macOS 13.6.1 Ventura / arm64 | OK | OK | OK | OK | ![]() | |||||||||||||||
Package 197/679 | Hostname | OS / Arch | INSTALL | BUILD | CHECK | BUILD BIN | ||||||||||||||||
ensembldb 2.26.1 (landing page) Johannes Rainer
| kjohnson1 | macOS 13.6.1 Ventura / arm64 | OK | OK | OK | OK | ![]() | |||||||||||||||
Package 198/679 | Hostname | OS / Arch | INSTALL | BUILD | CHECK | BUILD BIN | ||||||||||||||||
ensemblVEP 1.44.0 (landing page) Bioconductor Package Maintainer
| kjohnson1 | macOS 13.6.1 Ventura / arm64 | OK | ERROR | skipped | skipped | ||||||||||||||||
Package 199/679 | Hostname | OS / Arch | INSTALL | BUILD | CHECK | BUILD BIN | ||||||||||||||||
epigenomix 1.42.0 (landing page) Hans-Ulrich Klein
| kjohnson1 | macOS 13.6.1 Ventura / arm64 | OK | OK | OK | OK | ![]() | |||||||||||||||
Package 200/679 | Hostname | OS / Arch | INSTALL | BUILD | CHECK | BUILD BIN | ||||||||||||||||
epigraHMM 1.10.0 (landing page) Pedro Baldoni
| kjohnson1 | macOS 13.6.1 Ventura / arm64 | OK | OK | WARNINGS | OK | ![]() | |||||||||||||||
Package 201/679 | Hostname | OS / Arch | INSTALL | BUILD | CHECK | BUILD BIN | ||||||||||||||||
EpiMix 1.4.0 (landing page) Yuanning Zheng
| kjohnson1 | macOS 13.6.1 Ventura / arm64 | OK | OK | OK | OK | ![]() | |||||||||||||||
Package 202/679 | Hostname | OS / Arch | INSTALL | BUILD | CHECK | BUILD BIN | ||||||||||||||||
epimutacions 1.6.1 (landing page) Dolors Pelegri-Siso
| kjohnson1 | macOS 13.6.1 Ventura / arm64 | OK | OK | OK | OK | ![]() | |||||||||||||||
Package 203/679 | Hostname | OS / Arch | INSTALL | BUILD | CHECK | BUILD BIN | ||||||||||||||||
epistack 1.8.0 (landing page) DEVAILLY Guillaume
| kjohnson1 | macOS 13.6.1 Ventura / arm64 | OK | OK | OK | OK | ![]() | |||||||||||||||
Package 204/679 | Hostname | OS / Arch | INSTALL | BUILD | CHECK | BUILD BIN | ||||||||||||||||
EpiTxDb 1.14.1 (landing page) Felix G.M. Ernst
| kjohnson1 | macOS 13.6.1 Ventura / arm64 | OK | OK | OK | OK | ![]() | |||||||||||||||
Package 205/679 | Hostname | OS / Arch | INSTALL | BUILD | CHECK | BUILD BIN | ||||||||||||||||
epivizr 2.32.0 (landing page) Hector Corrada Bravo
| kjohnson1 | macOS 13.6.1 Ventura / arm64 | OK | OK | OK | OK | ![]() | |||||||||||||||
Package 206/679 | Hostname | OS / Arch | INSTALL | BUILD | CHECK | BUILD BIN | ||||||||||||||||
epivizrData 1.30.0 (landing page) Hector Corrada Bravo
| kjohnson1 | macOS 13.6.1 Ventura / arm64 | OK | OK | OK | OK | ![]() | |||||||||||||||
Package 207/679 | Hostname | OS / Arch | INSTALL | BUILD | CHECK | BUILD BIN | ||||||||||||||||
epivizrStandalone 1.30.0 (landing page) Hector Corrada Bravo
| kjohnson1 | macOS 13.6.1 Ventura / arm64 | OK | OK | WARNINGS | OK | ![]() | |||||||||||||||
Package 208/679 | Hostname | OS / Arch | INSTALL | BUILD | CHECK | BUILD BIN | ||||||||||||||||
erma 1.18.0 (landing page) VJ Carey
| kjohnson1 | macOS 13.6.1 Ventura / arm64 | OK | OK | OK | OK | ![]() | |||||||||||||||
Package 209/679 | Hostname | OS / Arch | INSTALL | BUILD | CHECK | BUILD BIN | ||||||||||||||||
esATAC 1.24.0 (landing page) Zheng Wei
| kjohnson1 | macOS 13.6.1 Ventura / arm64 | OK | OK | OK | OK | ![]() | |||||||||||||||
Package 210/679 | Hostname | OS / Arch | INSTALL | BUILD | CHECK | BUILD BIN | ||||||||||||||||
EventPointer 3.10.0 (landing page) Juan A. Ferrer-Bonsoms
| kjohnson1 | macOS 13.6.1 Ventura / arm64 | OK | OK | OK | OK | ![]() | |||||||||||||||
Package 211/679 | Hostname | OS / Arch | INSTALL | BUILD | CHECK | BUILD BIN | ||||||||||||||||
exomePeak2 1.14.3 (landing page) Zhen Wei
| kjohnson1 | macOS 13.6.1 Ventura / arm64 | OK | OK | OK | OK | ![]() | |||||||||||||||
Package 212/679 | Hostname | OS / Arch | INSTALL | BUILD | CHECK | BUILD BIN | ||||||||||||||||
ExperimentHub 2.10.0 (landing page) Bioconductor Package Maintainer
| kjohnson1 | macOS 13.6.1 Ventura / arm64 | OK | OK | WARNINGS | OK | ![]() | |||||||||||||||
Package 213/679 | Hostname | OS / Arch | INSTALL | BUILD | CHECK | BUILD BIN | ||||||||||||||||
ExperimentHubData 1.28.0 (landing page) Bioconductor Package Maintainer
| kjohnson1 | macOS 13.6.1 Ventura / arm64 | OK | OK | WARNINGS | OK | ![]() | |||||||||||||||
Package 214/679 | Hostname | OS / Arch | INSTALL | BUILD | CHECK | BUILD BIN | ||||||||||||||||
ExperimentSubset 1.12.0 (landing page) Irzam Sarfraz
| kjohnson1 | macOS 13.6.1 Ventura / arm64 | OK | OK | ERROR | OK | ||||||||||||||||
Package 215/679 | Hostname | OS / Arch | INSTALL | BUILD | CHECK | BUILD BIN | ||||||||||||||||
ExploreModelMatrix 1.14.0 (landing page) Charlotte Soneson
| kjohnson1 | macOS 13.6.1 Ventura / arm64 | OK | OK | OK | OK | ![]() | |||||||||||||||
Package 216/679 | Hostname | OS / Arch | INSTALL | BUILD | CHECK | BUILD BIN | ||||||||||||||||
ExpressionAtlas 1.30.0 (landing page) Pedro Madrigal
| kjohnson1 | macOS 13.6.1 Ventura / arm64 | OK | OK | OK | OK | ![]() | |||||||||||||||
Package 217/679 | Hostname | OS / Arch | INSTALL | BUILD | CHECK | BUILD BIN | ||||||||||||||||
extraChIPs 1.6.1 (landing page) Stephen Pederson
| kjohnson1 | macOS 13.6.1 Ventura / arm64 | OK | OK | OK | OK | ![]() | |||||||||||||||
Package 218/679 | Hostname | OS / Arch | INSTALL | BUILD | CHECK | BUILD BIN | ||||||||||||||||
factR 1.4.0 (landing page) Fursham Hamid
| kjohnson1 | macOS 13.6.1 Ventura / arm64 | OK | OK | OK | OK | ![]() | |||||||||||||||
Package 219/679 | Hostname | OS / Arch | INSTALL | BUILD | CHECK | BUILD BIN | ||||||||||||||||
FastqCleaner 1.20.0 (landing page) Leandro Roser
| kjohnson1 | macOS 13.6.1 Ventura / arm64 | OK | OK | OK | OK | ![]() | |||||||||||||||
Package 220/679 | Hostname | OS / Arch | INSTALL | BUILD | CHECK | BUILD BIN | ||||||||||||||||
fastseg 1.48.0 (landing page) Alexander Blume
| kjohnson1 | macOS 13.6.1 Ventura / arm64 | OK | OK | OK | OK | ![]() | |||||||||||||||
Package 221/679 | Hostname | OS / Arch | INSTALL | BUILD | CHECK | BUILD BIN | ||||||||||||||||
fCCAC 1.28.0 (landing page) Pedro Madrigal
| kjohnson1 | macOS 13.6.1 Ventura / arm64 | OK | OK | OK | OK | ![]() | |||||||||||||||
Package 222/679 | Hostname | OS / Arch | INSTALL | BUILD | CHECK | BUILD BIN | ||||||||||||||||
FilterFFPE 1.12.0 (landing page) Lanying Wei
| kjohnson1 | macOS 13.6.1 Ventura / arm64 | OK | OK | OK | OK | ![]() | |||||||||||||||
Package 223/679 | Hostname | OS / Arch | INSTALL | BUILD | CHECK | BUILD BIN | ||||||||||||||||
FindIT2 1.8.0 (landing page) Guandong Shang
| kjohnson1 | macOS 13.6.1 Ventura / arm64 | OK | OK | OK | OK | ![]() | |||||||||||||||
Package 224/679 | Hostname | OS / Arch | INSTALL | BUILD | CHECK | BUILD BIN | ||||||||||||||||
fishpond 2.8.0 (landing page) Michael Love
| kjohnson1 | macOS 13.6.1 Ventura / arm64 | OK | OK | OK | OK | ![]() | |||||||||||||||
Package 225/679 | Hostname | OS / Arch | INSTALL | BUILD | CHECK | BUILD BIN | ||||||||||||||||
FLAMES 1.8.0 (landing page) Oliver Voogd
| kjohnson1 | macOS 13.6.1 Ventura / arm64 | OK | OK | ERROR | OK | ||||||||||||||||
Package 226/679 | Hostname | OS / Arch | INSTALL | BUILD | CHECK | BUILD BIN | ||||||||||||||||
flowCore 2.14.2 (landing page) Mike Jiang
| kjohnson1 | macOS 13.6.1 Ventura / arm64 | OK | OK | WARNINGS | OK | ![]() | |||||||||||||||
Package 227/679 | Hostname | OS / Arch | INSTALL | BUILD | CHECK | BUILD BIN | ||||||||||||||||
flowWorkspace 4.14.3 (landing page) Greg Finak
| kjohnson1 | macOS 13.6.1 Ventura / arm64 | OK | OK | WARNINGS | OK | ![]() | |||||||||||||||
Package 228/679 | Hostname | OS / Arch | INSTALL | BUILD | CHECK | BUILD BIN | ||||||||||||||||
FRASER 1.14.1 (landing page) Christian Mertes
| kjohnson1 | macOS 13.6.1 Ventura / arm64 | OK | OK | OK | OK | ![]() | |||||||||||||||
Package 229/679 | Hostname | OS / Arch | INSTALL | BUILD | CHECK | BUILD BIN | ||||||||||||||||
FuseSOM 1.4.0 (landing page) Elijah Willie
| kjohnson1 | macOS 13.6.1 Ventura / arm64 | OK | OK | OK | OK | ![]() | |||||||||||||||
Package 230/679 | Hostname | OS / Arch | INSTALL | BUILD | CHECK | BUILD BIN | ||||||||||||||||
GA4GHclient 1.26.0 (landing page) Welliton Souza
| kjohnson1 | macOS 13.6.1 Ventura / arm64 | OK | OK | OK | OK | ![]() | |||||||||||||||
Package 231/679 | Hostname | OS / Arch | INSTALL | BUILD | CHECK | BUILD BIN | ||||||||||||||||
GA4GHshiny 1.24.0 (landing page) Welliton Souza
| kjohnson1 | macOS 13.6.1 Ventura / arm64 | OK | OK | OK | OK | ![]() | |||||||||||||||
Package 232/679 | Hostname | OS / Arch | INSTALL | BUILD | CHECK | BUILD BIN | ||||||||||||||||
gcapc 1.26.0 (landing page) Mingxiang Teng
| kjohnson1 | macOS 13.6.1 Ventura / arm64 | OK | OK | OK | OK | ![]() | |||||||||||||||
Package 233/679 | Hostname | OS / Arch | INSTALL | BUILD | CHECK | BUILD BIN | ||||||||||||||||
gDNAx 1.0.2 (landing page) Beatriz Calvo-Serra
| kjohnson1 | macOS 13.6.1 Ventura / arm64 | OK | OK | OK | OK | ![]() | |||||||||||||||
Package 234/679 | Hostname | OS / Arch | INSTALL | BUILD | CHECK | BUILD BIN | ||||||||||||||||
gDRcore 1.0.1 (landing page) Arkadiusz Gladki
| kjohnson1 | macOS 13.6.1 Ventura / arm64 | OK | OK | OK | OK | ![]() | |||||||||||||||
Package 235/679 | Hostname | OS / Arch | INSTALL | BUILD | CHECK | BUILD BIN | ||||||||||||||||
gDRimport 1.0.0 (landing page) Arkadiusz Gladki
| kjohnson1 | macOS 13.6.1 Ventura / arm64 | OK | OK | OK | OK | ![]() | |||||||||||||||
Package 236/679 | Hostname | OS / Arch | INSTALL | BUILD | CHECK | BUILD BIN | ||||||||||||||||
gDRutils 1.0.0 (landing page) Arkadiusz Gladki
| kjohnson1 | macOS 13.6.1 Ventura / arm64 | OK | OK | OK | OK | ![]() | |||||||||||||||
Package 237/679 | Hostname | OS / Arch | INSTALL | BUILD | CHECK | BUILD BIN | ||||||||||||||||
GDSArray 1.22.0 (landing page) Qian Liu
| kjohnson1 | macOS 13.6.1 Ventura / arm64 | OK | OK | OK | OK | ![]() | |||||||||||||||
Package 238/679 | Hostname | OS / Arch | INSTALL | BUILD | CHECK | BUILD BIN | ||||||||||||||||
gemma.R 2.0.0 (landing page) Ogan Mancarci
| kjohnson1 | macOS 13.6.1 Ventura / arm64 | OK | ERROR | skipped | skipped | ||||||||||||||||
Package 239/679 | Hostname | OS / Arch | INSTALL | BUILD | CHECK | BUILD BIN | ||||||||||||||||
Gabriel Becker
| kjohnson1 | macOS 13.6.1 Ventura / arm64 | OK | ERROR | skipped | skipped | ||||||||||||||||
Package 240/679 | Hostname | OS / Arch | INSTALL | BUILD | CHECK | BUILD BIN | ||||||||||||||||
GeneRegionScan 1.58.0 (landing page) Lasse Folkersen
| kjohnson1 | macOS 13.6.1 Ventura / arm64 | OK | OK | OK | OK | ![]() | |||||||||||||||
Package 241/679 | Hostname | OS / Arch | INSTALL | BUILD | CHECK | BUILD BIN | ||||||||||||||||
GENESIS 2.32.0 (landing page) Stephanie M. Gogarten
| kjohnson1 | macOS 13.6.1 Ventura / arm64 | OK | OK | OK | OK | ![]() | |||||||||||||||
Package 242/679 | Hostname | OS / Arch | INSTALL | BUILD | CHECK | BUILD BIN | ||||||||||||||||
GeneStructureTools 1.22.0 (landing page) Beth Signal
| kjohnson1 | macOS 13.6.1 Ventura / arm64 | OK | OK | OK | OK | ![]() | |||||||||||||||
Package 243/679 | Hostname | OS / Arch | INSTALL | BUILD | CHECK | BUILD BIN | ||||||||||||||||
GeneTonic 2.6.0 (landing page) Federico Marini
| kjohnson1 | macOS 13.6.1 Ventura / arm64 | OK | OK | ERROR | OK | ||||||||||||||||
Package 244/679 | Hostname | OS / Arch | INSTALL | BUILD | CHECK | BUILD BIN | ||||||||||||||||
genomation 1.34.0 (landing page) Altuna Akalin
| kjohnson1 | macOS 13.6.1 Ventura / arm64 | OK | OK | WARNINGS | OK | ![]() | |||||||||||||||
Package 245/679 | Hostname | OS / Arch | INSTALL | BUILD | CHECK | BUILD BIN | ||||||||||||||||
GenomAutomorphism 1.4.0 (landing page) Robersy Sanchez
| kjohnson1 | macOS 13.6.1 Ventura / arm64 | OK | OK | ERROR | OK | ||||||||||||||||
Package 246/679 | Hostname | OS / Arch | INSTALL | BUILD | CHECK | BUILD BIN | ||||||||||||||||
GenomeInfoDb 1.38.8 (landing page) Hervé Pagès
| kjohnson1 | macOS 13.6.1 Ventura / arm64 | OK | OK | OK | OK | ![]() | |||||||||||||||
Package 247/679 | Hostname | OS / Arch | INSTALL | BUILD | CHECK | BUILD BIN | ||||||||||||||||
genomeIntervals 1.58.0 (landing page) Julien Gagneur
| kjohnson1 | macOS 13.6.1 Ventura / arm64 | OK | OK | WARNINGS | OK | ![]() | |||||||||||||||
Package 248/679 | Hostname | OS / Arch | INSTALL | BUILD | CHECK | BUILD BIN | ||||||||||||||||
GenomicAlignments 1.38.2 (landing page) Hervé Pagès
| kjohnson1 | macOS 13.6.1 Ventura / arm64 | OK | OK | OK | OK | ![]() | |||||||||||||||
Package 249/679 | Hostname | OS / Arch | INSTALL | BUILD | CHECK | BUILD BIN | ||||||||||||||||
GenomicFeatures 1.54.4 (landing page) H. Pagès
| kjohnson1 | macOS 13.6.1 Ventura / arm64 | OK | OK | OK | OK | ![]() | |||||||||||||||
Package 250/679 | Hostname | OS / Arch | INSTALL | BUILD | CHECK | BUILD BIN | ||||||||||||||||
GenomicFiles 1.38.0 (landing page) Bioconductor Package Maintainer
| kjohnson1 | macOS 13.6.1 Ventura / arm64 | OK | OK | WARNINGS | OK | ![]() | |||||||||||||||
Package 251/679 | Hostname | OS / Arch | INSTALL | BUILD | CHECK | BUILD BIN | ||||||||||||||||
GenomicInteractionNodes 1.6.0 (landing page) Jianhong Ou
| kjohnson1 | macOS 13.6.1 Ventura / arm64 | OK | OK | OK | OK | ![]() | |||||||||||||||
Package 252/679 | Hostname | OS / Arch | INSTALL | BUILD | CHECK | BUILD BIN | ||||||||||||||||
GenomicInteractions 1.36.0 (landing page) Liz Ing-Simmons
| kjohnson1 | macOS 13.6.1 Ventura / arm64 | OK | OK | OK | OK | ![]() | |||||||||||||||
Package 253/679 | Hostname | OS / Arch | INSTALL | BUILD | CHECK | BUILD BIN | ||||||||||||||||
GenomicOZone 1.16.0 (landing page) Hua Zhong
| kjohnson1 | macOS 13.6.1 Ventura / arm64 | OK | OK | OK | OK | ![]() | |||||||||||||||
Package 254/679 | Hostname | OS / Arch | INSTALL | BUILD | CHECK | BUILD BIN | ||||||||||||||||
GenomicRanges 1.54.1 (landing page) Hervé Pagès
| kjohnson1 | macOS 13.6.1 Ventura / arm64 | OK | OK | OK | OK | ![]() | |||||||||||||||
Package 255/679 | Hostname | OS / Arch | INSTALL | BUILD | CHECK | BUILD BIN | ||||||||||||||||
GenomicScores 2.14.3 (landing page) Robert Castelo
| kjohnson1 | macOS 13.6.1 Ventura / arm64 | OK | OK | OK | OK | ![]() | |||||||||||||||
Package 256/679 | Hostname | OS / Arch | INSTALL | BUILD | CHECK | BUILD BIN | ||||||||||||||||
GenomicSuperSignature 1.10.0 (landing page) Sehyun Oh
| kjohnson1 | macOS 13.6.1 Ventura / arm64 | OK | OK | WARNINGS | OK | ![]() | |||||||||||||||
Package 257/679 | Hostname | OS / Arch | INSTALL | BUILD | CHECK | BUILD BIN | ||||||||||||||||
GenomicTuples 1.36.0 (landing page) Peter Hickey
| kjohnson1 | macOS 13.6.1 Ventura / arm64 | OK | OK | OK | OK | ![]() | |||||||||||||||
Package 258/679 | Hostname | OS / Arch | INSTALL | BUILD | CHECK | BUILD BIN | ||||||||||||||||
GeomxTools 3.6.2 (landing page) Maddy Griswold
| kjohnson1 | macOS 13.6.1 Ventura / arm64 | OK | ERROR | skipped | skipped | ||||||||||||||||
Package 259/679 | Hostname | OS / Arch | INSTALL | BUILD | CHECK | BUILD BIN | ||||||||||||||||
ggbio 1.50.0 (landing page) Michael Lawrence
| kjohnson1 | macOS 13.6.1 Ventura / arm64 | OK | OK | WARNINGS | OK | ![]() | |||||||||||||||
Package 260/679 | Hostname | OS / Arch | INSTALL | BUILD | CHECK | BUILD BIN | ||||||||||||||||
girafe 1.54.0 (landing page) J. Toedling
| kjohnson1 | macOS 13.6.1 Ventura / arm64 | OK | OK | OK | OK | ![]() | |||||||||||||||
Package 261/679 | Hostname | OS / Arch | INSTALL | BUILD | CHECK | BUILD BIN | ||||||||||||||||
Glimma 2.12.0 (landing page) Shian Su
| kjohnson1 | macOS 13.6.1 Ventura / arm64 | OK | OK | OK | OK | ![]() | |||||||||||||||
Package 262/679 | Hostname | OS / Arch | INSTALL | BUILD | CHECK | BUILD BIN | ||||||||||||||||
gmapR 1.44.0 (landing page) Michael Lawrence
| kjohnson1 | macOS 13.6.1 Ventura / arm64 | OK | OK | WARNINGS | OK | ![]() | |||||||||||||||
Package 263/679 | Hostname | OS / Arch | INSTALL | BUILD | CHECK | BUILD BIN | ||||||||||||||||
gmoviz 1.14.0 (landing page) Kathleen Zeglinski
| kjohnson1 | macOS 13.6.1 Ventura / arm64 | OK | OK | OK | OK | ![]() | |||||||||||||||
Package 264/679 | Hostname | OS / Arch | INSTALL | BUILD | CHECK | BUILD BIN | ||||||||||||||||
GOpro 1.28.0 (landing page) Lidia Chrabaszcz
| kjohnson1 | macOS 13.6.1 Ventura / arm64 | OK | OK | OK | OK | ![]() | |||||||||||||||
Package 265/679 | Hostname | OS / Arch | INSTALL | BUILD | CHECK | BUILD BIN | ||||||||||||||||
GOTHiC 1.38.0 (landing page) Borbala Mifsud
| kjohnson1 | macOS 13.6.1 Ventura / arm64 | OK | OK | OK | OK | ![]() | |||||||||||||||
Package 266/679 | Hostname | OS / Arch | INSTALL | BUILD | CHECK | BUILD BIN | ||||||||||||||||
GRaNIE 1.6.1 (landing page) Christian Arnold
| kjohnson1 | macOS 13.6.1 Ventura / arm64 | OK | OK | ERROR | OK | ||||||||||||||||
Package 267/679 | Hostname | OS / Arch | INSTALL | BUILD | CHECK | BUILD BIN | ||||||||||||||||
GRmetrics 1.28.0 (landing page) Nicholas Clark
| kjohnson1 | macOS 13.6.1 Ventura / arm64 | OK | OK | OK | OK | ![]() | |||||||||||||||
Package 268/679 | Hostname | OS / Arch | INSTALL | BUILD | CHECK | BUILD BIN | ||||||||||||||||
groHMM 1.36.0 (landing page) Tulip Nandu
| kjohnson1 | macOS 13.6.1 Ventura / arm64 | OK | OK | OK | OK | ![]() | |||||||||||||||
Package 269/679 | Hostname | OS / Arch | INSTALL | BUILD | CHECK | BUILD BIN | ||||||||||||||||
GSEABenchmarkeR 1.22.0 (landing page) Ludwig Geistlinger
| kjohnson1 | macOS 13.6.1 Ventura / arm64 | OK | OK | OK | OK | ![]() | |||||||||||||||
Package 270/679 | Hostname | OS / Arch | INSTALL | BUILD | CHECK | BUILD BIN | ||||||||||||||||
GSVA 1.50.5 (landing page) Robert Castelo
| kjohnson1 | macOS 13.6.1 Ventura / arm64 | OK | OK | OK | OK | ![]() | |||||||||||||||
Package 271/679 | Hostname | OS / Arch | INSTALL | BUILD | CHECK | BUILD BIN | ||||||||||||||||
GUIDEseq 1.32.0 (landing page) Lihua Julie Zhu
| kjohnson1 | macOS 13.6.1 Ventura / arm64 | OK | OK | OK | OK | ![]() | |||||||||||||||
Package 272/679 | Hostname | OS / Arch | INSTALL | BUILD | CHECK | BUILD BIN | ||||||||||||||||
Gviz 1.46.1 (landing page) Robert Ivanek
| kjohnson1 | macOS 13.6.1 Ventura / arm64 | OK | OK | OK | OK | ![]() | |||||||||||||||
Package 273/679 | Hostname | OS / Arch | INSTALL | BUILD | CHECK | BUILD BIN | ||||||||||||||||
gwascat 2.34.0 (landing page) VJ Carey
| kjohnson1 | macOS 13.6.1 Ventura / arm64 | OK | OK | OK | OK | ![]() | |||||||||||||||
Package 274/679 | Hostname | OS / Arch | INSTALL | BUILD | CHECK | BUILD BIN | ||||||||||||||||
h5vc 2.36.0 (landing page) Paul Theodor Pyl
| kjohnson1 | macOS 13.6.1 Ventura / arm64 | OK | OK | WARNINGS | OK | ![]() | |||||||||||||||
Package 275/679 | Hostname | OS / Arch | INSTALL | BUILD | CHECK | BUILD BIN | ||||||||||||||||
HDF5Array 1.30.1 (landing page) Hervé Pagès
| kjohnson1 | macOS 13.6.1 Ventura / arm64 | OK | OK | WARNINGS | OK | ![]() | |||||||||||||||
Package 276/679 | Hostname | OS / Arch | INSTALL | BUILD | CHECK | BUILD BIN | ||||||||||||||||
HelloRanges 1.28.0 (landing page) Michael Lawrence
| kjohnson1 | macOS 13.6.1 Ventura / arm64 | OK | OK | OK | OK | ![]() | |||||||||||||||
Package 277/679 | Hostname | OS / Arch | INSTALL | BUILD | CHECK | BUILD BIN | ||||||||||||||||
hermes 1.6.1 (landing page) Daniel Sabanés Bové
| kjohnson1 | macOS 13.6.1 Ventura / arm64 | OK | OK | OK | OK | ![]() | |||||||||||||||
Package 278/679 | Hostname | OS / Arch | INSTALL | BUILD | CHECK | BUILD BIN | ||||||||||||||||
HERON 1.0.0 (landing page) Sean McIlwain
| kjohnson1 | macOS 13.6.1 Ventura / arm64 | OK | OK | OK | OK | ![]() | |||||||||||||||
Package 279/679 | Hostname | OS / Arch | INSTALL | BUILD | CHECK | BUILD BIN | ||||||||||||||||
HiCBricks 1.20.0 (landing page) Koustav Pal
| kjohnson1 | macOS 13.6.1 Ventura / arm64 | OK | OK | OK | OK | ![]() | |||||||||||||||
Package 280/679 | Hostname | OS / Arch | INSTALL | BUILD | CHECK | BUILD BIN | ||||||||||||||||
HiCcompare 1.24.0 (landing page) Mikhail Dozmorov
| kjohnson1 | macOS 13.6.1 Ventura / arm64 | OK | OK | OK | OK | ![]() | |||||||||||||||
Package 281/679 | Hostname | OS / Arch | INSTALL | BUILD | CHECK | BUILD BIN | ||||||||||||||||
HiCDCPlus 1.10.0 (landing page) Merve Sahin
| kjohnson1 | macOS 13.6.1 Ventura / arm64 | OK | OK | OK | OK | ![]() | |||||||||||||||
Package 282/679 | Hostname | OS / Arch | INSTALL | BUILD | CHECK | BUILD BIN | ||||||||||||||||
HiCDOC 1.4.1 (landing page) Maigné Élise
| kjohnson1 | macOS 13.6.1 Ventura / arm64 | OK | OK | OK | OK | ![]() | |||||||||||||||
Package 283/679 | Hostname | OS / Arch | INSTALL | BUILD | CHECK | BUILD BIN | ||||||||||||||||
HiCExperiment 1.2.0 (landing page) Jacques Serizay
| kjohnson1 | macOS 13.6.1 Ventura / arm64 | OK | OK | OK | OK | ![]() | |||||||||||||||
Package 284/679 | Hostname | OS / Arch | INSTALL | BUILD | CHECK | BUILD BIN | ||||||||||||||||
HiContacts 1.4.0 (landing page) Jacques Serizay
| kjohnson1 | macOS 13.6.1 Ventura / arm64 | OK | OK | OK | OK | ![]() | |||||||||||||||
Package 285/679 | Hostname | OS / Arch | INSTALL | BUILD | CHECK | BUILD BIN | ||||||||||||||||
HiCool 1.2.0 (landing page) Jacques Serizay
| kjohnson1 | macOS 13.6.1 Ventura / arm64 | OK | ERROR | skipped | skipped | ||||||||||||||||
Package 286/679 | Hostname | OS / Arch | INSTALL | BUILD | CHECK | BUILD BIN | ||||||||||||||||
hicVennDiagram 1.0.2 (landing page) Jianhong Ou
| kjohnson1 | macOS 13.6.1 Ventura / arm64 | OK | OK | OK | OK | ![]() | |||||||||||||||
Package 287/679 | Hostname | OS / Arch | INSTALL | BUILD | CHECK | BUILD BIN | ||||||||||||||||
HiLDA 1.16.0 (landing page) Zhi Yang
| kjohnson1 | macOS 13.6.1 Ventura / arm64 | OK | OK | OK | OK | ![]() | |||||||||||||||
Package 288/679 | Hostname | OS / Arch | INSTALL | BUILD | CHECK | BUILD BIN | ||||||||||||||||
hipathia 3.2.0 (landing page) Marta R. Hidalgo
| kjohnson1 | macOS 13.6.1 Ventura / arm64 | OK | OK | OK | OK | ![]() | |||||||||||||||
Package 289/679 | Hostname | OS / Arch | INSTALL | BUILD | CHECK | BUILD BIN | ||||||||||||||||
hmdbQuery 1.22.0 (landing page) VJ Carey
| kjohnson1 | macOS 13.6.1 Ventura / arm64 | OK | OK | OK | OK | ![]() | |||||||||||||||
Package 290/679 | Hostname | OS / Arch | INSTALL | BUILD | CHECK | BUILD BIN | ||||||||||||||||
HumanTranscriptomeCompendium 1.18.1 (landing page) VJ Carey
| kjohnson1 | macOS 13.6.1 Ventura / arm64 | OK | ERROR | skipped | skipped | ||||||||||||||||
Package 291/679 | Hostname | OS / Arch | INSTALL | BUILD | CHECK | BUILD BIN | ||||||||||||||||
icetea 1.20.0 (landing page) Vivek Bhardwaj
| kjohnson1 | macOS 13.6.1 Ventura / arm64 | OK | OK | WARNINGS | OK | ![]() | |||||||||||||||
Package 292/679 | Hostname | OS / Arch | INSTALL | BUILD | CHECK | BUILD BIN | ||||||||||||||||
ideal 1.26.0 (landing page) Federico Marini
| kjohnson1 | macOS 13.6.1 Ventura / arm64 | OK | OK | OK | OK | ![]() | |||||||||||||||
Package 293/679 | Hostname | OS / Arch | INSTALL | BUILD | CHECK | BUILD BIN | ||||||||||||||||
IFAA 1.4.0 (landing page) Zhigang Li
| kjohnson1 | macOS 13.6.1 Ventura / arm64 | OK | OK | OK | OK | ![]() | |||||||||||||||
Package 294/679 | Hostname | OS / Arch | INSTALL | BUILD | CHECK | BUILD BIN | ||||||||||||||||
ILoReg 1.12.1 (landing page) Johannes Smolander
| kjohnson1 | macOS 13.6.1 Ventura / arm64 | OK | OK | WARNINGS | OK | ![]() | |||||||||||||||
Package 295/679 | Hostname | OS / Arch | INSTALL | BUILD | CHECK | BUILD BIN | ||||||||||||||||
IMAS 1.26.0 (landing page) Seonggyun Han
| kjohnson1 | macOS 13.6.1 Ventura / arm64 | OK | OK | OK | OK | ![]() | |||||||||||||||
Package 296/679 | Hostname | OS / Arch | INSTALL | BUILD | CHECK | BUILD BIN | ||||||||||||||||
imcRtools 1.8.0 (landing page) Nils Eling
| kjohnson1 | macOS 13.6.1 Ventura / arm64 | OK | OK | ERROR | OK | ||||||||||||||||
Package 297/679 | Hostname | OS / Arch | INSTALL | BUILD | CHECK | BUILD BIN | ||||||||||||||||
InPAS 2.10.0 (landing page) Jianhong Ou
| kjohnson1 | macOS 13.6.1 Ventura / arm64 | OK | OK | OK | OK | ![]() | |||||||||||||||
Package 298/679 | Hostname | OS / Arch | INSTALL | BUILD | CHECK | BUILD BIN | ||||||||||||||||
INSPEcT 1.32.1 (landing page) Stefano de Pretis
| kjohnson1 | macOS 13.6.1 Ventura / arm64 | OK | OK | OK | OK | ![]() | |||||||||||||||
Package 299/679 | Hostname | OS / Arch | INSTALL | BUILD | CHECK | BUILD BIN | ||||||||||||||||
InTAD 1.22.0 (landing page) Konstantin Okonechnikov
| kjohnson1 | macOS 13.6.1 Ventura / arm64 | OK | OK | OK | OK | ![]() | |||||||||||||||
Package 300/679 | Hostname | OS / Arch | INSTALL | BUILD | CHECK | BUILD BIN | ||||||||||||||||
InteractionSet 1.30.0 (landing page) Aaron Lun
| kjohnson1 | macOS 13.6.1 Ventura / arm64 | OK | OK | WARNINGS | OK | ![]() | |||||||||||||||
Package 301/679 | Hostname | OS / Arch | INSTALL | BUILD | CHECK | BUILD BIN | ||||||||||||||||
InteractiveComplexHeatmap 1.10.0 (landing page) Zuguang Gu
| kjohnson1 | macOS 13.6.1 Ventura / arm64 | OK | OK | OK | OK | ![]() | |||||||||||||||
Package 302/679 | Hostname | OS / Arch | INSTALL | BUILD | CHECK | BUILD BIN | ||||||||||||||||
IntEREst 1.26.0 (landing page) Ali Oghabian
| kjohnson1 | macOS 13.6.1 Ventura / arm64 | OK | OK | OK | OK | ![]() | |||||||||||||||
Package 303/679 | Hostname | OS / Arch | INSTALL | BUILD | CHECK | BUILD BIN | ||||||||||||||||
InterMineR 1.24.0 (landing page) InterMine Team
| kjohnson1 | macOS 13.6.1 Ventura / arm64 | OK | OK | WARNINGS | OK | ![]() | |||||||||||||||
Package 304/679 | Hostname | OS / Arch | INSTALL | BUILD | CHECK | BUILD BIN | ||||||||||||||||
IRanges 2.36.0 (landing page) Hervé Pagès
| kjohnson1 | macOS 13.6.1 Ventura / arm64 | OK | OK | WARNINGS | OK | ![]() | |||||||||||||||
Package 305/679 | Hostname | OS / Arch | INSTALL | BUILD | CHECK | BUILD BIN | ||||||||||||||||
iSEE 2.14.0 (landing page) Kevin Rue-Albrecht
| kjohnson1 | macOS 13.6.1 Ventura / arm64 | OK | OK | OK | OK | ![]() | |||||||||||||||
Package 306/679 | Hostname | OS / Arch | INSTALL | BUILD | CHECK | BUILD BIN | ||||||||||||||||
iSEEde 1.0.0 (landing page) Kevin Rue-Albrecht
| kjohnson1 | macOS 13.6.1 Ventura / arm64 | OK | OK | OK | OK | ![]() | |||||||||||||||
Package 307/679 | Hostname | OS / Arch | INSTALL | BUILD | CHECK | BUILD BIN | ||||||||||||||||
iSEEhub 1.4.0 (landing page) Kevin Rue-Albrecht
| kjohnson1 | macOS 13.6.1 Ventura / arm64 | OK | OK | OK | OK | ![]() | |||||||||||||||
Package 308/679 | Hostname | OS / Arch | INSTALL | BUILD | CHECK | BUILD BIN | ||||||||||||||||
iSEEpathways 1.0.0 (landing page) Kevin Rue-Albrecht
| kjohnson1 | macOS 13.6.1 Ventura / arm64 | OK | OK | OK | OK | ![]() | |||||||||||||||
Package 309/679 | Hostname | OS / Arch | INSTALL | BUILD | CHECK | BUILD BIN | ||||||||||||||||
iSEEu 1.14.0 (landing page) Kevin Rue-Albrecht
| kjohnson1 | macOS 13.6.1 Ventura / arm64 | OK | OK | ERROR | OK | ||||||||||||||||
Package 310/679 | Hostname | OS / Arch | INSTALL | BUILD | CHECK | BUILD BIN | ||||||||||||||||
IsoBayes 1.0.1 (landing page) Simone Tiberi
| kjohnson1 | macOS 13.6.1 Ventura / arm64 | OK | OK | OK | OK | ![]() | |||||||||||||||
Package 311/679 | Hostname | OS / Arch | INSTALL | BUILD | CHECK | BUILD BIN | ||||||||||||||||
IsoformSwitchAnalyzeR 2.2.0 (landing page) Kristoffer Vitting-Seerup
| kjohnson1 | macOS 13.6.1 Ventura / arm64 | OK | OK | OK | OK | ![]() | |||||||||||||||
Package 312/679 | Hostname | OS / Arch | INSTALL | BUILD | CHECK | BUILD BIN | ||||||||||||||||
isomiRs 1.30.0 (landing page) Lorena Pantano
| kjohnson1 | macOS 13.6.1 Ventura / arm64 | OK | OK | OK | OK | ![]() | |||||||||||||||
Package 313/679 | Hostname | OS / Arch | INSTALL | BUILD | CHECK | BUILD BIN | ||||||||||||||||
IVAS 2.22.0 (landing page) Seonggyun Han
| kjohnson1 | macOS 13.6.1 Ventura / arm64 | OK | OK | WARNINGS | OK | ![]() | |||||||||||||||
Package 314/679 | Hostname | OS / Arch | INSTALL | BUILD | CHECK | BUILD BIN | ||||||||||||||||
ivygapSE 1.24.0 (landing page) VJ Carey
| kjohnson1 | macOS 13.6.1 Ventura / arm64 | OK | OK | OK | OK | ![]() | |||||||||||||||
Package 315/679 | Hostname | OS / Arch | INSTALL | BUILD | CHECK | BUILD BIN | ||||||||||||||||
IWTomics 1.26.0 (landing page) Marzia A Cremona
| kjohnson1 | macOS 13.6.1 Ventura / arm64 | OK | OK | WARNINGS | OK | ![]() | |||||||||||||||
Package 316/679 | Hostname | OS / Arch | INSTALL | BUILD | CHECK | BUILD BIN | ||||||||||||||||
karyoploteR 1.28.0 (landing page) Bernat Gel
| kjohnson1 | macOS 13.6.1 Ventura / arm64 | OK | OK | OK | OK | ![]() | |||||||||||||||
Package 317/679 | Hostname | OS / Arch | INSTALL | BUILD | CHECK | BUILD BIN | ||||||||||||||||
katdetectr 1.4.0 (landing page) Daan Hazelaar
| kjohnson1 | macOS 13.6.1 Ventura / arm64 | OK | OK | OK | OK | ![]() | |||||||||||||||
Package 318/679 | Hostname | OS / Arch | INSTALL | BUILD | CHECK | BUILD BIN | ||||||||||||||||
kebabs 1.36.0 (landing page) Ulrich Bodenhofer
| kjohnson1 | macOS 13.6.1 Ventura / arm64 | OK | OK | OK | OK | ![]() | |||||||||||||||
Package 319/679 | Hostname | OS / Arch | INSTALL | BUILD | CHECK | BUILD BIN | ||||||||||||||||
lefser 1.12.1 (landing page) Asya Khleborodova
| kjohnson1 | macOS 13.6.1 Ventura / arm64 | OK | OK | OK | OK | ![]() | |||||||||||||||
Package 320/679 | Hostname | OS / Arch | INSTALL | BUILD | CHECK | BUILD BIN | ||||||||||||||||
lemur 1.0.5 (landing page) Constantin Ahlmann-Eltze
| kjohnson1 | macOS 13.6.1 Ventura / arm64 | OK | ERROR | skipped | skipped | ||||||||||||||||
Package 321/679 | Hostname | OS / Arch | INSTALL | BUILD | CHECK | BUILD BIN | ||||||||||||||||
LinTInd 1.6.0 (landing page) Luyue Wang
| kjohnson1 | macOS 13.6.1 Ventura / arm64 | OK | OK | OK | OK | ![]() | |||||||||||||||
Package 322/679 | Hostname | OS / Arch | INSTALL | BUILD | CHECK | BUILD BIN | ||||||||||||||||
lionessR 1.16.0 (landing page) Ping-Han Hsieh
| kjohnson1 | macOS 13.6.1 Ventura / arm64 | OK | OK | OK | OK | ![]() | |||||||||||||||
Package 323/679 | Hostname | OS / Arch | INSTALL | BUILD | CHECK | BUILD BIN | ||||||||||||||||
lipidr 2.16.0 (landing page) Ahmed Mohamed
| kjohnson1 | macOS 13.6.1 Ventura / arm64 | OK | OK | OK | OK | ![]() | |||||||||||||||
Package 324/679 | Hostname | OS / Arch | INSTALL | BUILD | CHECK | BUILD BIN | ||||||||||||||||
lisaClust 1.10.1 (landing page) Ellis Patrick
| kjohnson1 | macOS 13.6.1 Ventura / arm64 | OK | OK | OK | OK | ![]() | |||||||||||||||
Package 325/679 | Hostname | OS / Arch | INSTALL | BUILD | CHECK | BUILD BIN | ||||||||||||||||
loci2path 1.22.0 (landing page) Tianlei Xu
| kjohnson1 | macOS 13.6.1 Ventura / arm64 | OK | OK | OK | OK | ![]() | |||||||||||||||
Package 326/679 | Hostname | OS / Arch | INSTALL | BUILD | CHECK | BUILD BIN | ||||||||||||||||
LOLA 1.32.0 (landing page) Nathan Sheffield
| kjohnson1 | macOS 13.6.1 Ventura / arm64 | OK | OK | OK | OK | ![]() | |||||||||||||||
Package 327/679 | Hostname | OS / Arch | INSTALL | BUILD | CHECK | BUILD BIN | ||||||||||||||||
LoomExperiment 1.20.0 (landing page) Bioconductor Package Maintainer
| kjohnson1 | macOS 13.6.1 Ventura / arm64 | OK | OK | OK | OK | ![]() | |||||||||||||||
Package 328/679 | Hostname | OS / Arch | INSTALL | BUILD | CHECK | BUILD BIN | ||||||||||||||||
m6Aboost 1.8.0 (landing page) You Zhou
| kjohnson1 | macOS 13.6.1 Ventura / arm64 | OK | OK | OK | OK | ![]() | |||||||||||||||
Package 329/679 | Hostname | OS / Arch | INSTALL | BUILD | CHECK | BUILD BIN | ||||||||||||||||
MACSr 1.10.0 (landing page) Qiang Hu
| kjohnson1 | macOS 13.6.1 Ventura / arm64 | OK | OK | OK | OK | ![]() | |||||||||||||||
Package 330/679 | Hostname | OS / Arch | INSTALL | BUILD | CHECK | BUILD BIN | ||||||||||||||||
MADSEQ 1.28.0 (landing page) Yu Kong
| kjohnson1 | macOS 13.6.1 Ventura / arm64 | OK | OK | OK | OK | ![]() | |||||||||||||||
Package 331/679 | Hostname | OS / Arch | INSTALL | BUILD | CHECK | BUILD BIN | ||||||||||||||||
magpie 1.2.0 (landing page) Daoyu Duan
| kjohnson1 | macOS 13.6.1 Ventura / arm64 | OK | OK | OK | OK | ![]() | |||||||||||||||
Package 332/679 | Hostname | OS / Arch | INSTALL | BUILD | CHECK | BUILD BIN | ||||||||||||||||
MAI 1.8.0 (landing page) Jonathan Dekermanjian
| kjohnson1 | macOS 13.6.1 Ventura / arm64 | OK | OK | OK | OK | ![]() | |||||||||||||||
Package 333/679 | Hostname | OS / Arch | INSTALL | BUILD | CHECK | BUILD BIN | ||||||||||||||||
mariner 1.2.0 (landing page) Eric Davis
| kjohnson1 | macOS 13.6.1 Ventura / arm64 | OK | OK | OK | OK | ![]() | |||||||||||||||
Package 334/679 | Hostname | OS / Arch | INSTALL | BUILD | CHECK | BUILD BIN | ||||||||||||||||
marr 1.12.0 (landing page) Tusharkanti Ghosh
| kjohnson1 | macOS 13.6.1 Ventura / arm64 | OK | OK | OK | OK | ![]() | |||||||||||||||
Package 335/679 | Hostname | OS / Arch | INSTALL | BUILD | CHECK | BUILD BIN | ||||||||||||||||
MAST 1.28.0 (landing page) Andrew McDavid
| kjohnson1 | macOS 13.6.1 Ventura / arm64 | OK | OK | ERROR | OK | ||||||||||||||||
Package 336/679 | Hostname | OS / Arch | INSTALL | BUILD | CHECK | BUILD BIN | ||||||||||||||||
MatrixRider 1.34.0 (landing page) Elena Grassi
| kjohnson1 | macOS 13.6.1 Ventura / arm64 | OK | OK | WARNINGS | OK | ![]() | |||||||||||||||
Package 337/679 | Hostname | OS / Arch | INSTALL | BUILD | CHECK | BUILD BIN | ||||||||||||||||
mbkmeans 1.18.0 (landing page) Davide Risso
| kjohnson1 | macOS 13.6.1 Ventura / arm64 | OK | ERROR | skipped | skipped | ||||||||||||||||
Package 338/679 | Hostname | OS / Arch | INSTALL | BUILD | CHECK | BUILD BIN | ||||||||||||||||
mCSEA 1.22.0 (landing page) Jordi Martorell-Marugán
| kjohnson1 | macOS 13.6.1 Ventura / arm64 | OK | OK | OK | OK | ![]() | |||||||||||||||
Package 339/679 | Hostname | OS / Arch | INSTALL | BUILD | CHECK | BUILD BIN | ||||||||||||||||
MEAL 1.32.0 (landing page) Xavier Escribà Montagut
| kjohnson1 | macOS 13.6.1 Ventura / arm64 | OK | OK | WARNINGS | OK | ![]() | |||||||||||||||
Package 340/679 | Hostname | OS / Arch | INSTALL | BUILD | CHECK | BUILD BIN | ||||||||||||||||
meshr 2.8.0 (landing page) Koki Tsuyuzaki
| kjohnson1 | macOS 13.6.1 Ventura / arm64 | OK | OK | OK | OK | ![]() | |||||||||||||||
Package 341/679 | Hostname | OS / Arch | INSTALL | BUILD | CHECK | BUILD BIN | ||||||||||||||||
MesKit 1.12.0 (landing page) Mengni Liu
| kjohnson1 | macOS 13.6.1 Ventura / arm64 | OK | OK | WARNINGS | OK | ![]() | |||||||||||||||
Package 342/679 | Hostname | OS / Arch | INSTALL | BUILD | CHECK | BUILD BIN | ||||||||||||||||
metabCombiner 1.12.0 (landing page) Hani Habra
| kjohnson1 | macOS 13.6.1 Ventura / arm64 | OK | OK | OK | OK | ![]() | |||||||||||||||
Package 343/679 | Hostname | OS / Arch | INSTALL | BUILD | CHECK | BUILD BIN | ||||||||||||||||
MetaboAnnotation 1.6.1 (landing page) Johannes Rainer
| kjohnson1 | macOS 13.6.1 Ventura / arm64 | OK | OK | OK | OK | ![]() | |||||||||||||||
Package 344/679 | Hostname | OS / Arch | INSTALL | BUILD | CHECK | BUILD BIN | ||||||||||||||||
metaseqR2 1.14.0 (landing page) Panagiotis Moulos
| kjohnson1 | macOS 13.6.1 Ventura / arm64 | OK | OK | OK | OK | ![]() | |||||||||||||||
Package 345/679 | Hostname | OS / Arch | INSTALL | BUILD | CHECK | BUILD BIN | ||||||||||||||||
MetCirc 1.32.0 (landing page) Thomas Naake
| kjohnson1 | macOS 13.6.1 Ventura / arm64 | OK | OK | OK | OK | ![]() | |||||||||||||||
Package 346/679 | Hostname | OS / Arch | INSTALL | BUILD | CHECK | BUILD BIN | ||||||||||||||||
methInheritSim 1.24.0 (landing page) Pascal Belleau
| kjohnson1 | macOS 13.6.1 Ventura / arm64 | OK | OK | OK | OK | ![]() | |||||||||||||||
Package 347/679 | Hostname | OS / Arch | INSTALL | BUILD | CHECK | BUILD BIN | ||||||||||||||||
MethReg 1.12.0 (landing page) Tiago Silva
| kjohnson1 | macOS 13.6.1 Ventura / arm64 | OK | ERROR | skipped | skipped | ||||||||||||||||
Package 348/679 | Hostname | OS / Arch | INSTALL | BUILD | CHECK | BUILD BIN | ||||||||||||||||
methrix 1.16.0 (landing page) Anand Mayakonda
| kjohnson1 | macOS 13.6.1 Ventura / arm64 | OK | OK | OK | OK | ![]() | |||||||||||||||
Package 349/679 | Hostname | OS / Arch | INSTALL | BUILD | CHECK | BUILD BIN | ||||||||||||||||
methylCC 1.16.0 (landing page) Stephanie C. Hicks
| kjohnson1 | macOS 13.6.1 Ventura / arm64 | OK | OK | OK | OK | ![]() | |||||||||||||||
Package 350/679 | Hostname | OS / Arch | INSTALL | BUILD | CHECK | BUILD BIN | ||||||||||||||||
methylInheritance 1.26.0 (landing page) Astrid Deschênes
| kjohnson1 | macOS 13.6.1 Ventura / arm64 | OK | OK | OK | OK | ![]() | |||||||||||||||
Package 351/679 | Hostname | OS / Arch | INSTALL | BUILD | CHECK | BUILD BIN | ||||||||||||||||
methylKit 1.28.0 (landing page) Altuna Akalin
| kjohnson1 | macOS 13.6.1 Ventura / arm64 | OK | OK | WARNINGS | OK | ![]() | |||||||||||||||
Package 352/679 | Hostname | OS / Arch | INSTALL | BUILD | CHECK | BUILD BIN | ||||||||||||||||
methylPipe 1.36.0 (landing page) Mattia Furlan
| kjohnson1 | macOS 13.6.1 Ventura / arm64 | OK | OK | WARNINGS | OK | ![]() | |||||||||||||||
Package 353/679 | Hostname | OS / Arch | INSTALL | BUILD | CHECK | BUILD BIN | ||||||||||||||||
methylSig 1.14.0 (landing page) Raymond G. Cavalcante
| kjohnson1 | macOS 13.6.1 Ventura / arm64 | OK | OK | OK | OK | ![]() | |||||||||||||||
Package 354/679 | Hostname | OS / Arch | INSTALL | BUILD | CHECK | BUILD BIN | ||||||||||||||||
methylumi 2.48.0 (landing page) Sean Davis
| kjohnson1 | macOS 13.6.1 Ventura / arm64 | OK | OK | OK | OK | ![]() | |||||||||||||||
Package 355/679 | Hostname | OS / Arch | INSTALL | BUILD | CHECK | BUILD BIN | ||||||||||||||||
MetNet 1.20.0 (landing page) Thomas Naake
| kjohnson1 | macOS 13.6.1 Ventura / arm64 | OK | OK | OK | OK | ![]() | |||||||||||||||
Package 356/679 | Hostname | OS / Arch | INSTALL | BUILD | CHECK | BUILD BIN | ||||||||||||||||
mia 1.10.0 (landing page) Tuomas Borman
| kjohnson1 | macOS 13.6.1 Ventura / arm64 | OK | OK | OK | OK | ![]() | |||||||||||||||
Package 357/679 | Hostname | OS / Arch | INSTALL | BUILD | CHECK | BUILD BIN | ||||||||||||||||
miaSim 1.8.0 (landing page) Yagmur Simsek
| kjohnson1 | macOS 13.6.1 Ventura / arm64 | OK | OK | OK | OK | ![]() | |||||||||||||||
Package 358/679 | Hostname | OS / Arch | INSTALL | BUILD | CHECK | BUILD BIN | ||||||||||||||||
miaViz 1.10.0 (landing page) Tuomas Borman
| kjohnson1 | macOS 13.6.1 Ventura / arm64 | OK | OK | OK | OK | ![]() | |||||||||||||||
Package 359/679 | Hostname | OS / Arch | INSTALL | BUILD | CHECK | BUILD BIN | ||||||||||||||||
microbiomeMarker 1.8.0 (landing page) Yang Cao
| kjohnson1 | macOS 13.6.1 Ventura / arm64 | OK | OK | OK | OK | ![]() | |||||||||||||||
Package 360/679 | Hostname | OS / Arch | INSTALL | BUILD | CHECK | BUILD BIN | ||||||||||||||||
MICSQTL 1.0.0 (landing page) Yue Pan
| kjohnson1 | macOS 13.6.1 Ventura / arm64 | OK | OK | OK | OK | ![]() | |||||||||||||||
Package 361/679 | Hostname | OS / Arch | INSTALL | BUILD | CHECK | BUILD BIN | ||||||||||||||||
midasHLA 1.10.0 (landing page) Maciej Migdał
| kjohnson1 | macOS 13.6.1 Ventura / arm64 | OK | ERROR | skipped | skipped | ||||||||||||||||
Package 362/679 | Hostname | OS / Arch | INSTALL | BUILD | CHECK | BUILD BIN | ||||||||||||||||
miloR 1.10.0 (landing page) Mike Morgan
| kjohnson1 | macOS 13.6.1 Ventura / arm64 | OK | ERROR | skipped | skipped | ||||||||||||||||
Package 363/679 | Hostname | OS / Arch | INSTALL | BUILD | CHECK | BUILD BIN | ||||||||||||||||
mimager 1.26.0 (landing page) Aaron Wolen
| kjohnson1 | macOS 13.6.1 Ventura / arm64 | OK | OK | OK | OK | ![]() | |||||||||||||||
Package 364/679 | Hostname | OS / Arch | INSTALL | BUILD | CHECK | BUILD BIN | ||||||||||||||||
minfi 1.48.0 (landing page) Kasper Daniel Hansen
| kjohnson1 | macOS 13.6.1 Ventura / arm64 | OK | OK | OK | OK | ![]() | |||||||||||||||
Package 365/679 | Hostname | OS / Arch | INSTALL | BUILD | CHECK | BUILD BIN | ||||||||||||||||
MinimumDistance 1.46.0 (landing page) Robert Scharpf
| kjohnson1 | macOS 13.6.1 Ventura / arm64 | OK | OK | WARNINGS | OK | ![]() | |||||||||||||||
Package 366/679 | Hostname | OS / Arch | INSTALL | BUILD | CHECK | BUILD BIN | ||||||||||||||||
MIRA 1.24.0 (landing page) John Lawson
| kjohnson1 | macOS 13.6.1 Ventura / arm64 | OK | OK | OK | OK | ![]() | |||||||||||||||
Package 367/679 | Hostname | OS / Arch | INSTALL | BUILD | CHECK | BUILD BIN | ||||||||||||||||
MiRaGE 1.44.0 (landing page) Y-h. Taguchi
| kjohnson1 | macOS 13.6.1 Ventura / arm64 | OK | OK | WARNINGS | OK | ![]() | |||||||||||||||
Package 368/679 | Hostname | OS / Arch | INSTALL | BUILD | CHECK | BUILD BIN | ||||||||||||||||
missMethyl 1.36.0 (landing page) Belinda Phipson
| kjohnson1 | macOS 13.6.1 Ventura / arm64 | OK | OK | OK | OK | ![]() | |||||||||||||||
Package 369/679 | Hostname | OS / Arch | INSTALL | BUILD | CHECK | BUILD BIN | ||||||||||||||||
missRows 1.22.0 (landing page) Gonzalez Ignacio
| kjohnson1 | macOS 13.6.1 Ventura / arm64 | OK | OK | OK | OK | ![]() | |||||||||||||||
Package 370/679 | Hostname | OS / Arch | INSTALL | BUILD | CHECK | BUILD BIN | ||||||||||||||||
mitoClone2 1.8.1 (landing page) Benjamin Story
| kjohnson1 | macOS 13.6.1 Ventura / arm64 | OK | OK | WARNINGS | OK | ![]() | |||||||||||||||
Package 371/679 | Hostname | OS / Arch | INSTALL | BUILD | CHECK | BUILD BIN | ||||||||||||||||
MMAPPR2 1.16.0 (landing page) Jonathon Hill
| kjohnson1 | macOS 13.6.1 Ventura / arm64 | OK | ERROR | skipped | skipped | ||||||||||||||||
Package 372/679 | Hostname | OS / Arch | INSTALL | BUILD | CHECK | BUILD BIN | ||||||||||||||||
MMDiff2 1.30.0 (landing page) Gabriele Schweikert
| kjohnson1 | macOS 13.6.1 Ventura / arm64 | OK | OK | OK | OK | ![]() | |||||||||||||||
Package 373/679 | Hostname | OS / Arch | INSTALL | BUILD | CHECK | BUILD BIN | ||||||||||||||||
moanin 1.10.0 (landing page) Nelle Varoquaux
| kjohnson1 | macOS 13.6.1 Ventura / arm64 | OK | OK | OK | OK | ![]() | |||||||||||||||
Package 374/679 | Hostname | OS / Arch | INSTALL | BUILD | CHECK | BUILD BIN | ||||||||||||||||
Modstrings 1.18.0 (landing page) Felix G.M. Ernst
| kjohnson1 | macOS 13.6.1 Ventura / arm64 | OK | OK | OK | OK | ![]() | |||||||||||||||
Package 375/679 | Hostname | OS / Arch | INSTALL | BUILD | CHECK | BUILD BIN | ||||||||||||||||
MoleculeExperiment 1.2.2 (landing page) Shila Ghazanfar
| kjohnson1 | macOS 13.6.1 Ventura / arm64 | OK | OK | OK | OK | ![]() | |||||||||||||||
Package 376/679 | Hostname | OS / Arch | INSTALL | BUILD | CHECK | BUILD BIN | ||||||||||||||||
monaLisa 1.8.1 (landing page) Michael Stadler
| kjohnson1 | macOS 13.6.1 Ventura / arm64 | OK | OK | OK | OK | ![]() | |||||||||||||||
Package 377/679 | Hostname | OS / Arch | INSTALL | BUILD | CHECK | BUILD BIN | ||||||||||||||||
mosaics 2.40.0 (landing page) Dongjun Chung
| kjohnson1 | macOS 13.6.1 Ventura / arm64 | OK | OK | OK | OK | ![]() | |||||||||||||||
Package 378/679 | Hostname | OS / Arch | INSTALL | BUILD | CHECK | BUILD BIN | ||||||||||||||||
MOSim 1.16.0 (landing page) Sonia Tarazona
| kjohnson1 | macOS 13.6.1 Ventura / arm64 | OK | OK | OK | OK | ![]() | |||||||||||||||
Package 379/679 | Hostname | OS / Arch | INSTALL | BUILD | CHECK | BUILD BIN | ||||||||||||||||
Motif2Site 1.6.0 (landing page) Peyman Zarrineh
| kjohnson1 | macOS 13.6.1 Ventura / arm64 | OK | OK | OK | OK | ![]() | |||||||||||||||
Package 380/679 | Hostname | OS / Arch | INSTALL | BUILD | CHECK | BUILD BIN | ||||||||||||||||
motifbreakR 2.16.0 (landing page) Simon Gert Coetzee
| kjohnson1 | macOS 13.6.1 Ventura / arm64 | OK | OK | WARNINGS | OK | ![]() | |||||||||||||||
Package 381/679 | Hostname | OS / Arch | INSTALL | BUILD | CHECK | BUILD BIN | ||||||||||||||||
MotifDb 1.44.0 (landing page) Paul Shannon
| kjohnson1 | macOS 13.6.1 Ventura / arm64 | OK | OK | WARNINGS | OK | ![]() | |||||||||||||||
Package 382/679 | Hostname | OS / Arch | INSTALL | BUILD | CHECK | BUILD BIN | ||||||||||||||||
motifmatchr 1.24.0 (landing page) Alicia Schep
| kjohnson1 | macOS 13.6.1 Ventura / arm64 | OK | OK | OK | OK | ![]() | |||||||||||||||
Package 383/679 | Hostname | OS / Arch | INSTALL | BUILD | CHECK | BUILD BIN | ||||||||||||||||
mpra 1.24.0 (landing page) Leslie Myint
| kjohnson1 | macOS 13.6.1 Ventura / arm64 | OK | OK | OK | OK | ![]() | |||||||||||||||
Package 384/679 | Hostname | OS / Arch | INSTALL | BUILD | CHECK | BUILD BIN | ||||||||||||||||
msa 1.34.0 (landing page) Ulrich Bodenhofer
| kjohnson1 | macOS 13.6.1 Ventura / arm64 | OK | OK | WARNINGS | OK | ![]() | |||||||||||||||
Package 385/679 | Hostname | OS / Arch | INSTALL | BUILD | CHECK | BUILD BIN | ||||||||||||||||
MsBackendMassbank 1.10.1 (landing page) RforMassSpectrometry Package Maintainer
| kjohnson1 | macOS 13.6.1 Ventura / arm64 | OK | OK | OK | OK | ![]() | |||||||||||||||
Package 386/679 | Hostname | OS / Arch | INSTALL | BUILD | CHECK | BUILD BIN | ||||||||||||||||
MsBackendMgf 1.10.0 (landing page) RforMassSpectrometry Package Maintainer
| kjohnson1 | macOS 13.6.1 Ventura / arm64 | OK | OK | OK | OK | ![]() | |||||||||||||||
Package 387/679 | Hostname | OS / Arch | INSTALL | BUILD | CHECK | BUILD BIN | ||||||||||||||||
MsBackendMsp 1.6.0 (landing page) Johannes Rainer
| kjohnson1 | macOS 13.6.1 Ventura / arm64 | OK | OK | OK | OK | ![]() | |||||||||||||||
Package 388/679 | Hostname | OS / Arch | INSTALL | BUILD | CHECK | BUILD BIN | ||||||||||||||||
MsBackendRawFileReader 1.8.1 (landing page) Christian Panse
| kjohnson1 | macOS 13.6.1 Ventura / arm64 | OK | OK | OK | OK | ![]() | |||||||||||||||
Package 389/679 | Hostname | OS / Arch | INSTALL | BUILD | CHECK | BUILD BIN | ||||||||||||||||
MsBackendSql 1.2.0 (landing page) Johannes Rainer
| kjohnson1 | macOS 13.6.1 Ventura / arm64 | OK | OK | OK | OK | ![]() | |||||||||||||||
Package 390/679 | Hostname | OS / Arch | INSTALL | BUILD | CHECK | BUILD BIN | ||||||||||||||||
MsCoreUtils 1.14.1 (landing page) RforMassSpectrometry Package Maintainer
| kjohnson1 | macOS 13.6.1 Ventura / arm64 | OK | OK | OK | OK | ![]() | |||||||||||||||
Package 391/679 | Hostname | OS / Arch | INSTALL | BUILD | CHECK | BUILD BIN | ||||||||||||||||
MsExperiment 1.4.0 (landing page) Laurent Gatto
| kjohnson1 | macOS 13.6.1 Ventura / arm64 | OK | OK | OK | OK | ![]() | |||||||||||||||
Package 392/679 | Hostname | OS / Arch | INSTALL | BUILD | CHECK | BUILD BIN | ||||||||||||||||
msgbsR 1.26.0 (landing page) Benjamin Mayne
| kjohnson1 | macOS 13.6.1 Ventura / arm64 | OK | OK | OK | OK | ![]() | |||||||||||||||
Package 393/679 | Hostname | OS / Arch | INSTALL | BUILD | CHECK | BUILD BIN | ||||||||||||||||
MSnbase 2.28.1 (landing page) Laurent Gatto
| kjohnson1 | macOS 13.6.1 Ventura / arm64 | OK | OK | OK | OK | ![]() | |||||||||||||||
Package 394/679 | Hostname | OS / Arch | INSTALL | BUILD | CHECK | BUILD BIN | ||||||||||||||||
MSPrep 1.12.0 (landing page) Max McGrath
| kjohnson1 | macOS 13.6.1 Ventura / arm64 | OK | OK | ERROR | OK | ||||||||||||||||
Package 395/679 | Hostname | OS / Arch | INSTALL | BUILD | CHECK | BUILD BIN | ||||||||||||||||
MuData 1.6.0 (landing page) Danila Bredikhin
| kjohnson1 | macOS 13.6.1 Ventura / arm64 | OK | ERROR | skipped | skipped | ||||||||||||||||
Package 396/679 | Hostname | OS / Arch | INSTALL | BUILD | CHECK | BUILD BIN | ||||||||||||||||
MultiAssayExperiment 1.28.0 (landing page) Marcel Ramos
| kjohnson1 | macOS 13.6.1 Ventura / arm64 | OK | OK | OK | OK | ![]() | |||||||||||||||
Package 397/679 | Hostname | OS / Arch | INSTALL | BUILD | CHECK | BUILD BIN | ||||||||||||||||
MultiDataSet 1.30.0 (landing page) Xavier Escribà Montagut
| kjohnson1 | macOS 13.6.1 Ventura / arm64 | OK | OK | WARNINGS | OK | ![]() | |||||||||||||||
Package 398/679 | Hostname | OS / Arch | INSTALL | BUILD | CHECK | BUILD BIN | ||||||||||||||||
MultimodalExperiment 1.2.0 (landing page) Lucas Schiffer
| kjohnson1 | macOS 13.6.1 Ventura / arm64 | OK | OK | OK | OK | ![]() | |||||||||||||||
Package 399/679 | Hostname | OS / Arch | INSTALL | BUILD | CHECK | BUILD BIN | ||||||||||||||||
MultiRNAflow 1.0.0 (landing page) Rodolphe Loubaton
| kjohnson1 | macOS 13.6.1 Ventura / arm64 | OK | OK | OK | OK | ![]() | |||||||||||||||
Package 400/679 | Hostname | OS / Arch | INSTALL | BUILD | CHECK | BUILD BIN | ||||||||||||||||
mumosa 1.10.0 (landing page) Aaron Lun
| kjohnson1 | macOS 13.6.1 Ventura / arm64 | OK | ERROR | skipped | skipped | ||||||||||||||||
Package 401/679 | Hostname | OS / Arch | INSTALL | BUILD | CHECK | BUILD BIN | ||||||||||||||||
muscat 1.16.0 (landing page) Helena L. Crowell
| kjohnson1 | macOS 13.6.1 Ventura / arm64 | OK | ERROR | skipped | skipped | ||||||||||||||||
Package 402/679 | Hostname | OS / Arch | INSTALL | BUILD | CHECK | BUILD BIN | ||||||||||||||||
musicatk 1.12.0 (landing page) Aaron Chevalier
| kjohnson1 | macOS 13.6.1 Ventura / arm64 | OK | ERROR | skipped | skipped | ||||||||||||||||
Package 403/679 | Hostname | OS / Arch | INSTALL | BUILD | CHECK | BUILD BIN | ||||||||||||||||
MutationalPatterns 3.12.0 (landing page) Mark van Roosmalen
| kjohnson1 | macOS 13.6.1 Ventura / arm64 | OK | ERROR | skipped | skipped | ||||||||||||||||
Package 404/679 | Hostname | OS / Arch | INSTALL | BUILD | CHECK | BUILD BIN | ||||||||||||||||
mygene 1.38.0 (landing page) Adam Mark, Cyrus Afrasiabi, Chunlei Wu
| kjohnson1 | macOS 13.6.1 Ventura / arm64 | OK | OK | OK | OK | ![]() | |||||||||||||||
Package 405/679 | Hostname | OS / Arch | INSTALL | BUILD | CHECK | BUILD BIN | ||||||||||||||||
myvariant 1.32.0 (landing page) Adam Mark, Chunlei Wu
| kjohnson1 | macOS 13.6.1 Ventura / arm64 | OK | OK | OK | OK | ![]() | |||||||||||||||
Package 406/679 | Hostname | OS / Arch | INSTALL | BUILD | CHECK | BUILD BIN | ||||||||||||||||
NADfinder 1.26.0 (landing page) Jianhong Ou
| kjohnson1 | macOS 13.6.1 Ventura / arm64 | OK | OK | OK | OK | ![]() | |||||||||||||||
Package 407/679 | Hostname | OS / Arch | INSTALL | BUILD | CHECK | BUILD BIN | ||||||||||||||||
NanoMethViz 2.8.1 (landing page) Shian Su
| kjohnson1 | macOS 13.6.1 Ventura / arm64 | OK | OK | OK | OK | ![]() | |||||||||||||||
Package 408/679 | Hostname | OS / Arch | INSTALL | BUILD | CHECK | BUILD BIN | ||||||||||||||||
NanoStringNCTools 1.10.1 (landing page) Nicole Ortogero
| kjohnson1 | macOS 13.6.1 Ventura / arm64 | OK | OK | WARNINGS | OK | ![]() | |||||||||||||||
Package 409/679 | Hostname | OS / Arch | INSTALL | BUILD | CHECK | BUILD BIN | ||||||||||||||||
NBAMSeq 1.18.0 (landing page) Xu Ren
| kjohnson1 | macOS 13.6.1 Ventura / arm64 | OK | OK | OK | OK | ![]() | |||||||||||||||
Package 410/679 | Hostname | OS / Arch | INSTALL | BUILD | CHECK | BUILD BIN | ||||||||||||||||
ncRNAtools 1.12.0 (landing page) Lara Selles Vidal
| kjohnson1 | macOS 13.6.1 Ventura / arm64 | OK | OK | OK | OK | ![]() | |||||||||||||||
Package 411/679 | Hostname | OS / Arch | INSTALL | BUILD | CHECK | BUILD BIN | ||||||||||||||||
nearBynding 1.12.0 (landing page) Veronica Busa
| kjohnson1 | macOS 13.6.1 Ventura / arm64 | OK | OK | OK | OK | ![]() | |||||||||||||||
Package 412/679 | Hostname | OS / Arch | INSTALL | BUILD | CHECK | BUILD BIN | ||||||||||||||||
netDx 1.14.0 (landing page) Shraddha Pai
| kjohnson1 | macOS 13.6.1 Ventura / arm64 | OK | OK | ERROR | OK | ||||||||||||||||
Package 413/679 | Hostname | OS / Arch | INSTALL | BUILD | CHECK | BUILD BIN | ||||||||||||||||
NoRCE 1.14.0 (landing page) Gulden Olgun
| kjohnson1 | macOS 13.6.1 Ventura / arm64 | OK | OK | OK | OK | ![]() | |||||||||||||||
Package 414/679 | Hostname | OS / Arch | INSTALL | BUILD | CHECK | BUILD BIN | ||||||||||||||||
nucleoSim 1.30.0 (landing page) Astrid Deschênes
| kjohnson1 | macOS 13.6.1 Ventura / arm64 | OK | OK | OK | OK | ![]() | |||||||||||||||
Package 415/679 | Hostname | OS / Arch | INSTALL | BUILD | CHECK | BUILD BIN | ||||||||||||||||
nucleR 2.34.0 (landing page) Alba Sala
| kjohnson1 | macOS 13.6.1 Ventura / arm64 | OK | OK | WARNINGS | OK | ![]() | |||||||||||||||
Package 416/679 | Hostname | OS / Arch | INSTALL | BUILD | CHECK | BUILD BIN | ||||||||||||||||
nullranges 1.8.0 (landing page) Michael Love
| kjohnson1 | macOS 13.6.1 Ventura / arm64 | OK | OK | OK | OK | ![]() | |||||||||||||||
Package 417/679 | Hostname | OS / Arch | INSTALL | BUILD | CHECK | BUILD BIN | ||||||||||||||||
octad 1.4.0 (landing page) E. Chekalin
| kjohnson1 | macOS 13.6.1 Ventura / arm64 | OK | OK | OK | OK | ![]() | |||||||||||||||
Package 418/679 | Hostname | OS / Arch | INSTALL | BUILD | CHECK | BUILD BIN | ||||||||||||||||
OGRE 1.6.0 (landing page) Sven Berres
| kjohnson1 | macOS 13.6.1 Ventura / arm64 | OK | OK | OK | OK | ![]() | |||||||||||||||
Package 419/679 | Hostname | OS / Arch | INSTALL | BUILD | CHECK | BUILD BIN | ||||||||||||||||
oligoClasses 1.64.0 (landing page) Benilton Carvalho
| kjohnson1 | macOS 13.6.1 Ventura / arm64 | OK | OK | WARNINGS | OK | ![]() | |||||||||||||||
Package 420/679 | Hostname | OS / Arch | INSTALL | BUILD | CHECK | BUILD BIN | ||||||||||||||||
omicsViewer 1.6.0 (landing page) Chen Meng
| kjohnson1 | macOS 13.6.1 Ventura / arm64 | OK | OK | OK | OK | ![]() | |||||||||||||||
Package 421/679 | Hostname | OS / Arch | INSTALL | BUILD | CHECK | BUILD BIN | ||||||||||||||||
oncoscanR 1.4.0 (landing page) Yann Christinat
| kjohnson1 | macOS 13.6.1 Ventura / arm64 | OK | OK | OK | OK | ![]() | |||||||||||||||
Package 422/679 | Hostname | OS / Arch | INSTALL | BUILD | CHECK | BUILD BIN | ||||||||||||||||
ontoProc 1.24.0 (landing page) Vincent Carey
| kjohnson1 | macOS 13.6.1 Ventura / arm64 | OK | OK | OK | OK | ![]() | |||||||||||||||
Package 423/679 | Hostname | OS / Arch | INSTALL | BUILD | CHECK | BUILD BIN | ||||||||||||||||
openPrimeR 1.24.0 (landing page) Matthias Döring
| kjohnson1 | macOS 13.6.1 Ventura / arm64 | OK | OK | OK | OK | ![]() | |||||||||||||||
Package 424/679 | Hostname | OS / Arch | INSTALL | BUILD | CHECK | BUILD BIN | ||||||||||||||||
ORFik 1.22.2 (landing page) Haakon Tjeldnes
| kjohnson1 | macOS 13.6.1 Ventura / arm64 | OK | OK | OK | OK | ![]() | |||||||||||||||
Package 425/679 | Hostname | OS / Arch | INSTALL | BUILD | CHECK | BUILD BIN | ||||||||||||||||
Organism.dplyr 1.30.1 (landing page) Martin Morgan
| kjohnson1 | macOS 13.6.1 Ventura / arm64 | OK | OK | OK | OK | ![]() | |||||||||||||||
Package 426/679 | Hostname | OS / Arch | INSTALL | BUILD | CHECK | BUILD BIN | ||||||||||||||||
OrganismDbi 1.44.0 (landing page) Bioconductor Package Maintainer
| kjohnson1 | macOS 13.6.1 Ventura / arm64 | OK | OK | WARNINGS | OK | ![]() | |||||||||||||||
Package 427/679 | Hostname | OS / Arch | INSTALL | BUILD | CHECK | BUILD BIN | ||||||||||||||||
orthos 1.0.1 (landing page) Panagiotis Papasaikas
| kjohnson1 | macOS 13.6.1 Ventura / arm64 | OK | OK | OK | OK | ![]() | |||||||||||||||
Package 428/679 | Hostname | OS / Arch | INSTALL | BUILD | CHECK | BUILD BIN | ||||||||||||||||
OTUbase 1.52.0 (landing page) Daniel Beck
| kjohnson1 | macOS 13.6.1 Ventura / arm64 | OK | OK | OK | OK | ![]() | |||||||||||||||
Package 429/679 | Hostname | OS / Arch | INSTALL | BUILD | CHECK | BUILD BIN | ||||||||||||||||
OUTRIDER 1.20.0 (landing page) Christian Mertes
| kjohnson1 | macOS 13.6.1 Ventura / arm64 | OK | OK | OK | OK | ![]() | |||||||||||||||
Package 430/679 | Hostname | OS / Arch | INSTALL | BUILD | CHECK | BUILD BIN | ||||||||||||||||
OutSplice 1.2.0 (landing page) Theresa Guo
| kjohnson1 | macOS 13.6.1 Ventura / arm64 | OK | OK | OK | OK | ![]() | |||||||||||||||
Package 431/679 | Hostname | OS / Arch | INSTALL | BUILD | CHECK | BUILD BIN | ||||||||||||||||
packFinder 1.14.0 (landing page) Jack Gisby
| kjohnson1 | macOS 13.6.1 Ventura / arm64 | OK | OK | OK | OK | ![]() | |||||||||||||||
Package 432/679 | Hostname | OS / Arch | INSTALL | BUILD | CHECK | BUILD BIN | ||||||||||||||||
padma 1.12.0 (landing page) Andrea Rau
| kjohnson1 | macOS 13.6.1 Ventura / arm64 | OK | OK | OK | OK | ![]() | |||||||||||||||
Package 433/679 | Hostname | OS / Arch | INSTALL | BUILD | CHECK | BUILD BIN | ||||||||||||||||
PAIRADISE 1.18.0 (landing page) Qiang Hu
| kjohnson1 | macOS 13.6.1 Ventura / arm64 | OK | OK | OK | OK | ![]() | |||||||||||||||
Package 434/679 | Hostname | OS / Arch | INSTALL | BUILD | CHECK | BUILD BIN | ||||||||||||||||
pairedGSEA 1.2.0 (landing page) Søren Helweg Dam
| kjohnson1 | macOS 13.6.1 Ventura / arm64 | OK | OK | OK | OK | ![]() | |||||||||||||||
Package 435/679 | Hostname | OS / Arch | INSTALL | BUILD | CHECK | BUILD BIN | ||||||||||||||||
panelcn.mops 1.24.0 (landing page) Gundula Povysil
| kjohnson1 | macOS 13.6.1 Ventura / arm64 | OK | OK | OK | OK | ![]() | |||||||||||||||
Package 436/679 | Hostname | OS / Arch | INSTALL | BUILD | CHECK | BUILD BIN | ||||||||||||||||
PAST 1.18.0 (landing page) Thrash Adam
| kjohnson1 | macOS 13.6.1 Ventura / arm64 | OK | OK | WARNINGS | OK | ![]() | |||||||||||||||
Package 437/679 | Hostname | OS / Arch | INSTALL | BUILD | CHECK | BUILD BIN | ||||||||||||||||
pcaExplorer 2.28.0 (landing page) Federico Marini
| kjohnson1 | macOS 13.6.1 Ventura / arm64 | OK | OK | OK | OK | ![]() | |||||||||||||||
Package 438/679 | Hostname | OS / Arch | INSTALL | BUILD | CHECK | BUILD BIN | ||||||||||||||||
PDATK 1.10.0 (landing page) Benjamin Haibe-Kains
| kjohnson1 | macOS 13.6.1 Ventura / arm64 | OK | OK | WARNINGS | OK | ![]() | |||||||||||||||
Package 439/679 | Hostname | OS / Arch | INSTALL | BUILD | CHECK | BUILD BIN | ||||||||||||||||
pdInfoBuilder 1.66.0 (landing page) Benilton Carvalho
| kjohnson1 | macOS 13.6.1 Ventura / arm64 | OK | OK | OK | OK | ![]() | |||||||||||||||
Package 440/679 | Hostname | OS / Arch | INSTALL | BUILD | CHECK | BUILD BIN | ||||||||||||||||
periodicDNA 1.12.0 (landing page) Jacques Serizay
| kjohnson1 | macOS 13.6.1 Ventura / arm64 | OK | OK | WARNINGS | OK | ![]() | |||||||||||||||
Package 441/679 | Hostname | OS / Arch | INSTALL | BUILD | CHECK | BUILD BIN | ||||||||||||||||
PharmacoGx 3.6.0 (landing page) Benjamin Haibe-Kains
| kjohnson1 | macOS 13.6.1 Ventura / arm64 | OK | OK | OK | OK | ![]() | |||||||||||||||
Package 442/679 | Hostname | OS / Arch | INSTALL | BUILD | CHECK | BUILD BIN | ||||||||||||||||
phemd 1.18.0 (landing page) William S Chen
| kjohnson1 | macOS 13.6.1 Ventura / arm64 | OK | ERROR | skipped | skipped | ||||||||||||||||
Package 443/679 | Hostname | OS / Arch | INSTALL | BUILD | CHECK | BUILD BIN | ||||||||||||||||
PhIPData 1.10.0 (landing page) Athena Chen
| kjohnson1 | macOS 13.6.1 Ventura / arm64 | OK | OK | OK | OK | ![]() | |||||||||||||||
Package 444/679 | Hostname | OS / Arch | INSTALL | BUILD | CHECK | BUILD BIN | ||||||||||||||||
PhosR 1.12.0 (landing page) Taiyun Kim
| kjohnson1 | macOS 13.6.1 Ventura / arm64 | OK | OK | OK | OK | ![]() | |||||||||||||||
Package 445/679 | Hostname | OS / Arch | INSTALL | BUILD | CHECK | BUILD BIN | ||||||||||||||||
PING 2.46.0 (landing page) Renan Sauteraud
| kjohnson1 | macOS 13.6.1 Ventura / arm64 | OK | OK | WARNINGS | OK | ![]() | |||||||||||||||
Package 446/679 | Hostname | OS / Arch | INSTALL | BUILD | CHECK | BUILD BIN | ||||||||||||||||
pipeComp 1.12.0 (landing page) Pierre-Luc Germain
| kjohnson1 | macOS 13.6.1 Ventura / arm64 | OK | OK | OK | OK | ![]() | |||||||||||||||
Package 447/679 | Hostname | OS / Arch | INSTALL | BUILD | CHECK | BUILD BIN | ||||||||||||||||
Daniel Bottomly
| kjohnson1 | macOS 13.6.1 Ventura / arm64 | ERROR | ERROR | skipped | skipped | ||||||||||||||||
Package 448/679 | Hostname | OS / Arch | INSTALL | BUILD | CHECK | BUILD BIN | ||||||||||||||||
plyinteractions 1.0.0 (landing page) Jacques Serizay
| kjohnson1 | macOS 13.6.1 Ventura / arm64 | OK | OK | OK | OK | ![]() | |||||||||||||||
Package 449/679 | Hostname | OS / Arch | INSTALL | BUILD | CHECK | BUILD BIN | ||||||||||||||||
plyranges 1.22.0 (landing page) Stuart Lee
| kjohnson1 | macOS 13.6.1 Ventura / arm64 | OK | OK | ERROR | OK | ||||||||||||||||
Package 450/679 | Hostname | OS / Arch | INSTALL | BUILD | CHECK | BUILD BIN | ||||||||||||||||
pmp 1.14.1 (landing page) Gavin Rhys Lloyd
| kjohnson1 | macOS 13.6.1 Ventura / arm64 | OK | OK | ERROR | OK | ||||||||||||||||
Package 451/679 | Hostname | OS / Arch | INSTALL | BUILD | CHECK | BUILD BIN | ||||||||||||||||
pogos 1.22.0 (landing page) VJ Carey
| kjohnson1 | macOS 13.6.1 Ventura / arm64 | OK | OK | OK | OK | ![]() | |||||||||||||||
Package 452/679 | Hostname | OS / Arch | INSTALL | BUILD | CHECK | BUILD BIN | ||||||||||||||||
polyester 1.38.0 (landing page) Jack Fu
| kjohnson1 | macOS 13.6.1 Ventura / arm64 | OK | OK | OK | OK | ![]() | |||||||||||||||
Package 453/679 | Hostname | OS / Arch | INSTALL | BUILD | CHECK | BUILD BIN | ||||||||||||||||
pqsfinder 2.18.0 (landing page) Jiri Hon
| kjohnson1 | macOS 13.6.1 Ventura / arm64 | OK | OK | WARNINGS | OK | ![]() | |||||||||||||||
Package 454/679 | Hostname | OS / Arch | INSTALL | BUILD | CHECK | BUILD BIN | ||||||||||||||||
pram 1.18.0 (landing page) Peng Liu
| kjohnson1 | macOS 13.6.1 Ventura / arm64 | OK | OK | OK | OK | ![]() | |||||||||||||||
Package 455/679 | Hostname | OS / Arch | INSTALL | BUILD | CHECK | BUILD BIN | ||||||||||||||||
prebs 1.42.0 (landing page) Karolis Uziela
| kjohnson1 | macOS 13.6.1 Ventura / arm64 | OK | OK | OK | OK | ![]() | |||||||||||||||
Package 456/679 | Hostname | OS / Arch | INSTALL | BUILD | CHECK | BUILD BIN | ||||||||||||||||
preciseTAD 1.12.0 (landing page) Mikhail Dozmorov
| kjohnson1 | macOS 13.6.1 Ventura / arm64 | OK | OK | OK | OK | ![]() | |||||||||||||||
Package 457/679 | Hostname | OS / Arch | INSTALL | BUILD | CHECK | BUILD BIN | ||||||||||||||||
primirTSS 1.20.0 (landing page) Pumin Li
| kjohnson1 | macOS 13.6.1 Ventura / arm64 | OK | OK | WARNINGS | OK | ![]() | |||||||||||||||
Package 458/679 | Hostname | OS / Arch | INSTALL | BUILD | CHECK | BUILD BIN | ||||||||||||||||
proActiv 1.12.0 (landing page) Joseph Lee
| kjohnson1 | macOS 13.6.1 Ventura / arm64 | OK | OK | OK | OK | ![]() | |||||||||||||||
Package 459/679 | Hostname | OS / Arch | INSTALL | BUILD | CHECK | BUILD BIN | ||||||||||||||||
procoil 2.30.0 (landing page) Ulrich Bodenhofer
| kjohnson1 | macOS 13.6.1 Ventura / arm64 | OK | OK | OK | OK | ![]() | |||||||||||||||
Package 460/679 | Hostname | OS / Arch | INSTALL | BUILD | CHECK | BUILD BIN | ||||||||||||||||
proDA 1.16.0 (landing page) Constantin Ahlmann-Eltze
| kjohnson1 | macOS 13.6.1 Ventura / arm64 | OK | OK | OK | OK | ![]() | |||||||||||||||
Package 461/679 | Hostname | OS / Arch | INSTALL | BUILD | CHECK | BUILD BIN | ||||||||||||||||
profileplyr 1.18.0 (landing page) Tom Carroll
| kjohnson1 | macOS 13.6.1 Ventura / arm64 | OK | OK | OK | OK | ![]() | |||||||||||||||
Package 462/679 | Hostname | OS / Arch | INSTALL | BUILD | CHECK | BUILD BIN | ||||||||||||||||
ProteoDisco 1.8.0 (landing page) Job van Riet
| kjohnson1 | macOS 13.6.1 Ventura / arm64 | OK | OK | WARNINGS | OK | ![]() | |||||||||||||||
Package 463/679 | Hostname | OS / Arch | INSTALL | BUILD | CHECK | BUILD BIN | ||||||||||||||||
PSMatch 1.6.0 (landing page) Laurent Gatto
| kjohnson1 | macOS 13.6.1 Ventura / arm64 | OK | OK | OK | OK | ![]() | |||||||||||||||
Package 464/679 | Hostname | OS / Arch | INSTALL | BUILD | CHECK | BUILD BIN | ||||||||||||||||
PureCN 2.8.1 (landing page) Markus Riester
| kjohnson1 | macOS 13.6.1 Ventura / arm64 | OK | OK | OK | OK | ![]() | |||||||||||||||
Package 465/679 | Hostname | OS / Arch | INSTALL | BUILD | CHECK | BUILD BIN | ||||||||||||||||
PWMEnrich 4.38.0 (landing page) Diego Diez
| kjohnson1 | macOS 13.6.1 Ventura / arm64 | OK | OK | OK | OK | ![]() | |||||||||||||||
Package 466/679 | Hostname | OS / Arch | INSTALL | BUILD | CHECK | BUILD BIN | ||||||||||||||||
qcmetrics 1.40.1 (landing page) Laurent Gatto
| kjohnson1 | macOS 13.6.1 Ventura / arm64 | OK | OK | OK | OK | ![]() | |||||||||||||||
Package 467/679 | Hostname | OS / Arch | INSTALL | BUILD | CHECK | BUILD BIN | ||||||||||||||||
QFeatures 1.12.0 (landing page) Laurent Gatto
| kjohnson1 | macOS 13.6.1 Ventura / arm64 | OK | OK | OK | OK | ![]() | |||||||||||||||
Package 468/679 | Hostname | OS / Arch | INSTALL | BUILD | CHECK | BUILD BIN | ||||||||||||||||
qpgraph 2.36.0 (landing page) Robert Castelo
| kjohnson1 | macOS 13.6.1 Ventura / arm64 | OK | OK | WARNINGS | OK | ![]() | |||||||||||||||
Package 469/679 | Hostname | OS / Arch | INSTALL | BUILD | CHECK | BUILD BIN | ||||||||||||||||
qsea 1.28.0 (landing page) Matthias Lienhard
| kjohnson1 | macOS 13.6.1 Ventura / arm64 | OK | OK | OK | OK | ![]() | |||||||||||||||
Package 470/679 | Hostname | OS / Arch | INSTALL | BUILD | CHECK | BUILD BIN | ||||||||||||||||
QTLExperiment 1.0.0 (landing page) Amelia Dunstone
| kjohnson1 | macOS 13.6.1 Ventura / arm64 | OK | OK | OK | OK | ![]() | |||||||||||||||
Package 471/679 | Hostname | OS / Arch | INSTALL | BUILD | CHECK | BUILD BIN | ||||||||||||||||
QuasR 1.42.1 (landing page) Michael Stadler
| kjohnson1 | macOS 13.6.1 Ventura / arm64 | OK | OK | WARNINGS | OK | ![]() | |||||||||||||||
Package 472/679 | Hostname | OS / Arch | INSTALL | BUILD | CHECK | BUILD BIN | ||||||||||||||||
R453Plus1Toolbox 1.52.0 (landing page) Hans-Ulrich Klein
| kjohnson1 | macOS 13.6.1 Ventura / arm64 | OK | OK | OK | OK | ![]() | |||||||||||||||
Package 473/679 | Hostname | OS / Arch | INSTALL | BUILD | CHECK | BUILD BIN | ||||||||||||||||
RadioGx 2.6.0 (landing page) Benjamin Haibe-Kains
| kjohnson1 | macOS 13.6.1 Ventura / arm64 | OK | OK | OK | OK | ![]() | |||||||||||||||
Package 474/679 | Hostname | OS / Arch | INSTALL | BUILD | CHECK | BUILD BIN | ||||||||||||||||
raer 1.0.2 (landing page) Kent Riemondy
| kjohnson1 | macOS 13.6.1 Ventura / arm64 | OK | OK | WARNINGS | OK | ![]() | |||||||||||||||
Package 475/679 | Hostname | OS / Arch | INSTALL | BUILD | CHECK | BUILD BIN | ||||||||||||||||
RaggedExperiment 1.26.0 (landing page) Marcel Ramos
| kjohnson1 | macOS 13.6.1 Ventura / arm64 | OK | OK | OK | OK | ![]() | |||||||||||||||
Package 476/679 | Hostname | OS / Arch | INSTALL | BUILD | CHECK | BUILD BIN | ||||||||||||||||
RAIDS 1.0.0 (landing page) Pascal Belleau
| kjohnson1 | macOS 13.6.1 Ventura / arm64 | OK | OK | OK | OK | ![]() | |||||||||||||||
Package 477/679 | Hostname | OS / Arch | INSTALL | BUILD | CHECK | BUILD BIN | ||||||||||||||||
ramr 1.10.0 (landing page) Oleksii Nikolaienko
| kjohnson1 | macOS 13.6.1 Ventura / arm64 | OK | OK | OK | OK | ![]() | |||||||||||||||
Package 478/679 | Hostname | OS / Arch | INSTALL | BUILD | CHECK | BUILD BIN | ||||||||||||||||
RareVariantVis 2.30.0 (landing page) Tomasz Stokowy
| kjohnson1 | macOS 13.6.1 Ventura / arm64 | OK | OK | OK | OK | ![]() | |||||||||||||||
Package 479/679 | Hostname | OS / Arch | INSTALL | BUILD | CHECK | BUILD BIN | ||||||||||||||||
RBioFormats 1.2.0 (landing page) Andrzej Oleś
| kjohnson1 | macOS 13.6.1 Ventura / arm64 | OK | OK | OK | OK | ![]() | |||||||||||||||
Package 480/679 | Hostname | OS / Arch | INSTALL | BUILD | CHECK | BUILD BIN | ||||||||||||||||
RCAS 1.28.3 (landing page) Bora Uyar
| kjohnson1 | macOS 13.6.1 Ventura / arm64 | OK | OK | OK | OK | ![]() | |||||||||||||||
Package 481/679 | Hostname | OS / Arch | INSTALL | BUILD | CHECK | BUILD BIN | ||||||||||||||||
RcisTarget 1.22.0 (landing page) Sara Aibar
| kjohnson1 | macOS 13.6.1 Ventura / arm64 | OK | OK | OK | OK | ![]() | |||||||||||||||
Package 482/679 | Hostname | OS / Arch | INSTALL | BUILD | CHECK | BUILD BIN | ||||||||||||||||
Rcwl 1.18.0 (landing page) Qiang Hu
| kjohnson1 | macOS 13.6.1 Ventura / arm64 | OK | OK | OK | OK | ![]() | |||||||||||||||
Package 483/679 | Hostname | OS / Arch | INSTALL | BUILD | CHECK | BUILD BIN | ||||||||||||||||
RcwlPipelines 1.18.1 (landing page) Qiang Hu
| kjohnson1 | macOS 13.6.1 Ventura / arm64 | OK | OK | OK | OK | ![]() | |||||||||||||||
Package 484/679 | Hostname | OS / Arch | INSTALL | BUILD | CHECK | BUILD BIN | ||||||||||||||||
recount 1.28.0 (landing page) Leonardo Collado-Torres
| kjohnson1 | macOS 13.6.1 Ventura / arm64 | OK | ERROR | skipped | skipped | ||||||||||||||||
Package 485/679 | Hostname | OS / Arch | INSTALL | BUILD | CHECK | BUILD BIN | ||||||||||||||||
recount3 1.12.0 (landing page) Leonardo Collado-Torres
| kjohnson1 | macOS 13.6.1 Ventura / arm64 | OK | OK | OK | OK | ![]() | |||||||||||||||
Package 486/679 | Hostname | OS / Arch | INSTALL | BUILD | CHECK | BUILD BIN | ||||||||||||||||
recountmethylation 1.12.0 (landing page) Sean K Maden
| kjohnson1 | macOS 13.6.1 Ventura / arm64 | OK | OK | OK | OK | ![]() | |||||||||||||||
Package 487/679 | Hostname | OS / Arch | INSTALL | BUILD | CHECK | BUILD BIN | ||||||||||||||||
recoup 1.30.0 (landing page) Panagiotis Moulos
| kjohnson1 | macOS 13.6.1 Ventura / arm64 | OK | OK | OK | OK | ![]() | |||||||||||||||
Package 488/679 | Hostname | OS / Arch | INSTALL | BUILD | CHECK | BUILD BIN | ||||||||||||||||
RegEnrich 1.12.1 (landing page) Weiyang Tao
| kjohnson1 | macOS 13.6.1 Ventura / arm64 | OK | OK | OK | OK | ![]() | |||||||||||||||
Package 489/679 | Hostname | OS / Arch | INSTALL | BUILD | CHECK | BUILD BIN | ||||||||||||||||
RegionalST 1.0.1 (landing page) Ziyi Li
| kjohnson1 | macOS 13.6.1 Ventura / arm64 | OK | OK | OK | OK | ![]() | |||||||||||||||
Package 490/679 | Hostname | OS / Arch | INSTALL | BUILD | CHECK | BUILD BIN | ||||||||||||||||
regioneR 1.34.0 (landing page) Bernat Gel
| kjohnson1 | macOS 13.6.1 Ventura / arm64 | OK | OK | OK | OK | ![]() | |||||||||||||||
Package 491/679 | Hostname | OS / Arch | INSTALL | BUILD | CHECK | BUILD BIN | ||||||||||||||||
regionReport 1.36.0 (landing page) Leonardo Collado-Torres
| kjohnson1 | macOS 13.6.1 Ventura / arm64 | OK | OK | OK | OK | ![]() | |||||||||||||||
Package 492/679 | Hostname | OS / Arch | INSTALL | BUILD | CHECK | BUILD BIN | ||||||||||||||||
regsplice 1.28.1 (landing page) Lukas M. Weber
| kjohnson1 | macOS 13.6.1 Ventura / arm64 | OK | OK | OK | OK | ![]() | |||||||||||||||
Package 493/679 | Hostname | OS / Arch | INSTALL | BUILD | CHECK | BUILD BIN | ||||||||||||||||
regutools 1.14.0 (landing page) Joselyn Chavez
| kjohnson1 | macOS 13.6.1 Ventura / arm64 | OK | OK | OK | OK | ![]() | |||||||||||||||
Package 494/679 | Hostname | OS / Arch | INSTALL | BUILD | CHECK | BUILD BIN | ||||||||||||||||
REMP 1.26.0 (landing page) Yinan Zheng
| kjohnson1 | macOS 13.6.1 Ventura / arm64 | OK | OK | OK | OK | ![]() | |||||||||||||||
Package 495/679 | Hostname | OS / Arch | INSTALL | BUILD | CHECK | BUILD BIN | ||||||||||||||||
Repitools 1.48.0 (landing page) Mark Robinson
| kjohnson1 | macOS 13.6.1 Ventura / arm64 | OK | OK | WARNINGS | OK | ![]() | |||||||||||||||
Package 496/679 | Hostname | OS / Arch | INSTALL | BUILD | CHECK | BUILD BIN | ||||||||||||||||
RepViz 1.18.0 (landing page) Thomas Faux, Asta Laiho
| kjohnson1 | macOS 13.6.1 Ventura / arm64 | OK | OK | WARNINGS | OK | ![]() | |||||||||||||||
Package 497/679 | Hostname | OS / Arch | INSTALL | BUILD | CHECK | BUILD BIN | ||||||||||||||||
ResidualMatrix 1.12.0 (landing page) Aaron Lun
| kjohnson1 | macOS 13.6.1 Ventura / arm64 | OK | OK | OK | OK | ![]() | |||||||||||||||
Package 498/679 | Hostname | OS / Arch | INSTALL | BUILD | CHECK | BUILD BIN | ||||||||||||||||
RESOLVE 1.4.0 (landing page) Luca De Sano
| kjohnson1 | macOS 13.6.1 Ventura / arm64 | OK | OK | OK | OK | ![]() | |||||||||||||||
Package 499/679 | Hostname | OS / Arch | INSTALL | BUILD | CHECK | BUILD BIN | ||||||||||||||||
restfulSE 1.24.0 (landing page) Shweta Gopaulakrishnan
| kjohnson1 | macOS 13.6.1 Ventura / arm64 | OK | ERROR | skipped | skipped | ||||||||||||||||
Package 500/679 | Hostname | OS / Arch | INSTALL | BUILD | CHECK | BUILD BIN | ||||||||||||||||
ReUseData 1.2.2 (landing page) Qian Liu
| kjohnson1 | macOS 13.6.1 Ventura / arm64 | OK | OK | OK | OK | ![]() | |||||||||||||||
Package 501/679 | Hostname | OS / Arch | INSTALL | BUILD | CHECK | BUILD BIN | ||||||||||||||||
rexposome 1.24.1 (landing page) Xavier Escribà Montagut
| kjohnson1 | macOS 13.6.1 Ventura / arm64 | OK | OK | WARNINGS | OK | ![]() | |||||||||||||||
Package 502/679 | Hostname | OS / Arch | INSTALL | BUILD | CHECK | BUILD BIN | ||||||||||||||||
rfaRm 1.14.2 (landing page) Lara Selles Vidal
| kjohnson1 | macOS 13.6.1 Ventura / arm64 | OK | OK | OK | OK | ![]() | |||||||||||||||
Package 503/679 | Hostname | OS / Arch | INSTALL | BUILD | CHECK | BUILD BIN | ||||||||||||||||
RgnTX 1.4.0 (landing page) Yue Wang
| kjohnson1 | macOS 13.6.1 Ventura / arm64 | OK | OK | OK | OK | ![]() | |||||||||||||||
Package 504/679 | Hostname | OS / Arch | INSTALL | BUILD | CHECK | BUILD BIN | ||||||||||||||||
rGREAT 2.4.0 (landing page) Zuguang Gu
| kjohnson1 | macOS 13.6.1 Ventura / arm64 | OK | OK | OK | OK | ![]() | |||||||||||||||
Package 505/679 | Hostname | OS / Arch | INSTALL | BUILD | CHECK | BUILD BIN | ||||||||||||||||
rhdf5 2.46.1 (landing page) Mike Smith
| kjohnson1 | macOS 13.6.1 Ventura / arm64 | OK | OK | WARNINGS | OK | ![]() | |||||||||||||||
Package 506/679 | Hostname | OS / Arch | INSTALL | BUILD | CHECK | BUILD BIN | ||||||||||||||||
RiboDiPA 1.10.0 (landing page) Ji-Ping Wang
| kjohnson1 | macOS 13.6.1 Ventura / arm64 | OK | OK | OK | OK | ![]() | |||||||||||||||
Package 507/679 | Hostname | OS / Arch | INSTALL | BUILD | CHECK | BUILD BIN | ||||||||||||||||
RiboProfiling 1.32.0 (landing page) A. Popa
| kjohnson1 | macOS 13.6.1 Ventura / arm64 | OK | OK | WARNINGS | OK | ![]() | |||||||||||||||
Package 508/679 | Hostname | OS / Arch | INSTALL | BUILD | CHECK | BUILD BIN | ||||||||||||||||
ribor 1.14.0 (landing page) Michael Geng
| kjohnson1 | macOS 13.6.1 Ventura / arm64 | OK | OK | OK | OK | ![]() | |||||||||||||||
Package 509/679 | Hostname | OS / Arch | INSTALL | BUILD | CHECK | BUILD BIN | ||||||||||||||||
ribosomeProfilingQC 1.14.1 (landing page) Jianhong Ou
| kjohnson1 | macOS 13.6.1 Ventura / arm64 | OK | OK | OK | OK | ![]() | |||||||||||||||
Package 510/679 | Hostname | OS / Arch | INSTALL | BUILD | CHECK | BUILD BIN | ||||||||||||||||
rifi 1.6.0 (landing page) Jens Georg
| kjohnson1 | macOS 13.6.1 Ventura / arm64 | OK | OK | WARNINGS | OK | ![]() | |||||||||||||||
Package 511/679 | Hostname | OS / Arch | INSTALL | BUILD | CHECK | BUILD BIN | ||||||||||||||||
rifiComparative 1.2.0 (landing page) Loubna Youssar
| kjohnson1 | macOS 13.6.1 Ventura / arm64 | OK | OK | OK | OK | ![]() | |||||||||||||||
Package 512/679 | Hostname | OS / Arch | INSTALL | BUILD | CHECK | BUILD BIN | ||||||||||||||||
RJMCMCNucleosomes 1.26.0 (landing page) Astrid Deschênes
| kjohnson1 | macOS 13.6.1 Ventura / arm64 | OK | OK | OK | OK | ![]() | |||||||||||||||
Package 513/679 | Hostname | OS / Arch | INSTALL | BUILD | CHECK | BUILD BIN | ||||||||||||||||
RMassBank 3.12.0 (landing page) RMassBank at Eawag
| kjohnson1 | macOS 13.6.1 Ventura / arm64 | ERROR | ERROR | skipped | skipped | ||||||||||||||||
Package 514/679 | Hostname | OS / Arch | INSTALL | BUILD | CHECK | BUILD BIN | ||||||||||||||||
Rmmquant 1.20.0 (landing page) Zytnicki Matthias
| kjohnson1 | macOS 13.6.1 Ventura / arm64 | OK | OK | OK | OK | ![]() | |||||||||||||||
Package 515/679 | Hostname | OS / Arch | INSTALL | BUILD | CHECK | BUILD BIN | ||||||||||||||||
rnaEditr 1.12.0 (landing page) Lanyu Zhang
| kjohnson1 | macOS 13.6.1 Ventura / arm64 | OK | OK | WARNINGS | OK | ![]() | |||||||||||||||
Package 516/679 | Hostname | OS / Arch | INSTALL | BUILD | CHECK | BUILD BIN | ||||||||||||||||
RNAmodR 1.16.0 (landing page) Felix G.M. Ernst
| kjohnson1 | macOS 13.6.1 Ventura / arm64 | OK | OK | OK | OK | ![]() | |||||||||||||||
Package 517/679 | Hostname | OS / Arch | INSTALL | BUILD | CHECK | BUILD BIN | ||||||||||||||||
RNAmodR.AlkAnilineSeq 1.16.0 (landing page) Felix G.M. Ernst
| kjohnson1 | macOS 13.6.1 Ventura / arm64 | OK | OK | OK | OK | ![]() | |||||||||||||||
Package 518/679 | Hostname | OS / Arch | INSTALL | BUILD | CHECK | BUILD BIN | ||||||||||||||||
RNAmodR.ML 1.16.0 (landing page) Felix G.M. Ernst
| kjohnson1 | macOS 13.6.1 Ventura / arm64 | OK | OK | OK | OK | ![]() | |||||||||||||||
Package 519/679 | Hostname | OS / Arch | INSTALL | BUILD | CHECK | BUILD BIN | ||||||||||||||||
RNAmodR.RiboMethSeq 1.16.0 (landing page) Felix G.M. Ernst
| kjohnson1 | macOS 13.6.1 Ventura / arm64 | OK | OK | OK | OK | ![]() | |||||||||||||||
Package 520/679 | Hostname | OS / Arch | INSTALL | BUILD | CHECK | BUILD BIN | ||||||||||||||||
RnBeads 2.20.0 (landing page) Fabian Mueller
| kjohnson1 | macOS 13.6.1 Ventura / arm64 | OK | OK | OK | OK | ![]() | |||||||||||||||
Package 521/679 | Hostname | OS / Arch | INSTALL | BUILD | CHECK | BUILD BIN | ||||||||||||||||
roar 1.38.0 (landing page) Elena Grassi
| kjohnson1 | macOS 13.6.1 Ventura / arm64 | OK | OK | OK | OK | ![]() | |||||||||||||||
Package 522/679 | Hostname | OS / Arch | INSTALL | BUILD | CHECK | BUILD BIN | ||||||||||||||||
rprimer 1.6.0 (landing page) Sofia Persson
| kjohnson1 | macOS 13.6.1 Ventura / arm64 | OK | OK | OK | OK | ![]() | |||||||||||||||
Package 523/679 | Hostname | OS / Arch | INSTALL | BUILD | CHECK | BUILD BIN | ||||||||||||||||
Rqc 1.36.0 (landing page) Welliton Souza
| kjohnson1 | macOS 13.6.1 Ventura / arm64 | OK | OK | OK | OK | ![]() | |||||||||||||||
Package 524/679 | Hostname | OS / Arch | INSTALL | BUILD | CHECK | BUILD BIN | ||||||||||||||||
Rsamtools 2.18.0 (landing page) Bioconductor Package Maintainer
| kjohnson1 | macOS 13.6.1 Ventura / arm64 | OK | OK | WARNINGS | OK | ![]() | |||||||||||||||
Package 525/679 | Hostname | OS / Arch | INSTALL | BUILD | CHECK | BUILD BIN | ||||||||||||||||
rScudo 1.18.1 (landing page) Matteo Ciciani
| kjohnson1 | macOS 13.6.1 Ventura / arm64 | OK | OK | OK | OK | ![]() | |||||||||||||||
Package 526/679 | Hostname | OS / Arch | INSTALL | BUILD | CHECK | BUILD BIN | ||||||||||||||||
RTCGAToolbox 2.32.1 (landing page) Marcel Ramos
| kjohnson1 | macOS 13.6.1 Ventura / arm64 | OK | OK | OK | OK | ![]() | |||||||||||||||
Package 527/679 | Hostname | OS / Arch | INSTALL | BUILD | CHECK | BUILD BIN | ||||||||||||||||
RTN 2.26.0 (landing page) Mauro Castro
| kjohnson1 | macOS 13.6.1 Ventura / arm64 | OK | OK | OK | OK | ![]() | |||||||||||||||
Package 528/679 | Hostname | OS / Arch | INSTALL | BUILD | CHECK | BUILD BIN | ||||||||||||||||
rtracklayer 1.62.0 (landing page) Michael Lawrence
| kjohnson1 | macOS 13.6.1 Ventura / arm64 | OK | OK | WARNINGS | OK | ![]() | |||||||||||||||
Package 529/679 | Hostname | OS / Arch | INSTALL | BUILD | CHECK | BUILD BIN | ||||||||||||||||
S4Arrays 1.2.1 (landing page) Hervé Pagès
| kjohnson1 | macOS 13.6.1 Ventura / arm64 | OK | OK | OK | OK | ![]() | |||||||||||||||
Package 530/679 | Hostname | OS / Arch | INSTALL | BUILD | CHECK | BUILD BIN | ||||||||||||||||
SC3 1.30.0 (landing page) Vladimir Kiselev
| kjohnson1 | macOS 13.6.1 Ventura / arm64 | OK | OK | OK | OK | ![]() | |||||||||||||||
Package 531/679 | Hostname | OS / Arch | INSTALL | BUILD | CHECK | BUILD BIN | ||||||||||||||||
ScaledMatrix 1.10.0 (landing page) Aaron Lun
| kjohnson1 | macOS 13.6.1 Ventura / arm64 | OK | OK | OK | OK | ![]() | |||||||||||||||
Package 532/679 | Hostname | OS / Arch | INSTALL | BUILD | CHECK | BUILD BIN | ||||||||||||||||
scanMiR 1.8.2 (landing page) Pierre-Luc Germain
| kjohnson1 | macOS 13.6.1 Ventura / arm64 | OK | OK | OK | OK | ![]() | |||||||||||||||
Package 533/679 | Hostname | OS / Arch | INSTALL | BUILD | CHECK | BUILD BIN | ||||||||||||||||
scanMiRApp 1.8.0 (landing page) Pierre-Luc Germain
| kjohnson1 | macOS 13.6.1 Ventura / arm64 | OK | OK | WARNINGS | OK | ![]() | |||||||||||||||
Package 534/679 | Hostname | OS / Arch | INSTALL | BUILD | CHECK | BUILD BIN | ||||||||||||||||
SCArray 1.10.0 (landing page) Xiuwen Zheng
| kjohnson1 | macOS 13.6.1 Ventura / arm64 | OK | ERROR | skipped | skipped | ||||||||||||||||
Package 535/679 | Hostname | OS / Arch | INSTALL | BUILD | CHECK | BUILD BIN | ||||||||||||||||
SCArray.sat 1.2.1 (landing page) Xiuwen Zheng
| kjohnson1 | macOS 13.6.1 Ventura / arm64 | OK | OK | WARNINGS | OK | ![]() | |||||||||||||||
Package 536/679 | Hostname | OS / Arch | INSTALL | BUILD | CHECK | BUILD BIN | ||||||||||||||||
scater 1.30.1 (landing page) Alan O'Callaghan
| kjohnson1 | macOS 13.6.1 Ventura / arm64 | OK | ERROR | skipped | skipped | ||||||||||||||||
Package 537/679 | Hostname | OS / Arch | INSTALL | BUILD | CHECK | BUILD BIN | ||||||||||||||||
scClassify 1.14.0 (landing page) Yingxin Lin
| kjohnson1 | macOS 13.6.1 Ventura / arm64 | OK | OK | OK | OK | ![]() | |||||||||||||||
Package 538/679 | Hostname | OS / Arch | INSTALL | BUILD | CHECK | BUILD BIN | ||||||||||||||||
scDataviz 1.12.0 (landing page) Kevin Blighe
| kjohnson1 | macOS 13.6.1 Ventura / arm64 | OK | OK | OK | OK | ![]() | |||||||||||||||
Package 539/679 | Hostname | OS / Arch | INSTALL | BUILD | CHECK | BUILD BIN | ||||||||||||||||
scDblFinder 1.16.0 (landing page) Pierre-Luc Germain
| kjohnson1 | macOS 13.6.1 Ventura / arm64 | OK | ERROR | skipped | skipped | ||||||||||||||||
Package 540/679 | Hostname | OS / Arch | INSTALL | BUILD | CHECK | BUILD BIN | ||||||||||||||||
scDD 1.26.0 (landing page) Keegan Korthauer
| kjohnson1 | macOS 13.6.1 Ventura / arm64 | OK | OK | OK | OK | ![]() | |||||||||||||||
Package 541/679 | Hostname | OS / Arch | INSTALL | BUILD | CHECK | BUILD BIN | ||||||||||||||||
scds 1.18.0 (landing page) Dennis Kostka
| kjohnson1 | macOS 13.6.1 Ventura / arm64 | OK | OK | OK | OK | ![]() | |||||||||||||||
Package 542/679 | Hostname | OS / Arch | INSTALL | BUILD | CHECK | BUILD BIN | ||||||||||||||||
scHOT 1.14.0 (landing page) Shila Ghazanfar
| kjohnson1 | macOS 13.6.1 Ventura / arm64 | OK | OK | OK | OK | ![]() | |||||||||||||||
Package 543/679 | Hostname | OS / Arch | INSTALL | BUILD | CHECK | BUILD BIN | ||||||||||||||||
scider 1.0.0 (landing page) Yunshun Chen
| kjohnson1 | macOS 13.6.1 Ventura / arm64 | OK | OK | OK | OK | ![]() | |||||||||||||||
Package 544/679 | Hostname | OS / Arch | INSTALL | BUILD | CHECK | BUILD BIN | ||||||||||||||||
scmap 1.24.0 (landing page) Vladimir Kiselev
| kjohnson1 | macOS 13.6.1 Ventura / arm64 | OK | OK | OK | OK | ![]() | |||||||||||||||
Package 545/679 | Hostname | OS / Arch | INSTALL | BUILD | CHECK | BUILD BIN | ||||||||||||||||
scMerge 1.18.0 (landing page) Yingxin Lin
| kjohnson1 | macOS 13.6.1 Ventura / arm64 | OK | ERROR | skipped | skipped | ||||||||||||||||
Package 546/679 | Hostname | OS / Arch | INSTALL | BUILD | CHECK | BUILD BIN | ||||||||||||||||
scMET 1.4.0 (landing page) Andreas C. Kapourani
| kjohnson1 | macOS 13.6.1 Ventura / arm64 | OK | OK | OK | OK | ![]() | |||||||||||||||
Package 547/679 | Hostname | OS / Arch | INSTALL | BUILD | CHECK | BUILD BIN | ||||||||||||||||
SCnorm 1.24.0 (landing page) Rhonda Bacher
| kjohnson1 | macOS 13.6.1 Ventura / arm64 | OK | OK | OK | OK | ![]() | |||||||||||||||
Package 548/679 | Hostname | OS / Arch | INSTALL | BUILD | CHECK | BUILD BIN | ||||||||||||||||
SCOPE 1.14.0 (landing page) Rujin Wang
| kjohnson1 | macOS 13.6.1 Ventura / arm64 | OK | OK | OK | OK | ![]() | |||||||||||||||
Package 549/679 | Hostname | OS / Arch | INSTALL | BUILD | CHECK | BUILD BIN | ||||||||||||||||
scp 1.12.0 (landing page) Christophe Vanderaa
| kjohnson1 | macOS 13.6.1 Ventura / arm64 | OK | ERROR | skipped | skipped | ||||||||||||||||
Package 550/679 | Hostname | OS / Arch | INSTALL | BUILD | CHECK | BUILD BIN | ||||||||||||||||
scPipe 2.2.0 (landing page) Shian Su
| kjohnson1 | macOS 13.6.1 Ventura / arm64 | OK | OK | WARNINGS | OK | ![]() | |||||||||||||||
Package 551/679 | Hostname | OS / Arch | INSTALL | BUILD | CHECK | BUILD BIN | ||||||||||||||||
scran 1.30.2 (landing page) Aaron Lun
| kjohnson1 | macOS 13.6.1 Ventura / arm64 | OK | ERROR | skipped | skipped | ||||||||||||||||
Package 552/679 | Hostname | OS / Arch | INSTALL | BUILD | CHECK | BUILD BIN | ||||||||||||||||
screenCounter 1.2.0 (landing page) Aaron Lun
| kjohnson1 | macOS 13.6.1 Ventura / arm64 | OK | OK | OK | OK | ![]() | |||||||||||||||
Package 553/679 | Hostname | OS / Arch | INSTALL | BUILD | CHECK | BUILD BIN | ||||||||||||||||
scRNAseqApp 1.2.2 (landing page) Jianhong Ou
| kjohnson1 | macOS 13.6.1 Ventura / arm64 | OK | OK | OK | OK | ![]() | |||||||||||||||
Package 554/679 | Hostname | OS / Arch | INSTALL | BUILD | CHECK | BUILD BIN | ||||||||||||||||
scruff 1.20.0 (landing page) Zhe Wang
| kjohnson1 | macOS 13.6.1 Ventura / arm64 | OK | OK | OK | OK | ![]() | |||||||||||||||
Package 555/679 | Hostname | OS / Arch | INSTALL | BUILD | CHECK | BUILD BIN | ||||||||||||||||
scTensor 2.12.0 (landing page) Koki Tsuyuzaki
| kjohnson1 | macOS 13.6.1 Ventura / arm64 | OK | OK | WARNINGS | OK | ![]() | |||||||||||||||
Package 556/679 | Hostname | OS / Arch | INSTALL | BUILD | CHECK | BUILD BIN | ||||||||||||||||
scTGIF 1.16.0 (landing page) Koki Tsuyuzaki
| kjohnson1 | macOS 13.6.1 Ventura / arm64 | OK | OK | OK | OK | ![]() | |||||||||||||||
Package 557/679 | Hostname | OS / Arch | INSTALL | BUILD | CHECK | BUILD BIN | ||||||||||||||||
scTreeViz 1.8.0 (landing page) Jayaram Kancherla
| kjohnson1 | macOS 13.6.1 Ventura / arm64 | OK | OK | OK | OK | ![]() | |||||||||||||||
Package 558/679 | Hostname | OS / Arch | INSTALL | BUILD | CHECK | BUILD BIN | ||||||||||||||||
scuttle 1.12.0 (landing page) Aaron Lun
| kjohnson1 | macOS 13.6.1 Ventura / arm64 | OK | ERROR | skipped | skipped | ||||||||||||||||
Package 559/679 | Hostname | OS / Arch | INSTALL | BUILD | CHECK | BUILD BIN | ||||||||||||||||
scviR 1.2.0 (landing page) Vincent Carey
| kjohnson1 | macOS 13.6.1 Ventura / arm64 | OK | ERROR | skipped | skipped | ||||||||||||||||
Package 560/679 | Hostname | OS / Arch | INSTALL | BUILD | CHECK | BUILD BIN | ||||||||||||||||
sechm 1.10.0 (landing page) Pierre-Luc Germain
| kjohnson1 | macOS 13.6.1 Ventura / arm64 | OK | OK | OK | OK | ![]() | |||||||||||||||
Package 561/679 | Hostname | OS / Arch | INSTALL | BUILD | CHECK | BUILD BIN | ||||||||||||||||
segmenter 1.8.0 (landing page) Mahmoud Ahmed
| kjohnson1 | macOS 13.6.1 Ventura / arm64 | OK | OK | OK | OK | ![]() | |||||||||||||||
Package 562/679 | Hostname | OS / Arch | INSTALL | BUILD | CHECK | BUILD BIN | ||||||||||||||||
segmentSeq 2.36.0 (landing page) Thomas J. Hardcastle
| kjohnson1 | macOS 13.6.1 Ventura / arm64 | OK | OK | OK | OK | ![]() | |||||||||||||||
Package 563/679 | Hostname | OS / Arch | INSTALL | BUILD | CHECK | BUILD BIN | ||||||||||||||||
seqArchRplus 1.2.0 (landing page) Sarvesh Nikumbh
| kjohnson1 | macOS 13.6.1 Ventura / arm64 | OK | OK | OK | OK | ![]() | |||||||||||||||
Package 564/679 | Hostname | OS / Arch | INSTALL | BUILD | CHECK | BUILD BIN | ||||||||||||||||
SeqArray 1.42.4 (landing page) Xiuwen Zheng
| kjohnson1 | macOS 13.6.1 Ventura / arm64 | OK | OK | OK | OK | ![]() | |||||||||||||||
Package 565/679 | Hostname | OS / Arch | INSTALL | BUILD | CHECK | BUILD BIN | ||||||||||||||||
seqCAT 1.24.0 (landing page) Erik Fasterius
| kjohnson1 | macOS 13.6.1 Ventura / arm64 | OK | OK | OK | OK | ![]() | |||||||||||||||
Package 566/679 | Hostname | OS / Arch | INSTALL | BUILD | CHECK | BUILD BIN | ||||||||||||||||
SeqGate 1.12.0 (landing page) Stéphanie Rialle
| kjohnson1 | macOS 13.6.1 Ventura / arm64 | OK | OK | OK | OK | ![]() | |||||||||||||||
Package 567/679 | Hostname | OS / Arch | INSTALL | BUILD | CHECK | BUILD BIN | ||||||||||||||||
seqsetvis 1.22.1 (landing page) Joseph R Boyd
| kjohnson1 | macOS 13.6.1 Ventura / arm64 | OK | OK | OK | OK | ![]() | |||||||||||||||
Package 568/679 | Hostname | OS / Arch | INSTALL | BUILD | CHECK | BUILD BIN | ||||||||||||||||
SeqSQC 1.24.1 (landing page) Qian Liu
| kjohnson1 | macOS 13.6.1 Ventura / arm64 | OK | OK | WARNINGS | OK | ![]() | |||||||||||||||
Package 569/679 | Hostname | OS / Arch | INSTALL | BUILD | CHECK | BUILD BIN | ||||||||||||||||
SeqVarTools 1.40.0 (landing page) Stephanie M. Gogarten
| kjohnson1 | macOS 13.6.1 Ventura / arm64 | OK | OK | OK | OK | ![]() | |||||||||||||||
Package 570/679 | Hostname | OS / Arch | INSTALL | BUILD | CHECK | BUILD BIN | ||||||||||||||||
sesame 1.20.0 (landing page) Wanding Zhou
| kjohnson1 | macOS 13.6.1 Ventura / arm64 | OK | OK | OK | OK | ![]() | |||||||||||||||
Package 571/679 | Hostname | OS / Arch | INSTALL | BUILD | CHECK | BUILD BIN | ||||||||||||||||
SEtools 1.16.0 (landing page) Pierre-Luc Germain
| kjohnson1 | macOS 13.6.1 Ventura / arm64 | OK | OK | OK | OK | ![]() | |||||||||||||||
Package 572/679 | Hostname | OS / Arch | INSTALL | BUILD | CHECK | BUILD BIN | ||||||||||||||||
sevenbridges 1.32.0 (landing page) Phil Webster
| kjohnson1 | macOS 13.6.1 Ventura / arm64 | OK | OK | OK | OK | ![]() | |||||||||||||||
Package 573/679 | Hostname | OS / Arch | INSTALL | BUILD | CHECK | BUILD BIN | ||||||||||||||||
sevenC 1.22.0 (landing page) Jonas Ibn-Salem
| kjohnson1 | macOS 13.6.1 Ventura / arm64 | OK | OK | OK | OK | ![]() | |||||||||||||||
Package 574/679 | Hostname | OS / Arch | INSTALL | BUILD | CHECK | BUILD BIN | ||||||||||||||||
SGSeq 1.36.0 (landing page) Leonard Goldstein
| kjohnson1 | macOS 13.6.1 Ventura / arm64 | OK | OK | OK | OK | ![]() | |||||||||||||||
Package 575/679 | Hostname | OS / Arch | INSTALL | BUILD | CHECK | BUILD BIN | ||||||||||||||||
ShortRead 1.60.0 (landing page) Bioconductor Package Maintainer
| kjohnson1 | macOS 13.6.1 Ventura / arm64 | OK | OK | WARNINGS | OK | ![]() | |||||||||||||||
Package 576/679 | Hostname | OS / Arch | INSTALL | BUILD | CHECK | BUILD BIN | ||||||||||||||||
simona 1.0.10 (landing page) Zuguang Gu
| kjohnson1 | macOS 13.6.1 Ventura / arm64 | OK | OK | OK | OK | ![]() | |||||||||||||||
Package 577/679 | Hostname | OS / Arch | INSTALL | BUILD | CHECK | BUILD BIN | ||||||||||||||||
simpleSeg 1.4.2 (landing page) Ellis Patrick
| kjohnson1 | macOS 13.6.1 Ventura / arm64 | OK | ERROR | skipped | skipped | ||||||||||||||||
Package 578/679 | Hostname | OS / Arch | INSTALL | BUILD | CHECK | BUILD BIN | ||||||||||||||||
SingleCellExperiment 1.24.0 (landing page) Davide Risso
| kjohnson1 | macOS 13.6.1 Ventura / arm64 | OK | OK | OK | OK | ![]() | |||||||||||||||
Package 579/679 | Hostname | OS / Arch | INSTALL | BUILD | CHECK | BUILD BIN | ||||||||||||||||
singleCellTK 2.12.2 (landing page) Joshua David Campbell
| kjohnson1 | macOS 13.6.1 Ventura / arm64 | OK | OK | ERROR | OK | ||||||||||||||||
Package 580/679 | Hostname | OS / Arch | INSTALL | BUILD | CHECK | BUILD BIN | ||||||||||||||||
SingleR 2.4.1 (landing page) Aaron Lun
| kjohnson1 | macOS 13.6.1 Ventura / arm64 | OK | OK | WARNINGS | OK | ![]() | |||||||||||||||
Package 581/679 | Hostname | OS / Arch | INSTALL | BUILD | CHECK | BUILD BIN | ||||||||||||||||
singscore 1.22.0 (landing page) Malvika Kharbanda
| kjohnson1 | macOS 13.6.1 Ventura / arm64 | OK | OK | OK | OK | ![]() | |||||||||||||||
Package 582/679 | Hostname | OS / Arch | INSTALL | BUILD | CHECK | BUILD BIN | ||||||||||||||||
sitadela 1.10.0 (landing page) Panagiotis Moulos
| kjohnson1 | macOS 13.6.1 Ventura / arm64 | OK | OK | OK | OK | ![]() | |||||||||||||||
Package 583/679 | Hostname | OS / Arch | INSTALL | BUILD | CHECK | BUILD BIN | ||||||||||||||||
skewr 1.34.0 (landing page) Ryan Putney
| kjohnson1 | macOS 13.6.1 Ventura / arm64 | OK | OK | OK | OK | ![]() | |||||||||||||||
Package 584/679 | Hostname | OS / Arch | INSTALL | BUILD | CHECK | BUILD BIN | ||||||||||||||||
slingshot 2.10.0 (landing page) Kelly Street
| kjohnson1 | macOS 13.6.1 Ventura / arm64 | OK | ERROR | skipped | skipped | ||||||||||||||||
Package 585/679 | Hostname | OS / Arch | INSTALL | BUILD | CHECK | BUILD BIN | ||||||||||||||||
SMITE 1.30.0 (landing page) Neil Ari Wijetunga
| kjohnson1 | macOS 13.6.1 Ventura / arm64 | OK | OK | OK | OK | ![]() | |||||||||||||||
Package 586/679 | Hostname | OS / Arch | INSTALL | BUILD | CHECK | BUILD BIN | ||||||||||||||||
SNPhood 1.32.0 (landing page) Christian Arnold
| kjohnson1 | macOS 13.6.1 Ventura / arm64 | OK | OK | OK | OK | ![]() | |||||||||||||||
Package 587/679 | Hostname | OS / Arch | INSTALL | BUILD | CHECK | BUILD BIN | ||||||||||||||||
soGGi 1.34.0 (landing page) Tom Carroll
| kjohnson1 | macOS 13.6.1 Ventura / arm64 | OK | OK | OK | OK | ![]() | |||||||||||||||
Package 588/679 | Hostname | OS / Arch | INSTALL | BUILD | CHECK | BUILD BIN | ||||||||||||||||
SomaticSignatures 2.38.0 (landing page) Julian Gehring
| kjohnson1 | macOS 13.6.1 Ventura / arm64 | OK | OK | ERROR | OK | ||||||||||||||||
Package 589/679 | Hostname | OS / Arch | INSTALL | BUILD | CHECK | BUILD BIN | ||||||||||||||||
SOMNiBUS 1.10.0 (landing page) Kathleen Klein
| kjohnson1 | macOS 13.6.1 Ventura / arm64 | OK | OK | OK | OK | ![]() | |||||||||||||||
Package 590/679 | Hostname | OS / Arch | INSTALL | BUILD | CHECK | BUILD BIN | ||||||||||||||||
Spaniel 1.16.0 (landing page) Rachel Queen
| kjohnson1 | macOS 13.6.1 Ventura / arm64 | OK | ERROR | skipped | skipped | ||||||||||||||||
Package 591/679 | Hostname | OS / Arch | INSTALL | BUILD | CHECK | BUILD BIN | ||||||||||||||||
SparseArray 1.2.4 (landing page) Hervé Pagès
| kjohnson1 | macOS 13.6.1 Ventura / arm64 | OK | OK | OK | OK | ![]() | |||||||||||||||
Package 592/679 | Hostname | OS / Arch | INSTALL | BUILD | CHECK | BUILD BIN | ||||||||||||||||
SpatialExperiment 1.12.0 (landing page) Dario Righelli
| kjohnson1 | macOS 13.6.1 Ventura / arm64 | OK | OK | OK | OK | ![]() | |||||||||||||||
Package 593/679 | Hostname | OS / Arch | INSTALL | BUILD | CHECK | BUILD BIN | ||||||||||||||||
SpatialFeatureExperiment 1.4.0 (landing page) Lambda Moses
| kjohnson1 | macOS 13.6.1 Ventura / arm64 | OK | OK | OK | OK | ![]() | |||||||||||||||
Package 594/679 | Hostname | OS / Arch | INSTALL | BUILD | CHECK | BUILD BIN | ||||||||||||||||
spatialHeatmap 2.8.5 (landing page) Jianhai Zhang
| kjohnson1 | macOS 13.6.1 Ventura / arm64 | OK | ERROR | skipped | skipped | ||||||||||||||||
Package 595/679 | Hostname | OS / Arch | INSTALL | BUILD | CHECK | BUILD BIN | ||||||||||||||||
SpatialOmicsOverlay 1.2.1 (landing page) Maddy Griswold
| kjohnson1 | macOS 13.6.1 Ventura / arm64 | OK | OK | OK | OK | ![]() | |||||||||||||||
Package 596/679 | Hostname | OS / Arch | INSTALL | BUILD | CHECK | BUILD BIN | ||||||||||||||||
spatzie 1.8.0 (landing page) Jennifer Hammelman
| kjohnson1 | macOS 13.6.1 Ventura / arm64 | OK | OK | OK | OK | ![]() | |||||||||||||||
Package 597/679 | Hostname | OS / Arch | INSTALL | BUILD | CHECK | BUILD BIN | ||||||||||||||||
Spectra 1.12.0 (landing page) RforMassSpectrometry Package Maintainer
| kjohnson1 | macOS 13.6.1 Ventura / arm64 | OK | OK | OK | OK | ![]() | |||||||||||||||
Package 598/679 | Hostname | OS / Arch | INSTALL | BUILD | CHECK | BUILD BIN | ||||||||||||||||
spicyR 1.14.3 (landing page) Ellis Patrick
| kjohnson1 | macOS 13.6.1 Ventura / arm64 | OK | OK | OK | OK | ![]() | |||||||||||||||
Package 599/679 | Hostname | OS / Arch | INSTALL | BUILD | CHECK | BUILD BIN | ||||||||||||||||
spiky 1.8.0 (landing page) Tim Triche
| kjohnson1 | macOS 13.6.1 Ventura / arm64 | OK | OK | OK | OK | ![]() | |||||||||||||||
Package 600/679 | Hostname | OS / Arch | INSTALL | BUILD | CHECK | BUILD BIN | ||||||||||||||||
splatter 1.26.0 (landing page) Luke Zappia
| kjohnson1 | macOS 13.6.1 Ventura / arm64 | OK | OK | OK | OK | ![]() | |||||||||||||||
Package 601/679 | Hostname | OS / Arch | INSTALL | BUILD | CHECK | BUILD BIN | ||||||||||||||||
SpliceWiz 1.4.1 (landing page) Alex Chit Hei Wong
| kjohnson1 | macOS 13.6.1 Ventura / arm64 | OK | OK | OK | OK | ![]() | |||||||||||||||
Package 602/679 | Hostname | OS / Arch | INSTALL | BUILD | CHECK | BUILD BIN | ||||||||||||||||
SplicingGraphs 1.42.0 (landing page) H. Pagès
| kjohnson1 | macOS 13.6.1 Ventura / arm64 | OK | OK | WARNINGS | OK | ![]() | |||||||||||||||
Package 603/679 | Hostname | OS / Arch | INSTALL | BUILD | CHECK | BUILD BIN | ||||||||||||||||
SPLINTER 1.28.0 (landing page) Diana Low
| kjohnson1 | macOS 13.6.1 Ventura / arm64 | OK | ERROR | skipped | skipped | ||||||||||||||||
Package 604/679 | Hostname | OS / Arch | INSTALL | BUILD | CHECK | BUILD BIN | ||||||||||||||||
SpotClean 1.4.1 (landing page) Zijian Ni
| kjohnson1 | macOS 13.6.1 Ventura / arm64 | OK | OK | OK | OK | ![]() | |||||||||||||||
Package 605/679 | Hostname | OS / Arch | INSTALL | BUILD | CHECK | BUILD BIN | ||||||||||||||||
SQLDataFrame 1.16.1 (landing page) Qian Liu
| kjohnson1 | macOS 13.6.1 Ventura / arm64 | OK | OK | WARNINGS | OK | ![]() | |||||||||||||||
Package 606/679 | Hostname | OS / Arch | INSTALL | BUILD | CHECK | BUILD BIN | ||||||||||||||||
sRACIPE 1.18.0 (landing page) Vivek Kohar
| kjohnson1 | macOS 13.6.1 Ventura / arm64 | OK | OK | OK | OK | ![]() | |||||||||||||||
Package 607/679 | Hostname | OS / Arch | INSTALL | BUILD | CHECK | BUILD BIN | ||||||||||||||||
srnadiff 1.22.2 (landing page) Zytnicki Matthias
| kjohnson1 | macOS 13.6.1 Ventura / arm64 | OK | OK | WARNINGS | OK | ![]() | |||||||||||||||
Package 608/679 | Hostname | OS / Arch | INSTALL | BUILD | CHECK | BUILD BIN | ||||||||||||||||
standR 1.6.0 (landing page) Ning Liu
| kjohnson1 | macOS 13.6.1 Ventura / arm64 | OK | OK | OK | OK | ![]() | |||||||||||||||
Package 609/679 | Hostname | OS / Arch | INSTALL | BUILD | CHECK | BUILD BIN | ||||||||||||||||
Statial 1.4.5 (landing page) Farhan Ameen
| kjohnson1 | macOS 13.6.1 Ventura / arm64 | OK | OK | OK | OK | ![]() | |||||||||||||||
Package 610/679 | Hostname | OS / Arch | INSTALL | BUILD | CHECK | BUILD BIN | ||||||||||||||||
strandCheckR 1.20.0 (landing page) Thu-Hien To
| kjohnson1 | macOS 13.6.1 Ventura / arm64 | OK | OK | OK | NA | ||||||||||||||||
Package 611/679 | Hostname | OS / Arch | INSTALL | BUILD | CHECK | BUILD BIN | ||||||||||||||||
struct 1.14.1 (landing page) Gavin Rhys Lloyd
| kjohnson1 | macOS 13.6.1 Ventura / arm64 | OK | OK | OK | NA | ||||||||||||||||
Package 612/679 | Hostname | OS / Arch | INSTALL | BUILD | CHECK | BUILD BIN | ||||||||||||||||
Structstrings 1.18.0 (landing page) Felix G.M. Ernst
| kjohnson1 | macOS 13.6.1 Ventura / arm64 | OK | OK | OK | NA | ||||||||||||||||
Package 613/679 | Hostname | OS / Arch | INSTALL | BUILD | CHECK | BUILD BIN | ||||||||||||||||
StructuralVariantAnnotation 1.18.0 (landing page) Daniel Cameron
| kjohnson1 | macOS 13.6.1 Ventura / arm64 | OK | OK | OK | NA | ||||||||||||||||
Package 614/679 | Hostname | OS / Arch | INSTALL | BUILD | CHECK | BUILD BIN | ||||||||||||||||
SummarizedBenchmark 2.20.0 (landing page) Patrick Kimes
| kjohnson1 | macOS 13.6.1 Ventura / arm64 | OK | ERROR | skipped | skipped | ||||||||||||||||
Package 615/679 | Hostname | OS / Arch | INSTALL | BUILD | CHECK | BUILD BIN | ||||||||||||||||
SummarizedExperiment 1.32.0 (landing page) Hervé Pagès
| kjohnson1 | macOS 13.6.1 Ventura / arm64 | OK | OK | OK | NA | ||||||||||||||||
Package 616/679 | Hostname | OS / Arch | INSTALL | BUILD | CHECK | BUILD BIN | ||||||||||||||||
svaNUMT 1.8.0 (landing page) Ruining Dong
| kjohnson1 | macOS 13.6.1 Ventura / arm64 | OK | OK | OK | NA | ||||||||||||||||
Package 617/679 | Hostname | OS / Arch | INSTALL | BUILD | CHECK | BUILD BIN | ||||||||||||||||
svaRetro 1.8.0 (landing page) Ruining Dong
| kjohnson1 | macOS 13.6.1 Ventura / arm64 | OK | OK | OK | NA | ||||||||||||||||
Package 618/679 | Hostname | OS / Arch | INSTALL | BUILD | CHECK | BUILD BIN | ||||||||||||||||
SynExtend 1.14.0 (landing page) Nicholas Cooley
| kjohnson1 | macOS 13.6.1 Ventura / arm64 | OK | OK | OK | NA | ||||||||||||||||
Package 619/679 | Hostname | OS / Arch | INSTALL | BUILD | CHECK | BUILD BIN | ||||||||||||||||
systemPipeR 2.8.0 (landing page) Thomas Girke
| kjohnson1 | macOS 13.6.1 Ventura / arm64 | OK | OK | OK | NA | ||||||||||||||||
Package 620/679 | Hostname | OS / Arch | INSTALL | BUILD | CHECK | BUILD BIN | ||||||||||||||||
tadar 1.0.0 (landing page) Lachlan Baer
| kjohnson1 | macOS 13.6.1 Ventura / arm64 | OK | OK | ERROR | NA | ||||||||||||||||
Package 621/679 | Hostname | OS / Arch | INSTALL | BUILD | CHECK | BUILD BIN | ||||||||||||||||
TAPseq 1.14.1 (landing page) Andreas R. Gschwind
| kjohnson1 | macOS 13.6.1 Ventura / arm64 | OK | OK | WARNINGS | NA | ||||||||||||||||
Package 622/679 | Hostname | OS / Arch | INSTALL | BUILD | CHECK | BUILD BIN | ||||||||||||||||
TBSignatureProfiler 1.14.0 (landing page) Aubrey R. Odom
| kjohnson1 | macOS 13.6.1 Ventura / arm64 | OK | OK | OK | NA | ||||||||||||||||
Package 623/679 | Hostname | OS / Arch | INSTALL | BUILD | CHECK | BUILD BIN | ||||||||||||||||
TCGAbiolinks 2.30.4 (landing page) Tiago Chedraoui Silva
| kjohnson1 | macOS 13.6.1 Ventura / arm64 | OK | ERROR | skipped | skipped | ||||||||||||||||
Package 624/679 | Hostname | OS / Arch | INSTALL | BUILD | CHECK | BUILD BIN | ||||||||||||||||
TCGAutils 1.22.2 (landing page) Marcel Ramos
| kjohnson1 | macOS 13.6.1 Ventura / arm64 | OK | OK | OK | NA | ||||||||||||||||
Package 625/679 | Hostname | OS / Arch | INSTALL | BUILD | CHECK | BUILD BIN | ||||||||||||||||
TENxIO 1.4.0 (landing page) Marcel Ramos
| kjohnson1 | macOS 13.6.1 Ventura / arm64 | OK | OK | OK | NA | ||||||||||||||||
Package 626/679 | Hostname | OS / Arch | INSTALL | BUILD | CHECK | BUILD BIN | ||||||||||||||||
terraTCGAdata 1.6.0 (landing page) Marcel Ramos
| kjohnson1 | macOS 13.6.1 Ventura / arm64 | OK | OK | OK | NA | ||||||||||||||||
Package 627/679 | Hostname | OS / Arch | INSTALL | BUILD | CHECK | BUILD BIN | ||||||||||||||||
TFBSTools 1.40.0 (landing page) Ge Tan
| kjohnson1 | macOS 13.6.1 Ventura / arm64 | OK | OK | OK | NA | ||||||||||||||||
Package 628/679 | Hostname | OS / Arch | INSTALL | BUILD | CHECK | BUILD BIN | ||||||||||||||||
TFHAZ 1.24.0 (landing page) Gaia Ceddia
| kjohnson1 | macOS 13.6.1 Ventura / arm64 | OK | OK | OK | NA | ||||||||||||||||
Package 629/679 | Hostname | OS / Arch | INSTALL | BUILD | CHECK | BUILD BIN | ||||||||||||||||
tidybulk 1.14.3 (landing page) Stefano Mangiola
| kjohnson1 | macOS 13.6.1 Ventura / arm64 | OK | OK | OK | NA | ||||||||||||||||
Package 630/679 | Hostname | OS / Arch | INSTALL | BUILD | CHECK | BUILD BIN | ||||||||||||||||
tidySingleCellExperiment 1.12.0 (landing page) Stefano Mangiola
| kjohnson1 | macOS 13.6.1 Ventura / arm64 | OK | ERROR | skipped | skipped | ||||||||||||||||
Package 631/679 | Hostname | OS / Arch | INSTALL | BUILD | CHECK | BUILD BIN | ||||||||||||||||
tidySummarizedExperiment 1.12.0 (landing page) Stefano Mangiola
| kjohnson1 | macOS 13.6.1 Ventura / arm64 | OK | OK | OK | NA | ||||||||||||||||
Package 632/679 | Hostname | OS / Arch | INSTALL | BUILD | CHECK | BUILD BIN | ||||||||||||||||
TileDBArray 1.12.0 (landing page) Aaron Lun
| kjohnson1 | macOS 13.6.1 Ventura / arm64 | OK | OK | WARNINGS | NA | ||||||||||||||||
Package 633/679 | Hostname | OS / Arch | INSTALL | BUILD | CHECK | BUILD BIN | ||||||||||||||||
TnT 1.24.0 (landing page) Jialin Ma
| kjohnson1 | macOS 13.6.1 Ventura / arm64 | OK | OK | OK | NA | ||||||||||||||||
Package 634/679 | Hostname | OS / Arch | INSTALL | BUILD | CHECK | BUILD BIN | ||||||||||||||||
topdownr 1.24.0 (landing page) Sebastian Gibb
| kjohnson1 | macOS 13.6.1 Ventura / arm64 | OK | OK | OK | NA | ||||||||||||||||
Package 635/679 | Hostname | OS / Arch | INSTALL | BUILD | CHECK | BUILD BIN | ||||||||||||||||
ToxicoGx 2.6.0 (landing page) Benjamin Haibe-Kains
| kjohnson1 | macOS 13.6.1 Ventura / arm64 | OK | OK | OK | NA | ||||||||||||||||
Package 636/679 | Hostname | OS / Arch | INSTALL | BUILD | CHECK | BUILD BIN | ||||||||||||||||
trackViewer 1.38.2 (landing page) Jianhong Ou
| kjohnson1 | macOS 13.6.1 Ventura / arm64 | OK | OK | OK | NA | ||||||||||||||||
Package 637/679 | Hostname | OS / Arch | INSTALL | BUILD | CHECK | BUILD BIN | ||||||||||||||||
tradeSeq 1.16.0 (landing page) Hector Roux de Bezieux
| kjohnson1 | macOS 13.6.1 Ventura / arm64 | OK | OK | OK | NA | ||||||||||||||||
Package 638/679 | Hostname | OS / Arch | INSTALL | BUILD | CHECK | BUILD BIN | ||||||||||||||||
TrajectoryUtils 1.10.1 (landing page) Aaron Lun
| kjohnson1 | macOS 13.6.1 Ventura / arm64 | OK | OK | OK | NA | ||||||||||||||||
Package 639/679 | Hostname | OS / Arch | INSTALL | BUILD | CHECK | BUILD BIN | ||||||||||||||||
transcriptR 1.30.0 (landing page) Armen R. Karapetyan
| kjohnson1 | macOS 13.6.1 Ventura / arm64 | OK | OK | OK | NA | ||||||||||||||||
Package 640/679 | Hostname | OS / Arch | INSTALL | BUILD | CHECK | BUILD BIN | ||||||||||||||||
TransView 1.46.0 (landing page) Julius Muller
| kjohnson1 | macOS 13.6.1 Ventura / arm64 | OK | OK | WARNINGS | NA | ||||||||||||||||
Package 641/679 | Hostname | OS / Arch | INSTALL | BUILD | CHECK | BUILD BIN | ||||||||||||||||
TreeSummarizedExperiment 2.10.0 (landing page) Ruizhu Huang
| kjohnson1 | macOS 13.6.1 Ventura / arm64 | OK | OK | OK | NA | ||||||||||||||||
Package 642/679 | Hostname | OS / Arch | INSTALL | BUILD | CHECK | BUILD BIN | ||||||||||||||||
Trendy 1.24.1 (landing page) Rhonda Bacher
| kjohnson1 | macOS 13.6.1 Ventura / arm64 | OK | OK | OK | NA | ||||||||||||||||
Package 643/679 | Hostname | OS / Arch | INSTALL | BUILD | CHECK | BUILD BIN | ||||||||||||||||
TRESS 1.8.0 (landing page) Zhenxing Guo
| kjohnson1 | macOS 13.6.1 Ventura / arm64 | OK | OK | OK | NA | ||||||||||||||||
Package 644/679 | Hostname | OS / Arch | INSTALL | BUILD | CHECK | BUILD BIN | ||||||||||||||||
tricycle 1.10.0 (landing page) Shijie Zheng
| kjohnson1 | macOS 13.6.1 Ventura / arm64 | OK | ERROR | skipped | skipped | ||||||||||||||||
Package 645/679 | Hostname | OS / Arch | INSTALL | BUILD | CHECK | BUILD BIN | ||||||||||||||||
triplex 1.42.0 (landing page) Jiri Hon
| kjohnson1 | macOS 13.6.1 Ventura / arm64 | OK | OK | WARNINGS | NA | ||||||||||||||||
Package 646/679 | Hostname | OS / Arch | INSTALL | BUILD | CHECK | BUILD BIN | ||||||||||||||||
tRNA 1.20.1 (landing page) Felix GM Ernst
| kjohnson1 | macOS 13.6.1 Ventura / arm64 | OK | OK | OK | NA | ||||||||||||||||
Package 647/679 | Hostname | OS / Arch | INSTALL | BUILD | CHECK | BUILD BIN | ||||||||||||||||
tRNAdbImport 1.20.1 (landing page) Felix G.M. Ernst
| kjohnson1 | macOS 13.6.1 Ventura / arm64 | OK | OK | OK | NA | ||||||||||||||||
Package 648/679 | Hostname | OS / Arch | INSTALL | BUILD | CHECK | BUILD BIN | ||||||||||||||||
tRNAscanImport 1.22.0 (landing page) Felix G.M. Ernst
| kjohnson1 | macOS 13.6.1 Ventura / arm64 | OK | OK | OK | NA | ||||||||||||||||
Package 649/679 | Hostname | OS / Arch | INSTALL | BUILD | CHECK | BUILD BIN | ||||||||||||||||
TSCAN 1.40.1 (landing page) Zhicheng Ji
| kjohnson1 | macOS 13.6.1 Ventura / arm64 | OK | OK | WARNINGS | NA | ||||||||||||||||
Package 650/679 | Hostname | OS / Arch | INSTALL | BUILD | CHECK | BUILD BIN | ||||||||||||||||
TVTB 1.28.0 (landing page) Kevin Rue-Albrecht
| kjohnson1 | macOS 13.6.1 Ventura / arm64 | OK | OK | WARNINGS | NA | ||||||||||||||||
Package 651/679 | Hostname | OS / Arch | INSTALL | BUILD | CHECK | BUILD BIN | ||||||||||||||||
twoddpcr 1.26.0 (landing page) Anthony Chiu
| kjohnson1 | macOS 13.6.1 Ventura / arm64 | OK | OK | OK | NA | ||||||||||||||||
Package 652/679 | Hostname | OS / Arch | INSTALL | BUILD | CHECK | BUILD BIN | ||||||||||||||||
txcutr 1.8.0 (landing page) Mervin Fansler
| kjohnson1 | macOS 13.6.1 Ventura / arm64 | OK | OK | OK | NA | ||||||||||||||||
Package 653/679 | Hostname | OS / Arch | INSTALL | BUILD | CHECK | BUILD BIN | ||||||||||||||||
tximeta 1.20.3 (landing page) Michael Love
| kjohnson1 | macOS 13.6.1 Ventura / arm64 | OK | OK | OK | NA | ||||||||||||||||
Package 654/679 | Hostname | OS / Arch | INSTALL | BUILD | CHECK | BUILD BIN | ||||||||||||||||
Ularcirc 1.20.0 (landing page) David Humphreys
| kjohnson1 | macOS 13.6.1 Ventura / arm64 | OK | OK | WARNINGS | NA | ||||||||||||||||
Package 655/679 | Hostname | OS / Arch | INSTALL | BUILD | CHECK | BUILD BIN | ||||||||||||||||
UMI4Cats 1.12.0 (landing page) Mireia Ramos-Rodriguez
| kjohnson1 | macOS 13.6.1 Ventura / arm64 | OK | OK | OK | NA | ||||||||||||||||
Package 656/679 | Hostname | OS / Arch | INSTALL | BUILD | CHECK | BUILD BIN | ||||||||||||||||
uncoverappLib 1.12.0 (landing page) Emanuela Iovino
| kjohnson1 | macOS 13.6.1 Ventura / arm64 | OK | OK | OK | NA | ||||||||||||||||
Package 657/679 | Hostname | OS / Arch | INSTALL | BUILD | CHECK | BUILD BIN | ||||||||||||||||
universalmotif 1.20.0 (landing page) Benjamin Jean-Marie Tremblay
| kjohnson1 | macOS 13.6.1 Ventura / arm64 | OK | OK | OK | NA | ||||||||||||||||
Package 658/679 | Hostname | OS / Arch | INSTALL | BUILD | CHECK | BUILD BIN | ||||||||||||||||
updateObject 1.6.0 (landing page) Hervé Pagès
| kjohnson1 | macOS 13.6.1 Ventura / arm64 | OK | OK | OK | NA | ||||||||||||||||
Package 659/679 | Hostname | OS / Arch | INSTALL | BUILD | CHECK | BUILD BIN | ||||||||||||||||
VanillaICE 1.64.1 (landing page) Robert Scharpf
| kjohnson1 | macOS 13.6.1 Ventura / arm64 | OK | OK | WARNINGS | NA | ||||||||||||||||
Package 660/679 | Hostname | OS / Arch | INSTALL | BUILD | CHECK | BUILD BIN | ||||||||||||||||
VariantAnnotation 1.48.1 (landing page) Bioconductor Package Maintainer
| kjohnson1 | macOS 13.6.1 Ventura / arm64 | OK | OK | WARNINGS | NA | ||||||||||||||||
Package 661/679 | Hostname | OS / Arch | INSTALL | BUILD | CHECK | BUILD BIN | ||||||||||||||||
VariantExperiment 1.16.0 (landing page) Qian Liu
| kjohnson1 | macOS 13.6.1 Ventura / arm64 | OK | OK | WARNINGS | NA | ||||||||||||||||
Package 662/679 | Hostname | OS / Arch | INSTALL | BUILD | CHECK | BUILD BIN | ||||||||||||||||
VariantFiltering 1.38.0 (landing page) Robert Castelo
| kjohnson1 | macOS 13.6.1 Ventura / arm64 | OK | OK | OK | NA | ||||||||||||||||
Package 663/679 | Hostname | OS / Arch | INSTALL | BUILD | CHECK | BUILD BIN | ||||||||||||||||
VariantTools 1.44.0 (landing page) Michael Lawrence
| kjohnson1 | macOS 13.6.1 Ventura / arm64 | OK | OK | WARNINGS | NA | ||||||||||||||||
Package 664/679 | Hostname | OS / Arch | INSTALL | BUILD | CHECK | BUILD BIN | ||||||||||||||||
VaSP 1.14.0 (landing page) Huihui Yu
| kjohnson1 | macOS 13.6.1 Ventura / arm64 | OK | OK | OK | NA | ||||||||||||||||
Package 665/679 | Hostname | OS / Arch | INSTALL | BUILD | CHECK | BUILD BIN | ||||||||||||||||
VCFArray 1.18.0 (landing page) Qian Liu
| kjohnson1 | macOS 13.6.1 Ventura / arm64 | OK | OK | OK | NA | ||||||||||||||||
Package 666/679 | Hostname | OS / Arch | INSTALL | BUILD | CHECK | BUILD BIN | ||||||||||||||||
VDJdive 1.4.0 (landing page) Kelly Street
| kjohnson1 | macOS 13.6.1 Ventura / arm64 | OK | OK | OK | NA | ||||||||||||||||
Package 667/679 | Hostname | OS / Arch | INSTALL | BUILD | CHECK | BUILD BIN | ||||||||||||||||
velociraptor 1.12.0 (landing page) Kevin Rue-Albrecht
| kjohnson1 | macOS 13.6.1 Ventura / arm64 | OK | ERROR | skipped | skipped | ||||||||||||||||
Package 668/679 | Hostname | OS / Arch | INSTALL | BUILD | CHECK | BUILD BIN | ||||||||||||||||
Voyager 1.4.0 (landing page) Lambda Moses
| kjohnson1 | macOS 13.6.1 Ventura / arm64 | OK | OK | ERROR | NA | ||||||||||||||||
Package 669/679 | Hostname | OS / Arch | INSTALL | BUILD | CHECK | BUILD BIN | ||||||||||||||||
VplotR 1.12.1 (landing page) Jacques Serizay
| kjohnson1 | macOS 13.6.1 Ventura / arm64 | OK | OK | OK | NA | ||||||||||||||||
Package 670/679 | Hostname | OS / Arch | INSTALL | BUILD | CHECK | BUILD BIN | ||||||||||||||||
vulcan 1.24.0 (landing page) Federico M. Giorgi
| kjohnson1 | macOS 13.6.1 Ventura / arm64 | OK | OK | OK | NA | ||||||||||||||||
Package 671/679 | Hostname | OS / Arch | INSTALL | BUILD | CHECK | BUILD BIN | ||||||||||||||||
wavClusteR 2.36.0 (landing page) Federico Comoglio
| kjohnson1 | macOS 13.6.1 Ventura / arm64 | OK | OK | OK | NA | ||||||||||||||||
Package 672/679 | Hostname | OS / Arch | INSTALL | BUILD | CHECK | BUILD BIN | ||||||||||||||||
weitrix 1.14.0 (landing page) Paul Harrison
| kjohnson1 | macOS 13.6.1 Ventura / arm64 | OK | OK | OK | NA | ||||||||||||||||
Package 673/679 | Hostname | OS / Arch | INSTALL | BUILD | CHECK | BUILD BIN | ||||||||||||||||
wiggleplotr 1.26.0 (landing page) Kaur Alasoo
| kjohnson1 | macOS 13.6.1 Ventura / arm64 | OK | OK | OK | NA | ||||||||||||||||
Package 674/679 | Hostname | OS / Arch | INSTALL | BUILD | CHECK | BUILD BIN | ||||||||||||||||
xcms 4.0.2 (landing page) Steffen Neumann
| kjohnson1 | macOS 13.6.1 Ventura / arm64 | OK | OK | OK | NA | ||||||||||||||||
Package 675/679 | Hostname | OS / Arch | INSTALL | BUILD | CHECK | BUILD BIN | ||||||||||||||||
xcore 1.6.0 (landing page) Maciej Migdał
| kjohnson1 | macOS 13.6.1 Ventura / arm64 | OK | OK | OK | NA | ||||||||||||||||
Package 676/679 | Hostname | OS / Arch | INSTALL | BUILD | CHECK | BUILD BIN | ||||||||||||||||
XNAString 1.10.0 (landing page) Marianna Plucinska
| kjohnson1 | macOS 13.6.1 Ventura / arm64 | OK | OK | WARNINGS | NA | ||||||||||||||||
Package 677/679 | Hostname | OS / Arch | INSTALL | BUILD | CHECK | BUILD BIN | ||||||||||||||||
XVector 0.42.0 (landing page) Hervé Pagès
| kjohnson1 | macOS 13.6.1 Ventura / arm64 | OK | OK | WARNINGS | NA | ||||||||||||||||
Package 678/679 | Hostname | OS / Arch | INSTALL | BUILD | CHECK | BUILD BIN | ||||||||||||||||
yamss 1.28.0 (landing page) Leslie Myint
| kjohnson1 | macOS 13.6.1 Ventura / arm64 | OK | OK | OK | NA | ||||||||||||||||
Package 679/679 | Hostname | OS / Arch | INSTALL | BUILD | CHECK | BUILD BIN | ||||||||||||||||
zellkonverter 1.12.1 (landing page) Luke Zappia
| kjohnson1 | macOS 13.6.1 Ventura / arm64 | OK | OK | ERROR | NA | ||||||||||||||||