| Back to Mac ARM64 build report for BioC 3.18 |
|
This page was generated on 2024-04-18 11:32:10 -0400 (Thu, 18 Apr 2024).
| Hostname | OS | Arch (*) | R version | Installed pkgs |
|---|---|---|---|---|
| kjohnson1 | macOS 13.6.1 Ventura | arm64 | 4.3.3 (2024-02-29) -- "Angel Food Cake" | 4388 |
| Click on any hostname to see more info about the system (e.g. compilers) (*) as reported by 'uname -p', except on Windows and Mac OS X | ||||
| Package 807/2266 | Hostname | OS / Arch | INSTALL | BUILD | CHECK | BUILD BIN | ||||||||
| GeneStructureTools 1.22.0 (landing page) Beth Signal
| kjohnson1 | macOS 13.6.1 Ventura / arm64 | OK | OK | OK | OK | ||||||||
|
To the developers/maintainers of the GeneStructureTools package: - Use the following Renviron settings to reproduce errors and warnings. - If 'R CMD check' started to fail recently on the Linux builder(s) over a missing dependency, add the missing dependency to 'Suggests:' in your DESCRIPTION file. See Renviron.bioc for more information. |
| Package: GeneStructureTools |
| Version: 1.22.0 |
| Command: /Library/Frameworks/R.framework/Resources/bin/R CMD check --install=check:GeneStructureTools.install-out.txt --library=/Library/Frameworks/R.framework/Resources/library --no-vignettes --timings GeneStructureTools_1.22.0.tar.gz |
| StartedAt: 2024-04-17 14:34:08 -0400 (Wed, 17 Apr 2024) |
| EndedAt: 2024-04-17 14:41:47 -0400 (Wed, 17 Apr 2024) |
| EllapsedTime: 459.4 seconds |
| RetCode: 0 |
| Status: OK |
| CheckDir: GeneStructureTools.Rcheck |
| Warnings: 0 |
##############################################################################
##############################################################################
###
### Running command:
###
### /Library/Frameworks/R.framework/Resources/bin/R CMD check --install=check:GeneStructureTools.install-out.txt --library=/Library/Frameworks/R.framework/Resources/library --no-vignettes --timings GeneStructureTools_1.22.0.tar.gz
###
##############################################################################
##############################################################################
* using log directory ‘/Users/biocbuild/bbs-3.18-bioc-mac-arm64/meat/GeneStructureTools.Rcheck’
* using R version 4.3.3 (2024-02-29)
* using platform: aarch64-apple-darwin20 (64-bit)
* R was compiled by
Apple clang version 14.0.0 (clang-1400.0.29.202)
GNU Fortran (GCC) 12.2.0
* running under: macOS Ventura 13.6.1
* using session charset: UTF-8
* using option ‘--no-vignettes’
* checking for file ‘GeneStructureTools/DESCRIPTION’ ... OK
* checking extension type ... Package
* this is package ‘GeneStructureTools’ version ‘1.22.0’
* package encoding: UTF-8
* checking package namespace information ... OK
* checking package dependencies ... OK
* checking if this is a source package ... OK
* checking if there is a namespace ... OK
* checking for hidden files and directories ... OK
* checking for portable file names ... OK
* checking for sufficient/correct file permissions ... OK
* checking whether package ‘GeneStructureTools’ can be installed ... OK
* checking installed package size ... OK
* checking package directory ... OK
* checking ‘build’ directory ... OK
* checking DESCRIPTION meta-information ... OK
* checking top-level files ... OK
* checking for left-over files ... OK
* checking index information ... OK
* checking package subdirectories ... OK
* checking R files for non-ASCII characters ... OK
* checking R files for syntax errors ... OK
* checking whether the package can be loaded ... OK
* checking whether the package can be loaded with stated dependencies ... OK
* checking whether the package can be unloaded cleanly ... OK
* checking whether the namespace can be loaded with stated dependencies ... OK
* checking whether the namespace can be unloaded cleanly ... OK
* checking dependencies in R code ... OK
* checking S3 generic/method consistency ... OK
* checking replacement functions ... OK
* checking foreign function calls ... OK
* checking R code for possible problems ... OK
* checking Rd files ... OK
* checking Rd metadata ... OK
* checking Rd cross-references ... OK
* checking for missing documentation entries ... OK
* checking for code/documentation mismatches ... OK
* checking Rd \usage sections ... OK
* checking Rd contents ... OK
* checking for unstated dependencies in examples ... OK
* checking files in ‘vignettes’ ... OK
* checking examples ... OK
Examples with CPU (user + system) or elapsed time > 5s
user system elapsed
leafcutterTranscriptChangeSummary 22.657 0.723 23.644
whippetTranscriptChangeSummary 12.078 0.281 12.493
* checking for unstated dependencies in vignettes ... OK
* checking package vignettes in ‘inst/doc’ ... OK
* checking running R code from vignettes ... SKIPPED
* checking re-building of vignette outputs ... SKIPPED
* checking PDF version of manual ... OK
* DONE
Status: OK
GeneStructureTools.Rcheck/00install.out
############################################################################## ############################################################################## ### ### Running command: ### ### /Library/Frameworks/R.framework/Resources/bin/R CMD INSTALL GeneStructureTools ### ############################################################################## ############################################################################## * installing to library ‘/Library/Frameworks/R.framework/Versions/4.3-arm64/Resources/library’ * installing *source* package ‘GeneStructureTools’ ... ** using staged installation ** R ** inst ** byte-compile and prepare package for lazy loading ** help *** installing help indices ** building package indices ** installing vignettes ** testing if installed package can be loaded from temporary location ** testing if installed package can be loaded from final location ** testing if installed package keeps a record of temporary installation path * DONE (GeneStructureTools)
GeneStructureTools.Rcheck/GeneStructureTools-Ex.timings
| name | user | system | elapsed | |
| DEXSeqIdsToGeneIds | 0.004 | 0.001 | 0.006 | |
| UTR2UTR53 | 3.786 | 0.097 | 3.982 | |
| addBroadTypes | 0.230 | 0.008 | 0.239 | |
| addIntronInTranscript | 1.948 | 0.107 | 2.088 | |
| alternativeIntronUsage | 3.459 | 0.022 | 3.492 | |
| annotateGeneModel | 0.790 | 0.011 | 0.803 | |
| attrChangeAltSpliced | 1.350 | 0.123 | 1.507 | |
| coordinates-methods | 0.077 | 0.084 | 0.183 | |
| diffSplicingResults-methods | 0.084 | 0.091 | 0.209 | |
| exonsToTranscripts | 0.294 | 0.007 | 0.301 | |
| filterGtfOverlap | 0.291 | 0.007 | 0.299 | |
| filterWhippetEvents | 0.087 | 0.087 | 0.202 | |
| findDEXexonType | 2.307 | 0.020 | 2.330 | |
| findExonContainingTranscripts | 0.459 | 0.090 | 0.593 | |
| findIntronContainingTranscripts | 0.655 | 0.090 | 0.770 | |
| findJunctionPairs | 1.294 | 0.087 | 1.404 | |
| formatWhippetEvents | 0.017 | 0.010 | 0.030 | |
| getOrfs | 0.734 | 0.016 | 0.750 | |
| getUOrfs | 0.566 | 0.012 | 0.580 | |
| junctions-methods | 0.074 | 0.078 | 0.173 | |
| leafcutterTranscriptChangeSummary | 22.657 | 0.723 | 23.644 | |
| makeGeneModel | 0.209 | 0.006 | 0.217 | |
| maxLocation | 0.002 | 0.000 | 0.003 | |
| orfDiff | 1.619 | 0.118 | 1.811 | |
| orfSimilarity | 0.001 | 0.000 | 0.001 | |
| overlapTypes | 2.161 | 0.015 | 2.181 | |
| readCounts-methods | 0.077 | 0.082 | 0.188 | |
| readWhippetDIFFfiles | 0.008 | 0.010 | 0.022 | |
| readWhippetDataSet | 0.080 | 0.090 | 0.201 | |
| readWhippetJNCfiles | 0.038 | 0.041 | 0.092 | |
| readWhippetPSIfiles | 0.024 | 0.042 | 0.076 | |
| removeDuplicateTranscripts | 0.310 | 0.007 | 0.317 | |
| removeSameExon | 0.254 | 0.006 | 0.260 | |
| removeVersion | 0.001 | 0.000 | 0.000 | |
| reorderExonNumbers | 0.214 | 0.008 | 0.221 | |
| replaceJunction | 3.765 | 0.103 | 3.897 | |
| skipExonInTranscript | 1.420 | 0.084 | 1.527 | |
| summariseExonTypes | 2.354 | 0.018 | 2.373 | |
| transcriptChangeSummary | 1.564 | 0.108 | 1.720 | |
| whippetTranscriptChangeSummary | 12.078 | 0.281 | 12.493 | |