| Back to Mac ARM64 build report for BioC 3.18 |
|
This page was generated on 2024-04-18 11:32:15 -0400 (Thu, 18 Apr 2024).
| Hostname | OS | Arch (*) | R version | Installed pkgs |
|---|---|---|---|---|
| kjohnson1 | macOS 13.6.1 Ventura | arm64 | 4.3.3 (2024-02-29) -- "Angel Food Cake" | 4388 |
| Click on any hostname to see more info about the system (e.g. compilers) (*) as reported by 'uname -p', except on Windows and Mac OS X | ||||
| Package 1460/2266 | Hostname | OS / Arch | INSTALL | BUILD | CHECK | BUILD BIN | ||||||||
| ontoProc 1.24.0 (landing page) Vincent Carey
| kjohnson1 | macOS 13.6.1 Ventura / arm64 | OK | OK | OK | OK | ||||||||
|
To the developers/maintainers of the ontoProc package: - Use the following Renviron settings to reproduce errors and warnings. - If 'R CMD check' started to fail recently on the Linux builder(s) over a missing dependency, add the missing dependency to 'Suggests:' in your DESCRIPTION file. See Renviron.bioc for more information. |
| Package: ontoProc |
| Version: 1.24.0 |
| Command: /Library/Frameworks/R.framework/Resources/bin/R CMD check --install=check:ontoProc.install-out.txt --library=/Library/Frameworks/R.framework/Resources/library --no-vignettes --timings ontoProc_1.24.0.tar.gz |
| StartedAt: 2024-04-17 22:00:21 -0400 (Wed, 17 Apr 2024) |
| EndedAt: 2024-04-17 22:12:44 -0400 (Wed, 17 Apr 2024) |
| EllapsedTime: 743.7 seconds |
| RetCode: 0 |
| Status: OK |
| CheckDir: ontoProc.Rcheck |
| Warnings: 0 |
##############################################################################
##############################################################################
###
### Running command:
###
### /Library/Frameworks/R.framework/Resources/bin/R CMD check --install=check:ontoProc.install-out.txt --library=/Library/Frameworks/R.framework/Resources/library --no-vignettes --timings ontoProc_1.24.0.tar.gz
###
##############################################################################
##############################################################################
* using log directory ‘/Users/biocbuild/bbs-3.18-bioc-mac-arm64/meat/ontoProc.Rcheck’
* using R version 4.3.3 (2024-02-29)
* using platform: aarch64-apple-darwin20 (64-bit)
* R was compiled by
Apple clang version 14.0.0 (clang-1400.0.29.202)
GNU Fortran (GCC) 12.2.0
* running under: macOS Ventura 13.6.1
* using session charset: UTF-8
* using option ‘--no-vignettes’
* checking for file ‘ontoProc/DESCRIPTION’ ... OK
* this is package ‘ontoProc’ version ‘1.24.0’
* package encoding: UTF-8
* checking package namespace information ... OK
* checking package dependencies ... OK
* checking if this is a source package ... OK
* checking if there is a namespace ... OK
* checking for hidden files and directories ... OK
* checking for portable file names ... OK
* checking for sufficient/correct file permissions ... OK
* checking whether package ‘ontoProc’ can be installed ... OK
* checking installed package size ... NOTE
installed size is 7.1Mb
sub-directories of 1Mb or more:
app 1.9Mb
data 1.8Mb
ontoRda 2.8Mb
* checking package directory ... OK
* checking ‘build’ directory ... OK
* checking DESCRIPTION meta-information ... OK
* checking top-level files ... OK
* checking for left-over files ... OK
* checking index information ... OK
* checking package subdirectories ... OK
* checking R files for non-ASCII characters ... OK
* checking R files for syntax errors ... OK
* checking whether the package can be loaded ... OK
* checking whether the package can be loaded with stated dependencies ... OK
* checking whether the package can be unloaded cleanly ... OK
* checking whether the namespace can be loaded with stated dependencies ... OK
* checking whether the namespace can be unloaded cleanly ... OK
* checking dependencies in R code ... NOTE
Namespace in Imports field not imported from: ‘BiocFileCache’
All declared Imports should be used.
* checking S3 generic/method consistency ... OK
* checking replacement functions ... OK
* checking foreign function calls ... OK
* checking R code for possible problems ... NOTE
CLfeat : prupdate: no visible binding for global variable ‘PROSYM’
CLfeat : prupdate: no visible binding for global variable ‘PRID’
CLfeat : prupdate: no visible binding for global variable ‘SYMBOL’
ctmarks : server: no visible binding for global variable ‘text’
ctmarks : server: no visible binding for global variable ‘packDesc2022’
ctmarks : server: no visible binding for global variable ‘packDesc2021’
ctmarks: no visible binding for global variable ‘cumu’
dropStop: no visible binding for global variable ‘stopWords’
getOnto: no visible binding for global variable ‘rdatadateadded’
getOnto: no visible binding for global variable ‘title’
getOnto: no visible binding for global variable ‘description’
ldfToTerm: no visible binding for global variable ‘PROSYM’
sym2CellOnto: no visible binding for global variable ‘PROSYM’
sym2CellOnto: no visible binding for global variable ‘SYMBOL’
Undefined global functions or variables:
PRID PROSYM SYMBOL cumu description packDesc2021 packDesc2022
rdatadateadded stopWords text title
Consider adding
importFrom("graphics", "text", "title")
to your NAMESPACE file.
* checking Rd files ... OK
* checking Rd metadata ... OK
* checking Rd cross-references ... OK
* checking for missing documentation entries ... OK
* checking for code/documentation mismatches ... OK
* checking Rd \usage sections ... OK
* checking Rd contents ... OK
* checking for unstated dependencies in examples ... OK
* checking contents of ‘data’ directory ... OK
* checking data for non-ASCII characters ... NOTE
Note: found 162 marked UTF-8 strings
* checking data for ASCII and uncompressed saves ... OK
* checking files in ‘vignettes’ ... OK
* checking examples ... OK
Examples with CPU (user + system) or elapsed time > 5s
user system elapsed
sym2CellOnto 57.597 1.015 61.143
CLfeats 43.536 1.396 50.107
siblings_TAG 31.256 1.096 35.850
common_classes 20.959 1.644 27.735
getLeavesFromTerm 20.570 0.488 22.750
fastGrep 19.768 0.394 21.427
cleanCLOnames 18.466 0.424 20.343
nomenCheckup 16.485 0.517 18.231
TermSet-class 11.183 0.383 12.969
secLevGen 10.603 0.580 12.351
selectFromMap 10.310 0.406 11.761
liberalMap 9.945 0.474 11.688
make_graphNEL_from_ontology_plot 9.843 0.424 11.461
findCommonAncestors 9.726 0.378 11.151
onto_plot2 9.672 0.304 11.099
mapOneNaive 9.392 0.385 10.957
getOnto 8.487 0.337 9.911
* checking for unstated dependencies in ‘tests’ ... OK
* checking tests ...
Running ‘test.R’
OK
* checking for unstated dependencies in vignettes ... OK
* checking package vignettes in ‘inst/doc’ ... OK
* checking running R code from vignettes ... SKIPPED
* checking re-building of vignette outputs ... SKIPPED
* checking PDF version of manual ... OK
* DONE
Status: 4 NOTEs
See
‘/Users/biocbuild/bbs-3.18-bioc-mac-arm64/meat/ontoProc.Rcheck/00check.log’
for details.
ontoProc.Rcheck/00install.out
############################################################################## ############################################################################## ### ### Running command: ### ### /Library/Frameworks/R.framework/Resources/bin/R CMD INSTALL ontoProc ### ############################################################################## ############################################################################## * installing to library ‘/Library/Frameworks/R.framework/Versions/4.3-arm64/Resources/library’ * installing *source* package ‘ontoProc’ ... ** using staged installation ** R ** data ** inst ** byte-compile and prepare package for lazy loading ** help *** installing help indices ** building package indices ** installing vignettes ** testing if installed package can be loaded from temporary location ** testing if installed package can be loaded from final location ** testing if installed package keeps a record of temporary installation path * DONE (ontoProc)
ontoProc.Rcheck/tests/test.Rout
R version 4.3.3 (2024-02-29) -- "Angel Food Cake"
Copyright (C) 2024 The R Foundation for Statistical Computing
Platform: aarch64-apple-darwin20 (64-bit)
R is free software and comes with ABSOLUTELY NO WARRANTY.
You are welcome to redistribute it under certain conditions.
Type 'license()' or 'licence()' for distribution details.
R is a collaborative project with many contributors.
Type 'contributors()' for more information and
'citation()' on how to cite R or R packages in publications.
Type 'demo()' for some demos, 'help()' for on-line help, or
'help.start()' for an HTML browser interface to help.
Type 'q()' to quit R.
>
> library(ontoProc)
Loading required package: ontologyIndex
> library(testthat)
>
> test_check("ontoProc")
[ FAIL 0 | WARN 0 | SKIP 0 | PASS 7 ]
>
>
> proc.time()
user system elapsed
86.931 3.050 132.268
ontoProc.Rcheck/ontoProc-Ex.timings
| name | user | system | elapsed | |
| CLfeats | 43.536 | 1.396 | 50.107 | |
| PROSYM | 0.213 | 0.003 | 0.219 | |
| TermSet-class | 11.183 | 0.383 | 12.969 | |
| allGOterms | 0.191 | 0.002 | 0.194 | |
| cellTypeToGO | 3.559 | 0.108 | 3.695 | |
| cleanCLOnames | 18.466 | 0.424 | 20.343 | |
| common_classes | 20.959 | 1.644 | 27.735 | |
| ctmarks | 0.001 | 0.000 | 0.000 | |
| cyclicSigset | 0.006 | 0.001 | 0.007 | |
| demoApp | 0.000 | 0.000 | 0.001 | |
| dropStop | 0.004 | 0.003 | 0.007 | |
| fastGrep | 19.768 | 0.394 | 21.427 | |
| findCommonAncestors | 9.726 | 0.378 | 11.151 | |
| getLeavesFromTerm | 20.570 | 0.488 | 22.750 | |
| getOnto | 8.487 | 0.337 | 9.911 | |
| humrna | 0.009 | 0.002 | 0.011 | |
| ldfToTerms | 4.332 | 0.140 | 4.491 | |
| liberalMap | 9.945 | 0.474 | 11.688 | |
| makeSelectInput | 0.001 | 0.001 | 0.001 | |
| make_graphNEL_from_ontology_plot | 9.843 | 0.424 | 11.461 | |
| mapOneNaive | 9.392 | 0.385 | 10.957 | |
| minicorpus | 0.002 | 0.002 | 0.003 | |
| nomenCheckup | 16.485 | 0.517 | 18.231 | |
| onto_plot2 | 9.672 | 0.304 | 11.099 | |
| onto_roots | 0.000 | 0.000 | 0.001 | |
| packDesc2019 | 0.003 | 0.002 | 0.006 | |
| packDesc2021 | 0.002 | 0.001 | 0.003 | |
| packDesc2022 | 0.003 | 0.002 | 0.004 | |
| packDesc2023 | 0.003 | 0.006 | 0.009 | |
| recognizedPredicates | 0 | 0 | 0 | |
| secLevGen | 10.603 | 0.580 | 12.351 | |
| selectFromMap | 10.310 | 0.406 | 11.761 | |
| seur3kTab | 0.003 | 0.001 | 0.004 | |
| siblings_TAG | 31.256 | 1.096 | 35.850 | |
| stopWords | 0.002 | 0.002 | 0.003 | |
| sym2CellOnto | 57.597 | 1.015 | 61.143 | |
| valid_ontonames | 0 | 0 | 0 | |