| Back to Mac ARM64 build report for BioC 3.18 |
|
This page was generated on 2024-04-18 11:32:15 -0400 (Thu, 18 Apr 2024).
| Hostname | OS | Arch (*) | R version | Installed pkgs |
|---|---|---|---|---|
| kjohnson1 | macOS 13.6.1 Ventura | arm64 | 4.3.3 (2024-02-29) -- "Angel Food Cake" | 4388 |
| Click on any hostname to see more info about the system (e.g. compilers) (*) as reported by 'uname -p', except on Windows and Mac OS X | ||||
| Package 1534/2266 | Hostname | OS / Arch | INSTALL | BUILD | CHECK | BUILD BIN | ||||||||
| PharmacoGx 3.6.0 (landing page) Benjamin Haibe-Kains
| kjohnson1 | macOS 13.6.1 Ventura / arm64 | OK | OK | OK | OK | ||||||||
|
To the developers/maintainers of the PharmacoGx package: - Use the following Renviron settings to reproduce errors and warnings. - If 'R CMD check' started to fail recently on the Linux builder(s) over a missing dependency, add the missing dependency to 'Suggests:' in your DESCRIPTION file. See Renviron.bioc for more information. |
| Package: PharmacoGx |
| Version: 3.6.0 |
| Command: rm -rf PharmacoGx.buildbin-libdir && mkdir PharmacoGx.buildbin-libdir && /Users/biocbuild/BBS/utils/build-universal.sh PharmacoGx_3.6.0.tar.gz /Library/Frameworks/R.framework/Resources/bin/R PharmacoGx.buildbin-libdir |
| StartedAt: 2024-04-18 10:33:47 -0400 (Thu, 18 Apr 2024) |
| EndedAt: 2024-04-18 10:34:57 -0400 (Thu, 18 Apr 2024) |
| EllapsedTime: 69.9 seconds |
| RetCode: 0 |
| Status: OK |
| PackageFile: PharmacoGx_3.6.0.tgz |
| PackageFileSize: 3.87 MiB |
##############################################################################
##############################################################################
###
### Running command:
###
### rm -rf PharmacoGx.buildbin-libdir && mkdir PharmacoGx.buildbin-libdir && /Users/biocbuild/BBS/utils/build-universal.sh PharmacoGx_3.6.0.tar.gz /Library/Frameworks/R.framework/Resources/bin/R PharmacoGx.buildbin-libdir
###
##############################################################################
##############################################################################
>>>>>>>
>>>>>>> INSTALLATION WITH 'R CMD INSTALL --preclean --no-multiarch --library=PharmacoGx.buildbin-libdir PharmacoGx_3.6.0.tar.gz'
>>>>>>>
* installing *source* package ‘PharmacoGx’ ...
** using staged installation
** libs
using C compiler: ‘Apple clang version 15.0.0 (clang-1500.0.40.1)’
using C++ compiler: ‘Apple clang version 15.0.0 (clang-1500.0.40.1)’
using SDK: ‘MacOSX11.3.sdk’
clang++ -arch arm64 -std=gnu++17 -I"/Library/Frameworks/R.framework/Resources/include" -DNDEBUG -I'/Library/Frameworks/R.framework/Versions/4.3-arm64/Resources/library/Rcpp/include' -I/opt/R/arm64/include -fPIC -falign-functions=64 -Wall -g -O2 -c RcppExports.cpp -o RcppExports.o
clang -arch arm64 -I"/Library/Frameworks/R.framework/Resources/include" -DNDEBUG -I'/Library/Frameworks/R.framework/Versions/4.3-arm64/Resources/library/Rcpp/include' -I/opt/R/arm64/include -fPIC -falign-functions=64 -Wall -g -O2 -c metaPermC.c -o metaPermC.o
metaPermC.c:143:12: warning: unused variable 'num_larger' [-Wunused-variable]
uint64_t num_larger = 0;
^
metaPermC.c:328:10: warning: unused variable 'temp' [-Wunused-variable]
double temp;
^
2 warnings generated.
clang++ -arch arm64 -std=gnu++17 -I"/Library/Frameworks/R.framework/Resources/include" -DNDEBUG -I'/Library/Frameworks/R.framework/Versions/4.3-arm64/Resources/library/Rcpp/include' -I/opt/R/arm64/include -fPIC -falign-functions=64 -Wall -g -O2 -c rCPP_bridge.cpp -o rCPP_bridge.o
clang++ -arch arm64 -std=gnu++17 -dynamiclib -Wl,-headerpad_max_install_names -undefined dynamic_lookup -L/Library/Frameworks/R.framework/Resources/lib -L/opt/R/arm64/lib -o PharmacoGx.so RcppExports.o metaPermC.o rCPP_bridge.o -F/Library/Frameworks/R.framework/.. -framework R -Wl,-framework -Wl,CoreFoundation
installing to /Users/biocbuild/bbs-3.18-bioc-mac-arm64/meat/PharmacoGx.buildbin-libdir/00LOCK-PharmacoGx/00new/PharmacoGx/libs
** R
** data
** inst
** byte-compile and prepare package for lazy loading
** help
*** installing help indices
** building package indices
** installing vignettes
** testing if installed package can be loaded from temporary location
** checking absolute paths in shared objects and dynamic libraries
** testing if installed package can be loaded from final location
** testing if installed package keeps a record of temporary installation path
* DONE (PharmacoGx)
>>>>>>>
>>>>>>> FIXING PATHS TO DYNAMIC LIBRARIES FOR PharmacoGx.buildbin-libdir/PharmacoGx/libs/PharmacoGx.so
>>>>>>>
>>>>>>> Paths before fix:
PharmacoGx.buildbin-libdir/PharmacoGx/libs/PharmacoGx.so:
PharmacoGx.so (compatibility version 0.0.0, current version 0.0.0)
/Library/Frameworks/R.framework/Versions/4.3-arm64/Resources/lib/libR.dylib (compatibility version 4.3.0, current version 4.3.3)
/System/Library/Frameworks/CoreFoundation.framework/Versions/A/CoreFoundation (compatibility version 150.0.0, current version 1775.118.101)
/usr/lib/libc++.1.dylib (compatibility version 1.0.0, current version 905.6.0)
/usr/lib/libSystem.B.dylib (compatibility version 1.0.0, current version 1292.100.5)
>>>>>>> Fix with install_name_tool:
install_name_tool -change "/usr/local/lib/libgcc_s.1.1.dylib" "/Library/Frameworks/R.framework/Versions/4.3-arm64/Resources/lib/libgcc_s.1.1.dylib" "PharmacoGx.buildbin-libdir/PharmacoGx/libs/PharmacoGx.so"
install_name_tool -change "/usr/local/lib/libgfortran.5.dylib" "/Library/Frameworks/R.framework/Versions/4.3-arm64/Resources/lib/libgfortran.5.dylib" "PharmacoGx.buildbin-libdir/PharmacoGx/libs/PharmacoGx.so"
install_name_tool -change "/usr/local/lib/libquadmath.0.dylib" "/Library/Frameworks/R.framework/Versions/4.3-arm64/Resources/lib/libquadmath.0.dylib" "PharmacoGx.buildbin-libdir/PharmacoGx/libs/PharmacoGx.so"
>>>>>>> Paths after fix:
PharmacoGx.buildbin-libdir/PharmacoGx/libs/PharmacoGx.so:
PharmacoGx.so (compatibility version 0.0.0, current version 0.0.0)
/Library/Frameworks/R.framework/Versions/4.3-arm64/Resources/lib/libR.dylib (compatibility version 4.3.0, current version 4.3.3)
/System/Library/Frameworks/CoreFoundation.framework/Versions/A/CoreFoundation (compatibility version 150.0.0, current version 1775.118.101)
/usr/lib/libc++.1.dylib (compatibility version 1.0.0, current version 905.6.0)
/usr/lib/libSystem.B.dylib (compatibility version 1.0.0, current version 1292.100.5)