| Back to Mac ARM64 build report for BioC 3.18 |
|
This page was generated on 2024-04-18 11:32:21 -0400 (Thu, 18 Apr 2024).
| Hostname | OS | Arch (*) | R version | Installed pkgs |
|---|---|---|---|---|
| kjohnson1 | macOS 13.6.1 Ventura | arm64 | 4.3.3 (2024-02-29) -- "Angel Food Cake" | 4388 |
| Click on any hostname to see more info about the system (e.g. compilers) (*) as reported by 'uname -p', except on Windows and Mac OS X | ||||
| Package 2189/2266 | Hostname | OS / Arch | INSTALL | BUILD | CHECK | BUILD BIN | ||||||||
| TSCAN 1.40.1 (landing page) Zhicheng Ji
| kjohnson1 | macOS 13.6.1 Ventura / arm64 | OK | OK | WARNINGS | NA | ||||||||
|
To the developers/maintainers of the TSCAN package: - Use the following Renviron settings to reproduce errors and warnings. - If 'R CMD check' started to fail recently on the Linux builder(s) over a missing dependency, add the missing dependency to 'Suggests:' in your DESCRIPTION file. See Renviron.bioc for more information. |
| Package: TSCAN |
| Version: 1.40.1 |
| Command: /Library/Frameworks/R.framework/Resources/bin/R CMD build --keep-empty-dirs --no-resave-data TSCAN |
| StartedAt: 2024-04-17 04:24:35 -0400 (Wed, 17 Apr 2024) |
| EndedAt: 2024-04-17 04:25:34 -0400 (Wed, 17 Apr 2024) |
| EllapsedTime: 59.1 seconds |
| RetCode: 0 |
| Status: OK |
| PackageFile: TSCAN_1.40.1.tar.gz |
| PackageFileSize: 2.677 MiB |
##############################################################################
##############################################################################
###
### Running command:
###
### /Library/Frameworks/R.framework/Resources/bin/R CMD build --keep-empty-dirs --no-resave-data TSCAN
###
##############################################################################
##############################################################################
* checking for file ‘TSCAN/DESCRIPTION’ ... OK
* preparing ‘TSCAN’:
* checking DESCRIPTION meta-information ... OK
* installing the package to build vignettes
* creating vignettes ... OK
Warning: ‘inst/doc’ files
‘TSCAN.Rnw’, ‘TSCAN.pdf’, ‘TSCAN.R’
ignored as vignettes have been rebuilt.
Run R CMD build with --no-build-vignettes to prevent rebuilding.
* checking for LF line-endings in source and make files and shell scripts
* checking for empty or unneeded directories
* looking to see if a ‘data/datalist’ file should be added
* building ‘TSCAN_1.40.1.tar.gz’