| Back to Mac ARM64 build report for BioC 3.18 |
|
This page was generated on 2024-04-18 11:32:18 -0400 (Thu, 18 Apr 2024).
| Hostname | OS | Arch (*) | R version | Installed pkgs |
|---|---|---|---|---|
| kjohnson1 | macOS 13.6.1 Ventura | arm64 | 4.3.3 (2024-02-29) -- "Angel Food Cake" | 4388 |
| Click on any hostname to see more info about the system (e.g. compilers) (*) as reported by 'uname -p', except on Windows and Mac OS X | ||||
| Package 1934/2266 | Hostname | OS / Arch | INSTALL | BUILD | CHECK | BUILD BIN | ||||||||
| sesame 1.20.0 (landing page) Wanding Zhou
| kjohnson1 | macOS 13.6.1 Ventura / arm64 | OK | OK | OK | OK | ||||||||
|
To the developers/maintainers of the sesame package: - Use the following Renviron settings to reproduce errors and warnings. - If 'R CMD check' started to fail recently on the Linux builder(s) over a missing dependency, add the missing dependency to 'Suggests:' in your DESCRIPTION file. See Renviron.bioc for more information. |
| Package: sesame |
| Version: 1.20.0 |
| Command: /Library/Frameworks/R.framework/Resources/bin/R CMD check --install=check:sesame.install-out.txt --library=/Library/Frameworks/R.framework/Resources/library --no-vignettes --timings sesame_1.20.0.tar.gz |
| StartedAt: 2024-04-18 03:41:13 -0400 (Thu, 18 Apr 2024) |
| EndedAt: 2024-04-18 04:03:08 -0400 (Thu, 18 Apr 2024) |
| EllapsedTime: 1314.4 seconds |
| RetCode: 0 |
| Status: OK |
| CheckDir: sesame.Rcheck |
| Warnings: 0 |
##############################################################################
##############################################################################
###
### Running command:
###
### /Library/Frameworks/R.framework/Resources/bin/R CMD check --install=check:sesame.install-out.txt --library=/Library/Frameworks/R.framework/Resources/library --no-vignettes --timings sesame_1.20.0.tar.gz
###
##############################################################################
##############################################################################
* using log directory ‘/Users/biocbuild/bbs-3.18-bioc-mac-arm64/meat/sesame.Rcheck’
* using R version 4.3.3 (2024-02-29)
* using platform: aarch64-apple-darwin20 (64-bit)
* R was compiled by
Apple clang version 14.0.0 (clang-1400.0.29.202)
GNU Fortran (GCC) 12.2.0
* running under: macOS Ventura 13.6.1
* using session charset: UTF-8
* using option ‘--no-vignettes’
* checking for file ‘sesame/DESCRIPTION’ ... OK
* checking extension type ... Package
* this is package ‘sesame’ version ‘1.20.0’
* package encoding: UTF-8
* checking package namespace information ... OK
* checking package dependencies ... OK
* checking if this is a source package ... OK
* checking if there is a namespace ... OK
* checking for hidden files and directories ... OK
* checking for portable file names ... OK
* checking for sufficient/correct file permissions ... OK
* checking whether package ‘sesame’ can be installed ... OK
* checking installed package size ... OK
* checking package directory ... OK
* checking ‘build’ directory ... OK
* checking DESCRIPTION meta-information ... OK
* checking top-level files ... OK
* checking for left-over files ... OK
* checking index information ... OK
* checking package subdirectories ... OK
* checking R files for non-ASCII characters ... OK
* checking R files for syntax errors ... OK
* checking whether the package can be loaded ... OK
* checking whether the package can be loaded with stated dependencies ... OK
* checking whether the package can be unloaded cleanly ... OK
* checking whether the namespace can be loaded with stated dependencies ... OK
* checking whether the namespace can be unloaded cleanly ... OK
* checking startup messages can be suppressed ... OK
* checking dependencies in R code ... OK
* checking S3 generic/method consistency ... OK
* checking replacement functions ... OK
* checking foreign function calls ... OK
* checking R code for possible problems ... OK
* checking Rd files ... OK
* checking Rd metadata ... OK
* checking Rd cross-references ... OK
* checking for missing documentation entries ... OK
* checking for code/documentation mismatches ... OK
* checking Rd \usage sections ... OK
* checking Rd contents ... OK
* checking for unstated dependencies in examples ... OK
* checking files in ‘vignettes’ ... OK
* checking examples ... OK
Examples with CPU (user + system) or elapsed time > 5s
user system elapsed
testEnrichmentGene 175.219 5.528 195.484
KYCG_plotEnrichAll 28.014 1.141 33.895
KYCG_plotMeta 25.915 1.285 30.406
sesameQC_calcStats 25.174 1.374 28.439
sesameQC_plotHeatSNPs 23.300 1.990 26.979
inferSpecies 22.619 0.961 26.196
convertTo 22.482 0.590 24.576
sesameQC_plotBar 21.381 0.686 24.238
matchDesign 19.801 1.083 22.329
ELBAR 15.999 3.359 20.070
testEnrichmentSEA 17.133 0.927 19.658
KYCG_annoProbes 17.022 0.608 19.269
diffRefSet 16.795 0.691 19.402
getRefSet 16.168 0.606 18.746
visualizeGene 15.280 0.489 17.284
KYCG_plotMetaEnrichment 14.284 0.628 16.928
KYCG_buildGeneDBs 14.019 0.429 15.394
getSexInfo 13.664 0.784 16.235
inferTissue 12.646 0.852 15.362
compareMouseStrainReference 12.314 0.476 14.292
compareReference 12.210 0.467 13.556
sesameQC_plotBetaByDesign 11.295 1.041 12.942
sdf_read_table 11.225 0.468 13.444
dyeBiasCorrMostBalanced 11.032 0.297 12.841
estimateLeukocyte 10.583 0.493 12.543
DMR 10.109 0.267 11.676
inferStrain 9.274 0.812 11.378
DML 8.386 0.846 10.253
createUCSCtrack 8.868 0.291 10.501
dbStats 8.280 0.593 9.975
probeSuccessRate 8.117 0.565 10.598
testEnrichment 7.941 0.704 10.112
bisConversionControl 8.027 0.283 9.803
getMask 7.597 0.437 10.191
KYCG_plotSetEnrichment 6.572 0.573 8.283
dyeBiasNL 6.382 0.714 8.172
deidentify 6.319 0.493 7.862
visualizeProbes 6.433 0.152 7.093
openSesame 6.131 0.450 7.923
inferSex 5.741 0.466 7.306
prepSesame 5.644 0.539 6.873
mapToMammal40 5.573 0.422 7.057
reIdentify 5.329 0.246 6.300
scrubSoft 3.950 1.138 5.378
qualityMask 4.625 0.414 6.073
parseGEOsignalMU 4.565 0.321 5.539
KYCG_plotPointRange 4.657 0.201 5.518
inferSexKaryotypes 4.575 0.271 5.486
summaryExtractTest 4.193 0.439 5.659
sesameQC_rankStats 4.038 0.516 5.545
totalIntensities 4.041 0.244 5.108
updateSigDF 3.878 0.245 5.196
KYCG_getDBs 3.853 0.234 5.140
* checking for unstated dependencies in ‘tests’ ... OK
* checking tests ...
Running ‘testthat.R’
OK
* checking for unstated dependencies in vignettes ... OK
* checking package vignettes in ‘inst/doc’ ... OK
* checking running R code from vignettes ... SKIPPED
* checking re-building of vignette outputs ... SKIPPED
* checking PDF version of manual ... OK
* DONE
Status: OK
sesame.Rcheck/00install.out
############################################################################## ############################################################################## ### ### Running command: ### ### /Library/Frameworks/R.framework/Resources/bin/R CMD INSTALL sesame ### ############################################################################## ############################################################################## * installing to library ‘/Library/Frameworks/R.framework/Versions/4.3-arm64/Resources/library’ * installing *source* package ‘sesame’ ... ** using staged installation ** R ** inst ** byte-compile and prepare package for lazy loading ** help *** installing help indices ** building package indices ** installing vignettes ** testing if installed package can be loaded from temporary location ** testing if installed package can be loaded from final location ** testing if installed package keeps a record of temporary installation path * DONE (sesame)
sesame.Rcheck/tests/testthat.Rout
R version 4.3.3 (2024-02-29) -- "Angel Food Cake"
Copyright (C) 2024 The R Foundation for Statistical Computing
Platform: aarch64-apple-darwin20 (64-bit)
R is free software and comes with ABSOLUTELY NO WARRANTY.
You are welcome to redistribute it under certain conditions.
Type 'license()' or 'licence()' for distribution details.
R is a collaborative project with many contributors.
Type 'contributors()' for more information and
'citation()' on how to cite R or R packages in publications.
Type 'demo()' for some demos, 'help()' for on-line help, or
'help.start()' for an HTML browser interface to help.
Type 'q()' to quit R.
> library(testthat)
> library(sesame)
Loading required package: sesameData
Loading required package: ExperimentHub
Loading required package: BiocGenerics
Attaching package: 'BiocGenerics'
The following objects are masked from 'package:stats':
IQR, mad, sd, var, xtabs
The following objects are masked from 'package:base':
Filter, Find, Map, Position, Reduce, anyDuplicated, aperm, append,
as.data.frame, basename, cbind, colnames, dirname, do.call,
duplicated, eval, evalq, get, grep, grepl, intersect, is.unsorted,
lapply, mapply, match, mget, order, paste, pmax, pmax.int, pmin,
pmin.int, rank, rbind, rownames, sapply, setdiff, sort, table,
tapply, union, unique, unsplit, which.max, which.min
Loading required package: AnnotationHub
Loading required package: BiocFileCache
Loading required package: dbplyr
Loading sesameData.
----------------------------------------------------------
| SEnsible Step-wise Analysis of DNA MEthylation (SeSAMe)
| --------------------------------------------------------
| Please cache auxiliary data by "sesameDataCache()".
| This needs to be done only once per SeSAMe installation.
----------------------------------------------------------
>
> test_check("sesame")
[ FAIL 0 | WARN 0 | SKIP 0 | PASS 1 ]
>
> proc.time()
user system elapsed
25.984 1.506 28.791
sesame.Rcheck/sesame-Ex.timings
| name | user | system | elapsed | |
| BetaValueToMValue | 0.000 | 0.000 | 0.001 | |
| DML | 8.386 | 0.846 | 10.253 | |
| DMLpredict | 1.460 | 0.099 | 1.927 | |
| DMR | 10.109 | 0.267 | 11.676 | |
| ELBAR | 15.999 | 3.359 | 20.070 | |
| KYCG_annoProbes | 17.022 | 0.608 | 19.269 | |
| KYCG_buildGeneDBs | 14.019 | 0.429 | 15.394 | |
| KYCG_getDBs | 3.853 | 0.234 | 5.140 | |
| KYCG_listDBGroups | 0.038 | 0.002 | 0.040 | |
| KYCG_loadDBs | 0 | 0 | 0 | |
| KYCG_plotBar | 0.244 | 0.020 | 0.271 | |
| KYCG_plotDot | 0.480 | 0.051 | 0.571 | |
| KYCG_plotEnrichAll | 28.014 | 1.141 | 33.895 | |
| KYCG_plotLollipop | 0.165 | 0.008 | 0.186 | |
| KYCG_plotManhattan | 1.849 | 0.082 | 2.045 | |
| KYCG_plotMeta | 25.915 | 1.285 | 30.406 | |
| KYCG_plotMetaEnrichment | 14.284 | 0.628 | 16.928 | |
| KYCG_plotPointRange | 4.657 | 0.201 | 5.518 | |
| KYCG_plotSetEnrichment | 6.572 | 0.573 | 8.283 | |
| KYCG_plotVolcano | 0.154 | 0.005 | 0.171 | |
| KYCG_plotWaterfall | 3.045 | 0.237 | 3.862 | |
| MValueToBetaValue | 0 | 0 | 0 | |
| SigDF | 0.303 | 0.048 | 0.738 | |
| addMask | 0.062 | 0.011 | 0.073 | |
| aggregateTestEnrichments | 1.896 | 0.229 | 2.244 | |
| betasCollapseToPfx | 0.002 | 0.000 | 0.003 | |
| bisConversionControl | 8.027 | 0.283 | 9.803 | |
| calcEffectSize | 3.093 | 0.133 | 3.783 | |
| checkLevels | 3.845 | 0.256 | 4.663 | |
| cnSegmentation | 0.306 | 0.043 | 0.731 | |
| compareMouseStrainReference | 12.314 | 0.476 | 14.292 | |
| compareMouseTissueReference | 0 | 0 | 0 | |
| compareReference | 12.210 | 0.467 | 13.556 | |
| controls | 2.628 | 0.171 | 3.563 | |
| convertTo | 22.482 | 0.590 | 24.576 | |
| createUCSCtrack | 8.868 | 0.291 | 10.501 | |
| dataFrame2sesameQC | 1.320 | 0.121 | 1.825 | |
| dbStats | 8.280 | 0.593 | 9.975 | |
| deidentify | 6.319 | 0.493 | 7.862 | |
| detectionPnegEcdf | 3.605 | 0.150 | 4.298 | |
| diffRefSet | 16.795 | 0.691 | 19.402 | |
| dmContrasts | 2.484 | 0.128 | 3.146 | |
| dyeBiasCorr | 3.468 | 0.252 | 4.675 | |
| dyeBiasCorrMostBalanced | 11.032 | 0.297 | 12.841 | |
| dyeBiasL | 2.630 | 0.246 | 3.485 | |
| dyeBiasNL | 6.382 | 0.714 | 8.172 | |
| estimateLeukocyte | 10.583 | 0.493 | 12.543 | |
| formatVCF | 2.804 | 0.184 | 3.880 | |
| getAFTypeIbySumAlleles | 2.488 | 0.208 | 3.813 | |
| getAFs | 1.393 | 0.233 | 2.112 | |
| getBetas | 0.770 | 0.140 | 1.419 | |
| getMask | 7.597 | 0.437 | 10.191 | |
| getRefSet | 16.168 | 0.606 | 18.746 | |
| getSexInfo | 13.664 | 0.784 | 16.235 | |
| imputeTo | 2.239 | 0.183 | 2.907 | |
| inferEthnicity | 2.702 | 0.227 | 3.484 | |
| inferInfiniumIChannel | 0.474 | 0.457 | 0.998 | |
| inferSex | 5.741 | 0.466 | 7.306 | |
| inferSexKaryotypes | 4.575 | 0.271 | 5.486 | |
| inferSpecies | 22.619 | 0.961 | 26.196 | |
| inferStrain | 9.274 | 0.812 | 11.378 | |
| inferTissue | 12.646 | 0.852 | 15.362 | |
| initFileSet | 1.450 | 0.227 | 2.133 | |
| listAvailableMasks | 2.569 | 0.208 | 3.282 | |
| mapFileSet | 0.049 | 0.004 | 0.055 | |
| mapToMammal40 | 5.573 | 0.422 | 7.057 | |
| matchDesign | 19.801 | 1.083 | 22.329 | |
| meanIntensity | 3.406 | 0.369 | 4.739 | |
| medianTotalIntensity | 0.982 | 0.171 | 1.594 | |
| noMasked | 2.325 | 0.355 | 3.154 | |
| noob | 2.544 | 0.563 | 3.242 | |
| openSesame | 6.131 | 0.450 | 7.923 | |
| openSesameToFile | 1.664 | 0.099 | 1.904 | |
| pOOBAH | 1.641 | 0.087 | 1.828 | |
| palgen | 0.054 | 0.008 | 0.067 | |
| parseGEOsignalMU | 4.565 | 0.321 | 5.539 | |
| predictAge | 3.463 | 0.120 | 4.151 | |
| predictAgeHorvath353 | 0.001 | 0.000 | 0.001 | |
| predictAgeSkinBlood | 0.000 | 0.001 | 0.001 | |
| predictMouseAgeInMonth | 0 | 0 | 0 | |
| prefixMask | 0.591 | 0.006 | 0.622 | |
| prefixMaskButC | 0.154 | 0.002 | 0.162 | |
| prefixMaskButCG | 0.055 | 0.002 | 0.060 | |
| prepSesame | 5.644 | 0.539 | 6.873 | |
| prepSesameList | 0.014 | 0.001 | 0.015 | |
| print.DMLSummary | 3.655 | 0.368 | 4.962 | |
| print.fileSet | 1.591 | 0.210 | 2.290 | |
| probeID_designType | 0.000 | 0.001 | 0.000 | |
| probeSuccessRate | 8.117 | 0.565 | 10.598 | |
| qualityMask | 4.625 | 0.414 | 6.073 | |
| reIdentify | 5.329 | 0.246 | 6.300 | |
| readFileSet | 0.088 | 0.005 | 0.100 | |
| readIDATpair | 0.140 | 0.011 | 0.158 | |
| recommendedMaskNames | 0 | 0 | 0 | |
| resetMask | 0.397 | 0.048 | 0.834 | |
| scrub | 2.904 | 0.758 | 3.824 | |
| scrubSoft | 3.950 | 1.138 | 5.378 | |
| sdfPlatform | 0.328 | 0.056 | 0.772 | |
| sdf_read_table | 11.225 | 0.468 | 13.444 | |
| sdf_write_table | 3.000 | 0.147 | 3.953 | |
| searchIDATprefixes | 0.003 | 0.002 | 0.006 | |
| sesame-package | 2.940 | 0.279 | 4.118 | |
| sesameAnno_buildAddressFile | 0 | 0 | 0 | |
| sesameAnno_buildManifestGRanges | 0.000 | 0.001 | 0.001 | |
| sesameAnno_download | 0.000 | 0.000 | 0.001 | |
| sesameAnno_get | 0.000 | 0.000 | 0.001 | |
| sesameAnno_readManifestTSV | 0 | 0 | 0 | |
| sesameData_getAnno | 0.000 | 0.000 | 0.001 | |
| sesameQC_calcStats | 25.174 | 1.374 | 28.439 | |
| sesameQC_getStats | 2.642 | 0.097 | 2.900 | |
| sesameQC_plotBar | 21.381 | 0.686 | 24.238 | |
| sesameQC_plotBetaByDesign | 11.295 | 1.041 | 12.942 | |
| sesameQC_plotHeatSNPs | 23.300 | 1.990 | 26.979 | |
| sesameQC_plotIntensVsBetas | 2.214 | 0.194 | 3.351 | |
| sesameQC_plotRedGrnQQ | 1.430 | 0.117 | 2.268 | |
| sesameQC_rankStats | 4.038 | 0.516 | 5.545 | |
| sesame_checkVersion | 0.003 | 0.000 | 0.004 | |
| sesamize | 0 | 0 | 0 | |
| setMask | 0.078 | 0.014 | 0.094 | |
| signalMU | 0.865 | 0.133 | 1.633 | |
| sliceFileSet | 0.049 | 0.004 | 0.057 | |
| summaryExtractTest | 4.193 | 0.439 | 5.659 | |
| testEnrichment | 7.941 | 0.704 | 10.112 | |
| testEnrichmentGene | 175.219 | 5.528 | 195.484 | |
| testEnrichmentSEA | 17.133 | 0.927 | 19.658 | |
| totalIntensities | 4.041 | 0.244 | 5.108 | |
| updateSigDF | 3.878 | 0.245 | 5.196 | |
| visualizeGene | 15.280 | 0.489 | 17.284 | |
| visualizeProbes | 6.433 | 0.152 | 7.093 | |
| visualizeRegion | 0.376 | 0.013 | 0.392 | |
| visualizeSegments | 3.106 | 0.356 | 3.971 | |