| Back to Mac ARM64 build report for BioC 3.18 |
|
This page was generated on 2024-04-18 11:32:16 -0400 (Thu, 18 Apr 2024).
| Hostname | OS | Arch (*) | R version | Installed pkgs |
|---|---|---|---|---|
| kjohnson1 | macOS 13.6.1 Ventura | arm64 | 4.3.3 (2024-02-29) -- "Angel Food Cake" | 4388 |
| Click on any hostname to see more info about the system (e.g. compilers) (*) as reported by 'uname -p', except on Windows and Mac OS X | ||||
| Package 1678/2266 | Hostname | OS / Arch | INSTALL | BUILD | CHECK | BUILD BIN | ||||||||
| RcisTarget 1.22.0 (landing page) Sara Aibar
| kjohnson1 | macOS 13.6.1 Ventura / arm64 | OK | OK | OK | OK | ||||||||
|
To the developers/maintainers of the RcisTarget package: - Use the following Renviron settings to reproduce errors and warnings. - If 'R CMD check' started to fail recently on the Linux builder(s) over a missing dependency, add the missing dependency to 'Suggests:' in your DESCRIPTION file. See Renviron.bioc for more information. |
| Package: RcisTarget |
| Version: 1.22.0 |
| Command: /Library/Frameworks/R.framework/Resources/bin/R CMD check --install=check:RcisTarget.install-out.txt --library=/Library/Frameworks/R.framework/Resources/library --no-vignettes --timings RcisTarget_1.22.0.tar.gz |
| StartedAt: 2024-04-18 00:29:00 -0400 (Thu, 18 Apr 2024) |
| EndedAt: 2024-04-18 00:38:22 -0400 (Thu, 18 Apr 2024) |
| EllapsedTime: 562.2 seconds |
| RetCode: 0 |
| Status: OK |
| CheckDir: RcisTarget.Rcheck |
| Warnings: 0 |
##############################################################################
##############################################################################
###
### Running command:
###
### /Library/Frameworks/R.framework/Resources/bin/R CMD check --install=check:RcisTarget.install-out.txt --library=/Library/Frameworks/R.framework/Resources/library --no-vignettes --timings RcisTarget_1.22.0.tar.gz
###
##############################################################################
##############################################################################
* using log directory ‘/Users/biocbuild/bbs-3.18-bioc-mac-arm64/meat/RcisTarget.Rcheck’
* using R version 4.3.3 (2024-02-29)
* using platform: aarch64-apple-darwin20 (64-bit)
* R was compiled by
Apple clang version 14.0.0 (clang-1400.0.29.202)
GNU Fortran (GCC) 12.2.0
* running under: macOS Ventura 13.6.1
* using session charset: UTF-8
* using option ‘--no-vignettes’
* checking for file ‘RcisTarget/DESCRIPTION’ ... OK
* checking extension type ... Package
* this is package ‘RcisTarget’ version ‘1.22.0’
* checking package namespace information ... OK
* checking package dependencies ... OK
* checking if this is a source package ... OK
* checking if there is a namespace ... OK
* checking for hidden files and directories ... OK
* checking for portable file names ... OK
* checking for sufficient/correct file permissions ... OK
* checking whether package ‘RcisTarget’ can be installed ... OK
* checking installed package size ... NOTE
installed size is 12.0Mb
sub-directories of 1Mb or more:
data 11.4Mb
* checking package directory ... OK
* checking ‘build’ directory ... OK
* checking DESCRIPTION meta-information ... OK
* checking top-level files ... OK
* checking for left-over files ... OK
* checking index information ... OK
* checking package subdirectories ... OK
* checking R files for non-ASCII characters ... OK
* checking R files for syntax errors ... OK
* checking whether the package can be loaded ... OK
* checking whether the package can be loaded with stated dependencies ... OK
* checking whether the package can be unloaded cleanly ... OK
* checking whether the namespace can be loaded with stated dependencies ... OK
* checking whether the namespace can be unloaded cleanly ... OK
* checking dependencies in R code ... OK
* checking S3 generic/method consistency ... OK
* checking replacement functions ... OK
* checking foreign function calls ... OK
* checking R code for possible problems ... OK
* checking Rd files ... OK
* checking Rd metadata ... OK
* checking Rd cross-references ... OK
* checking for missing documentation entries ... OK
* checking for code/documentation mismatches ... OK
* checking Rd \usage sections ... OK
* checking Rd contents ... OK
* checking for unstated dependencies in examples ... OK
* checking contents of ‘data’ directory ... OK
* checking data for non-ASCII characters ... OK
* checking data for ASCII and uncompressed saves ... OK
* checking files in ‘vignettes’ ... OK
* checking examples ... OK
Examples with CPU (user + system) or elapsed time > 5s
user system elapsed
addMotifAnnotation 27.036 0.594 27.713
addSignificantGenes 22.340 2.014 24.691
aucScores-class 14.268 0.587 16.087
getMotifAnnotation 14.199 0.640 15.003
reRank 12.289 0.576 13.118
rankingRcisTarget-class 10.964 0.318 11.591
* checking for unstated dependencies in ‘tests’ ... OK
* checking tests ...
Running ‘testthat.R’
OK
* checking for unstated dependencies in vignettes ... OK
* checking package vignettes in ‘inst/doc’ ... OK
* checking running R code from vignettes ... SKIPPED
* checking re-building of vignette outputs ... SKIPPED
* checking PDF version of manual ... OK
* DONE
Status: 1 NOTE
See
‘/Users/biocbuild/bbs-3.18-bioc-mac-arm64/meat/RcisTarget.Rcheck/00check.log’
for details.
RcisTarget.Rcheck/00install.out
############################################################################## ############################################################################## ### ### Running command: ### ### /Library/Frameworks/R.framework/Resources/bin/R CMD INSTALL RcisTarget ### ############################################################################## ############################################################################## * installing to library ‘/Library/Frameworks/R.framework/Versions/4.3-arm64/Resources/library’ * installing *source* package ‘RcisTarget’ ... ** using staged installation ** R ** data ** inst ** byte-compile and prepare package for lazy loading ** help *** installing help indices ** building package indices ** installing vignettes ** testing if installed package can be loaded from temporary location ** testing if installed package can be loaded from final location ** testing if installed package keeps a record of temporary installation path * DONE (RcisTarget)
RcisTarget.Rcheck/tests/testthat.Rout
R version 4.3.3 (2024-02-29) -- "Angel Food Cake"
Copyright (C) 2024 The R Foundation for Statistical Computing
Platform: aarch64-apple-darwin20 (64-bit)
R is free software and comes with ABSOLUTELY NO WARRANTY.
You are welcome to redistribute it under certain conditions.
Type 'license()' or 'licence()' for distribution details.
R is a collaborative project with many contributors.
Type 'contributors()' for more information and
'citation()' on how to cite R or R packages in publications.
Type 'demo()' for some demos, 'help()' for on-line help, or
'help.start()' for an HTML browser interface to help.
Type 'q()' to quit R.
> library(testthat)
> library(RcisTarget)
>
> test_check("RcisTarget")
[ FAIL 0 | WARN 0 | SKIP 0 | PASS 58 ]
>
> proc.time()
user system elapsed
53.938 6.232 61.488
RcisTarget.Rcheck/RcisTarget-Ex.timings
| name | user | system | elapsed | |
| RcisTarget | 0.171 | 0.037 | 0.213 | |
| addLogo | 0.109 | 0.022 | 0.132 | |
| addMotifAnnotation | 27.036 | 0.594 | 27.713 | |
| addSignificantGenes | 22.340 | 2.014 | 24.691 | |
| aucScores-class | 14.268 | 0.587 | 16.087 | |
| calcAUC | 0.000 | 0.001 | 0.000 | |
| convertToTargetRegions | 0 | 0 | 0 | |
| getDbRegionsLoc | 0.000 | 0.001 | 0.000 | |
| getMotifAnnotation | 14.199 | 0.640 | 15.003 | |
| importAnnotations | 1.318 | 0.013 | 1.339 | |
| importRankings | 1.070 | 0.009 | 1.109 | |
| rankingRcisTarget-class | 10.964 | 0.318 | 11.591 | |
| reRank | 12.289 | 0.576 | 13.118 | |
| showLogo | 0.043 | 0.016 | 0.060 | |