Back to Mac ARM64 build report for BioC 3.18 |
|
This page was generated on 2024-04-18 11:32:12 -0400 (Thu, 18 Apr 2024).
Hostname | OS | Arch (*) | R version | Installed pkgs |
---|---|---|---|---|
kjohnson1 | macOS 13.6.1 Ventura | arm64 | 4.3.3 (2024-02-29) -- "Angel Food Cake" | 4388 |
Click on any hostname to see more info about the system (e.g. compilers) (*) as reported by 'uname -p', except on Windows and Mac OS X |
Package 1075/2266 | Hostname | OS / Arch | INSTALL | BUILD | CHECK | BUILD BIN | ||||||||
kebabs 1.36.0 (landing page) Ulrich Bodenhofer
| kjohnson1 | macOS 13.6.1 Ventura / arm64 | OK | OK | OK | OK | ||||||||
To the developers/maintainers of the kebabs package: - Use the following Renviron settings to reproduce errors and warnings. - If 'R CMD check' started to fail recently on the Linux builder(s) over a missing dependency, add the missing dependency to 'Suggests:' in your DESCRIPTION file. See Renviron.bioc for more information. |
Package: kebabs |
Version: 1.36.0 |
Command: /Library/Frameworks/R.framework/Resources/bin/R CMD check --install=check:kebabs.install-out.txt --library=/Library/Frameworks/R.framework/Resources/library --no-vignettes --timings kebabs_1.36.0.tar.gz |
StartedAt: 2024-04-17 17:39:02 -0400 (Wed, 17 Apr 2024) |
EndedAt: 2024-04-17 17:42:47 -0400 (Wed, 17 Apr 2024) |
EllapsedTime: 224.7 seconds |
RetCode: 0 |
Status: OK |
CheckDir: kebabs.Rcheck |
Warnings: 0 |
############################################################################## ############################################################################## ### ### Running command: ### ### /Library/Frameworks/R.framework/Resources/bin/R CMD check --install=check:kebabs.install-out.txt --library=/Library/Frameworks/R.framework/Resources/library --no-vignettes --timings kebabs_1.36.0.tar.gz ### ############################################################################## ############################################################################## * using log directory ‘/Users/biocbuild/bbs-3.18-bioc-mac-arm64/meat/kebabs.Rcheck’ * using R version 4.3.3 (2024-02-29) * using platform: aarch64-apple-darwin20 (64-bit) * R was compiled by Apple clang version 14.0.0 (clang-1400.0.29.202) GNU Fortran (GCC) 12.2.0 * running under: macOS Ventura 13.6.1 * using session charset: UTF-8 * using option ‘--no-vignettes’ * checking for file ‘kebabs/DESCRIPTION’ ... OK * checking extension type ... Package * this is package ‘kebabs’ version ‘1.36.0’ * checking package namespace information ... OK * checking package dependencies ... OK * checking if this is a source package ... OK * checking if there is a namespace ... OK * checking for hidden files and directories ... OK * checking for portable file names ... OK * checking for sufficient/correct file permissions ... OK * checking whether package ‘kebabs’ can be installed ... OK * used C compiler: ‘Apple clang version 15.0.0 (clang-1500.0.40.1)’ * used C++ compiler: ‘Apple clang version 15.0.0 (clang-1500.0.40.1)’ * used SDK: ‘MacOSX11.3.sdk’ * checking installed package size ... OK * checking package directory ... OK * checking ‘build’ directory ... OK * checking DESCRIPTION meta-information ... OK * checking top-level files ... OK * checking for left-over files ... OK * checking index information ... OK * checking package subdirectories ... OK * checking R files for non-ASCII characters ... OK * checking R files for syntax errors ... OK * checking whether the package can be loaded ... OK * checking whether the package can be loaded with stated dependencies ... OK * checking whether the package can be unloaded cleanly ... OK * checking whether the namespace can be loaded with stated dependencies ... OK * checking whether the namespace can be unloaded cleanly ... OK * checking startup messages can be suppressed ... OK * checking dependencies in R code ... OK * checking S3 generic/method consistency ... OK * checking replacement functions ... OK * checking foreign function calls ... OK * checking R code for possible problems ... OK * checking Rd files ... OK * checking Rd metadata ... OK * checking Rd cross-references ... OK * checking for missing documentation entries ... OK * checking for code/documentation mismatches ... OK * checking Rd \usage sections ... OK * checking Rd contents ... OK * checking for unstated dependencies in examples ... OK * checking contents of ‘data’ directory ... OK * checking data for non-ASCII characters ... OK * checking data for ASCII and uncompressed saves ... OK * checking line endings in C/C++/Fortran sources/headers ... OK * checking line endings in Makefiles ... OK * checking compilation flags in Makevars ... OK * checking for GNU extensions in Makefiles ... OK * checking for portable use of $(BLAS_LIBS) and $(LAPACK_LIBS) ... OK * checking use of PKG_*FLAGS in Makefiles ... OK * checking compiled code ... NOTE Note: information on .o files is not available * checking sizes of PDF files under ‘inst/doc’ ... OK * checking files in ‘vignettes’ ... OK * checking examples ... OK Examples with CPU (user + system) or elapsed time > 5s user system elapsed performModelSelection 14.627 2.310 17.003 performGridSearch 6.857 0.877 7.745 LinearKernel 6.373 0.028 6.410 * checking for unstated dependencies in vignettes ... OK * checking package vignettes in ‘inst/doc’ ... OK * checking running R code from vignettes ... SKIPPED * checking re-building of vignette outputs ... SKIPPED * checking PDF version of manual ... OK * DONE Status: 1 NOTE See ‘/Users/biocbuild/bbs-3.18-bioc-mac-arm64/meat/kebabs.Rcheck/00check.log’ for details.
kebabs.Rcheck/00install.out
############################################################################## ############################################################################## ### ### Running command: ### ### /Library/Frameworks/R.framework/Resources/bin/R CMD INSTALL kebabs ### ############################################################################## ############################################################################## * installing to library ‘/Library/Frameworks/R.framework/Versions/4.3-arm64/Resources/library’ * installing *source* package ‘kebabs’ ... ** using staged installation ** libs using C compiler: ‘Apple clang version 15.0.0 (clang-1500.0.40.1)’ using C++ compiler: ‘Apple clang version 15.0.0 (clang-1500.0.40.1)’ using SDK: ‘MacOSX11.3.sdk’ clang -arch arm64 -I"/Library/Frameworks/R.framework/Resources/include" -DNDEBUG -DSTRICT_R_HEADERS -I'/Library/Frameworks/R.framework/Versions/4.3-arm64/Resources/library/IRanges/include' -I'/Library/Frameworks/R.framework/Versions/4.3-arm64/Resources/library/XVector/include' -I'/Library/Frameworks/R.framework/Versions/4.3-arm64/Resources/library/Biostrings/include' -I'/Library/Frameworks/R.framework/Versions/4.3-arm64/Resources/library/Rcpp/include' -I'/Library/Frameworks/R.framework/Versions/4.3-arm64/Resources/library/S4Vectors/include' -I/opt/R/arm64/include -fPIC -falign-functions=64 -Wall -g -O2 -c Biostrings_stubs.c -o Biostrings_stubs.o clang -arch arm64 -I"/Library/Frameworks/R.framework/Resources/include" -DNDEBUG -DSTRICT_R_HEADERS -I'/Library/Frameworks/R.framework/Versions/4.3-arm64/Resources/library/IRanges/include' -I'/Library/Frameworks/R.framework/Versions/4.3-arm64/Resources/library/XVector/include' -I'/Library/Frameworks/R.framework/Versions/4.3-arm64/Resources/library/Biostrings/include' -I'/Library/Frameworks/R.framework/Versions/4.3-arm64/Resources/library/Rcpp/include' -I'/Library/Frameworks/R.framework/Versions/4.3-arm64/Resources/library/S4Vectors/include' -I/opt/R/arm64/include -fPIC -falign-functions=64 -Wall -g -O2 -c ByteStringVector.c -o ByteStringVector.o clang++ -arch arm64 -std=gnu++17 -I"/Library/Frameworks/R.framework/Resources/include" -DNDEBUG -DSTRICT_R_HEADERS -I'/Library/Frameworks/R.framework/Versions/4.3-arm64/Resources/library/IRanges/include' -I'/Library/Frameworks/R.framework/Versions/4.3-arm64/Resources/library/XVector/include' -I'/Library/Frameworks/R.framework/Versions/4.3-arm64/Resources/library/Biostrings/include' -I'/Library/Frameworks/R.framework/Versions/4.3-arm64/Resources/library/Rcpp/include' -I'/Library/Frameworks/R.framework/Versions/4.3-arm64/Resources/library/S4Vectors/include' -I/opt/R/arm64/include -fPIC -falign-functions=64 -Wall -g -O2 -c ExplicitRepC.cpp -o ExplicitRepC.o clang++ -arch arm64 -std=gnu++17 -I"/Library/Frameworks/R.framework/Resources/include" -DNDEBUG -DSTRICT_R_HEADERS -I'/Library/Frameworks/R.framework/Versions/4.3-arm64/Resources/library/IRanges/include' -I'/Library/Frameworks/R.framework/Versions/4.3-arm64/Resources/library/XVector/include' -I'/Library/Frameworks/R.framework/Versions/4.3-arm64/Resources/library/Biostrings/include' -I'/Library/Frameworks/R.framework/Versions/4.3-arm64/Resources/library/Rcpp/include' -I'/Library/Frameworks/R.framework/Versions/4.3-arm64/Resources/library/S4Vectors/include' -I/opt/R/arm64/include -fPIC -falign-functions=64 -Wall -g -O2 -c FeatureWeightsPosDepC.cpp -o FeatureWeightsPosDepC.o clang++ -arch arm64 -std=gnu++17 -I"/Library/Frameworks/R.framework/Resources/include" -DNDEBUG -DSTRICT_R_HEADERS -I'/Library/Frameworks/R.framework/Versions/4.3-arm64/Resources/library/IRanges/include' -I'/Library/Frameworks/R.framework/Versions/4.3-arm64/Resources/library/XVector/include' -I'/Library/Frameworks/R.framework/Versions/4.3-arm64/Resources/library/Biostrings/include' -I'/Library/Frameworks/R.framework/Versions/4.3-arm64/Resources/library/Rcpp/include' -I'/Library/Frameworks/R.framework/Versions/4.3-arm64/Resources/library/S4Vectors/include' -I/opt/R/arm64/include -fPIC -falign-functions=64 -Wall -g -O2 -c GappyPairC.cpp -o GappyPairC.o clang -arch arm64 -I"/Library/Frameworks/R.framework/Resources/include" -DNDEBUG -DSTRICT_R_HEADERS -I'/Library/Frameworks/R.framework/Versions/4.3-arm64/Resources/library/IRanges/include' -I'/Library/Frameworks/R.framework/Versions/4.3-arm64/Resources/library/XVector/include' -I'/Library/Frameworks/R.framework/Versions/4.3-arm64/Resources/library/Biostrings/include' -I'/Library/Frameworks/R.framework/Versions/4.3-arm64/Resources/library/Rcpp/include' -I'/Library/Frameworks/R.framework/Versions/4.3-arm64/Resources/library/S4Vectors/include' -I/opt/R/arm64/include -fPIC -falign-functions=64 -Wall -g -O2 -c IRanges_stubs.c -o IRanges_stubs.o clang++ -arch arm64 -std=gnu++17 -I"/Library/Frameworks/R.framework/Resources/include" -DNDEBUG -DSTRICT_R_HEADERS -I'/Library/Frameworks/R.framework/Versions/4.3-arm64/Resources/library/IRanges/include' -I'/Library/Frameworks/R.framework/Versions/4.3-arm64/Resources/library/XVector/include' -I'/Library/Frameworks/R.framework/Versions/4.3-arm64/Resources/library/Biostrings/include' -I'/Library/Frameworks/R.framework/Versions/4.3-arm64/Resources/library/Rcpp/include' -I'/Library/Frameworks/R.framework/Versions/4.3-arm64/Resources/library/S4Vectors/include' -I/opt/R/arm64/include -fPIC -falign-functions=64 -Wall -g -O2 -c KernelUtils.cpp -o KernelUtils.o clang++ -arch arm64 -std=gnu++17 -I"/Library/Frameworks/R.framework/Resources/include" -DNDEBUG -DSTRICT_R_HEADERS -I'/Library/Frameworks/R.framework/Versions/4.3-arm64/Resources/library/IRanges/include' -I'/Library/Frameworks/R.framework/Versions/4.3-arm64/Resources/library/XVector/include' -I'/Library/Frameworks/R.framework/Versions/4.3-arm64/Resources/library/Biostrings/include' -I'/Library/Frameworks/R.framework/Versions/4.3-arm64/Resources/library/Rcpp/include' -I'/Library/Frameworks/R.framework/Versions/4.3-arm64/Resources/library/S4Vectors/include' -I/opt/R/arm64/include -fPIC -falign-functions=64 -Wall -g -O2 -c MismatchC.cpp -o MismatchC.o clang++ -arch arm64 -std=gnu++17 -I"/Library/Frameworks/R.framework/Resources/include" -DNDEBUG -DSTRICT_R_HEADERS -I'/Library/Frameworks/R.framework/Versions/4.3-arm64/Resources/library/IRanges/include' -I'/Library/Frameworks/R.framework/Versions/4.3-arm64/Resources/library/XVector/include' -I'/Library/Frameworks/R.framework/Versions/4.3-arm64/Resources/library/Biostrings/include' -I'/Library/Frameworks/R.framework/Versions/4.3-arm64/Resources/library/Rcpp/include' -I'/Library/Frameworks/R.framework/Versions/4.3-arm64/Resources/library/S4Vectors/include' -I/opt/R/arm64/include -fPIC -falign-functions=64 -Wall -g -O2 -c MotifC.cpp -o MotifC.o MotifC.cpp:2927:14: warning: variable 'dimFeatureSpace' set but not used [-Wunused-but-set-variable] uint64_t dimFeatureSpace; ^ MotifC.cpp:3511:41: warning: variable 'dimFeatureSpace' set but not used [-Wunused-but-set-variable] uint64_t keyPoolSize, poolNextFree, dimFeatureSpace; ^ 2 warnings generated. clang++ -arch arm64 -std=gnu++17 -I"/Library/Frameworks/R.framework/Resources/include" -DNDEBUG -DSTRICT_R_HEADERS -I'/Library/Frameworks/R.framework/Versions/4.3-arm64/Resources/library/IRanges/include' -I'/Library/Frameworks/R.framework/Versions/4.3-arm64/Resources/library/XVector/include' -I'/Library/Frameworks/R.framework/Versions/4.3-arm64/Resources/library/Biostrings/include' -I'/Library/Frameworks/R.framework/Versions/4.3-arm64/Resources/library/Rcpp/include' -I'/Library/Frameworks/R.framework/Versions/4.3-arm64/Resources/library/S4Vectors/include' -I/opt/R/arm64/include -fPIC -falign-functions=64 -Wall -g -O2 -c PredictionC.cpp -o PredictionC.o clang++ -arch arm64 -std=gnu++17 -I"/Library/Frameworks/R.framework/Resources/include" -DNDEBUG -DSTRICT_R_HEADERS -I'/Library/Frameworks/R.framework/Versions/4.3-arm64/Resources/library/IRanges/include' -I'/Library/Frameworks/R.framework/Versions/4.3-arm64/Resources/library/XVector/include' -I'/Library/Frameworks/R.framework/Versions/4.3-arm64/Resources/library/Biostrings/include' -I'/Library/Frameworks/R.framework/Versions/4.3-arm64/Resources/library/Rcpp/include' -I'/Library/Frameworks/R.framework/Versions/4.3-arm64/Resources/library/S4Vectors/include' -I/opt/R/arm64/include -fPIC -falign-functions=64 -Wall -g -O2 -c PredictionProfileC.cpp -o PredictionProfileC.o clang++ -arch arm64 -std=gnu++17 -I"/Library/Frameworks/R.framework/Resources/include" -DNDEBUG -DSTRICT_R_HEADERS -I'/Library/Frameworks/R.framework/Versions/4.3-arm64/Resources/library/IRanges/include' -I'/Library/Frameworks/R.framework/Versions/4.3-arm64/Resources/library/XVector/include' -I'/Library/Frameworks/R.framework/Versions/4.3-arm64/Resources/library/Biostrings/include' -I'/Library/Frameworks/R.framework/Versions/4.3-arm64/Resources/library/Rcpp/include' -I'/Library/Frameworks/R.framework/Versions/4.3-arm64/Resources/library/S4Vectors/include' -I/opt/R/arm64/include -fPIC -falign-functions=64 -Wall -g -O2 -c R_init_kebabs.cpp -o R_init_kebabs.o clang -arch arm64 -I"/Library/Frameworks/R.framework/Resources/include" -DNDEBUG -DSTRICT_R_HEADERS -I'/Library/Frameworks/R.framework/Versions/4.3-arm64/Resources/library/IRanges/include' -I'/Library/Frameworks/R.framework/Versions/4.3-arm64/Resources/library/XVector/include' -I'/Library/Frameworks/R.framework/Versions/4.3-arm64/Resources/library/Biostrings/include' -I'/Library/Frameworks/R.framework/Versions/4.3-arm64/Resources/library/Rcpp/include' -I'/Library/Frameworks/R.framework/Versions/4.3-arm64/Resources/library/S4Vectors/include' -I/opt/R/arm64/include -fPIC -falign-functions=64 -Wall -g -O2 -c Rsvm.c -o Rsvm.o clang++ -arch arm64 -std=gnu++17 -I"/Library/Frameworks/R.framework/Resources/include" -DNDEBUG -DSTRICT_R_HEADERS -I'/Library/Frameworks/R.framework/Versions/4.3-arm64/Resources/library/IRanges/include' -I'/Library/Frameworks/R.framework/Versions/4.3-arm64/Resources/library/XVector/include' -I'/Library/Frameworks/R.framework/Versions/4.3-arm64/Resources/library/Biostrings/include' -I'/Library/Frameworks/R.framework/Versions/4.3-arm64/Resources/library/Rcpp/include' -I'/Library/Frameworks/R.framework/Versions/4.3-arm64/Resources/library/S4Vectors/include' -I/opt/R/arm64/include -fPIC -falign-functions=64 -Wall -g -O2 -c SparseMatrixHash.cpp -o SparseMatrixHash.o clang++ -arch arm64 -std=gnu++17 -I"/Library/Frameworks/R.framework/Resources/include" -DNDEBUG -DSTRICT_R_HEADERS -I'/Library/Frameworks/R.framework/Versions/4.3-arm64/Resources/library/IRanges/include' -I'/Library/Frameworks/R.framework/Versions/4.3-arm64/Resources/library/XVector/include' -I'/Library/Frameworks/R.framework/Versions/4.3-arm64/Resources/library/Biostrings/include' -I'/Library/Frameworks/R.framework/Versions/4.3-arm64/Resources/library/Rcpp/include' -I'/Library/Frameworks/R.framework/Versions/4.3-arm64/Resources/library/S4Vectors/include' -I/opt/R/arm64/include -fPIC -falign-functions=64 -Wall -g -O2 -c SpectrumC.cpp -o SpectrumC.o clang++ -arch arm64 -std=gnu++17 -I"/Library/Frameworks/R.framework/Resources/include" -DNDEBUG -DSTRICT_R_HEADERS -I'/Library/Frameworks/R.framework/Versions/4.3-arm64/Resources/library/IRanges/include' -I'/Library/Frameworks/R.framework/Versions/4.3-arm64/Resources/library/XVector/include' -I'/Library/Frameworks/R.framework/Versions/4.3-arm64/Resources/library/Biostrings/include' -I'/Library/Frameworks/R.framework/Versions/4.3-arm64/Resources/library/Rcpp/include' -I'/Library/Frameworks/R.framework/Versions/4.3-arm64/Resources/library/S4Vectors/include' -I/opt/R/arm64/include -fPIC -falign-functions=64 -Wall -g -O2 -c SymmetricPairC.cpp -o SymmetricPairC.o clang++ -arch arm64 -std=gnu++17 -I"/Library/Frameworks/R.framework/Resources/include" -DNDEBUG -DSTRICT_R_HEADERS -I'/Library/Frameworks/R.framework/Versions/4.3-arm64/Resources/library/IRanges/include' -I'/Library/Frameworks/R.framework/Versions/4.3-arm64/Resources/library/XVector/include' -I'/Library/Frameworks/R.framework/Versions/4.3-arm64/Resources/library/Biostrings/include' -I'/Library/Frameworks/R.framework/Versions/4.3-arm64/Resources/library/Rcpp/include' -I'/Library/Frameworks/R.framework/Versions/4.3-arm64/Resources/library/S4Vectors/include' -I/opt/R/arm64/include -fPIC -falign-functions=64 -Wall -g -O2 -c Utils.cpp -o Utils.o clang -arch arm64 -I"/Library/Frameworks/R.framework/Resources/include" -DNDEBUG -DSTRICT_R_HEADERS -I'/Library/Frameworks/R.framework/Versions/4.3-arm64/Resources/library/IRanges/include' -I'/Library/Frameworks/R.framework/Versions/4.3-arm64/Resources/library/XVector/include' -I'/Library/Frameworks/R.framework/Versions/4.3-arm64/Resources/library/Biostrings/include' -I'/Library/Frameworks/R.framework/Versions/4.3-arm64/Resources/library/Rcpp/include' -I'/Library/Frameworks/R.framework/Versions/4.3-arm64/Resources/library/S4Vectors/include' -I/opt/R/arm64/include -fPIC -falign-functions=64 -Wall -g -O2 -c XVector_stubs.c -o XVector_stubs.o clang++ -arch arm64 -std=gnu++17 -I"/Library/Frameworks/R.framework/Resources/include" -DNDEBUG -DSTRICT_R_HEADERS -I'/Library/Frameworks/R.framework/Versions/4.3-arm64/Resources/library/IRanges/include' -I'/Library/Frameworks/R.framework/Versions/4.3-arm64/Resources/library/XVector/include' -I'/Library/Frameworks/R.framework/Versions/4.3-arm64/Resources/library/Biostrings/include' -I'/Library/Frameworks/R.framework/Versions/4.3-arm64/Resources/library/Rcpp/include' -I'/Library/Frameworks/R.framework/Versions/4.3-arm64/Resources/library/S4Vectors/include' -I/opt/R/arm64/include -fPIC -falign-functions=64 -Wall -g -O2 -c svm.cpp -o svm.o clang++ -arch arm64 -std=gnu++17 -dynamiclib -Wl,-headerpad_max_install_names -undefined dynamic_lookup -L/Library/Frameworks/R.framework/Resources/lib -L/opt/R/arm64/lib -o kebabs.so Biostrings_stubs.o ByteStringVector.o ExplicitRepC.o FeatureWeightsPosDepC.o GappyPairC.o IRanges_stubs.o KernelUtils.o MismatchC.o MotifC.o PredictionC.o PredictionProfileC.o R_init_kebabs.o Rsvm.o SparseMatrixHash.o SpectrumC.o SymmetricPairC.o Utils.o XVector_stubs.o svm.o -F/Library/Frameworks/R.framework/.. -framework R -Wl,-framework -Wl,CoreFoundation installing to /Library/Frameworks/R.framework/Versions/4.3-arm64/Resources/library/00LOCK-kebabs/00new/kebabs/libs ** R ** data ** inst ** byte-compile and prepare package for lazy loading ** help *** installing help indices ** building package indices ** installing vignettes ** testing if installed package can be loaded from temporary location ** checking absolute paths in shared objects and dynamic libraries ** testing if installed package can be loaded from final location ** testing if installed package keeps a record of temporary installation path * DONE (kebabs)
kebabs.Rcheck/kebabs-Ex.timings
name | user | system | elapsed | |
BioVector | 0.046 | 0.003 | 0.048 | |
CrossValidationResultAccessors | 0.001 | 0.001 | 0.002 | |
KBModelAccessors | 0.001 | 0.001 | 0.002 | |
KernelMatrixAccessors | 0.000 | 0.000 | 0.001 | |
LinearKernel | 6.373 | 0.028 | 6.410 | |
ModelSelectionResultAccessors | 0.000 | 0.001 | 0.001 | |
PredictionProfileAccessors | 0.002 | 0.001 | 0.002 | |
ROCDataAccessors | 0.001 | 0.000 | 0.001 | |
SVMAccess | 0.135 | 0.006 | 0.142 | |
annotationSpecificKernel | 0.197 | 0.007 | 0.209 | |
computeROCandAUC | 2.700 | 0.643 | 3.354 | |
evaluatePrediction | 0.847 | 0.102 | 0.961 | |
explicitRepresentation | 0.163 | 0.005 | 0.169 | |
featureWeights | 0.460 | 0.047 | 0.513 | |
gappyPairKernel | 0.007 | 0.001 | 0.008 | |
genRandBioSeqs | 0.053 | 0.001 | 0.053 | |
getPredProfMixture-methods | 3.394 | 0.137 | 3.559 | |
getPredictionProfile-methods | 1.273 | 0.042 | 1.316 | |
heatmap-methods | 0.554 | 0.024 | 0.581 | |
kbsvm-methods | 0.305 | 0.014 | 0.321 | |
kebabsCollectInfo | 0.065 | 0.006 | 0.071 | |
kebabsOverview | 0.452 | 0.036 | 0.487 | |
mismatchKernel | 0.007 | 0.001 | 0.008 | |
motifKernel | 0.007 | 0.000 | 0.008 | |
performCrossValidation-methods | 0.329 | 0.021 | 0.350 | |
performGridSearch | 6.857 | 0.877 | 7.745 | |
performModelSelection | 14.627 | 2.310 | 17.003 | |
plot-methods | 0.637 | 0.121 | 0.793 | |
positionDependentKernel | 0.011 | 0.004 | 0.015 | |
predict-methods | 0.282 | 0.051 | 0.390 | |
sequenceKernel | 0.051 | 0.003 | 0.055 | |
show-methods | 0.027 | 0.011 | 0.038 | |
spectrumKernel | 0.005 | 0.002 | 0.006 | |
symmetricPairKernel | 0.101 | 0.016 | 0.126 | |