| Back to Mac ARM64 build report for BioC 3.18 |
|
This page was generated on 2024-04-18 11:32:18 -0400 (Thu, 18 Apr 2024).
| Hostname | OS | Arch (*) | R version | Installed pkgs |
|---|---|---|---|---|
| kjohnson1 | macOS 13.6.1 Ventura | arm64 | 4.3.3 (2024-02-29) -- "Angel Food Cake" | 4388 |
| Click on any hostname to see more info about the system (e.g. compilers) (*) as reported by 'uname -p', except on Windows and Mac OS X | ||||
| Package 1877/2266 | Hostname | OS / Arch | INSTALL | BUILD | CHECK | BUILD BIN | ||||||||
| scHOT 1.14.0 (landing page) Shila Ghazanfar
| kjohnson1 | macOS 13.6.1 Ventura / arm64 | OK | OK | OK | OK | ||||||||
|
To the developers/maintainers of the scHOT package: - Use the following Renviron settings to reproduce errors and warnings. - If 'R CMD check' started to fail recently on the Linux builder(s) over a missing dependency, add the missing dependency to 'Suggests:' in your DESCRIPTION file. See Renviron.bioc for more information. |
| Package: scHOT |
| Version: 1.14.0 |
| Command: /Library/Frameworks/R.framework/Resources/bin/R CMD check --install=check:scHOT.install-out.txt --library=/Library/Frameworks/R.framework/Resources/library --no-vignettes --timings scHOT_1.14.0.tar.gz |
| StartedAt: 2024-04-18 02:56:28 -0400 (Thu, 18 Apr 2024) |
| EndedAt: 2024-04-18 03:01:35 -0400 (Thu, 18 Apr 2024) |
| EllapsedTime: 306.8 seconds |
| RetCode: 0 |
| Status: OK |
| CheckDir: scHOT.Rcheck |
| Warnings: 0 |
##############################################################################
##############################################################################
###
### Running command:
###
### /Library/Frameworks/R.framework/Resources/bin/R CMD check --install=check:scHOT.install-out.txt --library=/Library/Frameworks/R.framework/Resources/library --no-vignettes --timings scHOT_1.14.0.tar.gz
###
##############################################################################
##############################################################################
* using log directory ‘/Users/biocbuild/bbs-3.18-bioc-mac-arm64/meat/scHOT.Rcheck’
* using R version 4.3.3 (2024-02-29)
* using platform: aarch64-apple-darwin20 (64-bit)
* R was compiled by
Apple clang version 14.0.0 (clang-1400.0.29.202)
GNU Fortran (GCC) 12.2.0
* running under: macOS Ventura 13.6.1
* using session charset: UTF-8
* using option ‘--no-vignettes’
* checking for file ‘scHOT/DESCRIPTION’ ... OK
* checking extension type ... Package
* this is package ‘scHOT’ version ‘1.14.0’
* package encoding: UTF-8
* checking package namespace information ... OK
* checking package dependencies ... OK
* checking if this is a source package ... OK
* checking if there is a namespace ... OK
* checking for hidden files and directories ... OK
* checking for portable file names ... OK
* checking for sufficient/correct file permissions ... OK
* checking whether package ‘scHOT’ can be installed ... OK
* checking installed package size ... OK
* checking package directory ... OK
* checking ‘build’ directory ... OK
* checking DESCRIPTION meta-information ... OK
* checking top-level files ... OK
* checking for left-over files ... OK
* checking index information ... OK
* checking package subdirectories ... OK
* checking R files for non-ASCII characters ... OK
* checking R files for syntax errors ... OK
* checking whether the package can be loaded ... OK
* checking whether the package can be loaded with stated dependencies ... OK
* checking whether the package can be unloaded cleanly ... OK
* checking whether the namespace can be loaded with stated dependencies ... OK
* checking whether the namespace can be unloaded cleanly ... OK
* checking dependencies in R code ... OK
* checking S3 generic/method consistency ... OK
* checking replacement functions ... OK
* checking foreign function calls ... OK
* checking R code for possible problems ... OK
* checking Rd files ... OK
* checking Rd metadata ... OK
* checking Rd cross-references ... OK
* checking for missing documentation entries ... OK
* checking for code/documentation mismatches ... OK
* checking Rd \usage sections ... OK
* checking Rd contents ... OK
* checking for unstated dependencies in examples ... OK
* checking contents of ‘data’ directory ... OK
* checking data for non-ASCII characters ... OK
* checking LazyData ... OK
* checking data for ASCII and uncompressed saves ... OK
* checking files in ‘vignettes’ ... OK
* checking examples ... OK
Examples with CPU (user + system) or elapsed time > 5s
user system elapsed
scHOT_estimatePvalues 21.053 0.217 21.601
scHOT 20.963 0.211 21.787
scHOT_performPermutationTest 20.140 0.178 20.978
* checking for unstated dependencies in vignettes ... OK
* checking package vignettes in ‘inst/doc’ ... OK
* checking running R code from vignettes ... SKIPPED
* checking re-building of vignette outputs ... SKIPPED
* checking PDF version of manual ... OK
* DONE
Status: OK
scHOT.Rcheck/00install.out
############################################################################## ############################################################################## ### ### Running command: ### ### /Library/Frameworks/R.framework/Resources/bin/R CMD INSTALL scHOT ### ############################################################################## ############################################################################## * installing to library ‘/Library/Frameworks/R.framework/Versions/4.3-arm64/Resources/library’ * installing *source* package ‘scHOT’ ... ** using staged installation ** R ** data *** moving datasets to lazyload DB ** byte-compile and prepare package for lazy loading ** help *** installing help indices ** building package indices ** installing vignettes ** testing if installed package can be loaded from temporary location ** testing if installed package can be loaded from final location ** testing if installed package keeps a record of temporary installation path * DONE (scHOT)
scHOT.Rcheck/scHOT-Ex.timings
| name | user | system | elapsed | |
| params-set | 0.332 | 0.015 | 0.350 | |
| plotColouredExpression | 1.121 | 0.036 | 1.193 | |
| plotHigherOrderSequence | 2.464 | 0.042 | 2.564 | |
| positionColData-set | 0.157 | 0.005 | 0.162 | |
| positionType-set | 0.168 | 0.015 | 0.186 | |
| scHOT | 20.963 | 0.211 | 21.787 | |
| scHOT_addTestingScaffold | 0.167 | 0.004 | 0.171 | |
| scHOT_buildFromMatrix | 0.146 | 0.002 | 0.148 | |
| scHOT_buildFromSCE | 0.476 | 0.021 | 0.498 | |
| scHOT_calculateGlobalHigherOrderFunction | 0.237 | 0.010 | 0.248 | |
| scHOT_calculateHigherOrderTestStatistics | 0.471 | 0.012 | 0.489 | |
| scHOT_estimatePvalues | 21.053 | 0.217 | 21.601 | |
| scHOT_output-set | 0.152 | 0.002 | 0.156 | |
| scHOT_performPermutationTest | 20.140 | 0.178 | 20.978 | |
| scHOT_setPermutationScaffold | 0.242 | 0.007 | 0.256 | |
| scHOT_setWeightMatrix | 0.227 | 0.004 | 0.231 | |
| scHOT_stripOutput | 0.164 | 0.002 | 0.167 | |
| spatialWeightMatrix | 0.004 | 0.000 | 0.004 | |
| testingScaffold-set | 0.165 | 0.004 | 0.172 | |
| thin | 0.012 | 0.001 | 0.013 | |
| trajectoryWeightMatrix | 0.002 | 0.000 | 0.003 | |
| weightMatrix-set | 0.351 | 0.018 | 0.374 | |
| weightedPearson | 0.000 | 0.000 | 0.001 | |
| weightedSpearman | 0.001 | 0.000 | 0.001 | |
| weightedVariance | 0.000 | 0.000 | 0.001 | |
| weightedZIKendall | 0.002 | 0.000 | 0.002 | |
| weightedZISpearman | 0.001 | 0.001 | 0.001 | |