| Back to Mac ARM64 build report for BioC 3.18 |
|
This page was generated on 2024-04-18 11:32:20 -0400 (Thu, 18 Apr 2024).
| Hostname | OS | Arch (*) | R version | Installed pkgs |
|---|---|---|---|---|
| kjohnson1 | macOS 13.6.1 Ventura | arm64 | 4.3.3 (2024-02-29) -- "Angel Food Cake" | 4388 |
| Click on any hostname to see more info about the system (e.g. compilers) (*) as reported by 'uname -p', except on Windows and Mac OS X | ||||
| Package 2113/2266 | Hostname | OS / Arch | INSTALL | BUILD | CHECK | BUILD BIN | ||||||||
| TCGAutils 1.22.2 (landing page) Marcel Ramos
| kjohnson1 | macOS 13.6.1 Ventura / arm64 | OK | OK | OK | NA | ||||||||
|
To the developers/maintainers of the TCGAutils package: - Use the following Renviron settings to reproduce errors and warnings. - If 'R CMD check' started to fail recently on the Linux builder(s) over a missing dependency, add the missing dependency to 'Suggests:' in your DESCRIPTION file. See Renviron.bioc for more information. |
| Package: TCGAutils |
| Version: 1.22.2 |
| Command: /Library/Frameworks/R.framework/Resources/bin/R CMD check --install=check:TCGAutils.install-out.txt --library=/Library/Frameworks/R.framework/Resources/library --no-vignettes --timings TCGAutils_1.22.2.tar.gz |
| StartedAt: 2024-04-18 06:02:55 -0400 (Thu, 18 Apr 2024) |
| EndedAt: 2024-04-18 06:11:57 -0400 (Thu, 18 Apr 2024) |
| EllapsedTime: 541.9 seconds |
| RetCode: 0 |
| Status: OK |
| CheckDir: TCGAutils.Rcheck |
| Warnings: 0 |
##############################################################################
##############################################################################
###
### Running command:
###
### /Library/Frameworks/R.framework/Resources/bin/R CMD check --install=check:TCGAutils.install-out.txt --library=/Library/Frameworks/R.framework/Resources/library --no-vignettes --timings TCGAutils_1.22.2.tar.gz
###
##############################################################################
##############################################################################
* using log directory ‘/Users/biocbuild/bbs-3.18-bioc-mac-arm64/meat/TCGAutils.Rcheck’
* using R version 4.3.3 (2024-02-29)
* using platform: aarch64-apple-darwin20 (64-bit)
* R was compiled by
Apple clang version 14.0.0 (clang-1400.0.29.202)
GNU Fortran (GCC) 12.2.0
* running under: macOS Ventura 13.6.1
* using session charset: UTF-8
* using option ‘--no-vignettes’
* checking for file ‘TCGAutils/DESCRIPTION’ ... OK
* this is package ‘TCGAutils’ version ‘1.22.2’
* package encoding: UTF-8
* checking package namespace information ... OK
* checking package dependencies ... OK
* checking if this is a source package ... OK
* checking if there is a namespace ... OK
* checking for hidden files and directories ... OK
* checking for portable file names ... OK
* checking for sufficient/correct file permissions ... OK
* checking whether package ‘TCGAutils’ can be installed ... OK
* checking installed package size ... OK
* checking package directory ... OK
* checking ‘build’ directory ... OK
* checking DESCRIPTION meta-information ... OK
* checking top-level files ... OK
* checking for left-over files ... OK
* checking index information ... OK
* checking package subdirectories ... OK
* checking R files for non-ASCII characters ... OK
* checking R files for syntax errors ... OK
* checking whether the package can be loaded ... OK
* checking whether the package can be loaded with stated dependencies ... OK
* checking whether the package can be unloaded cleanly ... OK
* checking whether the namespace can be loaded with stated dependencies ... OK
* checking whether the namespace can be unloaded cleanly ... OK
* checking dependencies in R code ... NOTE
Unexported object imported by a ':::' call: ‘GenomicRanges:::.normarg_field’
See the note in ?`:::` about the use of this operator.
* checking S3 generic/method consistency ... OK
* checking replacement functions ... OK
* checking foreign function calls ... OK
* checking R code for possible problems ... OK
* checking Rd files ... OK
* checking Rd metadata ... OK
* checking Rd cross-references ... OK
* checking for missing documentation entries ... OK
* checking for code/documentation mismatches ... OK
* checking Rd \usage sections ... OK
* checking Rd contents ... OK
* checking for unstated dependencies in examples ... OK
* checking contents of ‘data’ directory ... OK
* checking data for non-ASCII characters ... OK
* checking data for ASCII and uncompressed saves ... OK
* checking files in ‘vignettes’ ... OK
* checking examples ... OK
Examples with CPU (user + system) or elapsed time > 5s
user system elapsed
simplifyTCGA 42.241 2.207 48.525
TCGAprimaryTumors 23.546 1.644 29.714
trimColData 19.695 1.132 24.447
imputeAssay 18.257 0.869 22.817
curatedTCGAData-helpers 18.050 0.857 22.628
oncoPrintTCGA 17.609 0.786 23.836
ID-translation 0.947 0.072 7.644
* checking for unstated dependencies in ‘tests’ ... OK
* checking tests ...
Running ‘testthat.R’
OK
* checking for unstated dependencies in vignettes ... OK
* checking package vignettes in ‘inst/doc’ ... OK
* checking running R code from vignettes ... SKIPPED
* checking re-building of vignette outputs ... SKIPPED
* checking PDF version of manual ... OK
* DONE
Status: 1 NOTE
See
‘/Users/biocbuild/bbs-3.18-bioc-mac-arm64/meat/TCGAutils.Rcheck/00check.log’
for details.
TCGAutils.Rcheck/00install.out
############################################################################## ############################################################################## ### ### Running command: ### ### /Library/Frameworks/R.framework/Resources/bin/R CMD INSTALL TCGAutils ### ############################################################################## ############################################################################## * installing to library ‘/Library/Frameworks/R.framework/Versions/4.3-arm64/Resources/library’ * installing *source* package ‘TCGAutils’ ... ** using staged installation ** R ** data ** inst ** byte-compile and prepare package for lazy loading ** help *** installing help indices ** building package indices ** installing vignettes ** testing if installed package can be loaded from temporary location ** testing if installed package can be loaded from final location ** testing if installed package keeps a record of temporary installation path * DONE (TCGAutils)
TCGAutils.Rcheck/tests/testthat.Rout
R version 4.3.3 (2024-02-29) -- "Angel Food Cake"
Copyright (C) 2024 The R Foundation for Statistical Computing
Platform: aarch64-apple-darwin20 (64-bit)
R is free software and comes with ABSOLUTELY NO WARRANTY.
You are welcome to redistribute it under certain conditions.
Type 'license()' or 'licence()' for distribution details.
R is a collaborative project with many contributors.
Type 'contributors()' for more information and
'citation()' on how to cite R or R packages in publications.
Type 'demo()' for some demos, 'help()' for on-line help, or
'help.start()' for an HTML browser interface to help.
Type 'q()' to quit R.
> library(testthat)
>
> library(TCGAutils)
>
> test_check("TCGAutils")
[ FAIL 0 | WARN 0 | SKIP 0 | PASS 49 ]
>
> proc.time()
user system elapsed
17.883 0.813 28.745
TCGAutils.Rcheck/TCGAutils-Ex.timings
| name | user | system | elapsed | |
| ID-translation | 0.947 | 0.072 | 7.644 | |
| TCGAbarcode | 0.001 | 0.000 | 0.002 | |
| TCGAbiospec | 0.051 | 0.006 | 0.060 | |
| TCGAprimaryTumors | 23.546 | 1.644 | 29.714 | |
| TCGAsampleSelect | 0.009 | 0.003 | 0.012 | |
| builds | 0.140 | 0.001 | 0.142 | |
| curatedTCGAData-helpers | 18.050 | 0.857 | 22.628 | |
| findGRangesCols | 0.002 | 0.000 | 0.002 | |
| generateMap | 0.031 | 0.001 | 0.032 | |
| getFileName | 0.031 | 0.004 | 0.761 | |
| imputeAssay | 18.257 | 0.869 | 22.817 | |
| makeGRangesListFromCopyNumber | 0.458 | 0.016 | 2.601 | |
| makeGRangesListFromExonFiles | 0.187 | 0.006 | 0.196 | |
| mergeColData | 0.304 | 0.014 | 0.318 | |
| oncoPrintTCGA | 17.609 | 0.786 | 23.836 | |
| simplifyTCGA | 42.241 | 2.207 | 48.525 | |
| trimColData | 19.695 | 1.132 | 24.447 | |