Back to Mac ARM64 build report for BioC 3.18 |
|
This page was generated on 2024-04-18 11:32:08 -0400 (Thu, 18 Apr 2024).
Hostname | OS | Arch (*) | R version | Installed pkgs |
---|---|---|---|---|
kjohnson1 | macOS 13.6.1 Ventura | arm64 | 4.3.3 (2024-02-29) -- "Angel Food Cake" | 4388 |
Click on any hostname to see more info about the system (e.g. compilers) (*) as reported by 'uname -p', except on Windows and Mac OS X |
Package 485/2266 | Hostname | OS / Arch | INSTALL | BUILD | CHECK | BUILD BIN | ||||||||
cytofQC 1.2.0 (landing page) Jill Lundell
| kjohnson1 | macOS 13.6.1 Ventura / arm64 | OK | OK | OK | OK | ![]() | |||||||
To the developers/maintainers of the cytofQC package: - Use the following Renviron settings to reproduce errors and warnings. - If 'R CMD check' started to fail recently on the Linux builder(s) over a missing dependency, add the missing dependency to 'Suggests:' in your DESCRIPTION file. See Renviron.bioc for more information. |
Package: cytofQC |
Version: 1.2.0 |
Command: /Library/Frameworks/R.framework/Resources/bin/R CMD check --install=check:cytofQC.install-out.txt --library=/Library/Frameworks/R.framework/Resources/library --no-vignettes --timings cytofQC_1.2.0.tar.gz |
StartedAt: 2024-04-17 10:54:24 -0400 (Wed, 17 Apr 2024) |
EndedAt: 2024-04-17 11:01:06 -0400 (Wed, 17 Apr 2024) |
EllapsedTime: 402.1 seconds |
RetCode: 0 |
Status: OK |
CheckDir: cytofQC.Rcheck |
Warnings: 0 |
############################################################################## ############################################################################## ### ### Running command: ### ### /Library/Frameworks/R.framework/Resources/bin/R CMD check --install=check:cytofQC.install-out.txt --library=/Library/Frameworks/R.framework/Resources/library --no-vignettes --timings cytofQC_1.2.0.tar.gz ### ############################################################################## ############################################################################## * using log directory ‘/Users/biocbuild/bbs-3.18-bioc-mac-arm64/meat/cytofQC.Rcheck’ * using R version 4.3.3 (2024-02-29) * using platform: aarch64-apple-darwin20 (64-bit) * R was compiled by Apple clang version 14.0.0 (clang-1400.0.29.202) GNU Fortran (GCC) 12.2.0 * running under: macOS Ventura 13.6.1 * using session charset: UTF-8 * using option ‘--no-vignettes’ * checking for file ‘cytofQC/DESCRIPTION’ ... OK * checking extension type ... Package * this is package ‘cytofQC’ version ‘1.2.0’ * package encoding: UTF-8 * checking package namespace information ... OK * checking package dependencies ... OK * checking if this is a source package ... OK * checking if there is a namespace ... OK * checking for hidden files and directories ... OK * checking for portable file names ... OK * checking for sufficient/correct file permissions ... OK * checking whether package ‘cytofQC’ can be installed ... OK * checking installed package size ... OK * checking package directory ... OK * checking ‘build’ directory ... OK * checking DESCRIPTION meta-information ... OK * checking top-level files ... OK * checking for left-over files ... OK * checking index information ... OK * checking package subdirectories ... OK * checking R files for non-ASCII characters ... OK * checking R files for syntax errors ... OK * checking whether the package can be loaded ... OK * checking whether the package can be loaded with stated dependencies ... OK * checking whether the package can be unloaded cleanly ... OK * checking whether the namespace can be loaded with stated dependencies ... OK * checking whether the namespace can be unloaded cleanly ... OK * checking dependencies in R code ... OK * checking S3 generic/method consistency ... OK * checking replacement functions ... OK * checking foreign function calls ... OK * checking R code for possible problems ... OK * checking Rd files ... OK * checking Rd metadata ... OK * checking Rd cross-references ... OK * checking for missing documentation entries ... OK * checking for code/documentation mismatches ... OK * checking Rd \usage sections ... OK * checking Rd contents ... OK * checking for unstated dependencies in examples ... OK * checking files in ‘vignettes’ ... OK * checking examples ... OK Examples with CPU (user + system) or elapsed time > 5s user system elapsed gbmLabel 52.461 0.134 52.916 cytofQCreport 22.297 0.382 21.581 cytofHist 6.264 0.257 6.540 * checking for unstated dependencies in ‘tests’ ... OK * checking tests ... Running ‘testthat.R’ OK * checking for unstated dependencies in vignettes ... OK * checking package vignettes in ‘inst/doc’ ... OK * checking running R code from vignettes ... SKIPPED * checking re-building of vignette outputs ... SKIPPED * checking PDF version of manual ... OK * DONE Status: OK
cytofQC.Rcheck/00install.out
############################################################################## ############################################################################## ### ### Running command: ### ### /Library/Frameworks/R.framework/Resources/bin/R CMD INSTALL cytofQC ### ############################################################################## ############################################################################## * installing to library ‘/Library/Frameworks/R.framework/Versions/4.3-arm64/Resources/library’ * installing *source* package ‘cytofQC’ ... ** using staged installation ** R ** inst ** byte-compile and prepare package for lazy loading ** help *** installing help indices ** building package indices ** installing vignettes ** testing if installed package can be loaded from temporary location ** testing if installed package can be loaded from final location ** testing if installed package keeps a record of temporary installation path * DONE (cytofQC)
cytofQC.Rcheck/tests/testthat.Rout
R version 4.3.3 (2024-02-29) -- "Angel Food Cake" Copyright (C) 2024 The R Foundation for Statistical Computing Platform: aarch64-apple-darwin20 (64-bit) R is free software and comes with ABSOLUTELY NO WARRANTY. You are welcome to redistribute it under certain conditions. Type 'license()' or 'licence()' for distribution details. R is a collaborative project with many contributors. Type 'contributors()' for more information and 'citation()' on how to cite R or R packages in publications. Type 'demo()' for some demos, 'help()' for on-line help, or 'help.start()' for an HTML browser interface to help. Type 'q()' to quit R. > library(testthat) > library(cytofQC) > > test_check("cytofQC") [ FAIL 0 | WARN 0 | SKIP 0 | PASS 7 ] > > proc.time() user system elapsed 28.626 0.961 29.699
cytofQC.Rcheck/cytofQC-Ex.timings
name | user | system | elapsed | |
cytofHist | 6.264 | 0.257 | 6.540 | |
cytofQCreport | 22.297 | 0.382 | 21.581 | |
gbmLabel | 52.461 | 0.134 | 52.916 | |
initialBead | 0.685 | 0.026 | 0.748 | |
initialDead | 0.931 | 0.041 | 0.978 | |
initialDebris | 0.708 | 0.014 | 0.726 | |
initialDoublet | 0.832 | 0.017 | 0.851 | |
initialGuess | 0.659 | 0.022 | 0.681 | |
labelQC | 3.813 | 0.138 | 3.955 | |
modelData | 0.671 | 0.024 | 0.696 | |
plotInitialGuess | 0.744 | 0.046 | 0.791 | |
readCytof | 2.135 | 0.066 | 2.205 | |
rfLabel | 2.301 | 0.098 | 2.429 | |
s3vmLabel | 2.898 | 0.107 | 3.019 | |
scores | 4.064 | 0.140 | 4.223 | |
svmLabel | 1.941 | 0.094 | 2.035 | |