| Back to Mac ARM64 build report for BioC 3.18 |
|
This page was generated on 2024-04-18 11:32:16 -0400 (Thu, 18 Apr 2024).
| Hostname | OS | Arch (*) | R version | Installed pkgs |
|---|---|---|---|---|
| kjohnson1 | macOS 13.6.1 Ventura | arm64 | 4.3.3 (2024-02-29) -- "Angel Food Cake" | 4388 |
| Click on any hostname to see more info about the system (e.g. compilers) (*) as reported by 'uname -p', except on Windows and Mac OS X | ||||
| Package 1553/2266 | Hostname | OS / Arch | INSTALL | BUILD | CHECK | BUILD BIN | ||||||||
| pipeComp 1.12.0 (landing page) Pierre-Luc Germain
| kjohnson1 | macOS 13.6.1 Ventura / arm64 | OK | OK | OK | OK | ||||||||
|
To the developers/maintainers of the pipeComp package: - Use the following Renviron settings to reproduce errors and warnings. - If 'R CMD check' started to fail recently on the Linux builder(s) over a missing dependency, add the missing dependency to 'Suggests:' in your DESCRIPTION file. See Renviron.bioc for more information. |
| Package: pipeComp |
| Version: 1.12.0 |
| Command: /Library/Frameworks/R.framework/Resources/bin/R CMD check --install=check:pipeComp.install-out.txt --library=/Library/Frameworks/R.framework/Resources/library --no-vignettes --timings pipeComp_1.12.0.tar.gz |
| StartedAt: 2024-04-17 23:06:53 -0400 (Wed, 17 Apr 2024) |
| EndedAt: 2024-04-17 23:14:10 -0400 (Wed, 17 Apr 2024) |
| EllapsedTime: 436.9 seconds |
| RetCode: 0 |
| Status: OK |
| CheckDir: pipeComp.Rcheck |
| Warnings: 0 |
##############################################################################
##############################################################################
###
### Running command:
###
### /Library/Frameworks/R.framework/Resources/bin/R CMD check --install=check:pipeComp.install-out.txt --library=/Library/Frameworks/R.framework/Resources/library --no-vignettes --timings pipeComp_1.12.0.tar.gz
###
##############################################################################
##############################################################################
* using log directory ‘/Users/biocbuild/bbs-3.18-bioc-mac-arm64/meat/pipeComp.Rcheck’
* using R version 4.3.3 (2024-02-29)
* using platform: aarch64-apple-darwin20 (64-bit)
* R was compiled by
Apple clang version 14.0.0 (clang-1400.0.29.202)
GNU Fortran (GCC) 12.2.0
* running under: macOS Ventura 13.6.1
* using session charset: UTF-8
* using option ‘--no-vignettes’
* checking for file ‘pipeComp/DESCRIPTION’ ... OK
* checking extension type ... Package
* this is package ‘pipeComp’ version ‘1.12.0’
* package encoding: UTF-8
* checking package namespace information ... OK
* checking package dependencies ... OK
* checking if this is a source package ... OK
* checking if there is a namespace ... OK
* checking for hidden files and directories ... OK
* checking for portable file names ... OK
* checking for sufficient/correct file permissions ... OK
* checking whether package ‘pipeComp’ can be installed ... OK
* checking installed package size ... OK
* checking package directory ... OK
* checking ‘build’ directory ... OK
* checking DESCRIPTION meta-information ... OK
* checking top-level files ... NOTE
File
LICENSE
is not mentioned in the DESCRIPTION file.
* checking for left-over files ... OK
* checking index information ... OK
* checking package subdirectories ... OK
* checking R files for non-ASCII characters ... OK
* checking R files for syntax errors ... OK
* checking whether the package can be loaded ... OK
* checking whether the package can be loaded with stated dependencies ... OK
* checking whether the package can be unloaded cleanly ... OK
* checking whether the namespace can be loaded with stated dependencies ... OK
* checking whether the namespace can be unloaded cleanly ... OK
* checking dependencies in R code ... NOTE
There are ::: calls to the package's namespace in its code. A package
almost never needs to use ::: for its own objects:
‘.compileExcludedCells’ ‘.getMM’ ‘.homogenizeDEA’ ‘.runf’
* checking S3 generic/method consistency ... OK
* checking replacement functions ... OK
* checking foreign function calls ... OK
* checking R code for possible problems ... NOTE
scrna_describeDatasets: no visible binding for global variable
‘cluster’
scrna_describeDatasets: no visible binding for global variable ‘nb’
scrna_describeDatasets : pf: no visible binding for global variable
‘.x’
scrna_describeDatasets : rd: no visible binding for global variable ‘y’
scrna_describeDatasets : rd: no visible binding for global variable
‘cluster’
scrna_evalPlot_filtering: no visible binding for global variable
‘max.lost’
scrna_evalPlot_filtering: no visible binding for global variable
‘mean_F1’
scrna_evalPlot_filtering: no visible binding for global variable ‘filt’
scrna_evalPlot_filtering: no visible binding for global variable
‘doubletmethod’
scrna_evalPlot_filtering: no visible binding for global variable
‘method’
scrna_evalPlot_overall: no visible binding for global variable
‘true.nbClusts’
scrna_evalPlot_overall: no visible binding for global variable ‘n_clus’
Undefined global functions or variables:
.x cluster doubletmethod filt max.lost mean_F1 method n_clus nb
true.nbClusts y
* checking Rd files ... OK
* checking Rd metadata ... OK
* checking Rd cross-references ... OK
* checking for missing documentation entries ... OK
* checking for code/documentation mismatches ... OK
* checking Rd \usage sections ... OK
* checking Rd contents ... OK
* checking for unstated dependencies in examples ... OK
* checking contents of ‘data’ directory ... OK
* checking data for non-ASCII characters ... OK
* checking data for ASCII and uncompressed saves ... OK
* checking files in ‘vignettes’ ... OK
* checking examples ... OK
* checking for unstated dependencies in vignettes ... OK
* checking package vignettes in ‘inst/doc’ ... OK
* checking running R code from vignettes ... SKIPPED
* checking re-building of vignette outputs ... SKIPPED
* checking PDF version of manual ... OK
* DONE
Status: 3 NOTEs
See
‘/Users/biocbuild/bbs-3.18-bioc-mac-arm64/meat/pipeComp.Rcheck/00check.log’
for details.
pipeComp.Rcheck/00install.out
############################################################################## ############################################################################## ### ### Running command: ### ### /Library/Frameworks/R.framework/Resources/bin/R CMD INSTALL pipeComp ### ############################################################################## ############################################################################## * installing to library ‘/Library/Frameworks/R.framework/Versions/4.3-arm64/Resources/library’ * installing *source* package ‘pipeComp’ ... ** using staged installation ** R ** data ** inst ** byte-compile and prepare package for lazy loading ** help *** installing help indices ** building package indices ** installing vignettes ** testing if installed package can be loaded from temporary location ** testing if installed package can be loaded from final location ** testing if installed package keeps a record of temporary installation path * DONE (pipeComp)
pipeComp.Rcheck/pipeComp-Ex.timings
| name | user | system | elapsed | |
| PipelineDefinition-methods | 0.009 | 0.001 | 0.011 | |
| PipelineDefinition | 0.002 | 0.000 | 0.001 | |
| addPipelineStep | 0.002 | 0.000 | 0.003 | |
| aggregatePipelineResults | 1.251 | 0.032 | 1.284 | |
| buildCombMatrix | 0.003 | 0.000 | 0.003 | |
| checkPipelinePackages | 1.486 | 0.527 | 2.020 | |
| colCenterScale | 0.002 | 0.000 | 0.002 | |
| dea_evalPlot_curve | 0.677 | 0.042 | 0.724 | |
| dea_pipeline | 0.002 | 0.001 | 0.003 | |
| evalHeatmap | 2.103 | 0.035 | 2.139 | |
| evaluateClustering | 0.015 | 0.002 | 0.017 | |
| evaluateDEA | 0.051 | 0.002 | 0.052 | |
| evaluateDimRed | 1.859 | 0.042 | 1.913 | |
| evaluateNorm | 1.717 | 0.048 | 1.766 | |
| farthestPoint | 0.007 | 0.001 | 0.007 | |
| getQualitativePalette | 0.001 | 0.000 | 0.001 | |
| match_evaluate_multiple | 0.003 | 0.001 | 0.003 | |
| mergePipelineResults | 2.686 | 0.044 | 2.731 | |
| mockPipeline | 0.001 | 0.000 | 0.002 | |
| parsePipNames | 0.002 | 0.000 | 0.002 | |
| plotElapsed | 0.596 | 0.010 | 0.608 | |
| readPipelineResults | 1.235 | 0.023 | 1.258 | |
| runPipeline | 1.269 | 0.022 | 1.293 | |
| scrna_evalPlot_filtering | 0.320 | 0.004 | 0.324 | |
| scrna_evalPlot_overall | 3.662 | 0.034 | 3.696 | |
| scrna_evalPlot_silh | 0.706 | 0.006 | 0.712 | |
| scrna_pipeline | 0.001 | 0.000 | 0.002 | |