| Back to Mac ARM64 build report for BioC 3.18 |
|
This page was generated on 2024-04-18 11:32:16 -0400 (Thu, 18 Apr 2024).
| Hostname | OS | Arch (*) | R version | Installed pkgs |
|---|---|---|---|---|
| kjohnson1 | macOS 13.6.1 Ventura | arm64 | 4.3.3 (2024-02-29) -- "Angel Food Cake" | 4388 |
| Click on any hostname to see more info about the system (e.g. compilers) (*) as reported by 'uname -p', except on Windows and Mac OS X | ||||
| Package 1558/2266 | Hostname | OS / Arch | INSTALL | BUILD | CHECK | BUILD BIN | ||||||||
Daniel Bottomly
| kjohnson1 | macOS 13.6.1 Ventura / arm64 | ERROR | ERROR | skipped | skipped | ||||||||
|
To the developers/maintainers of the plethy package: - Use the following Renviron settings to reproduce errors and warnings. - If 'R CMD check' started to fail recently on the Linux builder(s) over a missing dependency, add the missing dependency to 'Suggests:' in your DESCRIPTION file. See Renviron.bioc for more information. |
| Package: plethy |
| Version: 1.40.0 |
| Command: /Library/Frameworks/R.framework/Resources/bin/R CMD INSTALL plethy |
| StartedAt: 2024-04-16 10:35:30 -0400 (Tue, 16 Apr 2024) |
| EndedAt: 2024-04-16 10:35:32 -0400 (Tue, 16 Apr 2024) |
| EllapsedTime: 1.7 seconds |
| RetCode: 1 |
| Status: ERROR |
##############################################################################
##############################################################################
###
### Running command:
###
### /Library/Frameworks/R.framework/Resources/bin/R CMD INSTALL plethy
###
##############################################################################
##############################################################################
* installing to library ‘/Library/Frameworks/R.framework/Versions/4.3-arm64/Resources/library’
* installing *source* package ‘plethy’ ...
** using staged installation
** R
Error in .install_package_code_files(".", instdir) :
files in 'Collate' field missing from '/Users/biocbuild/bbs-3.18-bioc-mac-arm64/meat/plethy/R':
zzz.R
ERROR: unable to collate and parse R files for package ‘plethy’
* removing ‘/Library/Frameworks/R.framework/Versions/4.3-arm64/Resources/library/plethy’