| Back to Mac ARM64 build report for BioC 3.18 |
|
This page was generated on 2024-04-18 11:32:16 -0400 (Thu, 18 Apr 2024).
| Hostname | OS | Arch (*) | R version | Installed pkgs |
|---|---|---|---|---|
| kjohnson1 | macOS 13.6.1 Ventura | arm64 | 4.3.3 (2024-02-29) -- "Angel Food Cake" | 4388 |
| Click on any hostname to see more info about the system (e.g. compilers) (*) as reported by 'uname -p', except on Windows and Mac OS X | ||||
| Package 1646/2266 | Hostname | OS / Arch | INSTALL | BUILD | CHECK | BUILD BIN | ||||||||
| R453Plus1Toolbox 1.52.0 (landing page) Hans-Ulrich Klein
| kjohnson1 | macOS 13.6.1 Ventura / arm64 | OK | OK | OK | OK | ||||||||
|
To the developers/maintainers of the R453Plus1Toolbox package: - Use the following Renviron settings to reproduce errors and warnings. - If 'R CMD check' started to fail recently on the Linux builder(s) over a missing dependency, add the missing dependency to 'Suggests:' in your DESCRIPTION file. See Renviron.bioc for more information. |
| Package: R453Plus1Toolbox |
| Version: 1.52.0 |
| Command: /Library/Frameworks/R.framework/Resources/bin/R CMD check --install=check:R453Plus1Toolbox.install-out.txt --library=/Library/Frameworks/R.framework/Resources/library --no-vignettes --timings R453Plus1Toolbox_1.52.0.tar.gz |
| StartedAt: 2024-04-18 00:14:56 -0400 (Thu, 18 Apr 2024) |
| EndedAt: 2024-04-18 00:22:14 -0400 (Thu, 18 Apr 2024) |
| EllapsedTime: 437.8 seconds |
| RetCode: 0 |
| Status: OK |
| CheckDir: R453Plus1Toolbox.Rcheck |
| Warnings: 0 |
##############################################################################
##############################################################################
###
### Running command:
###
### /Library/Frameworks/R.framework/Resources/bin/R CMD check --install=check:R453Plus1Toolbox.install-out.txt --library=/Library/Frameworks/R.framework/Resources/library --no-vignettes --timings R453Plus1Toolbox_1.52.0.tar.gz
###
##############################################################################
##############################################################################
* using log directory ‘/Users/biocbuild/bbs-3.18-bioc-mac-arm64/meat/R453Plus1Toolbox.Rcheck’
* using R version 4.3.3 (2024-02-29)
* using platform: aarch64-apple-darwin20 (64-bit)
* R was compiled by
Apple clang version 14.0.0 (clang-1400.0.29.202)
GNU Fortran (GCC) 12.2.0
* running under: macOS Ventura 13.6.1
* using session charset: UTF-8
* using option ‘--no-vignettes’
* checking for file ‘R453Plus1Toolbox/DESCRIPTION’ ... OK
* checking extension type ... Package
* this is package ‘R453Plus1Toolbox’ version ‘1.52.0’
* checking package namespace information ... OK
* checking package dependencies ... OK
* checking if this is a source package ... OK
* checking if there is a namespace ... OK
* checking for hidden files and directories ... OK
* checking for portable file names ... OK
* checking for sufficient/correct file permissions ... OK
* checking whether package ‘R453Plus1Toolbox’ can be installed ... OK
* used C compiler: ‘Apple clang version 15.0.0 (clang-1500.0.40.1)’
* used SDK: ‘MacOSX11.3.sdk’
* checking installed package size ... OK
* checking package directory ... OK
* checking ‘build’ directory ... OK
* checking DESCRIPTION meta-information ... OK
* checking top-level files ... OK
* checking for left-over files ... OK
* checking index information ... OK
* checking package subdirectories ... OK
* checking R files for non-ASCII characters ... OK
* checking R files for syntax errors ... OK
* checking whether the package can be loaded ... OK
* checking whether the package can be loaded with stated dependencies ... OK
* checking whether the package can be unloaded cleanly ... OK
* checking whether the namespace can be loaded with stated dependencies ... OK
* checking whether the namespace can be unloaded cleanly ... OK
* checking dependencies in R code ... NOTE
'library' or 'require' call to ‘BSgenome.Hsapiens.UCSC.hg19’ in package code.
Please use :: or requireNamespace() instead.
See section 'Suggested packages' in the 'Writing R Extensions' manual.
* checking S3 generic/method consistency ... OK
* checking replacement functions ... OK
* checking foreign function calls ... OK
* checking R code for possible problems ... NOTE
.annotateVariants_MapperSet: no visible binding for global variable
‘Hsapiens’
.ava2vcf: no visible binding for global variable ‘Hsapiens’
.detectBreakpoints: no visible binding for global variable ‘Hsapiens’
.getEnsemblInfo: no visible binding for global variable ‘cds_length’
.getEnsemblInfo: no visible binding for global variable
‘ensembl_transcript_id’
.getMutations: no visible binding for global variable ‘PatternStart’
.getMutations: no visible binding for global variable ‘PatternEnd’
.htmlReport: no visible binding for global variable ‘VarFreqForward’
.htmlReport: no visible binding for global variable ‘VarFreqReverse’
.plotVariants: no visible binding for global variable ‘mutation’
qualityReportSFF: no visible binding for '<<-' assignment to ‘tmp’
annotateVariants,MapperSet-BSgenome: no visible binding for global
variable ‘Hsapiens’
annotateVariants,MapperSet-missing: no visible binding for global
variable ‘Hsapiens’
ava2vcf,AVASet: no visible binding for global variable ‘Hsapiens’
detectBreakpoints,list: no visible binding for global variable
‘Hsapiens’
subset,AVASet: no visible binding for global variable ‘referenceSeqID’
Undefined global functions or variables:
Hsapiens PatternEnd PatternStart VarFreqForward VarFreqReverse
cds_length ensembl_transcript_id mutation referenceSeqID
* checking Rd files ... OK
* checking Rd metadata ... OK
* checking Rd cross-references ... OK
* checking for missing documentation entries ... OK
* checking for code/documentation mismatches ... OK
* checking Rd \usage sections ... OK
* checking Rd contents ... OK
* checking for unstated dependencies in examples ... OK
* checking contents of ‘data’ directory ... OK
* checking data for non-ASCII characters ... OK
* checking data for ASCII and uncompressed saves ... OK
* checking line endings in C/C++/Fortran sources/headers ... OK
* checking compiled code ... NOTE
Note: information on .o files is not available
* checking sizes of PDF files under ‘inst/doc’ ... OK
* checking files in ‘vignettes’ ... OK
* checking examples ... OK
Examples with CPU (user + system) or elapsed time > 5s
user system elapsed
mergeBreakpoints 5.46 0.103 5.573
* checking for unstated dependencies in vignettes ... OK
* checking package vignettes in ‘inst/doc’ ... OK
* checking running R code from vignettes ... SKIPPED
* checking re-building of vignette outputs ... SKIPPED
* checking PDF version of manual ... OK
* DONE
Status: 3 NOTEs
See
‘/Users/biocbuild/bbs-3.18-bioc-mac-arm64/meat/R453Plus1Toolbox.Rcheck/00check.log’
for details.
R453Plus1Toolbox.Rcheck/00install.out
##############################################################################
##############################################################################
###
### Running command:
###
### /Library/Frameworks/R.framework/Resources/bin/R CMD INSTALL R453Plus1Toolbox
###
##############################################################################
##############################################################################
* installing to library ‘/Library/Frameworks/R.framework/Versions/4.3-arm64/Resources/library’
* installing *source* package ‘R453Plus1Toolbox’ ...
** using staged installation
** libs
using C compiler: ‘Apple clang version 15.0.0 (clang-1500.0.40.1)’
using SDK: ‘MacOSX11.3.sdk’
clang -arch arm64 -I"/Library/Frameworks/R.framework/Resources/include" -DNDEBUG -I/opt/R/arm64/include -fPIC -falign-functions=64 -Wall -g -O2 -c readSFF.c -o readSFF.o
readSFF.c:27:7: warning: variable 'block_count' set but not used [-Wunused-but-set-variable]
int block_count;
^
1 warning generated.
clang -arch arm64 -I"/Library/Frameworks/R.framework/Resources/include" -DNDEBUG -I/opt/R/arm64/include -fPIC -falign-functions=64 -Wall -g -O2 -c writeSFF.c -o writeSFF.o
clang -arch arm64 -dynamiclib -Wl,-headerpad_max_install_names -undefined dynamic_lookup -L/Library/Frameworks/R.framework/Resources/lib -L/opt/R/arm64/lib -o R453Plus1Toolbox.so readSFF.o writeSFF.o -F/Library/Frameworks/R.framework/.. -framework R -Wl,-framework -Wl,CoreFoundation
installing to /Library/Frameworks/R.framework/Versions/4.3-arm64/Resources/library/00LOCK-R453Plus1Toolbox/00new/R453Plus1Toolbox/libs
** R
** data
** inst
** byte-compile and prepare package for lazy loading
** help
*** installing help indices
** building package indices
** installing vignettes
** testing if installed package can be loaded from temporary location
** checking absolute paths in shared objects and dynamic libraries
** testing if installed package can be loaded from final location
** testing if installed package keeps a record of temporary installation path
* DONE (R453Plus1Toolbox)
R453Plus1Toolbox.Rcheck/R453Plus1Toolbox-Ex.timings
| name | user | system | elapsed | |
| AVASet-class | 0.195 | 0.025 | 0.223 | |
| AVASet | 0.166 | 0.016 | 0.182 | |
| AnnotatedVariants-class | 0.002 | 0.000 | 0.002 | |
| MapperSet-class | 0.023 | 0.016 | 0.039 | |
| MapperSet | 0.005 | 0.003 | 0.008 | |
| SFFContainer-class | 0.001 | 0.001 | 0.002 | |
| SFFRead-class | 0.001 | 0.001 | 0.001 | |
| alignShortReads | 2.745 | 0.019 | 2.771 | |
| annotateVariants | 0.002 | 0.001 | 0.001 | |
| assayDataAmp | 0.006 | 0.004 | 0.010 | |
| ava2vcf | 0.243 | 0.006 | 0.248 | |
| avaSetExample | 0.013 | 0.004 | 0.016 | |
| avaSetFiltered | 0.019 | 0.004 | 0.021 | |
| avaSetFiltered_annot | 0.002 | 0.003 | 0.004 | |
| breakpoints | 0.005 | 0.003 | 0.008 | |
| calculateTiTv | 0.010 | 0.003 | 0.012 | |
| captureArray | 0.002 | 0.003 | 0.005 | |
| coverageOnTarget | 0.189 | 0.005 | 0.193 | |
| demultiplexReads | 0.080 | 0.004 | 0.083 | |
| detectBreakpoints | 0.735 | 0.044 | 0.781 | |
| fDataAmp | 0.015 | 0.005 | 0.020 | |
| featureDataAmp | 0.015 | 0.005 | 0.020 | |
| filterChimericReads | 3.676 | 0.026 | 3.704 | |
| genomeSequencerMIDs | 0.020 | 0.001 | 0.022 | |
| getAlignedReads | 0.063 | 0.006 | 0.070 | |
| getVariantPercentages | 0.023 | 0.006 | 0.029 | |
| htmlReport | 1.928 | 0.293 | 2.337 | |
| mapperSetExample | 0.005 | 0.004 | 0.009 | |
| mergeBreakpoints | 5.460 | 0.103 | 5.573 | |
| mutationInfo | 0.002 | 0.002 | 0.002 | |
| plotAmpliconCoverage | 0 | 0 | 0 | |
| plotChimericReads | 3.207 | 0.015 | 3.234 | |
| plotVariants | 0.002 | 0.001 | 0.003 | |
| plotVariationFrequency | 0 | 0 | 0 | |
| qualityReportSFF | 0.000 | 0.001 | 0.000 | |
| readSFF | 0.093 | 0.003 | 0.097 | |
| readsOnTarget | 0.048 | 0.002 | 0.050 | |
| referenceSequences | 0.009 | 0.004 | 0.012 | |
| regions | 0.002 | 0.003 | 0.005 | |
| removeLinker | 0.025 | 0.001 | 0.026 | |
| sequenceCaptureLinkers | 0.003 | 0.001 | 0.005 | |
| setVariantFilter | 0.038 | 0.006 | 0.045 | |
| variants | 0.002 | 0.003 | 0.005 | |
| writeSFF | 0.033 | 0.001 | 0.034 | |