| Back to Mac ARM64 build report for BioC 3.18 |
|
This page was generated on 2024-04-18 11:32:10 -0400 (Thu, 18 Apr 2024).
| Hostname | OS | Arch (*) | R version | Installed pkgs |
|---|---|---|---|---|
| kjohnson1 | macOS 13.6.1 Ventura | arm64 | 4.3.3 (2024-02-29) -- "Angel Food Cake" | 4388 |
| Click on any hostname to see more info about the system (e.g. compilers) (*) as reported by 'uname -p', except on Windows and Mac OS X | ||||
| Package 781/2266 | Hostname | OS / Arch | INSTALL | BUILD | CHECK | BUILD BIN | ||||||||
| gDRutils 1.0.0 (landing page) Arkadiusz Gladki
| kjohnson1 | macOS 13.6.1 Ventura / arm64 | OK | OK | OK | OK | ||||||||
|
To the developers/maintainers of the gDRutils package: - Use the following Renviron settings to reproduce errors and warnings. - If 'R CMD check' started to fail recently on the Linux builder(s) over a missing dependency, add the missing dependency to 'Suggests:' in your DESCRIPTION file. See Renviron.bioc for more information. |
| Package: gDRutils |
| Version: 1.0.0 |
| Command: /Library/Frameworks/R.framework/Resources/bin/R CMD check --install=check:gDRutils.install-out.txt --library=/Library/Frameworks/R.framework/Resources/library --no-vignettes --timings gDRutils_1.0.0.tar.gz |
| StartedAt: 2024-04-17 14:23:36 -0400 (Wed, 17 Apr 2024) |
| EndedAt: 2024-04-17 14:27:26 -0400 (Wed, 17 Apr 2024) |
| EllapsedTime: 229.4 seconds |
| RetCode: 0 |
| Status: OK |
| CheckDir: gDRutils.Rcheck |
| Warnings: 0 |
##############################################################################
##############################################################################
###
### Running command:
###
### /Library/Frameworks/R.framework/Resources/bin/R CMD check --install=check:gDRutils.install-out.txt --library=/Library/Frameworks/R.framework/Resources/library --no-vignettes --timings gDRutils_1.0.0.tar.gz
###
##############################################################################
##############################################################################
* using log directory ‘/Users/biocbuild/bbs-3.18-bioc-mac-arm64/meat/gDRutils.Rcheck’
* using R version 4.3.3 (2024-02-29)
* using platform: aarch64-apple-darwin20 (64-bit)
* R was compiled by
Apple clang version 14.0.0 (clang-1400.0.29.202)
GNU Fortran (GCC) 12.2.0
* running under: macOS Ventura 13.6.1
* using session charset: UTF-8
* using option ‘--no-vignettes’
* checking for file ‘gDRutils/DESCRIPTION’ ... OK
* checking extension type ... Package
* this is package ‘gDRutils’ version ‘1.0.0’
* package encoding: UTF-8
* checking package namespace information ... OK
* checking package dependencies ... OK
* checking if this is a source package ... OK
* checking if there is a namespace ... OK
* checking for hidden files and directories ... OK
* checking for portable file names ... OK
* checking for sufficient/correct file permissions ... OK
* checking whether package ‘gDRutils’ can be installed ... OK
* checking installed package size ... OK
* checking package directory ... OK
* checking ‘build’ directory ... OK
* checking DESCRIPTION meta-information ... OK
* checking top-level files ... OK
* checking for left-over files ... OK
* checking index information ... OK
* checking package subdirectories ... OK
* checking R files for non-ASCII characters ... OK
* checking R files for syntax errors ... OK
* checking whether the package can be loaded ... OK
* checking whether the package can be loaded with stated dependencies ... OK
* checking whether the package can be unloaded cleanly ... OK
* checking whether the namespace can be loaded with stated dependencies ... OK
* checking whether the namespace can be unloaded cleanly ... OK
* checking dependencies in R code ... OK
* checking S3 generic/method consistency ... OK
* checking replacement functions ... OK
* checking foreign function calls ... OK
* checking R code for possible problems ... OK
* checking Rd files ... OK
* checking Rd metadata ... OK
* checking Rd cross-references ... OK
* checking for missing documentation entries ... OK
* checking for code/documentation mismatches ... OK
* checking Rd \usage sections ... OK
* checking Rd contents ... OK
* checking for unstated dependencies in examples ... OK
* checking files in ‘vignettes’ ... OK
* checking examples ... OK
* checking for unstated dependencies in ‘tests’ ... OK
* checking tests ...
Running ‘testthat.R’
OK
* checking for unstated dependencies in vignettes ... OK
* checking package vignettes in ‘inst/doc’ ... OK
* checking running R code from vignettes ... SKIPPED
* checking re-building of vignette outputs ... SKIPPED
* checking PDF version of manual ... OK
* DONE
Status: OK
gDRutils.Rcheck/00install.out
############################################################################## ############################################################################## ### ### Running command: ### ### /Library/Frameworks/R.framework/Resources/bin/R CMD INSTALL gDRutils ### ############################################################################## ############################################################################## * installing to library ‘/Library/Frameworks/R.framework/Versions/4.3-arm64/Resources/library’ * installing *source* package ‘gDRutils’ ... ** using staged installation ** R ** inst ** byte-compile and prepare package for lazy loading ** help *** installing help indices ** building package indices ** installing vignettes ** testing if installed package can be loaded from temporary location ** testing if installed package can be loaded from final location ** testing if installed package keeps a record of temporary installation path * DONE (gDRutils)
gDRutils.Rcheck/tests/testthat.Rout
R version 4.3.3 (2024-02-29) -- "Angel Food Cake"
Copyright (C) 2024 The R Foundation for Statistical Computing
Platform: aarch64-apple-darwin20 (64-bit)
R is free software and comes with ABSOLUTELY NO WARRANTY.
You are welcome to redistribute it under certain conditions.
Type 'license()' or 'licence()' for distribution details.
R is a collaborative project with many contributors.
Type 'contributors()' for more information and
'citation()' on how to cite R or R packages in publications.
Type 'demo()' for some demos, 'help()' for on-line help, or
'help.start()' for an HTML browser interface to help.
Type 'q()' to quit R.
> library("gDRutils")
> library("testthat")
>
> test_check("gDRutils")
[ FAIL 0 | WARN 0 | SKIP 0 | PASS 461 ]
>
> proc.time()
user system elapsed
45.106 1.289 46.772
gDRutils.Rcheck/gDRutils-Ex.timings
| name | user | system | elapsed | |
| MAEpply | 1.476 | 0.053 | 1.542 | |
| SE_metadata | 0.052 | 0.004 | 0.057 | |
| aggregate_assay | 0.639 | 0.035 | 0.680 | |
| apply_bumpy_function | 1.516 | 0.079 | 1.611 | |
| assert_choices | 0.001 | 0.000 | 0.000 | |
| cap_xc50 | 0.001 | 0.000 | 0.001 | |
| convert_combo_data_to_dt | 0.760 | 0.064 | 0.834 | |
| convert_mae_assay_to_dt | 0.063 | 0.004 | 0.067 | |
| convert_mae_to_json | 0.847 | 0.028 | 0.887 | |
| convert_se_assay_to_dt | 0.057 | 0.003 | 0.060 | |
| convert_se_to_json | 0.018 | 0.000 | 0.019 | |
| demote_fields | 0.369 | 0.006 | 0.387 | |
| df_to_bm_assay | 0.107 | 0.002 | 0.111 | |
| dot-convert_colData_to_json | 0.003 | 0.001 | 0.003 | |
| dot-convert_metadata_to_json | 0.004 | 0.000 | 0.004 | |
| dot-convert_rowData_to_json | 0.003 | 0.000 | 0.003 | |
| dot-set_constant_fit_params | 0.000 | 0.001 | 0.001 | |
| dot-set_invalid_fit_params | 0.000 | 0.000 | 0.001 | |
| extend_normalization_type_name | 0.001 | 0.001 | 0.001 | |
| fit_curves | 0.242 | 0.033 | 0.278 | |
| flatten | 0.012 | 0.001 | 0.013 | |
| gen_synthetic_data | 0.007 | 0.001 | 0.007 | |
| get_MAE_identifiers | 0.032 | 0.003 | 0.037 | |
| get_assay_names | 0.001 | 0.000 | 0.001 | |
| get_combo_assay_names | 0.001 | 0.000 | 0.001 | |
| get_combo_base_assay_names | 0.001 | 0.001 | 0.001 | |
| get_combo_col_settings | 0.003 | 0.000 | 0.003 | |
| get_combo_score_assay_names | 0.000 | 0.000 | 0.001 | |
| get_default_identifiers | 0.000 | 0.001 | 0.001 | |
| get_env_assay_names | 0.001 | 0.000 | 0.000 | |
| get_expect_one_identifiers | 0 | 0 | 0 | |
| get_experiment_groups | 0 | 0 | 0 | |
| get_identifiers_dt | 0.008 | 0.003 | 0.011 | |
| get_idfs_synonyms | 0.000 | 0.001 | 0.000 | |
| get_iso_colors | 0.001 | 0.000 | 0.002 | |
| get_non_empty_assays | 0.058 | 0.001 | 0.059 | |
| get_required_identifiers | 0.000 | 0.000 | 0.001 | |
| get_synthetic_data | 0.015 | 0.001 | 0.016 | |
| get_testdata | 0.085 | 0.021 | 0.106 | |
| headers | 0.005 | 0.005 | 0.011 | |
| identifiers | 0 | 0 | 0 | |
| identify_unique_se_metadata_fields | 0.012 | 0.000 | 0.012 | |
| is_any_exp_empty | 0.047 | 0.000 | 0.048 | |
| is_exp_empty | 0.048 | 0.001 | 0.049 | |
| is_mae_empty | 0.051 | 0.001 | 0.052 | |
| logisticFit | 0.023 | 0.000 | 0.024 | |
| loop | 0 | 0 | 0 | |
| mcolData | 0.018 | 0.002 | 0.021 | |
| merge_SE | 1.669 | 0.032 | 1.725 | |
| merge_assay | 0.333 | 0.006 | 0.342 | |
| merge_metadata | 0.012 | 0.001 | 0.014 | |
| mrowData | 0.020 | 0.001 | 0.020 | |
| predict_conc_from_efficacy | 0.000 | 0.000 | 0.001 | |
| predict_efficacy_from_conc | 0.000 | 0.001 | 0.001 | |
| prettify_flat_metrics | 0.005 | 0.000 | 0.006 | |
| promote_fields | 0.244 | 0.013 | 0.265 | |
| refine_coldata | 0.014 | 0.002 | 0.016 | |
| refine_rowdata | 0.075 | 0.003 | 0.079 | |
| rename_DFrame | 0.014 | 0.001 | 0.015 | |
| rename_bumpy | 0.032 | 0.001 | 0.033 | |
| shorten_normalization_type_name | 0.001 | 0.000 | 0.000 | |
| split_SE_components | 0.032 | 0.001 | 0.035 | |
| standardize_mae | 0.160 | 0.003 | 0.166 | |
| standardize_se | 0.033 | 0.002 | 0.034 | |
| update_env_idfs_from_mae | 0.001 | 0.001 | 0.002 | |
| update_idfs_synonyms | 0.000 | 0.000 | 0.001 | |
| validate_MAE | 0.076 | 0.002 | 0.077 | |
| validate_SE | 0.030 | 0.001 | 0.033 | |
| validate_identifiers | 0.008 | 0.000 | 0.008 | |
| validate_json | 0 | 0 | 0 | |
| validate_mae_with_schema | 0.464 | 0.061 | 0.528 | |
| validate_se_assay_name | 0.010 | 0.001 | 0.012 | |