| Back to Mac ARM64 build report for BioC 3.18 |
|
This page was generated on 2024-04-18 11:32:17 -0400 (Thu, 18 Apr 2024).
| Hostname | OS | Arch (*) | R version | Installed pkgs |
|---|---|---|---|---|
| kjohnson1 | macOS 13.6.1 Ventura | arm64 | 4.3.3 (2024-02-29) -- "Angel Food Cake" | 4388 |
| Click on any hostname to see more info about the system (e.g. compilers) (*) as reported by 'uname -p', except on Windows and Mac OS X | ||||
| Package 1740/2266 | Hostname | OS / Arch | INSTALL | BUILD | CHECK | BUILD BIN | ||||||||
| rhdf5 2.46.1 (landing page) Mike Smith
| kjohnson1 | macOS 13.6.1 Ventura / arm64 | OK | OK | WARNINGS | OK | ||||||||
|
To the developers/maintainers of the rhdf5 package: - Use the following Renviron settings to reproduce errors and warnings. - If 'R CMD check' started to fail recently on the Linux builder(s) over a missing dependency, add the missing dependency to 'Suggests:' in your DESCRIPTION file. See Renviron.bioc for more information. |
| Package: rhdf5 |
| Version: 2.46.1 |
| Command: rm -rf rhdf5.buildbin-libdir && mkdir rhdf5.buildbin-libdir && /Users/biocbuild/BBS/utils/build-universal.sh rhdf5_2.46.1.tar.gz /Library/Frameworks/R.framework/Resources/bin/R rhdf5.buildbin-libdir |
| StartedAt: 2024-04-18 10:52:23 -0400 (Thu, 18 Apr 2024) |
| EndedAt: 2024-04-18 10:52:48 -0400 (Thu, 18 Apr 2024) |
| EllapsedTime: 24.7 seconds |
| RetCode: 0 |
| Status: OK |
| PackageFile: rhdf5_2.46.1.tgz |
| PackageFileSize: 3.43 MiB |
##############################################################################
##############################################################################
###
### Running command:
###
### rm -rf rhdf5.buildbin-libdir && mkdir rhdf5.buildbin-libdir && /Users/biocbuild/BBS/utils/build-universal.sh rhdf5_2.46.1.tar.gz /Library/Frameworks/R.framework/Resources/bin/R rhdf5.buildbin-libdir
###
##############################################################################
##############################################################################
>>>>>>>
>>>>>>> INSTALLATION WITH 'R CMD INSTALL --preclean --no-multiarch --library=rhdf5.buildbin-libdir rhdf5_2.46.1.tar.gz'
>>>>>>>
* installing *source* package ‘rhdf5’ ...
** using staged installation
configure: creating ./config.status
config.status: creating src/external_filters.h
** libs
using C compiler: ‘Apple clang version 15.0.0 (clang-1500.0.40.1)’
using C++ compiler: ‘Apple clang version 15.0.0 (clang-1500.0.40.1)’
using SDK: ‘MacOSX11.3.sdk’
clang -arch arm64 -I"/Library/Frameworks/R.framework/Resources/include" -DNDEBUG -I'/Library/Frameworks/R.framework/Versions/4.3-arm64/Resources/library/Rhdf5lib/include' -I/opt/R/arm64/include -fPIC -falign-functions=64 -Wall -g -O2 -c H5.c -o H5.o
clang -arch arm64 -I"/Library/Frameworks/R.framework/Resources/include" -DNDEBUG -I'/Library/Frameworks/R.framework/Versions/4.3-arm64/Resources/library/Rhdf5lib/include' -I/opt/R/arm64/include -fPIC -falign-functions=64 -Wall -g -O2 -c H5A.c -o H5A.o
clang -arch arm64 -I"/Library/Frameworks/R.framework/Resources/include" -DNDEBUG -I'/Library/Frameworks/R.framework/Versions/4.3-arm64/Resources/library/Rhdf5lib/include' -I/opt/R/arm64/include -fPIC -falign-functions=64 -Wall -g -O2 -c H5D.c -o H5D.o
clang -arch arm64 -I"/Library/Frameworks/R.framework/Resources/include" -DNDEBUG -I'/Library/Frameworks/R.framework/Versions/4.3-arm64/Resources/library/Rhdf5lib/include' -I/opt/R/arm64/include -fPIC -falign-functions=64 -Wall -g -O2 -c H5E.c -o H5E.o
clang -arch arm64 -I"/Library/Frameworks/R.framework/Resources/include" -DNDEBUG -I'/Library/Frameworks/R.framework/Versions/4.3-arm64/Resources/library/Rhdf5lib/include' -I/opt/R/arm64/include -fPIC -falign-functions=64 -Wall -g -O2 -c H5F.c -o H5F.o
clang -arch arm64 -I"/Library/Frameworks/R.framework/Resources/include" -DNDEBUG -I'/Library/Frameworks/R.framework/Versions/4.3-arm64/Resources/library/Rhdf5lib/include' -I/opt/R/arm64/include -fPIC -falign-functions=64 -Wall -g -O2 -c H5G.c -o H5G.o
clang -arch arm64 -I"/Library/Frameworks/R.framework/Resources/include" -DNDEBUG -I'/Library/Frameworks/R.framework/Versions/4.3-arm64/Resources/library/Rhdf5lib/include' -I/opt/R/arm64/include -fPIC -falign-functions=64 -Wall -g -O2 -c H5I.c -o H5I.o
clang -arch arm64 -I"/Library/Frameworks/R.framework/Resources/include" -DNDEBUG -I'/Library/Frameworks/R.framework/Versions/4.3-arm64/Resources/library/Rhdf5lib/include' -I/opt/R/arm64/include -fPIC -falign-functions=64 -Wall -g -O2 -c H5L.c -o H5L.o
clang -arch arm64 -I"/Library/Frameworks/R.framework/Resources/include" -DNDEBUG -I'/Library/Frameworks/R.framework/Versions/4.3-arm64/Resources/library/Rhdf5lib/include' -I/opt/R/arm64/include -fPIC -falign-functions=64 -Wall -g -O2 -c H5O.c -o H5O.o
clang -arch arm64 -I"/Library/Frameworks/R.framework/Resources/include" -DNDEBUG -I'/Library/Frameworks/R.framework/Versions/4.3-arm64/Resources/library/Rhdf5lib/include' -I/opt/R/arm64/include -fPIC -falign-functions=64 -Wall -g -O2 -c H5P.c -o H5P.o
clang -arch arm64 -I"/Library/Frameworks/R.framework/Resources/include" -DNDEBUG -I'/Library/Frameworks/R.framework/Versions/4.3-arm64/Resources/library/Rhdf5lib/include' -I/opt/R/arm64/include -fPIC -falign-functions=64 -Wall -g -O2 -c H5R.c -o H5R.o
clang -arch arm64 -I"/Library/Frameworks/R.framework/Resources/include" -DNDEBUG -I'/Library/Frameworks/R.framework/Versions/4.3-arm64/Resources/library/Rhdf5lib/include' -I/opt/R/arm64/include -fPIC -falign-functions=64 -Wall -g -O2 -c H5S.c -o H5S.o
clang -arch arm64 -I"/Library/Frameworks/R.framework/Resources/include" -DNDEBUG -I'/Library/Frameworks/R.framework/Versions/4.3-arm64/Resources/library/Rhdf5lib/include' -I/opt/R/arm64/include -fPIC -falign-functions=64 -Wall -g -O2 -c H5S_extras.c -o H5S_extras.o
clang -arch arm64 -I"/Library/Frameworks/R.framework/Resources/include" -DNDEBUG -I'/Library/Frameworks/R.framework/Versions/4.3-arm64/Resources/library/Rhdf5lib/include' -I/opt/R/arm64/include -fPIC -falign-functions=64 -Wall -g -O2 -c H5T.c -o H5T.o
clang -arch arm64 -I"/Library/Frameworks/R.framework/Resources/include" -DNDEBUG -I'/Library/Frameworks/R.framework/Versions/4.3-arm64/Resources/library/Rhdf5lib/include' -I/opt/R/arm64/include -fPIC -falign-functions=64 -Wall -g -O2 -c H5T_extras.c -o H5T_extras.o
clang -arch arm64 -I"/Library/Frameworks/R.framework/Resources/include" -DNDEBUG -I'/Library/Frameworks/R.framework/Versions/4.3-arm64/Resources/library/Rhdf5lib/include' -I/opt/R/arm64/include -fPIC -falign-functions=64 -Wall -g -O2 -c H5Z.c -o H5Z.o
clang -arch arm64 -I"/Library/Frameworks/R.framework/Resources/include" -DNDEBUG -I'/Library/Frameworks/R.framework/Versions/4.3-arm64/Resources/library/Rhdf5lib/include' -I/opt/R/arm64/include -fPIC -falign-functions=64 -Wall -g -O2 -c H5constants.c -o H5constants.o
clang++ -arch arm64 -std=gnu++17 -I"/Library/Frameworks/R.framework/Resources/include" -DNDEBUG -I'/Library/Frameworks/R.framework/Versions/4.3-arm64/Resources/library/Rhdf5lib/include' -I/opt/R/arm64/include -fPIC -falign-functions=64 -Wall -g -O2 -c HandleList.cpp -o HandleList.o
clang -arch arm64 -I"/Library/Frameworks/R.framework/Resources/include" -DNDEBUG -I'/Library/Frameworks/R.framework/Versions/4.3-arm64/Resources/library/Rhdf5lib/include' -I/opt/R/arm64/include -fPIC -falign-functions=64 -Wall -g -O2 -c HandleListWrap.c -o HandleListWrap.o
clang -arch arm64 -I"/Library/Frameworks/R.framework/Resources/include" -DNDEBUG -I'/Library/Frameworks/R.framework/Versions/4.3-arm64/Resources/library/Rhdf5lib/include' -I/opt/R/arm64/include -fPIC -falign-functions=64 -Wall -g -O2 -c bit64conversion.c -o bit64conversion.o
clang -arch arm64 -I"/Library/Frameworks/R.framework/Resources/include" -DNDEBUG -I'/Library/Frameworks/R.framework/Versions/4.3-arm64/Resources/library/Rhdf5lib/include' -I/opt/R/arm64/include -fPIC -falign-functions=64 -Wall -g -O2 -c external_filters.c -o external_filters.o
clang -arch arm64 -I"/Library/Frameworks/R.framework/Resources/include" -DNDEBUG -I'/Library/Frameworks/R.framework/Versions/4.3-arm64/Resources/library/Rhdf5lib/include' -I/opt/R/arm64/include -fPIC -falign-functions=64 -Wall -g -O2 -c h5dump.c -o h5dump.o
clang -arch arm64 -I"/Library/Frameworks/R.framework/Resources/include" -DNDEBUG -I'/Library/Frameworks/R.framework/Versions/4.3-arm64/Resources/library/Rhdf5lib/include' -I/opt/R/arm64/include -fPIC -falign-functions=64 -Wall -g -O2 -c h5ls.c -o h5ls.o
clang -arch arm64 -I"/Library/Frameworks/R.framework/Resources/include" -DNDEBUG -I'/Library/Frameworks/R.framework/Versions/4.3-arm64/Resources/library/Rhdf5lib/include' -I/opt/R/arm64/include -fPIC -falign-functions=64 -Wall -g -O2 -c h5testLock.c -o h5testLock.o
In file included from h5testLock.c:1:
./h5testLock.h:5:6: warning: a function declaration without a prototype is deprecated in all versions of C and is treated as a zero-parameter prototype in C2x, conflicting with a subsequent definition [-Wdeprecated-non-prototype]
SEXP _h5fileLock();
^
h5testLock.c:3:6: note: conflicting prototype is here
SEXP _h5fileLock(SEXP _file_name) {
^
1 warning generated.
clang -arch arm64 -I"/Library/Frameworks/R.framework/Resources/include" -DNDEBUG -I'/Library/Frameworks/R.framework/Versions/4.3-arm64/Resources/library/Rhdf5lib/include' -I/opt/R/arm64/include -fPIC -falign-functions=64 -Wall -g -O2 -c h5writeDataFrame.c -o h5writeDataFrame.o
clang -arch arm64 -I"/Library/Frameworks/R.framework/Resources/include" -DNDEBUG -I'/Library/Frameworks/R.framework/Versions/4.3-arm64/Resources/library/Rhdf5lib/include' -I/opt/R/arm64/include -fPIC -falign-functions=64 -Wall -g -O2 -c printdatatype.c -o printdatatype.o
clang -arch arm64 -I"/Library/Frameworks/R.framework/Resources/include" -DNDEBUG -I'/Library/Frameworks/R.framework/Versions/4.3-arm64/Resources/library/Rhdf5lib/include' -I/opt/R/arm64/include -fPIC -falign-functions=64 -Wall -g -O2 -c utils.c -o utils.o
clang -arch arm64 -I"/Library/Frameworks/R.framework/Resources/include" -DNDEBUG -I'/Library/Frameworks/R.framework/Versions/4.3-arm64/Resources/library/Rhdf5lib/include' -I/opt/R/arm64/include -fPIC -falign-functions=64 -Wall -g -O2 -c wrap.c -o wrap.o
clang++ -arch arm64 -std=gnu++17 -dynamiclib -Wl,-headerpad_max_install_names -undefined dynamic_lookup -L/Library/Frameworks/R.framework/Resources/lib -L/opt/R/arm64/lib -o rhdf5.so H5.o H5A.o H5D.o H5E.o H5F.o H5G.o H5I.o H5L.o H5O.o H5P.o H5R.o H5S.o H5S_extras.o H5T.o H5T_extras.o H5Z.o H5constants.o HandleList.o HandleListWrap.o bit64conversion.o external_filters.o h5dump.o h5ls.o h5testLock.o h5writeDataFrame.o printdatatype.o utils.o wrap.o /Library/Frameworks/R.framework/Versions/4.3-arm64/Resources/library/Rhdf5lib/lib/libhdf5.a -L/Library/Frameworks/R.framework/Versions/4.3-arm64/Resources/library/Rhdf5lib/lib -lcrypto -lcurl -lsz -laec -lz -ldl -lm -F/Library/Frameworks/R.framework/.. -framework R -Wl,-framework -Wl,CoreFoundation
installing to /Users/biocbuild/bbs-3.18-bioc-mac-arm64/meat/rhdf5.buildbin-libdir/00LOCK-rhdf5/00new/rhdf5/libs
** R
** inst
** byte-compile and prepare package for lazy loading
** help
*** installing help indices
*** copying figures
** building package indices
** installing vignettes
** testing if installed package can be loaded from temporary location
** checking absolute paths in shared objects and dynamic libraries
** testing if installed package can be loaded from final location
** testing if installed package keeps a record of temporary installation path
* DONE (rhdf5)
>>>>>>>
>>>>>>> FIXING PATHS TO DYNAMIC LIBRARIES FOR rhdf5.buildbin-libdir/rhdf5/libs/rhdf5.so
>>>>>>>
>>>>>>> Paths before fix:
rhdf5.buildbin-libdir/rhdf5/libs/rhdf5.so:
rhdf5.so (compatibility version 0.0.0, current version 0.0.0)
/usr/lib/libcurl.4.dylib (compatibility version 7.0.0, current version 9.0.0)
/usr/lib/libz.1.dylib (compatibility version 1.0.0, current version 1.2.11)
/usr/lib/libSystem.B.dylib (compatibility version 1.0.0, current version 1292.100.5)
/Library/Frameworks/R.framework/Versions/4.3-arm64/Resources/lib/libR.dylib (compatibility version 4.3.0, current version 4.3.3)
/System/Library/Frameworks/CoreFoundation.framework/Versions/A/CoreFoundation (compatibility version 150.0.0, current version 1775.118.101)
/usr/lib/libc++.1.dylib (compatibility version 1.0.0, current version 905.6.0)
>>>>>>> Fix with install_name_tool:
install_name_tool -change "/usr/local/lib/libgcc_s.1.1.dylib" "/Library/Frameworks/R.framework/Versions/4.3-arm64/Resources/lib/libgcc_s.1.1.dylib" "rhdf5.buildbin-libdir/rhdf5/libs/rhdf5.so"
install_name_tool -change "/usr/local/lib/libgfortran.5.dylib" "/Library/Frameworks/R.framework/Versions/4.3-arm64/Resources/lib/libgfortran.5.dylib" "rhdf5.buildbin-libdir/rhdf5/libs/rhdf5.so"
install_name_tool -change "/usr/local/lib/libquadmath.0.dylib" "/Library/Frameworks/R.framework/Versions/4.3-arm64/Resources/lib/libquadmath.0.dylib" "rhdf5.buildbin-libdir/rhdf5/libs/rhdf5.so"
>>>>>>> Paths after fix:
rhdf5.buildbin-libdir/rhdf5/libs/rhdf5.so:
rhdf5.so (compatibility version 0.0.0, current version 0.0.0)
/usr/lib/libcurl.4.dylib (compatibility version 7.0.0, current version 9.0.0)
/usr/lib/libz.1.dylib (compatibility version 1.0.0, current version 1.2.11)
/usr/lib/libSystem.B.dylib (compatibility version 1.0.0, current version 1292.100.5)
/Library/Frameworks/R.framework/Versions/4.3-arm64/Resources/lib/libR.dylib (compatibility version 4.3.0, current version 4.3.3)
/System/Library/Frameworks/CoreFoundation.framework/Versions/A/CoreFoundation (compatibility version 150.0.0, current version 1775.118.101)
/usr/lib/libc++.1.dylib (compatibility version 1.0.0, current version 905.6.0)